Workbook
Name OLE_LINK1: 'Application Form'!$C$3
Name OLE_LINK2: 'FINAL CHECKLIST'!$C$8
Name OLE_LINK3: 'Application Form'!$D$185
Name OLE_LINK5: 'FINAL CHECKLIST'!$C$39
Name OLE_LINK9: 'FINAL CHECKLIST'!$C$33

Sheet Cover Page & Instructions
A1: 2024 PEPFAR Small Grants Program Application
A2: Cover Page | K2: Mr.
K3: Ms.
B4: Name of Organization: | K4: Mrs.
K5: Dr.
A6: Person responsible for submitting application: | K6: Sister
A7: Title: | B7: Mr/Ms/etc | C7: First Name: | G7: Surname:
A8: Position Title: | G8: Signature (on hard copies): | K8: U.S.Embassy Facebook
A9: Tel/Mobile: | G9: Email: | K9: Twitter
K10: Television
F11: How did you learn about the PEPFAR Small Grants Program? | G11: Select Twitter TV, Radio, etc.: | K11: Radio
K12: NAC/DATF
A13: For official use only | K13: Word of Mouth
K14: Others
A26: Office Use Only | C26: Date Rec'd: | F26: Required: a
F27: b
C28: Post | E28: Post | F28: c
C29: Email | E29: Email | F29: d
C30: Certified | E30: Certified | F30: e | K30: v1.0
A31: 2020 PEPFAR Small Grants Program Application
A32: INSTRUCTIONS and GUIDELINES
A34: From the open Excel file, there are 5 tabs along the bottom of the screen that must be filled out to complete this application: 1) Cover Page, 2) Application Form, 3) Project Implementation Timeline, 4) Project Budget, and 5) IGA Plan. When you complete the 1st tab, click the next tab to the right to continue entering your information. Assemble a Complete Application Package (see 6th tab). The 7th tab is for office use only. Only this 2016-PEPFAR Small Grants Application Form Excel document will be accepted. No handwritten, MS Word documents, PDF nor other formatted applications will be reviewed. | G34: ITEM 12: Explain how this project will be sustained after PEPFAR funds are expended. | H34: PLEASE NOTE:
A35: ITEM 1: Enter "X" in only one box, HIV Prevention or OVC or Democracy and Governance. | F35: ITEM 6: Describe fundraising strategies the organization used in the past. List at least 1 strategy. | G35: ITEM 13: Enter your activities from Item 11 on this time line. List each activity and mark an "X" under the month and year the activity will be carried out. Provide the name and title of person responisble for implementation. | H35: INELIGLE EXPENSES: -Recurring costs such as rent, salaries and operating costs, religious instruction, research, utilities, etc. -Projects that benefit a select few (private business, family or individuals) INELIGIBLE ACTIVITIES: -Activities not related to 1) HIV prevention or 2) OVC or3) Democracy and Governance as related to the national HIV response or 4) Key and priority education, treatment and adherence in Zambia's HIV response. -Specialized HIV prevention interventions such as blood safety, injection safety, and PMTCT medical interventions -Broad-based food-assistance projects ------------------------------------------------------- FOR MORE INFORMATION, copy and paste the following links into your browser: INTERVENTION GUIDANCE FOR HIV PREVENTION http://www.pepfar.gov/documents/organization/183249.pdf http://www.pepfar.gov/documents/organization/171303.pdf INTERVENTION GUIDANCE FOR OVC: http://www.pepfar.gov/documents/organization/195466.pdf http://www.pepfar.gov/documents/organization/195702.pdf FULL TEXT OF NOTICE OF FUNDING OPPORTUNITY can be accessed at: https://zm.usembassy.gov/our-relationship/pepfar/pepfar-small-grants-program/
A36: ITEM 2: Provide general information for the organization. Must include at least 2 telephone numbers and 1 email address. | F36: ITEM 7: List donors, indicate the amount given, and the time-frame the organization partnered with the donor. If it is ongoing, write the year it started and use 0000 for the ending year. List org. annual budget for past 3 years. | G36: ITEM 14: Detail/itemize your project budget for up to ZMW equivalent of $25,000.00 total requested PEPFAR funding for combined 1 year project and IGA budget (if proposed). If possible/if necessary, group like expenses together.
A37: ITEM 3: Provide information about key officers, the Project Manager, and the person responsible for submitting the application. | F37: ITEM 8: If the organization is a past PEPFAR Small Grants Recipient, complete Item 8; if not, proceed to PART III. | G37: ITEM 15: Income Generating Activity (IGA) budget. Enter itemized direct and indirect costs. Group like expenses together. The total requested funding up to ZMW equivalent to $25,000.00 should include both the project budget and the IGA budget combined.
A38: ITEM 4: Provide background information on the organization in 400 words or less. | F38: ITEM 9: Thoroughly explain: 1) why this project is needed, 2) who it will serve, 3) how beneficiaries will be identified, and 4) how this project will work with other local agencies to strengthen the impact. | G38: ITEM 16: If you are proposing an income generating activity, detail the Business Plan for your IGA.
F39: ITEM 10: Decide which of the listed PEPFAR supported intervention methods will be used in your project. State which of the listed methods for Prevention/OVC you have chosen and explain the reasons for your selections. (300 words or less)
A40: ITEM 5: Describe activities the organization sponsored in the past. List at least 2 activities. | F40: ITEM 11: Your project must have a minimum of three activities. Activities must include the intervention models selected in Item 10.

Sheet Application Form
C1: 2024 PEPFAR Small Grants Program Application
C3: INSTRUCTIONS
C4: Application from: https://zm.usembassy.gov/our-relationship/pepfar/pepfar-small-grants-program/ Step 1: Print out all five sections of the application form in portrait format. Use it to create a draft document. Step 2: Save the Excel file to computer. Save As/Name your file: "2022 - Your Organization's Name" Step 3: Collect data for draft proposal; transfer draft proposal information into Excel file application form. Step 4: Review application, save Excel file & print the Excel document in portrait format. Step 5: Mail completed application and all supporting documents to:
C9: U.S. Embassy, PEPFAR Small Grants Program, Box 320065, Lusaka, Zambia
B11: PART I: GENERAL INFORMATION
C12: Type an "X" in the appropriate box to select HIV/AIDS Prevention OR Orphans and Vulnerable Children (OVC) OR Democracy and Governance (Choose only one):
C13: 1. PROJECT TYPE: | D13: HIV/AIDS Prevention: | F13: OVC: | H13: Democracy . and Governance:
C14: 2. GENERAL INFORMATION:
C15: Organization Name:
C16: Director’s Name:
C17: Mailing Address:
C18: Ward: | E18: District: | H18: Province:
C19: Business Address:
C20: Ward: | E20: District: | H20: Province:
C21: Implementation Location: | K21: 1
C22: Ward: | E22: District: | H22: Province: | K22: 2
C23: Telephone/Cell #1: | F23: Email Address #1: | K23: 3
C24: Telephone/Cell #2: | F24: Email Address #2: | K24: 4
C25: Telephone/Cell #3: | F25: Email Address #3: | K25: 5
C26: 3. STAFFING INFORMATION: | K26: 6
C27: Names of Key Officers | E27: Title | H27: Employee/Volunteer | J27: # of Years Served | K27: 7
K28: 8
K29: 9
K30: 10
K31: 11
K32: 12
K33: 13
C34: PROJECT MANAGER for this PROJECT | K34: 14
C35: Name of Project Manager: | H35: Email: | K35: 15
C36: Tel/Cell: | E36: Tel/Cell: | K36: 16
C37: Brief Biography of Project Manager: (950 characters max) | I37: Your total # of characters: | J37: =IF(ISBLANK(C38),"",LEN(C38)) | K37: 18
K38: 19
K39: 20
F41: PART II: Background Information
C42: 4. BACKGROUND INFORMATION: Brief description of the organization. (2000 characters max) | I42: Your total # of characters: | J42: =IF(ISBLANK(C43),"",LEN(C43))
C52: Year organization was founded: | F52: Year organization was registered in Zambia:
C54: Total number of staff and volunteers working for the organization: | G54: Paid Staff: | I54: Volunteers:
C56: Type an X in the appropriate box. Mark only one box.
C57: Type of organization: | D57: Faith-Based Org.: | F57: Community- Based Org.: | I57: Civil . Society Org.:
C59: 5. HISTORY OF ACTIVITIES:
...

Sheet Project Implementation Timeline
C1: 13. PROJECT IMPLEMENTATION TIMELINE
C2: ***Rainy Season is denoted in gray. Please do NOT schedule major events during this time if they will be affected by rainy season.***
C4: Organization Name: | D4: =IF(ISTEXT('Cover Page & Instructions'!$F$4),'Cover Page & Instructions'!$F$4,"") | P4: Current Date:
C6: Project Period of Performance: | D6: 2023 | G6: 2024 | P6: Person Responsible
C7: ACTIVITY | D7: Oct | E7: Nov | F7: Dec | G7: Jan | H7: Feb | I7: Mar | J7: Apr | K7: May | L7: Jun | M7: Jul | N7: Aug | O7: Sep | P7: Full Name | Q7: Position
B8: 1 | C8: ='Application Form'!D183 -> 0
B9: 2 | C9: ='Application Form'!$D$195 -> 0
B10: 3 | C10: ='Application Form'!$D$207 -> 0
B11: 4 | C11: ='Application Form'!$D$220 -> 0
B12: 5 | C12: ='Application Form'!$D$232 -> 0
B13: 6 | C13: ='Application Form'!$D$244 -> 0
C16: Include any comments on the work plan (Optional) (1,000 characters max) | H16: Your total # of characters: | J16: =IF(ISBLANK(C17),"",LEN(C17))

Sheet Project Budget
B2: 14. PROJECT BUDGET
B3: *Attach 3 Pro-forma receipts for each major budget item ZMW 5,000+
B5: Organization Name: | C5: =IF(ISTEXT('Cover Page & Instructions'!$F$4),'Cover Page & Instructions'!$F$4,"") | G5: Current Date:
B7: Activity 1: | C7: ='Application Form'!$D$183 -> 0 | G7: # of Beneficiaries: | H7: ='Application Form'!$J$189 -> 0
B8: ITEM / EXPENSE | C8: JUSTIFICATION | D8: # OF ITEMS or OCCURRENCES REQUIRED | E8: UNIT COST | F8: TOTAL COST | G8: Organization/ Community's Contribution | H8: PEPFAR'S CONTRIBUTION
F9: =D9*E9 -> 0 | H9: =F9-G9 -> 0
F10: =D10*E10 -> 0 | H10: =F10-G10 -> 0
F11: =D11*E11 -> 0 | H11: =F11-G11 -> 0
F12: =D12*E12 -> 0 | H12: =F12-G12 -> 0
F13: =D13*E13 -> 0 | H13: =F13-G13 -> 0
F14: =D14*E14 -> 0 | H14: =F14-G14 -> 0
F15: =D15*E15 -> 0 | H15: =F15-G15 -> 0
F16: =D16*E16 -> 0 | H16: =F16-G16 -> 0
F17: =D17*E17 -> 0 | H17: =F17-G17 -> 0
F18: =D18*E18 -> 0 | H18: =F18-G18 -> 0
F19: =D19*E19 -> 0 | H19: =F19-G19 -> 0
F20: =D20*E20 -> 0 | H20: =F20-G20 -> 0
... F23: =D23*E23 -> 0 | H23: =F23-G23 -> 0
B24: SUBTOTALS: | F24: =SUM(F9:F23) -> 0 | G24: =SUM(G9:G23) -> 0 | H24: =SUM(H9:H23) -> 0
B26: Activity 2: | C26: ='Application Form'!$D$195 -> 0 | G26: # of Beneficiaries: | H26: ='Application Form'!$J$201 -> 0
B27: ITEM / EXPENSE | C27: JUSTIFICATION | D27: # OF ITEMS or OCCURRENCES REQUIRED | E27: UNIT COST | F27: TOTAL COST | G27: Organization/ Community's Contribution | H27: PEPFAR'S CONTRIBUTION
F28: =D28*E28 -> 0 | H28: =F28-G28 -> 0
F29: =D29*E29 -> 0 | H29: =F29-G29 -> 0
F30: =D30*E30 -> 0 | H30: =F30-G30 -> 0
F31: =D31*E31 -> 0 | H31: =F31-G31 -> 0
F32: =D32*E32 -> 0 | H32: =F32-G32 -> 0
F33: =D33*E33 -> 0 | H33: =F33-G33 -> 0
F34: =D34*E34 -> 0 | H34: =F34-G34 -> 0
F35: =D35*E35 -> 0 | H35: =F35-G35 -> 0
F36: =D36*E36 -> 0 | H36: =F36-G36 -> 0
F37: =D37*E37 -> 0 | H37: =F37-G37 -> 0
F38: =D38*E38 -> 0 | H38: =F38-G38 -> 0
F39: =D39*E39 -> 0 | H39: =F39-G39 -> 0
... F42: =D42*E42 -> 0 | H42: =F42-G42 -> 0
B43: SUBTOTALS: | F43: =SUM(F28:F42) -> 0 | G43: =SUM(G28:G42) -> 0 | H43: =SUM(H28:H42) -> 0
B45: Activity 3: | C45: ='Application Form'!$D$207 -> 0 | G45: # of Beneficiaries: | H45: ='Application Form'!$J$213 -> 0
B46: ITEM / EXPENSE | C46: JUSTIFICATION | D46: # OF ITEMS or OCCURRENCES REQUIRED | E46: UNIT COST | F46: TOTAL COST | G46: Organization/ Community's Contribution | H46: PEPFAR'S CONTRIBUTION
F47: =D47*E47 -> 0 | H47: =F47-G47 -> 0
F48: =D48*E48 -> 0 | H48: =F48-G48 -> 0
F49: =D49*E49 -> 0 | H49: =F49-G49 -> 0
...

Sheet IGA Plan
A1: Organization Name: | C1: =IF(ISTEXT('Cover Page & Instructions'!$F$4),'Cover Page & Instructions'!$F$4,"")
A3: 16. IGA BUSINESS PLAN (REQUIRED IF IGA PROPOSED)
A6: Description of IGA: (1,000 characters max)
H15: Your total # of characters: | J15: =IF(ISBLANK(A7),"",LEN(A7))
A17: Describe: Target market; pricing strategy; the proximity of competing entities (1,500 characters max)
H32: Your total # of characters: | J32: =IF(ISBLANK(A18),"",LEN(A18))
A35: Discuss how the organization will address possible threats: Rainy season, power outages, price increases, broken equipment, medical care for livestock, etc. (1,000 characters max)
H44: Your total # of characters: | J44: =IF(ISBLANK(A36),"",LEN(A36))
A48: Estimate the projected sales for a month: Sales - Cost = Profit. Then, explain how this amount was determined.
H56: Your total # of characters: | J56: =IF(ISBLANK(A49),"",LEN(A49))
A59: How will profits from the IGA be used?
H66: Your total # of characters: | J66: =IF(ISBLANK(A60),"",LEN(A60))
A69: Sustainability is a major conponent of the grant review process. To ensure your IGA Plan is destined for long-term success, contact a merchant in the same field as your IGA to discuss your plan & learn what you can expect. In the box below, explain the lessons learned during your visit/conversation.
A70: Name of Experienced Merchant:
A71: Name of Business/Organization:
A72: Type of Business/Organization:
A73: Location:
A74: Telephone Number:
A75: LESSONS LEARNED (800 characters max)
H83: Your total # of characters: | J83: =IF(ISBLANK(A76),"",LEN(A76))

Sheet FINAL CHECKLIST
A1: GENERAL CRITERIA
A2: * All parts of the Complete Application Packet must be submitted together including 1) the Microsoft Excel application form AND 2) all supporting documents * Project must address an immediate need and be community-led * Detail the organization's historical performance and fiscal state * Innovative project * Justifiable budget * Include a contribution of funds, materials, and/or labor from the local community * Clearly state & explain the impact to be made on HIV prevention or OVC or HIV related Democracy & Governance services in the community * Document the community means to financially sustain the project after PEPFAR funds are expended * Be within the means and skills of the community to manage and complete project by Sept. 30, 2024
A9: COMPLETE APPLICATION PACKET FINAL CHECKLIST
C10: Excel Application File
E11: Cover Page Tab (pages 1-2)
E13: Application Tab (pages 3-13)
E15: Project Implementation Timeline Tab (page 14)
E17: Project Budget Tab (pages 15-17)
E19: IGA Plan Tab (optional; pages 18-19)
C21: Copy of organizations's Certificate of Registration with the GRZ
C23: Recent bank statement
C25: Two letters of recommendation from: Donors, the Provincial and/or the District AIDS
C26: Coordination Advisors (PACAs and/or DACAs), Partner Organizations, and/or Other District/City/Municipal Offices who know your organization's work. *Self-recommendations/recommendations from your own organization are not acceptable *Recent recommendations (1 year or less) are often stronger than older recommendations
C28: Map showing the physical location of the project and the organization's office (Start from nearest large town & indicate distance in kilometers from main road to the site)
C32: Qualifications of key staff and/or volunteers who will be actively involved in the project.
C35: 3 Pro-forma receipts for each major budget item (ZMK 5,000+)

Sheet For Official Use by NAC   
A1: For Official Use by NAC
A2: Name of Official:
A3: Location:
A4: Telephone:
A5: Mobile:
A6: Date:
A7: Signature:
A8: (Stamp & Recommendation)
