Workbook
Name Advanced_and_Networked_Sensing_and_Signature_Management: #REF!
Name Advanced_Computing: #REF!
Name Advanced_Engineering_Materials: #REF!
Name Advanced_Gas_Turbine_Engine_Technologies: #REF!
Name Advanced_Manufacturing: #REF!
Name Advanced_Nuclear_Energy_Technologies: #REF!
Name Artificial_Intelligence: #REF!
Name Autonomous_Systems_and_Robotics: #REF!
Name Biotechnologies: #REF!
Name Communication_and_Networking_Technologies: #REF!
Name data: #REF!
Name Directed_Energy: #REF!
Name Fields: #REF!
Name Financial_Technologies: #REF!
Name Human_Machine_Interfaces: #REF!
Name Hypersonics: #REF!
Name Networked_Sensors_and_Sensing: #REF!
Name Quantum_Information_Technologies: #REF!
Name Renewable_Energy_Generation_and_Storage: #REF!
Name Semiconductors_and_Microelectronics: #REF!
Name Space_Technologies_and_Systems: #REF!

Sheet Table of Contents
A1: Table of Contents
A2: Instructions | B2: =HYPERLINK("#Instructions!K1","Instructions") -> Instructions | C2: No input required
A3: Budget Proposal Summary | B3: =HYPERLINK("#BudgetSummary!A1","Budget Proposal Summary") -> Budget Proposal Summary | C3: No input required
A4: Application Information | B4: =HYPERLINK("#Personnel!C2","Application Information") -> Application Information | C4: Name, PoP, Program Income
A5: Personnel & Fringe | B5: =HYPERLINK("#PersonnelFringe!B2","Personnel and Fringe") -> Personnel and Fringe
A6: Travel | B6: =HYPERLINK("#Travel!A1","Travel") -> Travel
A7: Equipment | B7: =HYPERLINK("#OtherDirectCosts!A2","Equipment") -> Equipment
A8: Supplies | B8: =HYPERLINK("#OtherDirectCosts!A15","Supplies") -> Supplies
A9: Contractual | B9: =HYPERLINK("#OtherDirectCosts!A25","Contractual") -> Contractual
A10: Other Direct Directs | B10: =HYPERLINK("#OtherDirectCosts!A40","Other Direct Costs") -> Other Direct Costs
A11: Indirect | B11: =HYPERLINK("#IndirectCosts!A1","Indirect Costs") -> Indirect Costs
A12: Subreceipient Budget | B12: =HYPERLINK("#SubrecipientBudget!B1","Subrecipient Budget") -> Subrecipient Budget
A13: Subreceipient Indirect Costs | B13: =HYPERLINK("#SubrecipientIndirectCosts!A2","Subrecipient Indirect Costs") -> Subrecipient Indirect Costs
A14: FY27 Proposed Service Area Listing | B14: =HYPERLINK("#FY27ProposedServiceArea!A2","Proposed Service Area") -> Proposed Service Area
A15: FY28 Proposed Service Area Listing | B15: =HYPERLINK("#FY28ProposedServiceArea!A2","Proposed Service Area") -> Proposed Service Area
A16: FY29 Proposed Service Area Listing | B16: =HYPERLINK("#FY29ProposedServiceArea!A2","Proposed Service Area") -> Proposed Service Area

Sheet Instructions

Sheet BudgetSummary
B1: FY27 | G1: FY28 | L1: FY29
B2: Non-Distressed | C2: Distressed | D2: Total | G2: Non-Distressed | H2: Distressed | I2: Total | L2: Non-Distressed | M2: Distressed | N2: Total
A3: Personnel | B3: =PersonnelFringe!H24 -> 0 | C3: =PersonnelFringe!H25 -> 0 | D3: =B3+C3 -> 0 | F3: Personnel | G3: =PersonnelFringe!T24 -> 0 | H3: =PersonnelFringe!T25 -> 0 | I3: =G3+H3 -> 0 | K3: Personnel | L3: =PersonnelFringe!AF24 -> 0 | M3: =PersonnelFringe!AF25 -> 0 | N3: =L3+M3 -> 0
A4: Fringe | B4: =PersonnelFringe!I24 -> 0 | C4: =PersonnelFringe!I25 -> 0 | D4: =B4+C4 -> 0 | F4: Fringe | G4: =PersonnelFringe!U24 -> 0 | H4: =PersonnelFringe!U25 -> 0 | I4: =G4+H4 -> 0 | K4: Fringe | L4: =PersonnelFringe!AG24 -> 0 | M4: =PersonnelFringe!AG25 -> 0 | N4: =L4+M4 -> 0
A5: Travel | B5: =Travel!I156 -> 0 | C5: =Travel!J156 -> 0 | D5: =B5+C5 -> 0 | F5: Travel | G5: =Travel!U156 -> 0 | H5: =Travel!V156 -> 0 | I5: =G5+H5 -> 0 | K5: Travel | L5: =Travel!AG156 -> 0 | M5: =Travel!AH156 -> 0 | N5: =L5+M5 -> 0
A6: Equipment | B6: =OtherDirectCosts!J13 -> 0 | C6: =OtherDirectCosts!K13 -> 0 | D6: =B6+C6 -> 0 | F6: Equipment | G6: =OtherDirectCosts!V13 -> 0 | H6: =OtherDirectCosts!W13 -> 0 | I6: =G6+H6 -> 0 | K6: Equipment | L6: =OtherDirectCosts!AH13 -> 0 | M6: =OtherDirectCosts!AI13 -> 0 | N6: =L6+M6 -> 0
A7: Supplies | B7: =OtherDirectCosts!J23 -> 0 | C7: =OtherDirectCosts!K23 -> 0 | D7: =B7+C7 -> 0 | F7: Supplies | G7: =OtherDirectCosts!V23 -> 0 | H7: =OtherDirectCosts!W23 -> 0 | I7: =G7+H7 -> 0 | K7: Supplies | L7: =OtherDirectCosts!AH23 -> 0 | M7: =OtherDirectCosts!AI23 -> 0 | N7: =L7+M7 -> 0
A8: Contractual | B8: =OtherDirectCosts!J38 -> 0 | C8: =OtherDirectCosts!K38 -> 0 | D8: =B8+C8 -> 0 | F8: Contractual | G8: =OtherDirectCosts!V38 -> 0 | H8: =OtherDirectCosts!W38 -> 0 | I8: =G8+H8 -> 0 | K8: Contractual | L8: =OtherDirectCosts!AH38 -> 0 | M8: =OtherDirectCosts!AH38 -> 0 | N8: =L8+M8 -> 0
A9: Other | B9: =OtherDirectCosts!J57 -> 0 | C9: =OtherDirectCosts!K57 -> 0 | D9: =B9+C9 -> 0 | F9: Other | G9: =OtherDirectCosts!V57 -> 0 | H9: =OtherDirectCosts!W57 -> 0 | I9: =G9+H9 -> 0 | K9: Other | L9: =OtherDirectCosts!AH57 -> 0 | M9: =OtherDirectCosts!AH57 -> 0 | N9: =L9+M9 -> 0
A10: Indirect | B10: =IndirectCosts!B17 -> 0 | C10: =IndirectCosts!C17 -> 0 | D10: =B10+C10 -> 0 | F10: Indirect | G10: =IndirectCosts!G17 -> 0 | H10: =IndirectCosts!H17 -> 0 | I10: =G10+H10 -> 0 | K10: Indirect | L10: =IndirectCosts!L17 -> 0 | M10: =IndirectCosts!M17 -> 0 | N10: =L10+M10 -> 0
A11: Total | B11: =SUM(B3:B10) -> 0 | C11: =SUM(C3:C10) -> 0 | D11: =SUM(D3:D10) -> 0 | F11: Total | G11: =SUM(G3:G10) -> 0 | H11: =SUM(H3:H10) -> 0 | I11: =SUM(I3:I10) -> 0 | K11: Total | L11: =SUM(L3:L10) -> 0 | M11: =SUM(M3:M10) -> 0 | N11: =SUM(N3:N10) -> 0
A12: Government Use Only | B12: Non-Distressed Direct Costs | C12: Distressed Direct Costs | D12: Total | F12: Government Use Only | G12: Non-Distressed Direct Costs | H12: Distressed Direct Costs | I12: Total | K12: Government Use Only | L12: Non-Distressed Direct Costs | M12: Distressed Direct Costs | N12: Total
A13: Federal Share | B13: =ROUNDDOWN($B$11*0.65,2) -> 0 | C13: =ROUNDDOWN($C$11*0.85,2) -> 0 | D13: =B13+C13 -> 0 | F13: Federal Share | G13: =ROUNDDOWN($G$11*0.65,2) -> 0 | H13: =ROUNDDOWN($H$11*0.85,2) -> 0 | I13: =G13+H13 -> 0 | K13: Federal Share | L13: =ROUNDDOWN($L$11*0.65,2) -> 0 | M13: =ROUNDDOWN($M$11*0.85,2) -> 0 | N13: =L13+M13 -> 0
A14: Cost Share | B14: =ROUNDDOWN($B$11*0.35,2) -> 0 | C14: =ROUNDDOWN($C$11*0.15,2) -> 0 | D14: =B14+C14 -> 0 | F14: Cost Share | G14: =ROUNDDOWN($G$11*0.35,2) -> 0 | H14: =ROUNDUP($H$11*0.15,2) -> 0 | I14: =G14+H14 -> 0 | K14: Cost Share | L14: =ROUNDUP($L$11*0.35,2) -> 0 | M14: =ROUNDUP($M$11*0.15,2) -> 0 | N14: =L14+M14 -> 0
A16: Applicant: Discuss any deviations from the 65/35 or 85/15 split here. | F16: Applicant: Discuss any deviations from the 65/35 or 85/15 split here. | K16: Applicant: Discuss any deviations from the 65/35 or 85/15 split here.

Sheet PersonnelFringe
A2: Applicant Name Here:
A3: Period of Performance:
A4: Program Income
A6: Elements of Cost | F6: Proposed Base -FY27 | R6: Option Year 1 - FY28 | AD6: Option Year 2 - FY29
A7: Position Title | B7: Name | C7: Location (City, State) | D7: New Position Y/N | F7: Total Annual Salary | G7: % of Time Working on Program | H7: Salary Allocable to the Program | I7: Fringe Benefits Allocable to Program | J7: Previous PoP Approved Salary Allocable to Program | K7: Previous PoP Approved % of Time Working on Program | L7: Change in the % of Time Working on Program from last PoP to proposed PoP | M7: Salary Change APPROVED vs. PROPOSED | N7: Average Salary Change APPROVED vs. PROPOSED | O7: Fringe Rate | P7: Average Fringe | R7: Total Annual Salary | S7: % of Time Working on Program | T7: Salary Allocable to the Program | U7: Fringe Benefits Allocable to Program | V7: Previous PoP Approved Salary Allocable to Program | W7: Previous PoP Approved % of Time Working on Program | X7: Change in the % of Time Working on Program from last PoP to proposed PoP | Y7: Salary Change APPROVED vs. PROPOSED | Z7: Average Salary Change APPROVED vs. PROPOSED | AA7: Fringe Rate | AB7: Average Fringe | AD7: Total Annual Salary | AE7: % of Time Working on Program | AF7: Salary Allocable to the Program | AG7: Fringe Benefits Allocable to Program | AH7: Previous PoP Approved Salary Allocable to Program | AI7: Previous PoP Approved % of Time Working on Program | AJ7: Change in the % of Time Working on Program from last PoP to proposed PoP | AK7: Salary Change APPROVED vs. PROPOSED | AL7: Average Salary Change APPROVED vs. PROPOSED | AM7: Fringe Rate | AN7: Average Fringe
F8: 0 | H8: =(F8*G8) -> 0 | I8: 0 | J8: 0 | L8: =(G8-K8) -> 0 | M8: =(H8/J8)-1 -> #DIV/0! | N8: =AVERAGE(M8:M22) -> #DIV/0! | O8: =I8/H8 -> #DIV/0! | P8: =AVERAGE(O8:O22) -> #DIV/0! | R8: 0 | T8: =(R8*S8) -> 0 | U8: 0 | V8: 0 | X8: =(S8-W8) -> 0 | Y8: =(T8/V8)-1 -> #DIV/0! | Z8: =AVERAGE(Y8:Y22) -> #DIV/0! | AA8: =U8/T8 -> #DIV/0! | AB8: =AVERAGE(AA8:AA22) -> #DIV/0! | AD8: 0 | AF8: =(AD8*AE8) -> 0 | AG8: 0 | AH8: 0 | AJ8: =(AE8-AI8) -> 0 | AK8: =(AF8/AH8)-1 -> #DIV/0! | AL8: =AVERAGE(AK8:AK22) -> #DIV/0! | AM8: =AG8/AF8 -> #DIV/0! | AN8: =AVERAGE(AM8:AM22) -> #DIV/0!
F9: 0 | H9: =(F9*G9) -> 0 | I9: 0 | J9: 0 | L9: =(G9-K9) -> 0 | M9: =(H9/J9)-1 -> #DIV/0! | O9: =I9/H9 -> #DIV/0! | R9: 0 | T9: =(R9*S9) -> 0 | U9: 0 | V9: 0 | X9: =(S9-W9) -> 0 | Y9: =(T9/V9)-1 -> #DIV/0! | AA9: =U9/T9 -> #DIV/0! | AD9: 0 | AF9: =(AD9*AE9) -> 0 | AG9: 0 | AH9: 0 | AJ9: =(AE9-AI9) -> 0 | AK9: =(AF9/AH9)-1 -> #DIV/0! | AM9: =AG9/AF9 -> #DIV/0!
F10: 0 | H10: =(F10*G10) -> 0 | I10: 0 | J10: 0 | L10: =(G10-K10) -> 0 | M10: =(H10/J10)-1 -> #DIV/0! | O10: =I10/H10 -> #DIV/0! | R10: 0 | T10: =(R10*S10) -> 0 | U10: 0 | V10: 0 | X10: =(S10-W10) -> 0 | Y10: =(T10/V10)-1 -> #DIV/0! | AA10: =U10/T10 -> #DIV/0! | AD10: 0 | AF10: =(AD10*AE10) -> 0 | AG10: 0 | AH10: 0 | AJ10: =(AE10-AI10) -> 0 | AK10: =(AF10/AH10)-1 -> #DIV/0! | AM10: =AG10/AF10 -> #DIV/0!
F11: 0 | H11: =(F11*G11) -> 0 | I11: 0 | J11: $- | L11: =(G11-K11) -> 0 | M11: =(H11/J11)-1 -> #VALUE! | O11: =I11/H11 -> #DIV/0! | R11: 0 | T11: =(R11*S11) -> 0 | U11: 0 | V11: $- | X11: =(S11-W11) -> 0 | Y11: =(T11/V11)-1 -> #VALUE! | AA11: =U11/T11 -> #DIV/0! | AD11: 0 | AF11: =(AD11*AE11) -> 0 | AG11: 0 | AH11: $- | AJ11: =(AE11-AI11) -> 0 | AK11: =(AF11/AH11)-1 -> #VALUE! | AM11: =AG11/AF11 -> #DIV/0!
F12: 0 | H12: =(F12*G12) -> 0 | I12: 0 | J12: $- | L12: =(G12-K12) -> 0 | M12: =(H12/J12)-1 -> #VALUE! | O12: =I12/H12 -> #DIV/0! | R12: 0 | T12: =(R12*S12) -> 0 | U12: 0 | V12: $- | X12: =(S12-W12) -> 0 | Y12: =(T12/V12)-1 -> #VALUE! | AA12: =U12/T12 -> #DIV/0! | AD12: 0 | AF12: =(AD12*AE12) -> 0 | AG12: 0 | AH12: $- | AJ12: =(AE12-AI12) -> 0 | AK12: =(AF12/AH12)-1 -> #VALUE! | AM12: =AG12/AF12 -> #DIV/0!
F13: 0 | H13: =(F13*G13) -> 0 | I13: 0 | J13: $- | L13: =(G13-K13) -> 0 | M13: =(H13/J13)-1 -> #VALUE! | O13: =I13/H13 -> #DIV/0! | R13: 0 | T13: =(R13*S13) -> 0 | U13: 0 | V13: $- | X13: =(S13-W13) -> 0 | Y13: =(T13/V13)-1 -> #VALUE! | AA13: =U13/T13 -> #DIV/0! | AD13: 0 | AF13: =(AD13*AE13) -> 0 | AG13: 0 | AH13: $- | AJ13: =(AE13-AI13) -> 0 | AK13: =(AF13/AH13)-1 -> #VALUE! | AM13: =AG13/AF13 -> #DIV/0!
F14: 0 | H14: =(F14*G14) -> 0 | I14: 0 | J14: $- | L14: =(G14-K14) -> 0 | M14: =(H14/J14)-1 -> #VALUE! | O14: =I14/H14 -> #DIV/0! | R14: 0 | T14: =(R14*S14) -> 0 | U14: 0 | V14: $- | X14: =(S14-W14) -> 0 | Y14: =(T14/V14)-1 -> #VALUE! | AA14: =U14/T14 -> #DIV/0! | AD14: 0 | AF14: =(AD14*AE14) -> 0 | AG14: 0 | AH14: $- | AJ14: =(AE14-AI14) -> 0 | AK14: =(AF14/AH14)-1 -> #VALUE! | AM14: =AG14/AF14 -> #DIV/0!
F15: 0 | H15: =(F15*G15) -> 0 | I15: 0 | J15: $- | L15: =(G15-K15) -> 0 | M15: =(H15/J15)-1 -> #VALUE! | O15: =I15/H15 -> #DIV/0! | R15: 0 | T15: =(R15*S15) -> 0 | U15: 0 | V15: $- | X15: =(S15-W15) -> 0 | Y15: =(T15/V15)-1 -> #VALUE! | AA15: =U15/T15 -> #DIV/0! | AD15: 0 | AF15: =(AD15*AE15) -> 0 | AG15: 0 | AH15: $- | AJ15: =(AE15-AI15) -> 0 | AK15: =(AF15/AH15)-1 -> #VALUE! | AM15: =AG15/AF15 -> #DIV/0!
F16: 0 | H16: =(F16*G16) -> 0 | I16: 0 | J16: $- | L16: =(G16-K16) -> 0 | M16: =(H16/J16)-1 -> #VALUE! | O16: =I16/H16 -> #DIV/0! | R16: 0 | T16: =(R16*S16) -> 0 | U16: 0 | V16: $- | X16: =(S16-W16) -> 0 | Y16: =(T16/V16)-1 -> #VALUE! | AA16: =U16/T16 -> #DIV/0! | AD16: 0 | AF16: =(AD16*AE16) -> 0 | AG16: 0 | AH16: $- | AJ16: =(AE16-AI16) -> 0 | AK16: =(AF16/AH16)-1 -> #VALUE! | AM16: =AG16/AF16 -> #DIV/0!
F17: 0 | H17: =(F17*G17) -> 0 | I17: 0 | J17: $- | L17: =(G17-K17) -> 0 | M17: =(H17/J17)-1 -> #VALUE! | O17: =I17/H17 -> #DIV/0! | R17: 0 | T17: =(R17*S17) -> 0 | U17: 0 | V17: $- | X17: =(S17-W17) -> 0 | Y17: =(T17/V17)-1 -> #VALUE! | AA17: =U17/T17 -> #DIV/0! | AD17: 0 | AF17: =(AD17*AE17) -> 0 | AG17: 0 | AH17: $- | AJ17: =(AE17-AI17) -> 0 | AK17: =(AF17/AH17)-1 -> #VALUE! | AM17: =AG17/AF17 -> #DIV/0!
F18: 0 | H18: =(F18*G18) -> 0 | I18: 0 | J18: $- | L18: =(G18-K18) -> 0 | M18: =(H18/J18)-1 -> #VALUE! | O18: =I18/H18 -> #DIV/0! | R18: 0 | T18: =(R18*S18) -> 0 | U18: 0 | V18: $- | X18: =(S18-W18) -> 0 | Y18: =(T18/V18)-1 -> #VALUE! | AA18: =U18/T18 -> #DIV/0! | AD18: 0 | AF18: =(AD18*AE18) -> 0 | AG18: 0 | AH18: $- | AJ18: =(AE18-AI18) -> 0 | AK18: =(AF18/AH18)-1 -> #VALUE! | AM18: =AG18/AF18 -> #DIV/0!
F19: 0 | H19: =(F19*G19) -> 0 | I19: 0 | J19: $- | L19: =(G19-K19) -> 0 | M19: =(H19/J19)-1 -> #VALUE! | O19: =I19/H19 -> #DIV/0! | R19: 0 | T19: =(R19*S19) -> 0 | U19: 0 | V19: $- | X19: =(S19-W19) -> 0 | Y19: =(T19/V19)-1 -> #VALUE! | AA19: =U19/T19 -> #DIV/0! | AD19: 0 | AF19: =(AD19*AE19) -> 0 | AG19: 0 | AH19: $- | AJ19: =(AE19-AI19) -> 0 | AK19: =(AF19/AH19)-1 -> #VALUE! | AM19: =AG19/AF19 -> #DIV/0!
F20: 0 | H20: =(F20*G20) -> 0 | I20: 0 | J20: $- | L20: =(G20-K20) -> 0 | M20: =(H20/J20)-1 -> #VALUE! | O20: =I20/H20 -> #DIV/0! | R20: 0 | T20: =(R20*S20) -> 0 | U20: 0 | V20: $- | X20: =(S20-W20) -> 0 | Y20: =(T20/V20)-1 -> #VALUE! | AA20: =U20/T20 -> #DIV/0! | AD20: 0 | AF20: =(AD20*AE20) -> 0 | AG20: 0 | AH20: $- | AJ20: =(AE20-AI20) -> 0 | AK20: =(AF20/AH20)-1 -> #VALUE! | AM20: =AG20/AF20 -> #DIV/0!
F21: 0 | H21: =(F21*G21) -> 0 | I21: 0 | J21: $- | L21: =(G21-K21) -> 0 | M21: =(H21/J21)-1 -> #VALUE! | O21: =I21/H21 -> #DIV/0! | R21: 0 | T21: =(R21*S21) -> 0 | U21: 0 | V21: $- | X21: =(S21-W21) -> 0 | Y21: =(T21/V21)-1 -> #VALUE! | AA21: =U21/T21 -> #DIV/0! | AD21: 0 | AF21: =(AD21*AE21) -> 0 | AG21: 0 | AH21: $- | AJ21: =(AE21-AI21) -> 0 | AK21: =(AF21/AH21)-1 -> #VALUE! | AM21: =AG21/AF21 -> #DIV/0!
F22: 0 | H22: =(F22*G22) -> 0 | I22: 0 | J22: $- | L22: =(G22-K22) -> 0 | M22: =(H22/J22)-1 -> #VALUE! | O22: =I22/H22 -> #DIV/0! | R22: 0 | T22: =(R22*S22) -> 0 | U22: 0 | V22: $- | X22: =(S22-W22) -> 0 | Y22: =(T22/V22)-1 -> #VALUE! | AA22: =U22/T22 -> #DIV/0! | AD22: 0 | AF22: =(AD22*AE22) -> 0 | AG22: 0 | AH22: $- | AJ22: =(AE22-AI22) -> 0 | AK22: =(AF22/AH22)-1 -> #VALUE! | AM22: =AG22/AF22 -> #DIV/0!
H23: Salary | I23: Fringe | M23: BLS Fringe for BLANK Area | T23: Salary | U23: Fringe | Y23: BLS Fringe for BLANK Area | AF23: Salary | AG23: Fringe | AK23: BLS Fringe for BLANK Area
C24: Non Distressed Totals | H24: =SUM(H8:H22) -> 0 | I24: =SUM(I8:I22) -> 0 | M24: Total Benefits | O24: 0 | T24: =SUM(T8:T22) -> 0 | U24: =SUM(U8:U22) -> 0 | Y24: Total Benefits | AA24: 0 | AF24: =SUM(AF8:AF22) -> 0 | AG24: =SUM(AG8:AG22) -> 0 | AK24: Total Benefits | AM24: 0
C25: Distressed Totals | M25: Wage/Salaries | O25: 0 | Y25: Wage/Salaries | AA25: 0 | AK25: Wage/Salaries | AM25: 0
C26: Totals | H26: =(H24+H25) -> 0 | I26: =SUM(I24+I25) -> 0 | O26: =O24/O25 -> #DIV/0! | T26: =(T24+T25) -> 0 | U26: =SUM(U24+U25) -> 0 | AA26: =AA24/AA25 -> #DIV/0! | AF26: =(AF24+AF25) -> 0 | AG26: =SUM(AG24+AG25) -> 0 | AM26: =AM24/AM25 -> #DIV/0!

Sheet Travel
B1: Travel FY27 | N1: Travel FY28 | Z1: Travel FY29
A3: Event Information | B3: Event | M3: Event Information | N3: Event | Y3: Event Information | Z3: Event
B4: Event Location | N4: Event Location | Z4: Event Location
B5: Participants' Name and Position | N5: Participants' Name and Position | Z5: Participants' Name and Position
A6: Airfare | B6: Departing Airport | D6: # of Participants | E6: # of Days or Nights | F6: Daily Rate or Cost per Night | G6: # of Miles | H6: Cost per mile | I6: Non-Distressed | J6: Distressed | K6: Total | M6: Airfare | N6: Departing Airport | P6: # of Participants | Q6: # of Days or Nights | R6: Daily Rate or Cost per Night | S6: # of Miles | T6: Cost per mile | U6: Non-Distressed | V6: Distressed | W6: Total | Y6: Airfare | Z6: Departing Airport | AB6: # of Participants | AC6: # of Days or Nights | AD6: Daily Rate or Cost per Night | AE6: # of Miles | AF6: Cost per mile | AG6: Non-Distressed | AH6: Distressed | AI6: Total
B7: Cost per roundtrip ticket | C7: 0 | I7: 0 | J7: 0 | K7: =SUM(C7*D7) -> 0 | N7: Cost per roundtrip ticket | O7: 0 | W7: =SUM(O7*P7) -> 0 | Z7: Cost per roundtrip ticket | AA7: 0 | AI7: =SUM(AA7*AB7) -> 0
A8: Lodging | B8: Lodging | F8: 0 | I8: 0 | J8: 0 | K8: =SUM(E8*F8)*D8 -> 0 | M8: Lodging | N8: Lodging | R8: 0 | W8: =SUM(Q8*R8)*P8 -> 0 | Y8: Lodging | Z8: Lodging | AD8: 0 | AI8: =SUM(AC8*AD8)*AB8 -> 0
A9: Per Diem | B9: First Day of Travel | E9: 1 | F9: 0 | I9: 0 | J9: 0 | K9: =SUM(F9*E9)*D9 -> 0 | M9: Per Diem | N9: First Day of Travel | Q9: 1 | R9: 0 | W9: =SUM(R9*Q9)*P9 -> 0 | Y9: Per Diem | Z9: First Day of Travel | AC9: 1 | AD9: 0 | AI9: =SUM(AD9*AC9)*AB9 -> 0
B10: Last Day of Travel | E10: 1 | F10: 0 | I10: 0 | J10: 0 | K10: =SUM(F10*E10)*D10 -> 0 | N10: Last Day of Travel | Q10: 1 | R10: 0 | W10: =SUM(R10*Q10)*P10 -> 0 | Z10: Last Day of Travel | AC10: 1 | AD10: 0 | AI10: =SUM(AD10*AC10)*AB10 -> 0
B11: Daily Per Diem | F11: 0 | I11: 0 | J11: 0 | K11: =SUM(F11*E11)*D11 -> 0 | N11: Daily Per Diem | R11: 0 | W11: =SUM(R11*Q11)*P11 -> 0 | Z11: Daily Per Diem | AD11: 0 | AI11: =SUM(AD11*AC11)*AB11 -> 0
A12: Transportation | B12: Rental Car | F12: 0 | I12: 0 | J12: 0 | K12: =SUM(E12*F12) -> 0 | M12: Transportation | N12: Rental Car | R12: 0 | W12: =SUM(Q12*R12) -> 0 | Y12: Transportation | Z12: Rental Car | AD12: 0 | AI12: =SUM(AC12*AD12) -> 0
B13: Taxi/Uber/Lyft | F13: 0 | I13: 0 | J13: 0 | K13: =SUM(F13*E13)*D13 -> 0 | N13: Taxi/Uber/Lyft | R13: 0 | W13: =SUM(R13*Q13)*P13 -> 0 | Z13: Taxi/Uber/Lyft | AD13: 0 | AI13: =SUM(AD13*AC13)*AB13 -> 0
A14: Fees | B14: Baggage Fees | C14: 0 | I14: 0 | J14: 0 | K14: =SUM(C14*D14) -> 0 | M14: Fees | N14: Baggage Fees | O14: 0 | W14: =SUM(O14*P14) -> 0 | Y14: Fees | Z14: Baggage Fees | AA14: 0 | AI14: =SUM(AA14*AB14) -> 0
B15: Parking Fees | F15: 0 | I15: 0 | J15: 0 | K15: =SUM(F15*E15)*D15 -> 0 | N15: Parking Fees | R15: 0 | W15: =SUM(R15*Q15)*P15 -> 0 | Z15: Parking Fees | AD15: 0 | AI15: =SUM(AD15*AC15)*AB15 -> 0
B16: Registration Fees | C16: 0 | I16: 0 | J16: 0 | K16: =SUM(D16*C16) -> 0 | N16: Registration Fees | O16: 0 | W16: =SUM(P16*O16) -> 0 | Z16: Registration Fees | AA16: 0 | AI16: =SUM(AB16*AA16) -> 0
A17: Mileage | B17: Mileage | H17: 0 | I17: 0 | J17: 0 | K17: =SUM(G17*H17) -> 0 | M17: Mileage | N17: Mileage | T17: 0 | W17: =SUM(S17*T17) -> 0 | Y17: Mileage | Z17: Mileage | AF17: 0 | AI17: =SUM(AE17*AF17) -> 0
H18: Event Total | I18: =SUM(I7:I17) -> 0 | J18: =SUM(J7:J17) -> 0 | K18: =SUM(K7:K17) -> 0 | T18: Event Total | U18: =SUM(U7:U17) -> 0 | V18: =SUM(V7:V17) -> 0 | W18: =SUM(W7:W17) -> 0 | AF18: Event Total | AG18: =SUM(AG7:AG17) -> 0 | AH18: =SUM(AH7:AH17) -> 0 | AI18: =SUM(AI7:AI17) -> 0
A20: Event Information | B20: Event | M20: Event Information | N20: Event | Y20: Event Information | Z20: Event
B21: Event Location | N21: Event Location | Z21: Event Location
B22: Participants' Name and Position | N22: Participants' Name and Position | Z22: Participants' Name and Position
A23: Airfare | B23: Departing Airport | D23: # of Participants | E23: # of Days or Nights | F23: Daily Rate or Cost per Night | G23: # of Miles | H23: Cost per mile | I23: Non-Distressed | J23: Distressed | K23: Total | M23: Airfare | N23: Departing Airport | P23: # of Participants | Q23: # of Days or Nights | R23: Daily Rate or Cost per Night | S23: # of Miles | T23: Cost per mile | U23: Non-Distressed | V23: Distressed | W23: Total | Y23: Airfare | Z23: Departing Airport | AB23: # of Participants | AC23: # of Days or Nights | AD23: Daily Rate or Cost per Night | AE23: # of Miles | AF23: Cost per mile | AG23: Non-Distressed | AH23: Distressed | AI23: Total
B24: Cost per roundtrip ticket | C24: 0 | I24: 0 | J24: 0 | K24: =SUM(C24*D24) -> 0 | N24: Cost per roundtrip ticket | O24: 0 | W24: =SUM(O24*P24) -> 0 | Z24: Cost per roundtrip ticket | AA24: 0 | AI24: =SUM(AA24*AB24) -> 0
A25: Lodging | B25: Lodging | F25: 0 | I25: 0 | J25: 0 | K25: =SUM(E25*F25)*D25 -> 0 | M25: Lodging | N25: Lodging | R25: 0 | W25: =SUM(Q25*R25)*P25 -> 0 | Y25: Lodging | Z25: Lodging | AD25: 0 | AI25: =SUM(AC25*AD25)*AB25 -> 0
A26: Per Diem | B26: First Day of Travel | E26: 1 | F26: 0 | I26: 0 | J26: 0 | K26: =SUM(F26*E26)*D26 -> 0 | M26: Per Diem | N26: First Day of Travel | Q26: 1 | R26: 0 | W26: =SUM(R26*Q26)*P26 -> 0 | Y26: Per Diem | Z26: First Day of Travel | AC26: 1 | AD26: 0 | AI26: =SUM(AD26*AC26)*AB26 -> 0
B27: Last Day of Travel | E27: 1 | F27: 0 | I27: 0 | J27: 0 | K27: =SUM(F27*E27)*D27 -> 0 | N27: Last Day of Travel | Q27: 1 | R27: 0 | W27: =SUM(R27*Q27)*P27 -> 0 | Z27: Last Day of Travel | AC27: 1 | AD27: 0 | AI27: =SUM(AD27*AC27)*AB27 -> 0
B28: Daily Per Diem | F28: 0 | I28: 0 | J28: 0 | K28: =SUM(F28*E28)*D28 -> 0 | N28: Daily Per Diem | R28: 0 | W28: =SUM(R28*Q28)*P28 -> 0 | Z28: Daily Per Diem | AD28: 0 | AI28: =SUM(AD28*AC28)*AB28 -> 0
A29: Transportation | B29: Rental Car | F29: 0 | I29: 0 | J29: 0 | K29: =SUM(E29*F29) -> 0 | M29: Transportation | N29: Rental Car | R29: 0 | W29: =SUM(Q29*R29) -> 0 | Y29: Transportation | Z29: Rental Car | AD29: 0 | AI29: =SUM(AC29*AD29) -> 0
B30: Taxi/Uber/Lyft | F30: 0 | I30: 0 | J30: 0 | K30: =SUM(F30*E30)*D30 -> 0 | N30: Taxi/Uber/Lyft | R30: 0 | W30: =SUM(R30*Q30)*P30 -> 0 | Z30: Taxi/Uber/Lyft | AD30: 0 | AI30: =SUM(AD30*AC30)*AB30 -> 0
A31: Fees | B31: Baggage Fees | C31: 0 | I31: 0 | J31: 0 | K31: =SUM(C31*D31) -> 0 | M31: Fees | N31: Baggage Fees | O31: 0 | W31: =SUM(O31*P31) -> 0 | Y31: Fees | Z31: Baggage Fees | AA31: 0 | AI31: =SUM(AA31*AB31) -> 0
B32: Parking Fees | F32: 0 | I32: 0 | J32: 0 | K32: =SUM(F32*E32)*D32 -> 0 | N32: Parking Fees | R32: 0 | W32: =SUM(R32*Q32)*P32 -> 0 | Z32: Parking Fees | AD32: 0 | AI32: =SUM(AD32*AC32)*AB32 -> 0
B33: Registration Fees | C33: 0 | I33: 0 | J33: 0 | K33: =SUM(D33*C33) -> 0 | N33: Registration Fees | O33: 0 | W33: =SUM(P33*O33) -> 0 | Z33: Registration Fees | AA33: 0 | AI33: =SUM(AB33*AA33) -> 0
A34: Mileage | B34: Mileage | H34: 0 | I34: 0 | J34: 0 | K34: =SUM(G34*H34) -> 0 | M34: Mileage | N34: Mileage | T34: 0 | W34: =SUM(S34*T34) -> 0 | Y34: Mileage | Z34: Mileage | AF34: 0 | AI34: =SUM(AE34*AF34) -> 0
H35: Event Total | I35: =SUM(I24:I34) -> 0 | J35: =SUM(J24:J34) -> 0 | K35: =SUM(K24:K34) -> 0 | T35: Event Total | U35: =SUM(U24:U34) -> 0 | V35: =SUM(V24:V34) -> 0 | W35: =SUM(W24:W34) -> 0 | AF35: Event Total | AG35: =SUM(AG24:AG34) -> 0 | AH35: =SUM(AH24:AH34) -> 0 | AI35: =SUM(AI24:AI34) -> 0
A37: Event Information | B37: Event | M37: Event Information | N37: Event | Y37: Event Information | Z37: Event
B38: Event Location | N38: Event Location | Z38: Event Location
B39: Participants' Name and Position | N39: Participants' Name and Position | Z39: Participants' Name and Position
A40: Airfare | B40: Departing Airport | D40: # of Participants | E40: # of Days or Nights | F40: Daily Rate or Cost per Night | G40: # of Miles | H40: Cost per mile | I40: Non-Distressed | J40: Distressed | K40: Total | M40: Airfare | N40: Departing Airport | P40: # of Participants | Q40: # of Days or Nights | R40: Daily Rate or Cost per Night | S40: # of Miles | T40: Cost per mile | U40: Non-Distressed | V40: Distressed | W40: Total | Y40: Airfare | Z40: Departing Airport | AB40: # of Participants | AC40: # of Days or Nights | AD40: Daily Rate or Cost per Night | AE40: # of Miles | AF40: Cost per mile | AG40: Non-Distressed | AH40: Distressed | AI40: Total
B41: Cost per roundtrip ticket | C41: 0 | I41: 0 | J41: 0 | K41: =SUM(C41*D41) -> 0 | N41: Cost per roundtrip ticket | O41: 0 | W41: =SUM(O41*P41) -> 0 | Z41: Cost per roundtrip ticket | AA41: 0 | AI41: =SUM(AA41*AB41) -> 0
A42: Lodging | B42: Lodging | F42: 0 | I42: 0 | J42: 0 | K42: =SUM(E42*F42)*D42 -> 0 | M42: Lodging | N42: Lodging | R42: 0 | W42: =SUM(Q42*R42)*P42 -> 0 | Y42: Lodging | Z42: Lodging | AD42: 0 | AI42: =SUM(AC42*AD42)*AB42 -> 0
A43: Per Diem | B43: First Day of Travel | E43: 1 | F43: 0 | I43: 0 | J43: 0 | K43: =SUM(F43*E43)*D43 -> 0 | M43: Per Diem | N43: First Day of Travel | Q43: 1 | R43: 0 | W43: =SUM(R43*Q43)*P43 -> 0 | Y43: Per Diem | Z43: First Day of Travel | AC43: 1 | AD43: 0 | AI43: =SUM(AD43*AC43)*AB43 -> 0
...

Sheet OtherDirectCosts
B1: FY27 | N1: FY28 | Z1: FY29
A2: Equipment | B2: Equipment | N2: Equipment | Z2: Equipment
J3: Non-Distressed | K3: Distressed | L3: Total | V3: Non-Distressed | W3: Distressed | X3: Total | AH3: Non-Distressed | AI3: Distressed | AJ3: Total
J4: 0 | K4: 0 | L4: =SUM(J4+K4) -> 0 | V4: 0 | W4: 0 | X4: =SUM(V4+W4) -> 0 | AH4: 0 | AI4: 0 | AJ4: =SUM(AH4+AI4) -> 0
J5: 0 | K5: 0 | L5: =SUM(J5+K5) -> 0 | V5: 0 | W5: 0 | X5: =SUM(V5+W5) -> 0 | AH5: 0 | AI5: 0 | AJ5: =SUM(AH5+AI5) -> 0
J6: 0 | K6: 0 | L6: =SUM(J6+K6) -> 0 | V6: 0 | W6: 0 | X6: =SUM(V6+W6) -> 0 | AH6: 0 | AI6: 0 | AJ6: =SUM(AH6+AI6) -> 0
J7: 0 | K7: 0 | L7: =SUM(J7+K7) -> 0 | V7: 0 | W7: 0 | X7: =SUM(V7+W7) -> 0 | AH7: 0 | AI7: 0 | AJ7: =SUM(AH7+AI7) -> 0
J8: 0 | K8: 0 | L8: =SUM(J8+K8) -> 0 | V8: 0 | W8: 0 | X8: =SUM(V8+W8) -> 0 | AH8: 0 | AI8: 0 | AJ8: =SUM(AH8+AI8) -> 0
J9: 0 | K9: 0 | L9: =SUM(J9+K9) -> 0 | V9: 0 | W9: 0 | X9: =SUM(V9+W9) -> 0 | AH9: 0 | AI9: 0 | AJ9: =SUM(AH9+AI9) -> 0
J10: 0 | K10: 0 | L10: =SUM(J10+K10) -> 0 | V10: 0 | W10: 0 | X10: =SUM(V10+W10) -> 0 | AH10: 0 | AI10: 0 | AJ10: =SUM(AH10+AI10) -> 0
J11: 0 | K11: 0 | L11: =SUM(J11+K11) -> 0 | V11: 0 | W11: 0 | X11: =SUM(V11+W11) -> 0 | AH11: 0 | AI11: 0 | AJ11: =SUM(AH11+AI11) -> 0
J12: 0 | K12: 0 | L12: =SUM(J12+K12) -> 0 | V12: 0 | W12: 0 | X12: =SUM(V12+W12) -> 0 | AH12: 0 | AI12: 0 | AJ12: =SUM(AH12+AI12) -> 0
B13: Equipment Totals | J13: =J12 -> 0 | K13: =K12 -> 0 | L13: =L12 -> 0 | N13: Equipment Totals | V13: =V12 -> 0 | W13: =W12 -> 0 | X13: =X12 -> 0 | Z13: Equipment Totals | AH13: =AH12 -> 0 | AI13: =AI12 -> 0 | AJ13: =AJ12 -> 0
A15: Supplies | B15: Supplies | N15: Supplies | Z15: Supplies
J16: Non-Distressed | K16: Distressed | L16: Total | V16: Non-Distressed | W16: Distressed | X16: Total | AH16: Non-Distressed | AI16: Distressed | AJ16: Total
J17: 0 | K17: 0 | L17: =SUM(J17+K17) -> 0 | V17: 0 | W17: 0 | X17: =SUM(V17+W17) -> 0 | AH17: 0 | AI17: 0 | AJ17: =SUM(AH17+AI17) -> 0
J18: 0 | K18: 0 | L18: =SUM(J18+K18) -> 0 | V18: 0 | W18: 0 | X18: =SUM(V18+W18) -> 0 | AH18: 0 | AI18: 0 | AJ18: =SUM(AH18+AI18) -> 0
J19: 0 | K19: 0 | L19: =SUM(J19+K19) -> 0 | V19: 0 | W19: 0 | X19: =SUM(V19+W19) -> 0 | AH19: 0 | AI19: 0 | AJ19: =SUM(AH19+AI19) -> 0
J20: 0 | K20: 0 | L20: =SUM(J20+K20) -> 0 | V20: 0 | W20: 0 | X20: =SUM(V20+W20) -> 0 | AH20: 0 | AI20: 0 | AJ20: =SUM(AH20+AI20) -> 0
J21: 0 | K21: 0 | L21: =SUM(J21+K21) -> 0 | V21: 0 | W21: 0 | X21: =SUM(V21+W21) -> 0 | AH21: 0 | AI21: 0 | AJ21: =SUM(AH21+AI21) -> 0
J22: 0 | K22: 0 | L22: =SUM(J22+K22) -> 0 | V22: 0 | W22: 0 | X22: =SUM(V22+W22) -> 0 | AH22: 0 | AI22: 0 | AJ22: =SUM(AH22+AI22) -> 0
B23: Supplies Totals | J23: =SUM(J17:J22) -> 0 | K23: =SUM(K17:K22) -> 0 | L23: =SUM(L17:L22) -> 0 | N23: Supplies Totals | V23: =SUM(V17:V22) -> 0 | W23: =SUM(W17:W22) -> 0 | X23: =SUM(X17:X22) -> 0 | Z23: Supplies Totals | AH23: =SUM(AH17:AH22) -> 0 | AI23: =SUM(AI17:AI22) -> 0 | AJ23: =SUM(AJ17:AJ22) -> 0
A25: Contractual | B25: Contractual | N25: Contractual | Z25: Contractual
J26: Non-Distressed | K26: Distressed | L26: Total | V26: Non-Distressed | W26: Distressed | X26: Total | AH26: Non-Distressed | AI26: Distressed | AJ26: Total
B27: Subrecipient | J27: 0 | K27: 0 | L27: =SUM(J27+K27) -> 0 | N27: Subrecipient | V27: 0 | W27: 0 | X27: =SUM(V27+W27) -> 0 | Z27: Subrecipient | AH27: 0 | AI27: 0 | AJ27: =SUM(AH27+AI27) -> 0
B28: Subrecipient | J28: 0 | K28: 0 | L28: =SUM(J28+K28) -> 0 | N28: Subrecipient | V28: 0 | W28: 0 | X28: =SUM(V28+W28) -> 0 | Z28: Subrecipient | AH28: 0 | AI28: 0 | AJ28: =SUM(AH28+AI28) -> 0
B29: Subrecipient | J29: 0 | K29: 0 | L29: =SUM(J29+K29) -> 0 | N29: Subrecipient | V29: 0 | W29: 0 | X29: =SUM(V29+W29) -> 0 | Z29: Subrecipient | AH29: 0 | AI29: 0 | AJ29: =SUM(AH29+AI29) -> 0
B30: Subrecipient | J30: 0 | K30: 0 | L30: =SUM(J30+K30) -> 0 | N30: Subrecipient | V30: 0 | W30: 0 | X30: =SUM(V30+W30) -> 0 | Z30: Subrecipient | AH30: 0 | AI30: 0 | AJ30: =SUM(AH30+AI30) -> 0
B31: Subrecipient | J31: 0 | K31: 0 | L31: =SUM(J31+K31) -> 0 | N31: Subrecipient | V31: 0 | W31: 0 | X31: =SUM(V31+W31) -> 0 | Z31: Subrecipient | AH31: 0 | AI31: 0 | AJ31: =SUM(AH31+AI31) -> 0
B32: Subrecipient | J32: 0 | K32: 0 | L32: =SUM(J32+K32) -> 0 | N32: Subrecipient | V32: 0 | W32: 0 | X32: =SUM(V32+W32) -> 0 | Z32: Subrecipient | AH32: 0 | AI32: 0 | AJ32: =SUM(AH32+AI32) -> 0
B33: Subrecipient | J33: 0 | K33: 0 | L33: =SUM(J33+K33) -> 0 | N33: Subrecipient | V33: 0 | W33: 0 | X33: =SUM(V33+W33) -> 0 | Z33: Subrecipient | AH33: 0 | AI33: 0 | AJ33: =SUM(AH33+AI33) -> 0
B34: Subrecipient | J34: 0 | K34: 0 | L34: =SUM(J34+K34) -> 0 | N34: Subrecipient | V34: 0 | W34: 0 | X34: =SUM(V34+W34) -> 0 | Z34: Subrecipient | AH34: 0 | AI34: 0 | AJ34: =SUM(AH34+AI34) -> 0
B35: Subrecipient | J35: 0 | K35: 0 | L35: =SUM(J35+K35) -> 0 | N35: Subrecipient | V35: 0 | W35: 0 | X35: =SUM(V35+W35) -> 0 | Z35: Subrecipient | AH35: 0 | AI35: 0 | AJ35: =SUM(AH35+AI35) -> 0
B36: Subrecipient | J36: 0 | K36: 0 | L36: =SUM(J36+K36) -> 0 | N36: Subrecipient | V36: 0 | W36: 0 | X36: =SUM(V36+W36) -> 0 | Z36: Subrecipient | AH36: 0 | AI36: 0 | AJ36: =SUM(AH36+AI36) -> 0
B37: Subrecipient | J37: 0 | K37: 0 | L37: =SUM(J37+K37) -> 0 | N37: Subrecipient | V37: 0 | W37: 0 | X37: =SUM(V37+W37) -> 0 | Z37: Subrecipient | AH37: 0 | AI37: 0 | AJ37: =SUM(AH37+AI37) -> 0
B38: Contractual Totals | J38: =SUM(J27:J37) -> 0 | K38: =SUM(K27:K37) -> 0 | L38: =SUM(L27:L37) -> 0 | N38: Contractual Totals | V38: =SUM(V27:V37) -> 0 | W38: =SUM(W27:W37) -> 0 | X38: =SUM(X27:X37) -> 0 | Z38: Contractual Totals | AH38: =SUM(AH27:AH37) -> 0 | AI38: =SUM(AI27:AI37) -> 0 | AJ38: =SUM(AJ27:AJ37) -> 0
A40: Other | B40: Other | N40: Other | Z40: Other
J41: Non-Distressed | K41: Distressed | L41: Total | V41: Non-Distressed | W41: Distressed | X41: Total | AH41: Non-Distressed | AI41: Distressed | AJ41: Total
B42: NAPEX Membership Dues | L42: =G43 -> 0 | N42: NAPEX Membership Dues | V42: 0 | W42: 0 | X42: =S43 -> 0 | Z42: NAPEX Membership Dues | AH42: 0 | AI42: 0 | AJ42: =AE43 -> 0
G43: =0.006*BudgetSummary!D11 -> 0 | H43: NAPEX NTE .6% | S43: =0.006*BudgetSummary!I11 -> 0 | T43: NAPEX NTE .6% | AE43: =0.006*BudgetSummary!N11 -> 0 | AF43: NAPEX NTE .6%
...

Sheet IndirectCosts
B1: FY27 | G1: FY28 | L1: FY29
A2: Is a negotiated rate memorandum included with the application? If yes, do not complete rows 7-9. If no, complete the entire sheet. | B2: YES | D2: NO | G2: YES | I2: NO | L2: YES | N2: NO
A4: Ensure it is clear how you calculated the total amount of indirect costs (F&A) included in your budget. Use additional sheets to show indirect cost calculations if necessary. Show your indirect cost base, rate and amount of indirect charges. Ensure calculations are clear, especially if you use more than one rate (for example, if you use on- and off-campus rates or different rates for separate locations). Do not include applicable subrecipient or subcontractor indirect costs, which should instead be included with the corresponding line item under contractual. If a negotiated rate memorandum is not provided or the de minimus rate is not utilized, then the applicant shall provide information to the government demonstrating why the proposed rate is reasonable and realistic. The applicant shall include forecasted pools and based for the current year. Additionally, the applicant shall support these rates with three (3) years of historical actual pools and bases information that validates the calculations.
B5: Historical | E5: Current | G5: Historical | J5: Current | L5: Historical | O5: Current
B6: 2024 | C6: 2025 | D6: 2026 | E6: 2027 | G6: 2024 | H6: 2025 | I6: 2026 | J6: 2027 | L6: 2024 | M6: 2025 | N6: 2026 | O6: 2027
A7: Pool | B7: 0 | C7: 0 | D7: 0 | E7: 0 | G7: 0 | H7: 0 | I7: 0 | J7: 0 | L7: 0 | M7: 0 | N7: 0 | O7: 0
A8: Base | B8: 0 | C8: 0 | D8: 0 | E8: 0 | G8: 0 | H8: 0 | I8: 0 | J8: 0 | L8: 0 | M8: 0 | N8: 0 | O8: 0
A9: Rate | B9: =B7/B8 -> #DIV/0! | C9: =C7/C8 -> #DIV/0! | D9: =D7/D8 -> #DIV/0! | E9: =E7/E8 -> #DIV/0! | G9: =G7/G8 -> #DIV/0! | H9: =H7/H8 -> #DIV/0! | I9: =I7/I8 -> #DIV/0! | J9: =J7/J8 -> #DIV/0! | L9: =L7/L8 -> #DIV/0! | M9: =M7/M8 -> #DIV/0! | N9: =N7/N8 -> #DIV/0! | O9: =O7/O8 -> #DIV/0!
A11: Include any additional information below.
B14: Non-Distressed | C14: Distressed | D14: Total | G14: Non-Distressed | H14: Distressed | I14: Total | L14: Non-Distressed | M14: Distressed | N14: Total
A15: Indirect Cost Base | D15: =SUM(B15+C15) -> 0 | I15: =SUM(G15+H15) -> 0 | N15: =SUM(L15+M15) -> 0
A16: Indirect Rate
A17: Indirect Costs | B17: =B15*B16 -> 0 | C17: =C15*C16 -> 0 | D17: =SUM(B17+C17) -> 0 | G17: =G15*G16 -> 0 | H17: =H15*H16 -> 0 | I17: =SUM(G17+H17) -> 0 | L17: =L15*L16 -> 0 | M17: =M15*M16 -> 0 | N17: =SUM(L17+M17) -> 0
A18: Distressed Direct Costs + Distressed Indirect Costs Total | C18: =PersonnelFringe!H25+PersonnelFringe!I25+Travel!J156+OtherDirectCosts!K13+OtherDirectCosts!K23+OtherDirectCosts!K38+OtherDirectCosts!K57+IndirectCosts!C17 -> 0 | H18: =PersonnelFringe!T25+PersonnelFringe!U25+Travel!O156+OtherDirectCosts!P13+OtherDirectCosts!P23+OtherDirectCosts!P38+OtherDirectCosts!P57+IndirectCosts!H17 -> 0 | M18: =PersonnelFringe!AF25+PersonnelFringe!AF25+Travel!T156+OtherDirectCosts!U13+OtherDirectCosts!U23+OtherDirectCosts!U38+OtherDirectCosts!U57+IndirectCosts!M17 -> 0
A19: Non-Distressed Direct Costs + Non-Distressed Indirect Costs Total | B19: =PersonnelFringe!H24+PersonnelFringe!I24+Travel!I156+OtherDirectCosts!J13+OtherDirectCosts!J23+OtherDirectCosts!J38+OtherDirectCosts!J57+IndirectCosts!B17 -> 0 | G19: =PersonnelFringe!T24+PersonnelFringe!U24+Travel!N156+OtherDirectCosts!O13+OtherDirectCosts!O23+OtherDirectCosts!O38+OtherDirectCosts!O57+IndirectCosts!G17 -> 0 | L19: =PersonnelFringe!AF24+PersonnelFringe!AF24+Travel!S156+OtherDirectCosts!T13+OtherDirectCosts!T23+OtherDirectCosts!T38+OtherDirectCosts!T57+IndirectCosts!L17 -> 0

Sheet SubrecipientBudget
A1: Subrecipient Name Here:
A2: Period of Performance:
A4: Cost Category | B4: Non-Distressed | C4: Distressed | D4: Total
A5: Personnel | D5: =B5+C5 -> 0
A6: Fringe Benefits | D6: =B6+C6 -> 0
A7: Travel | D7: =B7+C7 -> 0
A8: Equipment | D8: =B8+C8 -> 0
A9: Supplies | D9: =B9+C9 -> 0
A10: Contractual | D10: =B10+C10 -> 0
A11: Other | D11: =B11+C11 -> 0
A12: Total | B12: =SUM(B5:B12) -> 0 | C12: =SUM(C5:C11) -> 0 | D12: =SUM(D5:D12) -> 0
A14: Indirect Cost Base | B14: 0 | C14: 0 | D14: =SUM(B14+C14) -> 0
A15: Indirect Rate
A16: Indirect Costs | B16: =B14*B15 -> 0 | C16: =C14*C15 -> 0 | D16: =SUM(B16+C16) -> 0
A18: Non-Distressed Direct Charges + Non-Distressed Indirect Charges Total | B18: =SUM(B12+B16) -> 0 | D18: =B18 -> 0
A19: Distressed Direct Charges + Distressed Indirect Charges Total | C19: =SUM(C12+C16) -> 0 | D19: =C19 -> 0
A20: Total Budget | D20: =D18+D19 -> 0
A22: Government Use Only | B22: Non-Distressed Direct Costs | C22: Distressed Direct Costs | D22: Total
A23: Federal Share | B23: =ROUNDDOWN(B18*0.065,2) -> 0 | C23: =ROUNDDOWN(C19*0.85,2) -> 0 | D23: =B23+C23 -> 0
A24: Cost Share | B24: =ROUNDDOWN(B18*0.35,2) -> 0 | C24: =ROUNDDOWN(C19*0.15,2) -> 0 | D24: =B24+C24 -> 0
A26: For subawards greater than 20% of the total program cost, provide justification for the personal costs proposed in accordance with the Notice of Funding Opportunity and fill out this section.
B28: Personnel & Fringe
A30: Personnel & Fringe | B30: Name | C30: Location (City) | D30: Position Title | E30: Total Annual Salary | F30: % of Time Working on Program | G30: Salary Allocable to the Program | H30: Fringe Benefits Allocable to Program | I30: Previous PoP Approved Salary Allocable to Program | J30: Previous PoP Approved % of Time Working on Program | K30: Totals | L30: Change in the % of Time Working on Program from last PoP to proposed PoP | M30: Salary Change APPROVED vs. PROPOSED | N30: Average Salary Change APPROVED vs. PROPOSED | O30: Fringe Rate | P30: Average Fringe | Q30: Government Use Only BLS Fringe for BLANK Area
B31: First Name, Last Name | C31: City, State | D31: Program Manager | E31: 0 | G31: 0 | H31: 0 | I31: 0 | K31: Non-Distressed Salary Total | L31: =(F31/J31)-1 -> #DIV/0! | M31: =(G31/I31)-1 -> #DIV/0! | N31: =AVERAGE(M31:M52) -> #DIV/0! | O31: =H31/G31 -> #DIV/0! | P31: =AVERAGE(O31:O52) -> #DIV/0! | Q31: Total Benefits | S31: 0
E32: 0 | G32: =(E32*F32) -> 0 | H32: 0 | I32: 0 | L32: =(F32/J32)-1 -> #DIV/0! | M32: =(G32/I32)-1 -> #DIV/0! | O32: =H32/G32 -> #DIV/0! | Q32: Wage/Salaries | S32: 0
E33: 0 | G33: =(E33*F33) -> 0 | H33: 0 | I33: 0 | K33: 0 | L33: =(F33/J33)-1 -> #DIV/0! | M33: =(G33/I33)-1 -> #DIV/0! | O33: =H33/G33 -> #DIV/0! | S33: =SUM(S31/S32) -> #DIV/0!
E34: 0 | G34: =(E34*F34) -> 0 | H34: 0 | I34: 0 | K34: Distressed Salary Total | L34: =(F34/J34)-1 -> #DIV/0! | M34: =(G34/I34)-1 -> #DIV/0! | O34: =H34/G34 -> #DIV/0!
E35: 0 | G35: =(E35*F35) -> 0 | H35: 0 | I35: 0 | K35: 0 | L35: =(F35/J35)-1 -> #DIV/0! | M35: =(G35/I35)-1 -> #DIV/0! | O35: =H35/G35 -> #DIV/0!
E36: 0 | G36: =(E36*F36) -> 0 | H36: 0 | I36: 0 | K36: Non-Distressed Fringe Total | L36: =(F36/J36)-1 -> #DIV/0! | M36: =(G36/I36)-1 -> #DIV/0! | O36: =H36/G36 -> #DIV/0!
E37: 0 | G37: =(E37*F37) -> 0 | H37: 0 | I37: 0 | K37: 0 | L37: =(F37/J37)-1 -> #DIV/0! | M37: =(G37/I37)-1 -> #DIV/0! | O37: =H37/G37 -> #DIV/0!
E38: 0 | G38: =(E38*F38) -> 0 | H38: 0 | I38: 0 | K38: Distressed Fringe Total | L38: =(F38/J38)-1 -> #DIV/0! | M38: =(G38/I38)-1 -> #DIV/0! | O38: =H38/G38 -> #DIV/0!
E39: 0 | G39: =(E39*F39) -> 0 | H39: 0 | I39: 0 | K39: 0 | L39: =(F39/J39)-1 -> #DIV/0! | M39: =(G39/I39)-1 -> #DIV/0! | O39: =H39/G39 -> #DIV/0!
E40: 0 | G40: =(E40*F40) -> 0 | H40: 0 | I40: 0 | K40: Salary Total | L40: =(F40/J40)-1 -> #DIV/0! | M40: =(G40/I40)-1 -> #DIV/0! | O40: =H40/G40 -> #DIV/0!
E41: 0 | G41: =(E41*F41) -> 0 | H41: 0 | I41: 0 | K41: =SUM(G31:G52) -> 0 | L41: =(F41/J41)-1 -> #DIV/0! | M41: =(G41/I41)-1 -> #DIV/0! | O41: =H41/G41 -> #DIV/0!
E42: 0 | G42: =(E42*F42) -> 0 | H42: 0 | I42: 0 | K42: Fringe Total | L42: =(F42/J42)-1 -> #DIV/0! | M42: =(G42/I42)-1 -> #DIV/0! | O42: =H42/G42 -> #DIV/0!
E43: 0 | G43: =(E43*F43) -> 0 | H43: 0 | I43: 0 | K43: =SUM(H31:H52) -> 0 | L43: =(F43/J43)-1 -> #DIV/0! | M43: =(G43/I43)-1 -> #DIV/0! | O43: =H43/G43 -> #DIV/0!
E44: 0 | G44: =(E44*F44) -> 0 | H44: 0 | I44: 0 | L44: =(F44/J44)-1 -> #DIV/0! | M44: =(G44/I44)-1 -> #DIV/0! | O44: =H44/G44 -> #DIV/0!
E45: 0 | G45: =(E45*F45) -> 0 | H45: 0 | I45: 0 | L45: =(F45/J45)-1 -> #DIV/0! | M45: =(G45/I45)-1 -> #DIV/0! | O45: =H45/G45 -> #DIV/0!
E46: 0 | G46: =(E46*F46) -> 0 | H46: 0 | I46: 0 | L46: =(F46/J46)-1 -> #DIV/0! | M46: =(G46/I46)-1 -> #DIV/0! | O46: =H46/G46 -> #DIV/0!
E47: 0 | G47: =(E47*F47) -> 0 | H47: 0 | I47: 0 | L47: =(F47/J47)-1 -> #DIV/0! | M47: =(G47/I47)-1 -> #DIV/0! | O47: =H47/G47 -> #DIV/0!
...

Sheet SubrecipientIndirectCosts
A2: For any subawards greater than 20% of the total program cost, provide justification for the indirect costs proposed in accordance with the Notice of Funding Opportunity. Is a negotiated rate memorandum included with the application? If yes, do not complete the rest of this sheet. If no, complete the rest of the sheet. | B2: YES | D2: NO
A4: Ensure it is clear how you calculated the total amount of indirect costs (F&A) included in your budget. Use additional sheets to show indirect cost calculations if necessary. Show your indirect cost base, rate and amount of indirect charges. Ensure calculations are clear, especially if you use more than one rate (for example, if you use on- and off-campus rates or different rates for separate locations). Do not include applicable subrecipient or subcontractor indirect costs, which should instead be included with the corresponding line item under contractual. If a negotiated rate memorandum is not provided or the de minimus rate is not utilized, then the applicant shall provide information to the government demonstrating why the proposed rate is reasonable and realistic. The applicant shall include forecasted pools and based for the current year. Additionally, the applicant shall support these rates with three (3) years of historical actual pools and bases information that validates the calculations.
C5: Historical | F5: Current
C6: 2024 | D6: 2025 | E6: 2026 | F6: 2027
B7: Pool | C7: 0 | D7: 0 | E7: 0 | F7: 0
B8: Base | C8: 0 | D8: 0 | E8: 0 | F8: 0
B9: Rate
A13: Include any additional information below.

Sheet FY27ProposedServiceArea
A1: PROPOSED SERVICE AREA LISTING
A3: Do you have only a non distressed budget and the same service area since your FY25 award? | G3: If yes, do not fill out this form. | H3: If no, fill out this form.
A4: Identify the state or BIA region in which you will provide service:
A5: (If you are proposing to service areas in more than one state or in more than one BIA region, submit a separate sheet for each state or region.)
A6: Does your service area include the state or region above in its entirety? (Yes or No)
A7: Note: If you answered yes to the question above and are not requesting distressed funding, i.e., DoD's share of the cost is no more than 65% of total cost, you do not need to individually identify counties and equivalents below. If you answered no, complete row 7.
A8: State's Total Labor Force | B8: 2000 | C8: State's Labor Force you propose to serve | D8: 1200 | E8: Number of counties in the State | F8: 50 | G8: Number of Counties you propose to serve | I8: 100 | J8: State's Total Labor Force
A9: Statewide means an APEX Accelerator that provides procurement technical assistance in at least one-half of a state's counties or equivalent coverage (e.g., parieshes, boroughs, etc.) and serves at least three-fourths of the state's labor force.
A10: Government Use Only: To qualify as a statewide program, this number must be 75% or higher. | D10: =D8/B8*1 -> 0.6 | E10: Government Use Only: To qualify as a statewide program, this number must be 50% or higher. | J10: =F8/I8*1 -> 0.5
A11: Have any county(s) or equivalent(s) been added or deleted from the previous year's Service Area? (This question is only applicable for existing APEX Accelerators) (Yes or No)
A12: If you answered yes to the question in row 10, identify those county(s) or equivalent(s) that you added or deleted and explain why you proposed the change here.
A13: List the county(s) or equivalent(s) that you propose to service and if you are requesting distressed funding, indicate whether or not each is a distressed area. If you are not requesting distressed funding, you do not need to fill out the column entitled Per Capita Personal Income, Unemployment Rate, or Labor Force.
A14: County or equivalents within the state or BIA region identified above that you intend to service: | I14: Distressed area (Yes or No) | K14: DISTRESSED ONLY: Per Capita Personal Income | L14: DISTRESSED ONLY: Unemployment Rate | M14: DISTRESSED ONLY: Labor Force
L147: Total | M147: =SUM(M15:M146) -> 0

Sheet FY28ProposedServiceArea
A1: PROPOSED SERVICE AREA LISTING
A3: Do you have only a non distressed budget and the same service area since your FY25 award? | G3: If yes, do not fill out this form. | H3: If no, fill out this form.
A4: Identify the state or BIA region in which you will provide service:
A5: (If you are proposing to service areas in more than one state or in more than one BIA region, submit a separate sheet for each state or region.)
A6: Does your service area include the state or region above in its entirety? (Yes or No)
A7: Note: If you answered yes to the question above and are not requesting distressed funding, i.e., DoD's share of the cost is no more than 65% of total cost, you do not need to individually identify counties and equivalents below. If you answered no, complete row 7.
A8: State's Total Labor Force | B8: 2000 | C8: State's Labor Force you propose to serve | D8: 1200 | E8: Number of counties in the State | F8: 50 | G8: Number of Counties you propose to serve | I8: 100 | J8: State's Total Labor Force
A9: Statewide means an APEX Accelerator that provides procurement technical assistance in at least one-half of a state's counties or equivalent coverage (e.g., parieshes, boroughs, etc.) and serves at least three-fourths of the state's labor force.
A10: Government Use Only: To qualify as a statewide program, this number must be 75% or higher. | D10: =D8/B8*1 -> 0.6 | E10: Government Use Only: To qualify as a statewide program, this number must be 50% or higher. | J10: =F8/I8*1 -> 0.5
A11: Have any county(s) or equivalent(s) been added or deleted from the previous year's Service Area? (This question is only applicable for existing APEX Accelerators) (Yes or No)
A12: If you answered yes to the question in row 10, identify those county(s) or equivalent(s) that you added or deleted and explain why you proposed the change here.
A13: List the county(s) or equivalent(s) that you propose to service and if you are requesting distressed funding, indicate whether or not each is a distressed area. If you are not requesting distressed funding, you do not need to fill out the column entitled Per Capita Personal Income, Unemployment Rate, or Labor Force.
A14: County or equivalents within the state or BIA region identified above that you intend to service: | I14: Distressed area (Yes or No) | K14: DISTRESSED ONLY: Per Capita Personal Income | L14: DISTRESSED ONLY: Unemployment Rate | M14: DISTRESSED ONLY: Labor Force
L147: Total | M147: =SUM(M15:M146) -> 0

Sheet FY29ProposedServiceArea
A1: PROPOSED SERVICE AREA LISTING
A3: Do you have only a non distressed budget and the same service area since your FY25 award? | G3: If yes, do not fill out this form. | H3: If no, fill out this form.
A4: Identify the state or BIA region in which you will provide service:
A5: (If you are proposing to service areas in more than one state or in more than one BIA region, submit a separate sheet for each state or region.)
A6: Does your service area include the state or region above in its entirety? (Yes or No)
A7: Note: If you answered yes to the question above and are not requesting distressed funding, i.e., DoD's share of the cost is no more than 65% of total cost, you do not need to individually identify counties and equivalents below. If you answered no, complete row 7.
A8: State's Total Labor Force | B8: 2000 | C8: State's Labor Force you propose to serve | D8: 1200 | E8: Number of counties in the State | F8: 50 | G8: Number of Counties you propose to serve | I8: 100 | J8: State's Total Labor Force
A9: Statewide means an APEX Accelerator that provides procurement technical assistance in at least one-half of a state's counties or equivalent coverage (e.g., parieshes, boroughs, etc.) and serves at least three-fourths of the state's labor force.
A10: Government Use Only: To qualify as a statewide program, this number must be 75% or higher. | D10: =D8/B8*1 -> 0.6 | E10: Government Use Only: To qualify as a statewide program, this number must be 50% or higher. | J10: =F8/I8*1 -> 0.5
A11: Have any county(s) or equivalent(s) been added or deleted from the previous year's Service Area? (This question is only applicable for existing APEX Accelerators) (Yes or No)
A12: If you answered yes to the question in row 10, identify those county(s) or equivalent(s) that you added or deleted and explain why you proposed the change here.
A13: List the county(s) or equivalent(s) that you propose to service and if you are requesting distressed funding, indicate whether or not each is a distressed area. If you are not requesting distressed funding, you do not need to fill out the column entitled Per Capita Personal Income, Unemployment Rate, or Labor Force.
A14: County or equivalents within the state or BIA region identified above that you intend to service: | I14: Distressed area (Yes or No) | K14: DISTRESSED ONLY: Per Capita Personal Income | L14: DISTRESSED ONLY: Unemployment Rate | M14: DISTRESSED ONLY: Labor Force
L147: Total | M147: =SUM(M15:M146) -> 0
