Workbook

Sheet Budget Justification Summary
A1: ATTACHMENT
J2: ALL YELLOW HIGHLIGHTED ROWS/COLUMNS IN FOLLOWING PAGES MUST BE FILLED IN - THESE ARE INSTRUCTIONS FOR THE JUSTIFICATION THAT MUST BE INCLUDED WITH EACH PURCHASE/COST (WITHOUT A JUSTIFICATION AND/OR VENDOR, THE AGREEMENT MAY NOT BE REVIEWED FOR AWARD).
A3: R&R Budget Justification
A4: APPLICANT BUDGET JUSTIFICATION NARRATIVE FORM
A6: Name of Applicant:
A7: Principal Investigator:
A8: Project Title:
J9: These are just Notes and May be Expanded or Font Enlarged to Read (delete Column I & J after reviewing)
A10: Total Project | C10: Year 1 | D10: Year 2 | E10: Year 3 | F10: Year 4 | G10: Year 5 | H10: Total
C11: =C18+C22+C26+C30+C34+C38+C81 -> 0 | D11: =D18+D22+D26+D30+D34+D38+D81 -> 0 | E11: =E18+E22+E26+E30+E34+E38+E81 -> 0 | F11: =F18+F22+F26+F30+F34+F38+F81 -> 0 | G11: =G18+G22+G26+G30+G34+G38+G81 -> 0 | H11: =SUM(C11:G11) -> 0 | J11: All yellow highlighted items must have a justification (written)
A13: R&R Budget | C13: R&R Cost Category | J13: Narrative Budget Justification Instructions
A14: Section | B14: Subsection
K15: Tab Hyperlink
A16: A. B. | C16: Salary - Senior Key and Other Personnel | J16: Instructions: Fill out the A - SeniorKey Personnel Tab and B - Other Personnel Tab. The Yearly totals to the left will automatically calculate. NOTE: Select Tab Hyperlink to the right to access the A - Senior Key and B - Other Personnel Tabs. | K16: A - SeniorKey Personnel
C17: Year 1 | D17: Year 2 | E17: Year 3 | F17: Year 4 | G17: Year 5 | H17: Total | K17: B - Other Personnel
C18: ='A - SeniorKey Personnel'!I85+'B - Other Personnel'!I85 -> 0 | D18: ='A - SeniorKey Personnel'!I86+'B - Other Personnel'!I86 -> 0 | E18: ='A - SeniorKey Personnel'!I87+'B - Other Personnel'!I87 -> 0 | F18: ='A - SeniorKey Personnel'!I88+'B - Other Personnel'!I88 -> 0 | G18: ='A - SeniorKey Personnel'!I89+'B - Other Personnel'!I89 -> 0 | H18: =SUM(C18:G18) -> 0
A20: A. B. | C20: Fringe Benefits - Senior Key and Other Personnel | J20: Instructions: Fill out the Fringe Benefits Tab. The Yearly totals to the left will automatically calculate. NOTE: Select Tab Hyperlink to the right to access the Fringe Benefit Tab. | K20: A & B - Fringe Benefits
C21: Year 1 | D21: Year 2 | E21: Year 3 | F21: Year 4 | G21: Year 5 | H21: Total
C22: ='A & B - Fringe Benefits'!D85 -> 0 | D22: ='A & B - Fringe Benefits'!E85 -> 0 | E22: ='A & B - Fringe Benefits'!F85 -> 0 | F22: ='A & B - Fringe Benefits'!G85 -> 0 | G22: ='A & B - Fringe Benefits'!H85 -> 0 | H22: =SUM(C22:G22) -> 0
A24: C. | C24: Equipment Items (>$5,000) | J24: Instructions: Fill out the Equipment Tab. The Yearly totals to the left will automatically calculate. NOTE: Select Tab Hyperlink to the right to access the Equipment Tab. | K24: C - Equipment
C25: Year 1 | D25: Year 2 | E25: Year 3 | F25: Year 4 | G25: Year 5 | H25: Total
C26: ='C - Equipment'!F28 -> 0 | D26: ='C - Equipment'!F62 -> 0 | E26: ='C - Equipment'!F90 -> 0 | F26: ='C - Equipment'!F118 -> 0 | G26: ='C - Equipment'!F143 -> 0 | H26: =SUM(C26:G26) -> 0
A28: D. | C28: Travel | J28: Instructions: Fill out the Travel Tab. The Yearly totals to the left will automatically calculate. NOTE: Select Tab Hyperlink to the right to access the Travel Tab. | K28: D - Travel
C29: Year 1 | D29: Year 2 | E29: Year 3 | F29: Year 4 | G29: Year 5 | H29: Total
C30: ='D - Travel'!N37 -> 0 | D30: ='D - Travel'!N64 -> 0 | E30: ='D - Travel'!N91 -> 0 | F30: ='D - Travel'!N118 -> 0 | G30: ='D - Travel'!N145 -> 0 | H30: =SUM(C30:G30) -> 0
A32: E. | C32: Participant/Trainee Support | J32: Instructions: Fill out the E - Participant Support Tab. The Yearly totals to the left will automatically calculate. NOTE: Select Tab Hyperlink to the right to access the E - Participant Support Tab. | K32: E - Participant Support
C33: Year 1 | D33: Year 2 | E33: Year 3 | F33: Year 4 | G33: Year 5 | H33: Total
C34: ='E - Participant Support'!F78 -> 0 | D34: ='E - Participant Support'!G78 -> 0 | E34: ='E - Participant Support'!H78 -> 0 | F34: ='E - Participant Support'!I78 -> 0 | G34: ='E - Participant Support'!J78 -> 0 | H34: =SUM(C34:G34) -> 0
A36: F. | C36: Other Direct Costs Total | J36: Instructions: The Yearly totals to the left will automatically calculate. Provide information requested in tabs F.1 through F.10 as applicable
C37: Year 1 | D37: Year 2 | E37: Year 3 | F37: Year 4 | G37: Year 5 | H37: Total
C38: =C42+C45+C49+C53+C57+C61+C65+C69+C73+C77 -> 0 | D38: =D42+D45+D49+D53+D57+D61+D65+D69+D73+D77 -> 0 | E38: =E42+E45+E49+E53+E57+E61+E65+E69+E73+E77 -> 0 | F38: =F42+F45+F49+F53+F57+F61+F65+F69+F73+F77 -> 0 | G38: =G42+G45+G49+G53+G57+G61+G65+G69+G73+G77 -> 0 | H38: =SUM(C38:G38) -> 0
B40: F.1 | C40: Materials and Supplies | J40: Instructions: Fill out the Materials and Supplies Tab. The Yearly totals to the left will automatically calculate. NOTE: Select Tab Hyperlink to the right to access the Materials and Supplies Tab. | K40: F1 - Materials and Supplies
C41: Year 1 | D41: Year 2 | E41: Year 3 | F41: Year 4 | G41: Year 5 | H41: Total
C42: ='F1 - Materials and Supplies'!G49 -> 0 | D42: ='F1 - Materials and Supplies'!G113 -> 0 | E42: ='F1 - Materials and Supplies'!G175 -> 0 | F42: ='F1 - Materials and Supplies'!G234 -> 0 | G42: ='F1 - Materials and Supplies'!G293 -> 0 | H42: =SUM(C42:G42) -> 0
B43: F.2 | C43: Publication Costs | J43: Instructions: Fill out the F2 - Publication Costs Tab. The Yearly totals to the left will automatically calculate. . NOTE: Select Tab Hyperlink to the right to access the F2 - Publication Costs Tab. | K43: F2 - Publication Costs
C44: Year 1 | D44: Year 2 | E44: Year 3 | F44: Year 4 | G44: Year 5 | H44: Total
C45: ='F2 - Publication Costs'!E15 -> 0 | D45: ='F2 - Publication Costs'!F15 -> 0 | E45: ='F2 - Publication Costs'!G15 -> 0 | F45: ='F2 - Publication Costs'!H15 -> 0 | G45: ='F2 - Publication Costs'!I15 -> 0 | H45: =SUM(C45:G45) -> 0
B47: F.3 | C47: Consultant Services | J47: Instructions: Fill out the F3 - Consultant Costs Tab. The Yearly totals to the left will automatically calculate. NOTE: Select Tab Hyperlink to the right to access the F3 - Consultant Costs Tab. | K47: F3 - Consultant Costs
C48: Year 1 | D48: Year 2 | E48: Year 3 | F48: Year 4 | G48: Year 5 | H48: Total
C49: ='F3 - Consultant Costs'!C15 -> 0 | D49: ='F3 - Consultant Costs'!D15 -> 0 | E49: ='F3 - Consultant Costs'!E15 -> 0 | F49: ='F3 - Consultant Costs'!F15 -> 0 | G49: ='F3 - Consultant Costs'!G15 -> 0 | H49: =SUM(C49:G49) -> 0
...

Sheet A - SeniorKey Personnel
A1: A. Senior/Key Personnel Labor
A3: Provide in the table below each of the Senior/Key Personnel position to be supported under the proposed award by name; project role; title; base salary; monthly salary; the amount of effort (person months) to be expended by each position; and annual compensation for each position. Add any additional explanation required that supports total $ proposed for project in terms of how compensation is provided and calculated for this person. If additional explanation is necessary, please justify on an 8 1/2 x 11" paper to augment the below justification - put a header on the justification.
A4: Return to | B4: Budget Justification Summary
A5: Senior/Key Personnel Name | B5: Job Title | C5: Budget Period | D5: Base Salary | E5: Monthly Salary | F5: Person Months | I5: Annual Compensation | J5: Budget Justification Narrative REQUIRED Specify: The project role and what he/she will accomplish. The basis for the proposed compensation for each person and provide reference to a website that identifies salary or stipend ranges for Senior/Key Personnel. A copy of the salary or stipend ranges can also be provided. Also state if costs are annually escalated. State if the salary is based on 9 academic months or 12 calendar months.
F6: Cal | G6: Acad | H6: Sum
C7: Period 1 | I7: =(E7*F7)+(E7*G7)+(E7*H7) -> 0
C8: Period 2 | I8: =(E8*F8)+(E8*G8)+(E8*H8) -> 0
C9: Period 3 | I9: =(E9*F9)+(E9*G9)+(E9*H9) -> 0
C10: Period 4 | I10: =(E10*F10)+(E10*G10)+(E10*H10) -> 0
C11: Period 5 | I11: =(E11*F11)+(E11*G11)+(E11*H11) -> 0
A12: Total Compensation for Position | I12: =SUM(I7:I11) -> 0
C13: Period 1 | I13: =(E13*F13)+(E13*G13)+(E13*H13) -> 0
C14: Period 2 | I14: =(E14*F14)+(E14*G14)+(E14*H14) -> 0
C15: Period 3 | I15: =(E15*F15)+(E15*G15)+(E15*H15) -> 0
C16: Period 4 | I16: =(E16*F16)+(E16*G16)+(E16*H16) -> 0
C17: Period 5 | I17: =(E17*F17)+(E17*G17)+(E17*H17) -> 0
A18: Total Compensation for Position | I18: =SUM(I13:I17) -> 0
C19: Period 1 | I19: =(E19*F19)+(E19*G19)+(E19*H19) -> 0
C20: Period 2 | I20: =(E20*F20)+(E20*G20)+(E20*H20) -> 0
C21: Period 3 | I21: =(E21*F21)+(E21*G21)+(E21*H21) -> 0
C22: Period 4 | I22: =(E22*F22)+(E22*G22)+(E22*H22) -> 0
C23: Period 5 | I23: =(E23*F23)+(E23*G23)+(E23*H23) -> 0
A24: Total Compensation for Position | I24: =SUM(I19:I23) -> 0
C25: Period 1 | I25: =(E25*F25)+(E25*G25)+(E25*H25) -> 0
C26: Period 2 | I26: =(E26*F26)+(E26*G26)+(E26*H26) -> 0
C27: Period 3 | I27: =(E27*F27)+(E27*G27)+(E27*H27) -> 0
C28: Period 4 | I28: =(E28*F28)+(E28*G28)+(E28*H28) -> 0
C29: Period 5 | I29: =(E29*F29)+(E29*G29)+(E29*H29) -> 0
A30: Total Compensation for Position | I30: =SUM(I25:I29) -> 0
C31: Period 1 | I31: =(E31*F31)+(E31*G31)+(E31*H31) -> 0
C32: Period 2 | I32: =(E32*F32)+(E32*G32)+(E32*H32) -> 0
C33: Period 3 | I33: =(E33*F33)+(E33*G33)+(E33*H33) -> 0
C34: Period 4 | I34: =(E34*F34)+(E34*G34)+(E34*H34) -> 0
C35: Period 5 | I35: =(E35*F35)+(E35*G35)+(E35*H35) -> 0
A36: Total Compensation for Position | I36: =SUM(I31:I35) -> 0
C37: Period 1 | I37: =(E37*F37)+(E37*G37)+(E37*H37) -> 0
C38: Period 2 | I38: =(E38*F38)+(E38*G38)+(E38*H38) -> 0
C39: Period 3 | I39: =(E39*F39)+(E39*G39)+(E39*H39) -> 0
C40: Period 4 | I40: =(E40*F40)+(E40*G40)+(E40*H40) -> 0
C41: Period 5 | I41: =(E41*F41)+(E41*G41)+(E41*H41) -> 0
...

Sheet B - Other Personnel
A1: B. Other Personnel Labor
A3: List each Other Personnel position to be supported under the proposed award by name (if known); project role, job title (if applicable); base salary; monthly salary; the amount of effort (person months) to be expended by each position; and annual compensation (automatically calculated) for each position. Add any additional explanation required that supports total $ proposed for project in terms of how compensation is provided and calculated for this person. If additional area is needed for justifying the position, please use an additional 8 1/2" x 11" paper and ensure it is labeled with a header.
A4: Return to | B4: Budget Justification Summary
A5: Other Personnel Name | B5: Job Title | C5: Budget Period | D5: Base Salary | E5: Monthly Salary | F5: Person Months | I5: Annual Compensation | J5: Budget Justification Narrative - REQUIRED Specify: 1. The project role and what he/she will accomplish. 2. The basis for the proposed compensation for each person and provide reference to a website that identifies salary or stipend ranges for Senior/Key Personnel. A copy of the salary or stipend ranges can also be provided. Also state if costs are annually escalated. 3. State if the salary is based on 9 academic months or 12 calendar months.
F6: Cal | G6: Acad | H6: Sum
C7: Period 1 | I7: =(E7*F7)+(E7*G7)+(E7*H7) -> 0
C8: Period 2 | I8: =(E8*F8)+(E8*G8)+(E8*H8) -> 0
C9: Period 3 | I9: =(E9*F9)+(E9*G9)+(E9*H9) -> 0
C10: Period 4 | I10: =(E10*F10)+(E10*G10)+(E10*H10) -> 0
C11: Period 5 | I11: =(E11*F11)+(E11*G11)+(E11*H11) -> 0
A12: Total Compensation for Position | I12: =SUM(I7:I11) -> 0
C13: Period 1 | I13: =(E13*F13)+(E13*G13)+(E13*H13) -> 0
C14: Period 2 | I14: =(E14*F14)+(E14*G14)+(E14*H14) -> 0
C15: Period 3 | I15: =(E15*F15)+(E15*G15)+(E15*H15) -> 0
C16: Period 4 | I16: =(E16*F16)+(E16*G16)+(E16*H16) -> 0
C17: Period 5 | I17: =(E17*F17)+(E17*G17)+(E17*H17) -> 0
A18: Total Compensation for Position | I18: =SUM(I13:I17) -> 0
C19: Period 1 | I19: =(E19*F19)+(E19*G19)+(E19*H19) -> 0
C20: Period 2 | I20: =(E20*F20)+(E20*G20)+(E20*H20) -> 0
C21: Period 3 | I21: =(E21*F21)+(E21*G21)+(E21*H21) -> 0
C22: Period 4 | I22: =(E22*F22)+(E22*G22)+(E22*H22) -> 0
C23: Period 5 | I23: =(E23*F23)+(E23*G23)+(E23*H23) -> 0
A24: Total Compensation for Position | I24: =SUM(I19:I23) -> 0
C25: Period 1 | I25: =(E25*F25)+(E25*G25)+(E25*H25) -> 0
C26: Period 2 | I26: =(E26*F26)+(E26*G26)+(E26*H26) -> 0
C27: Period 3 | I27: =(E27*F27)+(E27*G27)+(E27*H27) -> 0
C28: Period 4 | I28: =(E28*F28)+(E28*G28)+(E28*H28) -> 0
C29: Period 5 | I29: =(E29*F29)+(E29*G29)+(E29*H29) -> 0
A30: Total Compensation for Position | I30: =SUM(I25:I29) -> 0
C31: Period 1 | I31: =(E31*F31)+(E31*G31)+(E31*H31) -> 0
C32: Period 2 | I32: =(E32*F32)+(E32*G32)+(E32*H32) -> 0
C33: Period 3 | I33: =(E33*F33)+(E33*G33)+(E33*H33) -> 0
C34: Period 4 | I34: =(E34*F34)+(E34*G34)+(E34*H34) -> 0
C35: Period 5 | I35: =(E35*F35)+(E35*G35)+(E35*H35) -> 0
A36: Total Compensation for Position | I36: =SUM(I31:I35) -> 0
C37: Period 1 | I37: =(E37*F37)+(E37*G37)+(E37*H37) -> 0
C38: Period 2 | I38: =(E38*F38)+(E38*G38)+(E38*H38) -> 0
C39: Period 3 | I39: =(E39*F39)+(E39*G39)+(E39*H39) -> 0
C40: Period 4 | I40: =(E40*F40)+(E40*G40)+(E40*H40) -> 0
C41: Period 5 | I41: =(E41*F41)+(E41*G41)+(E41*H41) -> 0
...

Sheet A & B - Fringe Benefits
A1: Fringe Benefits (for Senior/Key Personnel and Other Personnel)
A3: Provide fringe benefit rate totals for each year for each Key and Other Personnel position proposed and identify the applicable Fringe Benefit rate (if there is more than one rate, please provide the rate and explain how rates are applied). Also, state whether the rates are approved by a government agency, or in accordance with institution policy. Provide internet location where rates can be verified under the explanation or other documentation to support the rate. NOTE: Scroll down to bottom of page to complete basis of requested fringe costs. EXPLANATION OF HOW RATES ARE APPLIED IS REQUIRED. IF ADDITIONAL AREA IS NEEDED TO EXPLAIN AND/OR JUSTIFY, PLEASE ADD AN ADDITIONAL 8 1/2" X 11" PAPER AND LABEL WITH HEADER.
B5: Return to | C5: Budget Justification Summary
A6: Name/Project Role | D6: Budget Period 1 | E6: Budget Period 2 | F6: Budget Period 3 | G6: Budget Period 4 | H6: Budget Period 5 | I6: Total | J6: Explanation of how rates are applied
C7: Requested Salary
C8: Fringe Rate %
C9: Fringe Benefits Position Total | D9: =D7*D8 -> 0 | E9: =E7*E8 -> 0 | F9: =F7*F8 -> 0 | G9: =G7*G8 -> 0 | H9: =H7*H8 -> 0 | I9: =SUM(D9:H9) -> 0
C10: Requested Salary
C11: Fringe Rate %
C12: Fringe Benefits Position Total | D12: =D10*D11 -> 0 | E12: =E10*E11 -> 0 | F12: =F10*F11 -> 0 | G12: =G10*G11 -> 0 | H12: =H10*H11 -> 0 | I12: =SUM(D12:H12) -> 0
C13: Requested Salary
C14: Fringe Rate %
C15: Fringe Benefits Position Total | D15: =D13*D14 -> 0 | E15: =E13*E14 -> 0 | F15: =F13*F14 -> 0 | G15: =G13*G14 -> 0 | H15: =H13*H14 -> 0 | I15: =SUM(D15:H15) -> 0
C16: Requested Salary
C17: Fringe Rate %
C18: Fringe Benefits Position Total | D18: =D16*D17 -> 0 | E18: =E16*E17 -> 0 | F18: =F16*F17 -> 0 | G18: =G16*G17 -> 0 | H18: =H16*H17 -> 0 | I18: =SUM(D18:H18) -> 0
C19: Requested Salary
C20: Fringe Rate %
C21: Fringe Benefits Position Total | D21: =D19*D20 -> 0 | E21: =E19*E20 -> 0 | F21: =F19*F20 -> 0 | G21: =G19*G20 -> 0 | H21: =H19*H20 -> 0 | I21: =SUM(D21:H21) -> 0
C22: Requested Salary
C23: Fringe Rate %
C24: Fringe Benefits Position Total | D24: =D22*D23 -> 0 | E24: =E22*E23 -> 0 | F24: =F22*F23 -> 0 | G24: =G22*G23 -> 0 | H24: =H22*H23 -> 0 | I24: =SUM(D24:H24) -> 0
C25: Requested Salary
C26: Fringe Rate %
C27: Fringe Benefits Position Total | D27: =D25*D26 -> 0 | E27: =E25*E26 -> 0 | F27: =F25*F26 -> 0 | G27: =G25*G26 -> 0 | H27: =H25*H26 -> 0 | I27: =SUM(D27:H27) -> 0
C28: Requested Salary
C29: Fringe Rate %
C30: Fringe Benefits Position Total | D30: =D28*D29 -> 0 | E30: =E28*E29 -> 0 | F30: =F28*F29 -> 0 | G30: =G28*G29 -> 0 | H30: =H28*H29 -> 0 | I30: =SUM(D30:H30) -> 0
C31: Requested Salary
C32: Fringe Rate %
C33: Fringe Benefits Position Total | D33: =D31*D32 -> 0 | E33: =E31*E32 -> 0 | F33: =F31*F32 -> 0 | G33: =G31*G32 -> 0 | H33: =H31*H32 -> 0 | I33: =SUM(D33:H33) -> 0
C34: Requested Salary
C35: Fringe Rate %
C36: Fringe Benefits Position Total | D36: =D34*D35 -> 0 | E36: =E34*E35 -> 0 | F36: =F34*F35 -> 0 | G36: =G34*G35 -> 0 | H36: =H34*H35 -> 0 | I36: =SUM(D36:H36) -> 0
C37: Requested Salary
C38: Fringe Rate %
C39: Fringe Benefits Position Total | D39: =D37*D38 -> 0 | E39: =E37*E38 -> 0 | F39: =F37*F38 -> 0 | G39: =G37*G38 -> 0 | H39: =H37*H38 -> 0 | I39: =SUM(D39:H39) -> 0
C40: Requested Salary
C41: Fringe Rate %
C42: Fringe Benefits Position Total | D42: =D40*D41 -> 0 | E42: =E40*E41 -> 0 | F42: =F40*F41 -> 0 | G42: =G40*G41 -> 0 | H42: =H40*H41 -> 0 | I42: =SUM(D42:H42) -> 0
...

Sheet C - Equipment
A1: C. Equipment | G1: Return to | H1: Budget Justification Summary
A3: 1. Equipment means tangible personal property (including information technology systems) having a useful life of more than one year and a per-unit acquisition cost which equals or exceeds the lesser of the capitalization level established by the non-Federal entity for financial statement purposes, or $5,000. Please refer to the applicable Federal regulations in 2 CFR 200 for specific equipment definitions and treatment. 2. List all equipment below, providing a basis of cost (e.g. vendor quotes, catalog prices, prior invoices, etc.). Briefly justify items as they apply to the Statement of Project Objectives. If it is existing equipment, provide logical support for the estimated value shown. 3. During award negotiations, provide a vendor quote for all equipment items. If the vendor quote is not an exact price match, provide an explanation in the additional explanation section below. If a vendor quote is not practical, such as for a piece of equipment that is purpose-built, first of its kind, or otherwise not available off the shelf, provide a detailed engineering estimate for how the cost estimate was derived.
A4: Scroll down to complete additional budget periods. If additional paper is needed to justify, please attach a separate sheet of paper. If purchasing you are required to provide Vendor/Source, Basis of Estimate and Date of Estimate (attach vendor quote)_
A5: Budget Period 1
A6: Item # (copy of quotes should correspond to Item no.) | B6: Equipment Item Description | C6: Budget Justification Narrative Purpose/Justification Explain the necessity of the equipment to the project | D6: Qty | E6: Unit Cost | F6: Total Cost | G6: Vendor/Source | H6: Basis of Estimate (Purchase Order, quote, Engineering Est, Catalog Price, Invoice, etc.) | I6: Date of Estimate
F7: =D7*E7 -> 0
F8: =D8*E8 -> 0
F9: =D9*E9 -> 0
F10: =D10*E10 -> 0
F11: =D11*E11 -> 0
F12: =D12*E12 -> 0
F13: =D13*E13 -> 0
F14: =D14*E14 -> 0
F15: =D15*E15 -> 0
F16: =D16*E16 -> 0
F17: =D17*E17 -> 0
F18: =D18*E18 -> 0
... F27: =D27*E27 -> 0
A28: Budget Period 1 Total | F28: =SUM(Table1[Total Cost]) -> 0
A29: Budget Period 2
A30: Item # (copy of quotes should correspond to Item no.) | B30: Equipment Item Description | C30: Budget Justification Narrative Purpose/Justification Explain the necessity of the equipment to the project | D30: Qty | E30: Unit Cost | F30: Total Cost | G30: Vendor/Source | H30: Basis of Estimate (Purchase Order, quote, Engineering Est, Catalog Price, Invoice, etc.) | I30: Date of Estimate
F31: =D31*E31 -> 0
F32: =D32*E32 -> 0
F33: =D33*E33 -> 0
F34: =D34*E34 -> 0
F35: =D35*E35 -> 0
F36: =D36*E36 -> 0
F37: =D37*E37 -> 0
F38: =D38*E38 -> 0
F39: =D39*E39 -> 0
F40: =D40*E40 -> 0
F41: =D41*E41 -> 0
F42: =D42*E42 -> 0
... F61: =D61*E61 -> 0
A62: Budget Period 2 Total | F62: =SUM(Table14[Total Cost]) -> 0
A63: Budget Period 3
A64: Item # (copy of quotes should correspond to Item no.) | B64: Equipment Item Description | C64: Budget Justification Narrative Purpose/Justification Explain the necessity of the equipment to the project | D64: Qty | E64: Unit Cost | F64: Total Cost | G64: Vendor/Source | H64: Basis of Estimate (Purchase Order, quote, Engineering Est, Catalog Price, Invoice, etc.) | I64: Date of Estimate
F65: =D65*E65 -> 0
F66: =D66*E66 -> 0
F67: =D67*E67 -> 0
...

Sheet D - Travel
A1: D. Travel
J2: Return to | K2: Budget Justification Summary
A3: a. Identify Foreign and Domestic Travel as separate items.
A4: b. All listed travel must be necessary for performance of the Statement of Project Objectives.
A5: c. Federal travel regulations are contained within the applicable cost principles for all entity types. Travel costs should remain consistent with travel costs incurred by an organization during normal business operations as a result of the organizations written travel policy. In absence of a written travel policy (to be provided upon selection), organizations must follow the regulations prescribed by the General Services Administration.
A6: d. Notes:
A7: (1) All applicants should provide a compelling program purpose for each proposed trip that justifies personnel traveling and need for the trip and why the proposed number of travelers is appropriate. All proposed foreign travel must be sufficiently justified. After award of Grant or Cooperative Agreement, foreign travel that has not been approved with the award, must be authorized by the Program Office and Contracting Officer prior to travel.
A8: (2) Both airline fares and hotel rates could be seasonal and may vary. Applicants should estimate projected travel dates prior to estimating airline fare and daily lodging rates.
A9: (3) Per Diem times no. of days, times no. of travelers, times no. of trips. For long term travel assignments, estimate as appropriate and provide details of rates used.
A10: (4) Lodging times no. of nights, times no. of travelers, times no. of trips. For long term lodging estimate apartment rental, as appropriate. Provide details of rates used.
A11: (5) Car rental rate times no. of cars, times no. of days, times no. of trips. Appropriate sharing of transportation should be considered.
A12: (6) Misc. costs might include lodging taxes, ground transportation, conference fees, etc. Please specify below or on a separate sheet.
A13: (7) First day and last day of travel are charged at 75 percent only.
A14: e. Provide the Internet address to your institution's travel policy below:
... A17: Budget Period 1
A18: Budget Justification Narrative Purpose of Trip (1) Explain the need for travel (how it will benefit the project’s aims) | B18: Destination | D18: Projected Travel Dates (2) | F18: No. of Trips | G18: No. Travelers | H18: No. Days | I18: Round trip Airline Fare | J18: Per Diem Meals (3) | K18: Per Diem Lodging (4) | L18: Car Rental (5) | M18: Misc. (6)* | N18: Total
B19: From: | D19: From: | N19: =SUM(I19:M20) -> 0
B20: To: | D20: To:
B21: From: | D21: From: | N21: =SUM(I21:M22) -> 0
B22: To: | D22: To:
B23: From: | D23: From: | N23: =SUM(I23:M24) -> 0
B24: To: | D24: To:
B25: From: | D25: From: | N25: =SUM(I25:M26) -> 0
B26: To: | D26: To:
B27: From: | D27: From: | N27: =SUM(I27:M28) -> 0
B28: To: | D28: To:
B29: From: | D29: From: | N29: =SUM(I29:M30) -> 0
B30: To: | D30: To:
B31: From: | D31: From: | N31: =SUM(I31:M32) -> 0
B32: To: | D32: To:
B33: From: | D33: From: | N33: =SUM(I33:M34) -> 0
B34: To: | D34: To:
B35: From: | D35: From: | N35: =SUM(I35:M36) -> 0
B36: To: | D36: To:
A37: Budget Period 1 Total | N37: =SUM(N19:N36) -> 0
A38: *Misc Costs (explain below): Use extra paper to add greater justification (Note: 1st and last day of travel at are a cost of 75% only)
A40: Budget Period 2
A41: Budget Justification Narrative Purpose of Trip (1) Explain the need for travel (how it will benefit the project’s aims) | B41: Destination | D41: Projected Travel Dates (2) | F41: No. of Trips | G41: No. Travelers | H41: No. Days | I41: Round trip Airline Fare | J41: Per Diem Meals (3) | K41: Per Diem Lodging (4) | L41: Car Rental (5) | M41: Misc. (6)* | N41: Total
B42: From: | D42: From: | N42: =SUM(I42:M43) -> 0
B43: To: | D43: To:
...

Sheet E - Participant Support
A1: E. Participant/Trainee Support Costs
A3: Trainee costs listed are those intended to support trainees in educational projects. Costs may include stipends, tuition & fees, travel and related training expenses. Participant costs listed are those costs associated with conferences, workshops or symposia. Justification should include the number of participants, cost for each participant, purpose of conference/workshop /symposia, dates and places of meetings and any related administrative expenses
A5: TUITION/FEES/HEALTH INSURANE
A6: Type of Student | B6: Type of Cost (Tuition/Fees/ Health Insurance) | D6: # of Participants | E6: Base $ | F6: Budget Period 1 Cost | G6: Budget Period 2 Cost | H6: Budget Period 3 Cost | I6: Budget Period 4 Cost | J6: Budget Period 5 Cost | K6: Total Costs
K7: =SUM(F7:J7) -> 0
K8: =SUM(F8:J8) -> 0
K9: =SUM(F9:J9) -> 0
K10: =SUM(F10:J10) -> 0
K11: =SUM(F11:J11) -> 0
K12: =SUM(F12:J12) -> 0
K13: =SUM(F13:J13) -> 0
K14: =SUM(F14:J14) -> 0
K15: =SUM(F15:J15) -> 0
K16: =SUM(F16:J16) -> 0
A17: Totals: | F17: =SUM(F7:F16) -> 0 | G17: =SUM(G7:G16) -> 0 | H17: =SUM(H7:H16) -> 0 | I17: =SUM(I7:I16) -> 0 | J17: =SUM(J7:J16) -> 0 | K17: =SUM(F17:J17) -> 0
A18: Tuition/Fees/Health Insurance: Tuition and Fees for students participating on this project. Identify if student tuition and fees are for in-state or out-of-state students and what those tuition and fees are per student and how they are calculated (the table below may be used to depict these costs and calculations). Note: Tuition & fees reimbursement for individuals listed in Section B. Other Personnel should not be included in this section. Such costs should be listed in Section F Other Direct Costs.
A20: STIPENDS (IDENTIFY ANY STIPENDS AND PROVIDE THE BASIS FOR THESE COSTS)
A21: Type of Student | B21: Basis for Calculation | D21: # of Participants | E21: Stipend Base $ | F21: Budget Period 1 Cost | G21: Budget Period 2 Cost | H21: Budget Period 3 Cost | I21: Budget Period 4 Cost | J21: Budget Period 5 Cost | K21: Total Costs
K22: =SUM(F22:J22) -> 0
K23: =SUM(F23:J23) -> 0
K24: =SUM(F24:J24) -> 0
K25: =SUM(F25:J25) -> 0
K26: =SUM(F26:J26) -> 0
K27: =SUM(F27:J27) -> 0
K28: =SUM(F28:J28) -> 0
K29: =SUM(F29:J29) -> 0
K30: =SUM(F30:J30) -> 0
K31: =SUM(F31:J31) -> 0
A32: Totals: | F32: =SUM(F22:F31) -> 0 | G32: =SUM(G22:G31) -> 0 | H32: =SUM(H22:H31) -> 0 | I32: =SUM(I22:I31) -> 0 | J32: =SUM(J22:J31) -> 0 | K32: =SUM(F32:J32) -> 0
A34: TRAVEL: Provide the travel information and totals for participant travel below.
A35: Type of Student | B35: Purpose (including location) | D35: # of Participants | E35: Cost per Student | F35: Budget Period 1 Cost | G35: Budget Period 2 Cost | H35: Budget Period 3 Cost | I35: Budget Period 4 Cost | J35: Budget Period 5 Cost | K35: Total Costs
K36: =SUM(F36:J36) -> 0
K37: =SUM(F37:J37) -> 0
K38: =SUM(F38:J38) -> 0
K39: =SUM(F39:J39) -> 0
K40: =SUM(F40:J40) -> 0
K41: =SUM(F41:J41) -> 0
K42: =SUM(F42:J42) -> 0
K43: =SUM(F43:J43) -> 0
K44: =SUM(F44:J44) -> 0
...

Sheet F1 - Materials and Supplies
A1: F1 - Materials and Supplies
A3: INSTRUCTIONS - PLEASE READ!!! 1. Supplies are generally defined as an item with an acquisition cost of $5,000 or less and a useful life expectancy of less than one year. Supplies are generally consumed during the project performance. Please refer to the applicable Federal regulations in 2 CFR 200 for specific supplies definitions and treatment. A computing device is a supply if the acquisition cost is less than the lesser of the capitalization level established by the non-Federal entity for financial statement purposes or $5,000, regardless of the length of its useful life. 2. List all proposed supplies by budget period below (scroll down), providing a basis of costs (e.g. vendor quotes, catalog prices, prior invoices, etc.). Briefly justify the need for the Supplies as they apply to the Statement of Project Objectives. Note that Supply items must be direct costs to the project at this budget category, and not duplicative of supply costs included in the indirect pool that is the basis of the indirect rate applied for this project. 3. Multiple supply items valued at $5,000 or less used to assemble an equipment item with a value greater than $5,000 with a useful life of more than one year should be included on the equipment tab. If supply items and costs are ambiguous in nature, contact your DOE representative for proper categorization. NOTE: Source documents (vendor quote, quote from internet market research) must be provided if the cumulative grand total of funds requested for all materials and supplies exceeds $3,000 (NOTE: This is not per item). ALL columns highlighted in yellow must be filled-in and are critical. These will be returned if not filled in. For each item identified: • the quotes provided must match the items, unit price, quantities, and total item costs identified on the M&S list. • no price lists or catalog of costs which will require the reviewer to search for the item cost will be accepted. Scroll down to complete the M&S list for each year. Add more rows in each year if more materials/supplies needed.
A4: BUDGET PERIOD 1
A5: Item | B5: Vendor | C5: Source (vendor quote, quote from internet market research) *Attach copy of source information with package | D5: Budget Justification Narrative Justification of need for the Supplies as they apply to the Statement of Project Objectives | E5: Unit Price | F5: Quantity | G5: Total Item Cost
G6: =E6*F6 -> 0
G7: =E7*F7 -> 0
G8: =E8*F8 -> 0
G9: =E9*F9 -> 0
G10: =E10*F10 -> 0
G11: =E11*F11 -> 0
G12: =E12*F12 -> 0
G13: =E13*F13 -> 0
G14: =E14*F14 -> 0
G15: =E15*F15 -> 0
G16: =E16*F16 -> 0
G17: =E17*F17 -> 0
... G48: =E48*F48 -> 0
A49: Budget Period 1 Total | G49: =SUM(G6:G48) -> 0
A50: BUDGET PERIOD 2
A51: Item | B51: Vendor | C51: Source (vendor quote, quote from internet market research) *Attach copy of source information with package | D51: Budget Justification Narrative Justification of need for the Supplies as they apply to the Statement of Project Objectives | E51: Unit Price | F51: Quantity | G51: Total Item Cost
F52: 30 | G52: =E52*F52 -> 0
G53: =E53*F53 -> 0
G54: =E54*F54 -> 0
G55: =E55*F55 -> 0
G56: =E56*F56 -> 0
G57: =E57*F57 -> 0
G58: =E58*F58 -> 0
G59: =E59*F59 -> 0
G60: =E60*F60 -> 0
G61: =E61*F61 -> 0
G62: =E62*F62 -> 0
G63: =E63*F63 -> 0
G64: =E64*F64 -> 0
... G112: =E112*F112 -> 0
A113: Budget Period 2 Total | G113: =SUM(G52:G112) -> 0
A114: BUDGET PERIOD 3
A115: Item | B115: Vendor | C115: Source (vendor quote, quote from internet market research) *Attach copy of source information with package | D115: Budget Justification Narrative Justification of need for the Supplies as they apply to the Statement of Project Objectives | E115: Unit Price | F115: Quantity | G115: Total Item Cost
G116: =E116*F116 -> 0
G117: =E117*F117 -> 0
G118: =E118*F118 -> 0
...

Sheet F2 - Publication Costs
A1: F2. Publication Costs
A2: Provide publication funds requested for costs of documenting, preparing, publishing or otherwise making available to others the findings and products of the work conducted under the award for each year. For total purchases of Publication Costs where the aggregate total is $3,000 or more, source documentation such as quotations must be provided. Also, provide a justification of need for the proposed costs below and a website where the costs can be verified. Expand cells as needed.
A4: Name/Type of Publication | B4: Budget Justification Narrative Explain the necessity of the publications to the project | C4: Unit Cost | D4: Number of Publications | E4: Budget Period 1 Costs | F4: Budget Period 2 Costs | G4: Budget Period 3 Costs | H4: Budget Period 4 Costs | I4: Budget Period 5 Costs
A15: Totals: | E15: =SUM(E5:E14) -> 0 | F15: =SUM(F5:F14) -> 0 | G15: =SUM(G5:G14) -> 0 | H15: =SUM(H5:H14) -> 0 | I15: =SUM(I5:I14) -> 0
A17: Return to | B17: Budget Justification Summary

Sheet F3 - Consultant Costs
A1: F3 - Consultant costs
A3: Enter costs of professional and consultant services rendered by persons who are members of a particular profession or possess a special skill, and who are not officers or employees of the non-Federal entity. Identify the following items as applicable: • each consultant, the services he/she will perform, total number of days, travel costs, and the total estimated costs; • the names and organizational affiliations of all consultants, other than those involved in consortium/contractual arrangements; and • consultant service persons who are confirmed to serve on external monitoring boards or advisory committees to the project. Describe the services to be performed. Provide a copy of Consultant Agreement which includes a signed letter from the consultant confirming the agreement to perform the labor proposed in the budget, at the compensation rate listed, and verification that this rate is consistent with, or more favorable than, recent billings for similar work. Resize rows as needed.
A5: Vendor Name/Organization | B5: Budget Justification Narrative Explain the purpose of the consultant services and the necessity of the consultant services for the project | C5: Budget Period 1 Costs | D5: Budget Period 2 Costs | E5: Budget Period 3 Costs | F5: Budget Period 4 Costs | G5: Budget Period 5 Costs
A15: Totals | C15: =SUM(C6:C14) -> 0 | D15: =SUM(D6:D14) -> 0 | E15: =SUM(E6:E14) -> 0 | F15: =SUM(F6:F14) -> 0 | G15: =SUM(G6:G14) -> 0
A17: Return to | B17: Budget Justification Summary

Sheet F4 - ADP-Computer Serv Costs
A1: F4. ADP/Computer Services Costs
A3: Provide the type of proposed ADP/Computer services (including computer-based retrieval of scientific, technical and education information), a justification of need for the proposed costs, and costs per year below. Also provide a copy of maintenance or lease agreements that includes the established computer service rates at the proposing organization if applicable or a website where the ADP/Computer Services costs can be verified. Expand cells as needed.
A4: ADP/COMPUTER SERVICES COST
A5: Type of ADP/Computer Services | B5: Budget Justification Narrative Explain the necessity of the ADP/Computer services for the project | C5: Budget Period 1 Costs | D5: Budget Period 2 Costs | E5: Budget Period 3 Costs | F5: Budget Period 4 Costs | G5: Budget Period 5 Costs
A16: Totals: | C16: =SUM(C6:C15) -> 0 | D16: =SUM(D6:D15) -> 0 | E16: =SUM(E6:E15) -> 0 | F16: =SUM(F6:F15) -> 0 | G16: =SUM(G6:G15) -> 0
A18: Return to | B18: Budget Justification Summary

Sheet F5 - Subawrd Consort Cont Costs
D1: Return to | E1: Budget Justification Summary
A2: F5. Subaward/Consortium Costs
A4: For each consortium member/subawardee with total project costs of $100,000 or more, a separate budget form and justification must be submitted. The budget totals on the subawardee's application and budget forms must match the entries below.
A6: Subward/Consortium Costs
A7: Consortium Member/Subawardee | B7: Point of Contact (PI Name) | C7: Budget Period 1 Costs | D7: Budget Period 2 Costs | E7: Budget Period 3 Costs | F7: Budget Period 4 Costs | G7: Budget Period 5 Costs
A22: Totals: | C22: =SUM(C8:C21) -> 0 | D22: =SUM(D8:D21) -> 0 | E22: =SUM(E8:E21) -> 0 | F22: =SUM(F8:F21) -> 0 | G22: =SUM(G8:G21) -> 0
A24: Contractual Costs
A25: If a contract is needed to purchase property or services to carry out the project or program under this federal award, enter the costs below. Under the Uniform Guidance (2 C.F.R. §200), an organization is considered a contractor (vendor) when it: 1.Provides goods and services within normal business operations; 2.Provides similar goods and services to many different purchasers; 3.Operates in a competitive environment; 4.Provides goods or services that are ancillary to the operation of the Federal program; and 5.Is not subject to compliance requirements of the Federal program. Provide information such as if the contract will be awarded on a sole source or a competitive basis. Also include the contractor agreement to provide goods or services. Include your justification as to why the price or cost is fair & reasonable and that proposed costs are allowable Resize the rows as needed.
A26: Contractual Costs
A27: Vendor Name/Organization | B27: Budget Justification Narrative Service to be performed, Purpose/Need and Basis of Cost | C27: Budget Period 1 Costs | D27: Budget Period 2 Costs | E27: Budget Period 3 Costs | F27: Budget Period 4 Costs | G27: Budget Period 5 Costs
A36: Totals | C36: =SUM(C28:C35) -> 0 | D36: =SUM(D28:D35) -> 0 | E36: =SUM(E28:E35) -> 0 | F36: =SUM(F28:F35) -> 0 | G36: =SUM(G28:G35) -> 0

Sheet F6 - Equip or Fac Rent-User Fee
A1: F6. Equipment or Facility Rental User Fees Costs
A3: Provide the type of proposed Equipment or Facility Rental/User Fees, an explanation of the proposed costs, and costs by year below. Also, provide a copy of rental/user fee agreements if applicable or a website where the Equipment or Facility Rental/User Fees costs can be verified. Expand cells as needed.
A5: Type of Equipment or Facility | B5: Budget Justification Narrative Explain the necessity of the Equipment or Facility Rental User Fees costs for the project | C5: Budget Period 1 Costs | D5: Budget Period 2 Costs | E5: Budget Period 3 Costs | F5: Budget Period 4 Costs | G5: Budget Period 5 Costs
A16: Totals: | C16: =SUM(C6:C15) -> 0 | D16: =SUM(D6:D15) -> 0 | E16: =SUM(E6:E15) -> 0 | F16: =SUM(F6:F15) -> 0 | G16: =SUM(G6:G15) -> 0
A18: Return to | B18: Budget Justification Summary

Sheet F7 - Alterations & Renovations
A1: F7. Alteration and Renovation Costs
A3: Provide a description of the alterations and renovation costs (including repairs, painting, removal or installation of partitions, shielding, or air conditioning, and applicable square footage and costs) by year and explain how they will benefit the project. Provide supporting documentation and quotes. Expand cells as needed.
A5: Alteration/Renovation Description | B5: Budget Justification Narrative Explain the necessity of the Alteration and Renovation costs for the project | C5: Budget Period 1 Costs | D5: Budget Period 2 Costs | E5: Budget Period 3 Costs | F5: Budget Period 4 Costs | G5: Budget Period 5 Costs
A16: Totals: | C16: =SUM(C6:C15) -> 0 | D16: =SUM(D6:D15) -> 0 | E16: =SUM(E6:E15) -> 0 | F16: =SUM(F6:F15) -> 0 | G16: =SUM(G6:G15) -> 0
A18: Return to | B18: Budget Justification Summary

Sheet F8 - Tuition & Fees Remission
A1: F8. Tuition Fees & Remission Costs
A3: Provide number of students, graduate or undergraduate, and full or part time per year will be funded. Also provide web site reference to institution policy regarding tuition costs that reflects amounts and/or percentages of tuition costs that will be charged to the Government. All Yellow Highlight Must be filled-in.
A5: Number of Students | B5: Student Type | C5: Full/Part-time | D5: Website reference to institutional policy reflecting tuition costs | F5: Budget Period 1 Costs | G5: Budget Period 2 Costs | H5: Budget Period 3 Costs | I5: Budget Period 4 Costs | J5: Budget Period 5 Costs
A16: Totals: | F16: =SUM(F6:F15) -> 0 | G16: =SUM(G6:G15) -> 0 | H16: =SUM(H6:H15) -> 0 | I16: =SUM(I6:I15) -> 0 | J16: =SUM(J6:J15) -> 0
A18: Return to | D18: Budget Justification Summary

Sheet F9 - Other
A1: F9. Other Costs
A3: Provide a description of Other costs by year and explain how they will benefit the project. Provide supporting documentation and quotes. Expand cells as needed. All Yellow Highligted Rows/Columns Must be Filled-in.
A5: Other Costs
A6: Description | B6: Budget Justification Narrative Explain the necessity of Other Costs for the project | C6: Budget Period 1 Costs | D6: Budget Period 2 Costs | E6: Budget Period 3 Costs | F6: Budget Period 4 Costs | G6: Budget Period 5 Costs
A17: Totals: | C17: =SUM(C7:C16) -> 0 | D17: =SUM(D7:D16) -> 0 | E17: =SUM(E7:E16) -> 0 | F17: =SUM(F7:F16) -> 0 | G17: =SUM(G7:G16) -> 0
A19: Return to | B19: Budget Justification Summary

Sheet F10 - Other
A1: F10. Other Costs
A3: Provide a description of Other costs by year and explain how they will benefit the project. Provide supporting documentation and quotes. Expand cells as needed. All Yellow Highligted Rows/Columns Must be Filled-in, provided costs are included.
A5: Description | B5: Budget Justification Narrative Explain the necessity of Other Costs for the project | C5: Budget Period 1 Costs | D5: Budget Period 2 Costs | E5: Budget Period 3 Costs | F5: Budget Period 4 Costs | G5: Budget Period 5 Costs
A16: Totals: | C16: =SUM(C6:C15) -> 0 | D16: =SUM(D6:D15) -> 0 | E16: =SUM(E6:E15) -> 0 | F16: =SUM(F6:F15) -> 0 | G16: =SUM(G6:G15) -> 0
A18: Return to | B18: Budget Justification Summary

Sheet G - Indirect Costs
A1: G. Indirect Costs
A3: Except as otherwise provided, all project grants and cooperative agreements awarded by the Department shall include funds for the amount of indirect costs applicable to the awards, based on the Federally Negotiated Indirect Cost Rate in effect for the recipient at the time of the award. All Yellow Highlighted Rows/Columns Must be Filled-in, provided costs are included. Attach a copy of the Negotiated Indirect Cost Rate Agreement
A5: INDIRECT COSTS
A6: Year | B6: Indirect Cost Type Enter the type of indirect cost (e.g., Salary & Wages, Modified Total Direct Costs, etc.) and whether the cost is off-site. | C6: Indirect Cost Rate (%) | D6: Indirect Cost Base ($) | E6: Total
A7: Year 1 | E7: =C7*D7 -> 0
A8: Year 2 | E8: =C8*D8 -> 0
A9: Year 3 | E9: =C9*D9 -> 0
A10: Year 4 | E10: =C10*D10 -> 0
A11: Year 5 | E11: =C11*D11 -> 0
A12: TOTAL | E12: =SUM(E7:E11) -> 0
A14: Return to | B14: Budget Justification Summary
