Workbook

Sheet State submission
B2: Box 1: Claimant Summary - [INSTERT STATE/TERRITORY NAME] | C2: Number of eligible claimants (actual or estimated) | D2: Total benefit ($400/claimant) | E2: Federal Share ($300/claimant) | F2: Non-Federal Share ($100/claimant)
B3: Week ending 8/1/20
B4: Regular Unemployment | D4: =C4*400 -> 0 | E4: =C4*300 -> 0 | F4: =C4*100 -> 0
B5: Unemployment Compensation for Federal Employees (UCFE) | D5: =C5*400 -> 0 | E5: =C5*300 -> 0 | F5: =C5*100 -> 0
B6: Unemployment Compensation for Ex-Service members (UCX) | D6: =C6*400 -> 0 | E6: =C6*300 -> 0 | F6: =C6*100 -> 0
B7: Pandemic Emergency Unemployment Compensation | D7: =C7*400 -> 0 | E7: =C7*300 -> 0 | F7: =C7*100 -> 0
B8: Pandemic Unemployment Assistance | D8: =C8*400 -> 0 | E8: =C8*300 -> 0 | F8: =C8*100 -> 0
B9: Extended Benefits | D9: =C9*400 -> 0 | E9: =C9*300 -> 0 | F9: =C9*100 -> 0
B10: Short-Time Compensation | D10: =C10*400 -> 0 | E10: =C10*300 -> 0 | F10: =C10*100 -> 0
B11: Trade Readjustment Allowance | D11: =C11*400 -> 0 | E11: =C11*300 -> 0 | F11: =C11*100 -> 0
B12: Payments under the Self-Employment Assistance program | D12: =C12*400 -> 0 | E12: =C12*300 -> 0 | F12: =C12*100 -> 0
B13: SUBTOTAL | C13: =SUM(C4:C12) -> 0 | D13: =C13*400 -> 0 | E13: =C13*300 -> 0 | F13: =C13*100 -> 0
B14: Week ending 8/8/20
B15: Regular Unemployment | D15: =C15*400 -> 0 | E15: =C15*300 -> 0 | F15: =C15*100 -> 0
B16: Unemployment Compensation for Federal Employees (UCFE) | D16: =C16*400 -> 0 | E16: =C16*300 -> 0 | F16: =C16*100 -> 0
B17: Unemployment Compensation for Ex-Service members (UCX) | D17: =C17*400 -> 0 | E17: =C17*300 -> 0 | F17: =C17*100 -> 0
B18: Pandemic Emergency Unemployment Compensation | D18: =C18*400 -> 0 | E18: =C18*300 -> 0 | F18: =C18*100 -> 0
B19: Pandemic Unemployment Assistance | D19: =C19*400 -> 0 | E19: =C19*300 -> 0 | F19: =C19*100 -> 0
B20: Extended Benefits | D20: =C20*400 -> 0 | E20: =C20*300 -> 0 | F20: =C20*100 -> 0
B21: Short-Time Compensation | D21: =C21*400 -> 0 | E21: =C21*300 -> 0 | F21: =C21*100 -> 0
B22: Trade Readjustment Allowance | D22: =C22*400 -> 0 | E22: =C22*300 -> 0 | F22: =C22*100 -> 0
B23: Payments under the Self-Employment Assistance program | D23: =C23*400 -> 0 | E23: =C23*300 -> 0 | F23: =C23*100 -> 0
B24: SUBTOTAL | C24: =SUM(C15:C23) -> 0 | D24: =C24*400 -> 0 | E24: =C24*300 -> 0 | F24: =C24*100 -> 0
B25: Week ending 8/15/20
B26: Regular Unemployment | D26: =C26*400 -> 0 | E26: =C26*300 -> 0 | F26: =C26*100 -> 0
B27: Unemployment Compensation for Federal Employees (UCFE) | D27: =C27*400 -> 0 | E27: =C27*300 -> 0 | F27: =C27*100 -> 0
B28: Unemployment Compensation for Ex-Service members (UCX) | D28: =C28*400 -> 0 | E28: =C28*300 -> 0 | F28: =C28*100 -> 0
B29: Pandemic Emergency Unemployment Compensation | D29: =C29*400 -> 0 | E29: =C29*300 -> 0 | F29: =C29*100 -> 0
B30: Pandemic Unemployment Assistance | D30: =C30*400 -> 0 | E30: =C30*300 -> 0 | F30: =C30*100 -> 0
B31: Extended Benefits | D31: =C31*400 -> 0 | E31: =C31*300 -> 0 | F31: =C31*100 -> 0
B32: Short-Time Compensation | D32: =C32*400 -> 0 | E32: =C32*300 -> 0 | F32: =C32*100 -> 0
B33: Trade Readjustment Allowance | D33: =C33*400 -> 0 | E33: =C33*300 -> 0 | F33: =C33*100 -> 0
B34: Payments under the Self-Employment Assistance program | D34: =C34*400 -> 0 | E34: =C34*300 -> 0 | F34: =C34*100 -> 0
B35: SUBTOTAL | C35: =SUM(C26:C34) -> 0 | D35: =C35*400 -> 0 | E35: =C35*300 -> 0 | F35: =C35*100 -> 0
B36: TOTAL (3 weeks of Lost Wages benefit payments, fed-share) | C36: =SUM(C13+C24+C35) -> 0 | D36: =SUM(D13+D24+D35) -> 0 | E36: =SUM(E13+E24+E35) -> 0 | F36: =SUM(F13+F24+F35) -> 0
B38: Box 2: Administrative Costs Instructions to State/Territory: In the box to the right, enter the total estimated administrative costs associated with dispersing three weeks of Lost Wages Assistance benefit payments. The number should match the administrative costs on the SF-424A. (The Federal and Non-Federal Share will automatically calculate) | D38: Total Admin Costs (Fed + Non-Fed) | E38: Federal Share (75%) | F38: Non-Federal Share (25%)
E39: =D39*0.75 -> 0 | F39: =D39*0.25 -> 0

Sheet Calculations
B2: Award Calculations- [INSTERT STATE/TERRITORY NAME]
B4: Lost Wages Benefit Payments
D5: Total Benefits ($400/claimant) | E5: Federal Share ($300/claimant) | F5: Non-federal share ($100/claimant)
B6: Number of eligible claimants for week ending 8/1/20 | C6: ='State submission'!C13 -> 0 | D6: =C6*400 -> 0 | E6: =D6*0.75 -> 0 | F6: =D6*0.25 -> 0
B7: Number of eligible claimants for week ending 8/8/20 | C7: ='State submission'!C24 -> 0 | D7: =C7*400 -> 0 | E7: =D7*0.75 -> 0 | F7: =D7*0.25 -> 0
B8: Number of eligible claimants for week ending 8/15/20 | C8: ='State submission'!C35 -> 0 | D8: =C8*400 -> 0 | E8: =D8*0.75 -> 0 | F8: =D8*0.25 -> 0
B9: Lost Wages benefit payments subtotal | C9: =SUM(C6:C8) -> 0 | D9: =SUM(D6:D8) -> 0 | E9: =D9*0.75 -> 0 | F9: =D9*0.25 -> 0
B11: Lost Wages Administrative Costs | H11: Reviewer instructions for Admin Costs: 1) Confirm that the state/territory entered their admin costs, as reflected in the SF-424A, into "Box 2" of the "State submission" tab. 2) Compare the "FEMA-calculated administrative costs" to the "State-submitted administrative costs", and enter the lesser of the two amounts in the bright green box.
D12: Total Admin Costs | E12: Federal Share | F12: Non-federal share
B13: FEMA-calculated administrative costs | C13: 0.01 | D13: =D9*0.01 -> 0 | E13: =D13*0.75 -> 0 | F13: =D13*0.25 -> 0
B14: State-submitted administrative costs | C14: =D14/D9 -> #DIV/0! | D14: ='State submission'!D39 -> 0 | E14: =D14*0.75 -> 0 | F14: =D14*0.25 -> 0
B15: Lost Wages administrative costs (lesser of the two) | E15: =D15*0.75 -> 0 | F15: =D15*0.25 -> 0
B17: Total Award: Lost Wages Benefits + Administrative Costs
D18: Total Award (Benefits + Admin Costs) | E18: Federal Share | F18: Non-federal share
B19: Lost Wages benefit payments for 3-week period (weeks ending 8/1, 8/8, and 8/15) | D19: =D9 -> 0 | E19: =D19*0.75 -> 0 | F19: =D19*0.25 -> 0
B20: Lost Wages administrative costs (lesser of the two) | D20: =D15 -> 0 | E20: =D20*0.75 -> 0 | F20: =D20*0.25 -> 0
B21: TOTAL | D21: =SUM(D19:D20) -> 0 | E21: =D21*0.75 -> 0 | F21: =D21*0.25 -> 0

Sheet Table for Award Letter
B1: The table below is formatted so that it may be copied and pasted into the award letter template. All reviewers should double check that $$ figures copy and paste into the award letter accurately.
D4: Total
B5: Lost Wages Payments for the week ending 8/1/20 | D5: =Calculations!E6 -> 0
B6: Lost Wages Payments for the week ending 8/8/20 | D6: =Calculations!E7 -> 0
B7: Lost Wages Payments for the week ending 8/15/20 | D7: =Calculations!E8 -> 0
B8: Administrative Costs | D8: =Calculations!E15 -> 0
B9: Total | D9: =SUM(D5:E8) -> 0
