Workbook
Name _YR1: #REF!
Name _YR2: #REF!
Name Country: #REF!
Name Location: #REF!
Name Technical_Sector: #REF!
Name Unit: 'Formula Sheet'!$A$4:$A$10
Name Year1: #REF!

Sheet Summary
B1: Program Office: | C1: Education Office
B2: Country/Region: | C2: Lebanon
B3: Program Name: | C3: Higher Education Scholarships Phase Two (HES-II)
B4: Program Dates: | C4: May 2022 - May 2031
A7: Cost Category | C7: Year 1 | D7: Year 2 | E7: Year 3 | F7: Year 4 | G7: Year 5 | H7: Year 6 | I7: Year 7 | J7: Year 8 | K7: Year 9 | L7: Crisis Modifier | M7: TOTAL
A8: a. | B8: PERSONNEL | C8: =Detail!H27 -> 0 | D8: =Detail!L27 -> 0 | E8: =Detail!P27 -> 0 | F8: =Detail!T27 -> 0 | G8: =Detail!X27 -> 0 | H8: =Detail!AB27 -> 0 | I8: =Detail!AF27 -> 0 | J8: =Detail!AJ27 -> 0 | K8: =Detail!AN27 -> 0 | M8: =Detail!AV27 -> 0
A9: b. | B9: FRINGE BENEFITS | C9: =Detail!H33 -> 0 | D9: =Detail!L33 -> 0 | E9: =Detail!P33 -> 0 | F9: =Detail!T33 -> 0 | G9: =Detail!X33 -> 0 | H9: =Detail!AB33 -> 0 | I9: =Detail!AF33 -> 0 | J9: =Detail!AJ33 -> 0 | K9: =Detail!AN33 -> 0 | M9: =Detail!AV33 -> 0
A10: c. | B10: TRAVEL AND TRANSPORTATION | C10: =Detail!H39 -> 0 | D10: =Detail!L39 -> 0 | E10: =Detail!P39 -> 0 | F10: =Detail!T39 -> 0 | G10: =Detail!X39 -> 0 | H10: =Detail!AB39 -> 0 | I10: =Detail!AF39 -> 0 | J10: =Detail!AJ39 -> 0 | K10: =Detail!AN39 -> 0 | M10: =Detail!AV39 -> 0
A11: d. | B11: EQUIPMENT | C11: =Detail!H55 -> 0 | D11: =Detail!L55 -> 0 | E11: =Detail!P55 -> 0 | F11: =Detail!T55 -> 0 | G11: =Detail!X55 -> 0 | H11: =Detail!AB55 -> 0 | I11: =Detail!AF55 -> 0 | J11: =Detail!AJ55 -> 0 | K11: =Detail!AN55 -> 0 | M11: =Detail!AV55 -> 0
A12: e. | B12: CONTRACTUAL/SUBAWARD | C12: =Detail!H101 -> 0 | D12: =Detail!L101 -> 0 | E12: =Detail!P101 -> 0 | F12: =Detail!T101 -> 0 | G12: =Detail!X101 -> 0 | H12: =Detail!AB101 -> 0 | I12: =Detail!AF101 -> 0 | J12: =Detail!AJ101 -> 0 | K12: =Detail!AN101 -> 0 | M12: =Detail!AV101 -> 0
A13: f. | B13: OTHER DIRECT COSTS | C13: =Detail!H117 -> 0 | D13: =Detail!L117 -> 0 | E13: =Detail!P117 -> 0 | F13: =Detail!T117 -> 0 | G13: =Detail!X117 -> 0 | H13: =Detail!AB117 -> 0 | I13: =Detail!AF117 -> 0 | J13: =Detail!AJ117 -> 0 | K13: =Detail!AN117 -> 0 | M13: =Detail!AV117 -> 0
A14: g. | B14: TOTAL DIRECT COSTS | C14: =SUM(C8:C13) -> 0 | D14: =SUM(D8:D13) -> 0 | E14: =SUM(E8:E13) -> 0 | F14: =SUM(F8:F13) -> 0 | G14: =SUM(G8:G13) -> 0 | H14: =SUM(H8:H13) -> 0 | I14: =SUM(I8:I13) -> 0 | J14: =SUM(J8:J13) -> 0 | ... M14: =SUM(M8:M13) -> 0
A15: h. | B15: INDIRECT COSTS | C15: =Detail!H128 -> 0 | D15: =Detail!L128 -> 0 | E15: =Detail!P128 -> 0 | F15: =Detail!T128 -> 0 | G15: =Detail!X128 -> 0 | H15: =Detail!AB128 -> 0 | I15: =Detail!AF128 -> 0 | J15: =Detail!AJ128 -> 0 | K15: =Detail!AN128 -> 0 | M15: =Detail!AV128 -> 0
A16: i. | B16: COST SHARING | C16: =Detail!H130 -> 0 | D16: =Detail!L130 -> 0 | E16: =Detail!P130 -> 0 | F16: =Detail!T130 -> 0 | G16: =Detail!X130 -> 0 | H16: =Detail!AB130 -> 0 | I16: =Detail!AF130 -> 0 | J16: =Detail!AJ130 -> 0 | K16: =Detail!AN130 -> 0 | M16: =Detail!AV130 -> 0
A17: j. | B17: TOTAL COSTS | C17: =SUM(C14:C16) -> 0 | D17: =SUM(D14:D16) -> 0 | E17: =SUM(E14:E16) -> 0 | F17: =SUM(F14:F16) -> 0 | G17: =SUM(G14:G16) -> 0 | H17: =SUM(H14:H16) -> 0 | I17: =SUM(I14:I16) -> 0 | J17: =SUM(J14:J16) -> 0 | K17: =SUM(K14:K16) -> 0 | L17: 200000 | M17: =SUM(C17:K17) -> 0
C20: =IF(C17=Detail!H132," ","Doesn't Tie to Detail Sheet")

Sheet Detail
E1: Program Office:
E2: Country/Region:
E3: Program Name:
E4: Program Dates:
E7: Year 1 | I7: Year 2 | M7: Year 3 | Q7: Year 4 | U7: Year 5 | Y7: Year 6 | AC7: Year 7 | AG7: Year 8 | AK7: Year 9 | AO7: Crisis Modifier | AS7: TOTAL
E8: <Dates> | I8: <Dates> | M8: <Dates> | Q8: <Dates> | U8: <Dates> | Y8: <Dates> | AC8: <Dates> | AG8: <Dates> | AK8: <Dates> | AS8: <Dates>
A9: Description | C9: Obj. | D9: Out Come | E9: Unit | F9: No. of Units | G9: Unit Cost (USD) | H9: Year 1 Estimate | I9: Unit | J9: No. of Units | K9: Unit Cost (USD) | L9: Year 2 Estimate | M9: Unit | N9: No. of Units | O9: Unit Cost (USD) | P9: Year 3 Estimate | Q9: Unit | R9: No. of Units | S9: Unit Cost (USD) | T9: Year 4 Estimate | U9: Unit | V9: No. of Units | W9: Unit Cost (USD) | X9: Year 5 Estimate | Y9: Unit | Z9: No. of Units | AA9: Unit Cost (USD) | AB9: Year 6 Estimate | AC9: Unit | AD9: No. of Units | AE9: Unit Cost (USD) | AF9: Year 7 Estimate | AG9: Unit | AH9: No. of Units | AI9: Unit Cost (USD) | AJ9: Year 8 Estimate | AK9: Unit | AL9: No. of Units | AM9: Unit Cost (USD) | AN9: Year 9 Estimate | AO9: Unit | AP9: No. of Units | AQ9: Unit Cost (USD) | AR9: Crisis Modifier Estimate | AS9: Unit | AT9: No. of Units | AU9: Unit Cost (USD) | AV9: TOTAL Estimate
A11: PERSONNEL
A13: LOCAL IN-COUNTRY STAFF
A14: Program Staff
B15: Director | E15: Month | H15: =ROUND(F15*G15,0) -> 0 | I15: Month | L15: =ROUND(J15*K15,0) -> 0 | M15: Month | P15: =ROUND(N15*O15,0) -> 0 | Q15: Month | T15: =ROUND(R15*S15,0) -> 0 | U15: Month | X15: =ROUND(V15*W15,0) -> 0 | Y15: Month | AB15: =ROUND(Z15*AA15,0) -> 0 | AC15: Month | AF15: =ROUND(AD15*AE15,0) -> 0 | AG15: Month | AJ15: =ROUND(AH15*AI15,0) -> 0 | AK15: Month | AN15: =ROUND(AL15*AM15,0) -> 0 | AO15: Month | AR15: =ROUND(AP15*AQ15,0) -> 0 | AS15: Month | AV15: =ROUND(AT15*AU15,0) -> 0
B16: Cycle coordinator (one per cycle + one for refugees as per the Student Table) | E16: Month | H16: =ROUND(F16*G16,0) -> 0 | I16: Month | L16: =ROUND(J16*K16,0) -> 0 | M16: Month | P16: =ROUND(N16*O16,0) -> 0 | Q16: Month | T16: =ROUND(R16*S16,0) -> 0 | U16: Month | X16: =ROUND(V16*W16,0) -> 0 | Y16: Month | AB16: =ROUND(Z16*AA16,0) -> 0 | AC16: Month | AF16: =ROUND(AD16*AE16,0) -> 0 | AG16: Month | AJ16: =ROUND(AH16*AI16,0) -> 0 | AK16: Month | AN16: =ROUND(AL16*AM16,0) -> 0 | AO16: Month | AR16: =ROUND(AP16*AQ16,0) -> 0 | AS16: Month | AV16: =ROUND(AT16*AU16,0) -> 0
B17: M&E officer | E17: Month | H17: =ROUND(F17*G17,0) -> 0 | I17: Month | L17: =ROUND(J17*K17,0) -> 0 | M17: Month | P17: =ROUND(N17*O17,0) -> 0 | Q17: Month | T17: =ROUND(R17*S17,0) -> 0 | U17: Month | X17: =ROUND(V17*W17,0) -> 0 | Y17: Month | AB17: =ROUND(Z17*AA17,0) -> 0 | AC17: Month | AF17: =ROUND(AD17*AE17,0) -> 0 | AG17: Month | AJ17: =ROUND(AH17*AI17,0) -> 0 | AK17: Month | AN17: =ROUND(AL17*AM17,0) -> 0 | AO17: Month | AR17: =ROUND(AP17*AQ17,0) -> 0 | AS17: Month | AV17: =ROUND(AT17*AU17,0) -> 0
B18: Recruitment Director | E18: Month | H18: =ROUND(F18*G18,0) -> 0 | I18: Month | L18: =ROUND(J18*K18,0) -> 0 | M18: Month | P18: =ROUND(N18*O18,0) -> 0 | Q18: Month | T18: =ROUND(R18*S18,0) -> 0 | U18: Month | X18: =ROUND(V18*W18,0) -> 0 | Y18: Month | AB18: =ROUND(Z18*AA18,0) -> 0 | AC18: Month | AF18: =ROUND(AD18*AE18,0) -> 0 | AG18: Month | AJ18: =ROUND(AH18*AI18,0) -> 0 | AK18: Month | AN18: =ROUND(AL18*AM18,0) -> 0 | AO18: Month | AR18: =ROUND(AP18*AQ18,0) -> 0 | AS18: Month | AV18: =ROUND(AT18*AU18,0) -> 0
B19: Student mentors | E19: Month | H19: =ROUND(F19*G19,0) -> 0 | I19: Month | L19: =ROUND(J19*K19,0) -> 0 | M19: Month | P19: =ROUND(N19*O19,0) -> 0 | Q19: Month | T19: =ROUND(R19*S19,0) -> 0 | U19: Month | X19: =ROUND(V19*W19,0) -> 0 | Y19: Month | AB19: =ROUND(Z19*AA19,0) -> 0 | AC19: Month | AF19: =ROUND(AD19*AE19,0) -> 0 | AG19: Month | AJ19: =ROUND(AH19*AI19,0) -> 0 | AK19: Month | AN19: =ROUND(AL19*AM19,0) -> 0 | AO19: Month | AR19: =ROUND(AP19*AQ19,0) -> 0 | AS19: Month | AV19: =ROUND(AT19*AU19,0) -> 0
B20: Administrative assistant | E20: Month | H20: =ROUND(F20*G20,0) -> 0 | I20: Month | L20: =ROUND(J20*K20,0) -> 0 | M20: Month | P20: =ROUND(N20*O20,0) -> 0 | Q20: Month | T20: =ROUND(R20*S20,0) -> 0 | U20: Month | X20: =ROUND(V20*W20,0) -> 0 | Y20: Month | AB20: =ROUND(Z20*AA20,0) -> 0 | AC20: Month | AF20: =ROUND(AD20*AE20,0) -> 0 | AG20: Month | AJ20: =ROUND(AH20*AI20,0) -> 0 | AK20: Month | AN20: =ROUND(AL20*AM20,0) -> 0 | AO20: Month | AR20: =ROUND(AP20*AQ20,0) -> 0 | AS20: Month | AV20: =ROUND(AT20*AU20,0) -> 0
B21: Civic engagement officer | E21: Month | H21: =ROUND(F21*G21,0) -> 0 | I21: Month | L21: =ROUND(J21*K21,0) -> 0 | M21: Month | P21: =ROUND(N21*O21,0) -> 0 | Q21: Month | T21: =ROUND(R21*S21,0) -> 0 | U21: Month | X21: =ROUND(V21*W21,0) -> 0 | Y21: Month | AB21: =ROUND(Z21*AA21,0) -> 0 | AC21: Month | AF21: =ROUND(AD21*AE21,0) -> 0 | AG21: Month | AJ21: =ROUND(AH21*AI21,0) -> 0 | AK21: Month | AN21: =ROUND(AL21*AM21,0) -> 0 | AO21: Month | AR21: =ROUND(AP21*AQ21,0) -> 0 | AS21: Month | AV21: =ROUND(AT21*AU21,0) -> 0
B22: Career preparation officer | E22: Month | H22: =ROUND(F22*G22,0) -> 0 | I22: Month | L22: =ROUND(J22*K22,0) -> 0 | M22: Month | P22: =ROUND(N22*O22,0) -> 0 | Q22: Month | T22: =ROUND(R22*S22,0) -> 0 | U22: Month | X22: =ROUND(V22*W22,0) -> 0 | Y22: Month | AB22: =ROUND(Z22*AA22,0) -> 0 | AC22: Month | AF22: =ROUND(AD22*AE22,0) -> 0 | AG22: Month | AJ22: =ROUND(AH22*AI22,0) -> 0 | AK22: Month | AN22: =ROUND(AL22*AM22,0) -> 0 | AO22: Month | AR22: =ROUND(AP22*AQ22,0) -> 0 | AS22: Month | AV22: =ROUND(AT22*AU22,0) -> 0
B23: Finance support | E23: Month | H23: =ROUND(F23*G23,0) -> 0 | I23: Month | L23: =ROUND(J23*K23,0) -> 0 | M23: Month | P23: =ROUND(N23*O23,0) -> 0 | Q23: Month | T23: =ROUND(R23*S23,0) -> 0 | U23: Month | X23: =ROUND(V23*W23,0) -> 0 | Y23: Month | AB23: =ROUND(Z23*AA23,0) -> 0 | AC23: Month | AF23: =ROUND(AD23*AE23,0) -> 0 | AG23: Month | AJ23: =ROUND(AH23*AI23,0) -> 0 | AK23: Month | AN23: =ROUND(AL23*AM23,0) -> 0 | AO23: Month | AR23: =ROUND(AP23*AQ23,0) -> 0 | AS23: Month | AV23: =ROUND(AT23*AU23,0) -> 0
A25: SUBTOTAL NATIONAL STAFF | H25: =SUM(H15:H24) -> 0 | L25: =SUM(L15:L24) -> 0 | P25: =SUM(P15:P24) -> 0 | T25: =SUM(T15:T24) -> 0 | X25: =SUM(X15:X24) -> 0 | AB25: =SUM(AB15:AB24) -> 0 | AF25: =SUM(AF15:AF24) -> 0 | AJ25: =SUM(AJ15:AJ24) -> 0 | AN25: =SUM(AN15:AN24) -> 0 | AR25: =SUM(AR15:AR24) -> 0 | AV25: =SUM(AV15:AV24) -> 0
A27: TOTAL PERSONNEL | H27: =SUM(H25) -> 0 | L27: =SUM(L25) -> 0 | P27: =SUM(P25) -> 0 | T27: =SUM(T25) -> 0 | X27: =SUM(X25) -> 0 | AB27: =SUM(AB25) -> 0 | AF27: =SUM(AF25) -> 0 | AJ27: =SUM(AJ25) -> 0 | AN27: =SUM(AN25) -> 0 | AR27: =SUM(AR25) -> 0 | AV27: =SUM(AV25) -> 0
A29: FRINGE BENEFITS
B31: Benefits - Local Staff | E31: Percent | H31: =ROUND(F31*G31,0) -> 0 | I31: Percent | L31: =ROUND(J31*K31,0) -> 0 | M31: Percent | P31: =ROUND(N31*O31,0) -> 0 | Q31: Percent | T31: =ROUND(R31*S31,0) -> 0 | U31: Percent | X31: =ROUND(V31*W31,0) -> 0 | Y31: Percent | AB31: =ROUND(Z31*AA31,0) -> 0 | AC31: Percent | AF31: =ROUND(AD31*AE31,0) -> 0 | AG31: Percent | AJ31: =ROUND(AH31*AI31,0) -> 0 | AK31: Percent | AN31: =ROUND(AL31*AM31,0) -> 0 | AO31: Percent | AR31: =ROUND(AP31*AQ31,0) -> 0 | AS31: Percent | AV31: =ROUND(AT31*AU31,0) -> 0
A33: TOTAL FRINGE BENEFITS | H33: =SUM(H31:H32) -> 0 | L33: =SUM(L30:L32) -> 0 | P33: =SUM(P30:P32) -> 0 | T33: =SUM(T30:T32) -> 0 | X33: =SUM(X30:X32) -> 0 | AB33: =SUM(AB30:AB32) -> 0 | AF33: =SUM(AF30:AF32) -> 0 | AJ33: =SUM(AJ30:AJ32) -> 0 | AN33: =SUM(AN30:AN32) -> 0 | AR33: =SUM(AR30:AR32) -> 0 | AV33: =SUM(AV30:AV32) -> 0
A35: TRAVEL (SEE TRAVEL TABLE FOR ADDITIONAL INFO)
B37: Local & Domestic Travel | E37: Total | H37: =ROUND(F37*G37,0) -> 0 | I37: Total | L37: =ROUND(J37*K37,0) -> 0 | M37: Total | P37: =ROUND(N37*O37,0) -> 0 | Q37: Total | T37: =ROUND(R37*S37,0) -> 0 | U37: Total | X37: =ROUND(V37*W37,0) -> 0 | Y37: Total | AB37: =ROUND(Z37*AA37,0) -> 0 | AC37: Total | AF37: =ROUND(AD37*AE37,0) -> 0 | AG37: Total | AJ37: =ROUND(AH37*AI37,0) -> 0 | AK37: Total | AN37: =ROUND(AL37*AM37,0) -> 0 | AO37: Total | AR37: =ROUND(AP37*AQ37,0) -> 0 | AS37: Total | AV37: =ROUND(AT37*AU37,0) -> 0
A39: TOTAL TRAVEL AND TRANSPORTATION | H39: =SUM(H37:H38) -> 0 | L39: =SUM(L37:L38) -> 0 | P39: =SUM(P37:P38) -> 0 | T39: =SUM(T37:T38) -> 0 | X39: =SUM(X37:X38) -> 0 | AB39: =SUM(AB37:AB38) -> 0 | AF39: =SUM(AF37:AF38) -> 0 | AJ39: =SUM(AJ37:AJ38) -> 0 | AN39: =SUM(AN37:AN38) -> 0 | AR39: =SUM(AR37:AR38) -> 0 | AV39: =SUM(AV37:AV38) -> 0
A41: EQUIPMENT
A43: Vehicles (Restricted Item-Waivor Required)
B44: <Specific vehicle type/model> | H44: =ROUND(F44*G44,0) -> 0 | L44: =ROUND(J44*K44,0) -> 0 | P44: =ROUND(N44*O44,0) -> 0 | T44: =ROUND(R44*S44,0) -> 0 | X44: =ROUND(V44*W44,0) -> 0 | AB44: =ROUND(Z44*AA44,0) -> 0 | AF44: =ROUND(AD44*AE44,0) -> 0 | AJ44: =ROUND(AH44*AI44,0) -> 0 | AN44: =ROUND(AL44*AM44,0) -> 0 | AR44: =ROUND(AP44*AQ44,0) -> 0 | AV44: =ROUND(AT44*AU44,0) -> 0
B45: <Specific vehicle type/model> | H45: =ROUND(F45*G45,0) -> 0 | L45: =ROUND(J45*K45,0) -> 0 | P45: =ROUND(N45*O45,0) -> 0 | T45: =ROUND(R45*S45,0) -> 0 | X45: =ROUND(V45*W45,0) -> 0 | AB45: =ROUND(Z45*AA45,0) -> 0 | AF45: =ROUND(AD45*AE45,0) -> 0 | AJ45: =ROUND(AH45*AI45,0) -> 0 | AN45: =ROUND(AL45*AM45,0) -> 0 | AR45: =ROUND(AP45*AQ45,0) -> 0 | AV45: =ROUND(AT45*AU45,0) -> 0
B46: <Specific vehicle type/model> | H46: =ROUND(F46*G46,0) -> 0 | L46: =ROUND(J46*K46,0) -> 0 | P46: =ROUND(N46*O46,0) -> 0 | T46: =ROUND(R46*S46,0) -> 0 | X46: =ROUND(V46*W46,0) -> 0 | AB46: =ROUND(Z46*AA46,0) -> 0 | AF46: =ROUND(AD46*AE46,0) -> 0 | AJ46: =ROUND(AH46*AI46,0) -> 0 | AN46: =ROUND(AL46*AM46,0) -> 0 | AR46: =ROUND(AP46*AQ46,0) -> 0 | AV46: =ROUND(AT46*AU46,0) -> 0
B47: <Insert more Vehicles lines here> | H47: =ROUND(F47*G47,0) -> 0 | L47: =ROUND(J47*K47,0) -> 0 | P47: =ROUND(N47*O47,0) -> 0 | T47: =ROUND(R47*S47,0) -> 0 | X47: =ROUND(V47*W47,0) -> 0 | AB47: =ROUND(Z47*AA47,0) -> 0 | AF47: =ROUND(AD47*AE47,0) -> 0 | AJ47: =ROUND(AH47*AI47,0) -> 0 | AN47: =ROUND(AL47*AM47,0) -> 0 | AR47: =ROUND(AP47*AQ47,0) -> 0 | AV47: =ROUND(AT47*AU47,0) -> 0
A49: Capital Equipment
B50: <Specific capital equipment> | H50: =ROUND(F50*G50,0) -> 0 | L50: =ROUND(J50*K50,0) -> 0 | P50: =ROUND(N50*O50,0) -> 0 | T50: =ROUND(R50*S50,0) -> 0 | X50: =ROUND(V50*W50,0) -> 0 | AB50: =ROUND(Z50*AA50,0) -> 0 | AF50: =ROUND(AD50*AE50,0) -> 0 | AJ50: =ROUND(AH50*AI50,0) -> 0 | AN50: =ROUND(AL50*AM50,0) -> 0 | AR50: =ROUND(AP50*AQ50,0) -> 0 | AV50: =ROUND(AT50*AU50,0) -> 0
B51: <Specific capital equipment> | H51: =ROUND(F51*G51,0) -> 0 | L51: =ROUND(J51*K51,0) -> 0 | P51: =ROUND(N51*O51,0) -> 0 | T51: =ROUND(R51*S51,0) -> 0 | X51: =ROUND(V51*W51,0) -> 0 | AB51: =ROUND(Z51*AA51,0) -> 0 | AF51: =ROUND(AD51*AE51,0) -> 0 | AJ51: =ROUND(AH51*AI51,0) -> 0 | AN51: =ROUND(AL51*AM51,0) -> 0 | AR51: =ROUND(AP51*AQ51,0) -> 0 | AV51: =ROUND(AT51*AU51,0) -> 0
B52: <Specific capital equipment> | H52: =ROUND(F52*G52,0) -> 0 | L52: =ROUND(J52*K52,0) -> 0 | P52: =ROUND(N52*O52,0) -> 0 | T52: =ROUND(R52*S52,0) -> 0 | X52: =ROUND(V52*W52,0) -> 0 | AB52: =ROUND(Z52*AA52,0) -> 0 | AF52: =ROUND(AD52*AE52,0) -> 0 | AJ52: =ROUND(AH52*AI52,0) -> 0 | AN52: =ROUND(AL52*AM52,0) -> 0 | AR52: =ROUND(AP52*AQ52,0) -> 0 | AV52: =ROUND(AT52*AU52,0) -> 0
B53: <Insert more Capital Equipment lines here> | H53: =ROUND(F53*G53,0) -> 0 | L53: =ROUND(J53*K53,0) -> 0 | P53: =ROUND(N53*O53,0) -> 0 | T53: =ROUND(R53*S53,0) -> 0 | X53: =ROUND(V53*W53,0) -> 0 | AB53: =ROUND(Z53*AA53,0) -> 0 | AF53: =ROUND(AD53*AE53,0) -> 0 | AJ53: =ROUND(AH53*AI53,0) -> 0 | AN53: =ROUND(AL53*AM53,0) -> 0 | AR53: =ROUND(AP53*AQ53,0) -> 0 | AV53: =ROUND(AT53*AU53,0) -> 0
A55: TOTAL EQUIPMENT | H55: =SUM(H42:H54) -> 0 | L55: =SUM(L42:L54) -> 0 | P55: =SUM(P42:P54) -> 0 | T55: =SUM(T42:T54) -> 0 | X55: =SUM(X42:X54) -> 0 | AB55: =SUM(AB42:AB54) -> 0 | AF55: =SUM(AF42:AF54) -> 0 | AJ55: =SUM(AJ42:AJ54) -> 0 | AN55: =SUM(AN42:AN54) -> 0 | AR55: =SUM(AR42:AR54) -> 0 | AV55: =SUM(AV42:AV54) -> 0
A57: SUPPLIES
...

Sheet Formula Sheet
D1: CountryName
D2: Afghanistan
D3: Aland Islands
A4: Day | D4: Albania
A5: Month | D5: Algeria
A6: Year | D6: American Samoa
A7: Each | D7: Andorra
A8: Percent | D8: Angola
A9: Total | D9: Anguilla
A10: Indirect | D10: Antarctica
A11: Fee | D11: Antigua And Barbuda
A12: N/A | D12: Argentina
D13: Armenia
D14: Aruba
D15: Australia
D16: Austria
D17: Azerbaijan
D18: Bahamas
D19: Bahrain
D20: Bangladesh
D21: Barbados
D22: Belarus
D23: Belgium
D24: Belize
... D245: (Not Specified)
