Workbook
Name _YR1: #REF!
Name _YR2: #REF!
Name Country: #REF!
Name Location: #REF!
Name Technical_Sector: #REF!
Name Unit: 'Formula Sheet'!$A$4:$A$10
Name Year1: #REF!

Sheet Summary
B1: Program Office: | C1: Education Office
B2: Country/Region: | C2: Lebanon
B3: Program Name: | C3: Higher Education Scholarships Phase Two (HES-II)
B4: Program Dates: | C4: May 2022 - May 2031
A7: Cost Category | C7: Year 1 | D7: Year 2 | E7: Year 3 | F7: Year 4 | G7: Year 5 | H7: Year 6 | I7: Year 7 | J7: Year 8 | K7: Year 9 | L7: Crisis Modifier | M7: TOTAL
A8: a. | B8: PERSONNEL | C8: =Detail!H27 -> 0 | D8: =Detail!L27 -> 0 | E8: =Detail!P27 -> 0 | F8: =Detail!T27 -> 0 | G8: =Detail!X27 -> 0 | H8: =Detail!AB27 -> 0 | I8: =Detail!AF27 -> 0 | J8: =Detail!AJ27 -> 0 | K8: =Detail!AN27 -> 0 | M8: =Detail!AV27 -> 0
A9: b. | B9: FRINGE BENEFITS | C9: =Detail!H33 -> 0 | D9: =Detail!L33 -> 0 | E9: =Detail!P33 -> 0 | F9: =Detail!T33 -> 0 | G9: =Detail!X33 -> 0 | H9: =Detail!AB33 -> 0 | I9: =Detail!AF33 -> 0 | J9: =Detail!AJ33 -> 0 | K9: =Detail!AN33 -> 0 | M9: =Detail!AV33 -> 0
A10: c. | B10: TRAVEL AND TRANSPORTATION | C10: =Detail!H39 -> 0 | D10: =Detail!L39 -> 0 | E10: =Detail!P39 -> 0 | F10: =Detail!T39 -> 0 | G10: =Detail!X39 -> 0 | H10: =Detail!AB39 -> 0 | I10: =Detail!AF39 -> 0 | J10: =Detail!AJ39 -> 0 | K10: =Detail!AN39 -> 0 | M10: =Detail!AV39 -> 0
A11: d. | B11: EQUIPMENT | C11: =Detail!H55 -> 0 | D11: =Detail!L55 -> 0 | E11: =Detail!P55 -> 0 | F11: =Detail!T55 -> 0 | G11: =Detail!X55 -> 0 | H11: =Detail!AB55 -> 0 | I11: =Detail!AF55 -> 0 | J11: =Detail!AJ55 -> 0 | K11: =Detail!AN55 -> 0 | M11: =Detail!AV55 -> 0
A12: e. | B12: CONTRACTUAL/SUBAWARD | C12: =Detail!H101 -> 0 | D12: =Detail!L101 -> 0 | E12: =Detail!P101 -> 0 | F12: =Detail!T101 -> 0 | G12: =Detail!X101 -> 0 | H12: =Detail!AB101 -> 0 | I12: =Detail!AF101 -> 0 | J12: =Detail!AJ101 -> 0 | K12: =Detail!AN101 -> 0 | M12: =Detail!AV101 -> 0
A13: f. | B13: OTHER DIRECT COSTS | C13: =Detail!H117 -> 0 | D13: =Detail!L117 -> 0 | E13: =Detail!P117 -> 0 | F13: =Detail!T117 -> 0 | G13: =Detail!X117 -> 0 | H13: =Detail!AB117 -> 0 | I13: =Detail!AF117 -> 0 | J13: =Detail!AJ117 -> 0 | K13: =Detail!AN117 -> 0 | M13: =Detail!AV117 -> 0
A14: g. | B14: TOTAL DIRECT COSTS | C14: =SUM(C8:C13) -> 0 | D14: =SUM(D8:D13) -> 0 | E14: =SUM(E8:E13) -> 0 | F14: =SUM(F8:F13) -> 0 | G14: =SUM(G8:G13) -> 0 | H14: =SUM(H8:H13) -> 0 | I14: =SUM(I8:I13) -> 0 | J14: =SUM(J8:J13) -> 0 | ... M14: =SUM(M8:M13) -> 0
A15: h. | B15: INDIRECT COSTS | C15: =Detail!H128 -> 0 | D15: =Detail!L128 -> 0 | E15: =Detail!P128 -> 0 | F15: =Detail!T128 -> 0 | G15: =Detail!X128 -> 0 | H15: =Detail!AB128 -> 0 | I15: =Detail!AF128 -> 0 | J15: =Detail!AJ128 -> 0 | K15: =Detail!AN128 -> 0 | M15: =Detail!AV128 -> 0
A16: i. | B16: COST SHARING | C16: =Detail!H130 -> 0 | D16: =Detail!L130 -> 0 | E16: =Detail!P130 -> 0 | F16: =Detail!T130 -> 0 | G16: =Detail!X130 -> 0 | H16: =Detail!AB130 -> 0 | I16: =Detail!AF130 -> 0 | J16: =Detail!AJ130 -> 0 | K16: =Detail!AN130 -> 0 | M16: =Detail!AV130 -> 0
A17: j. | B17: TOTAL COSTS | C17: =SUM(C14:C16) -> 0 | D17: =SUM(D14:D16) -> 0 | E17: =SUM(E14:E16) -> 0 | F17: =SUM(F14:F16) -> 0 | G17: =SUM(G14:G16) -> 0 | H17: =SUM(H14:H16) -> 0 | I17: =SUM(I14:I16) -> 0 | J17: =SUM(J14:J16) -> 0 | K17: =SUM(K14:K16) -> 0 | L17: 200000 | M17: =SUM(C17:K17) -> 0
C20: =IF(C17=Detail!H132," ","Doesn't Tie to Detail Sheet")

Sheet Detail
E1: Program Office:
E2: Country/Region:
E3: Program Name:
E4: Program Dates:
E7: Year 1 | I7: Year 2 | M7: Year 3 | Q7: Year 4 | U7: Year 5 | Y7: Year 6 | AC7: Year 7 | AG7: Year 8 | AK7: Year 9 | AO7: Crisis Modifier | AS7: TOTAL
E8: <Dates> | I8: <Dates> | M8: <Dates> | Q8: <Dates> | U8: <Dates> | Y8: <Dates> | AC8: <Dates> | AG8: <Dates> | AK8: <Dates> | AS8: <Dates>
A9: Description | C9: Obj. | D9: Out Come | E9: Unit | F9: No. of Units | G9: Unit Cost (USD) | H9: Year 1 Estimate | I9: Unit | J9: No. of Units | K9: Unit Cost (USD) | L9: Year 2 Estimate | M9: Unit | N9: No. of Units | O9: Unit Cost (USD) | P9: Year 3 Estimate | Q9: Unit | R9: No. of Units | S9: Unit Cost (USD) | T9: Year 4 Estimate | U9: Unit | V9: No. of Units | W9: Unit Cost (USD) | X9: Year 5 Estimate | Y9: Unit | Z9: No. of Units | AA9: Unit Cost (USD) | AB9: Year 6 Estimate | AC9: Unit | AD9: No. of Units | AE9: Unit Cost (USD) | AF9: Year 7 Estimate | AG9: Unit | AH9: No. of Units | AI9: Unit Cost (USD) | AJ9: Year 8 Estimate | AK9: Unit | AL9: No. of Units | AM9: Unit Cost (USD) | AN9: Year 9 Estimate | AO9: Unit | AP9: No. of Units | AQ9: Unit Cost (USD) | AR9: Crisis Modifier Estimate | AS9: Unit | AT9: No. of Units | AU9: Unit Cost (USD) | AV9: TOTAL Estimate
A11: PERSONNEL
A13: LOCAL IN-COUNTRY STAFF
A14: Program Staff
B15: Director | E15: Month | H15: =ROUND(F15*G15,0) -> 0 | I15: Month | L15: =ROUND(J15*K15,0) -> 0 | M15: Month | P15: =ROUND(N15*O15,0) -> 0 | Q15: Month | T15: =ROUND(R15*S15,0) -> 0 | U15: Month | X15: =ROUND(V15*W15,0) -> 0 | Y15: Month | AB15: =ROUND(Z15*AA15,0) -> 0 | AC15: Month | AF15: =ROUND(AD15*AE15,0) -> 0 | AG15: Month | AJ15: =ROUND(AH15*AI15,0) -> 0 | AK15: Month | AN15: =ROUND(AL15*AM15,0) -> 0 | AO15: Month | AR15: =ROUND(AP15*AQ15,0) -> 0 | AS15: Month | AV15: =ROUND(AT15*AU15,0) -> 0
B16: Cycle coordinator (one per cycle + one for refugees as per the Student Table) | E16: Month | H16: =ROUND(F16*G16,0) -> 0 | I16: Month | L16: =ROUND(J16*K16,0) -> 0 | M16: Month | P16: =ROUND(N16*O16,0) -> 0 | Q16: Month | T16: =ROUND(R16*S16,0) -> 0 | U16: Month | X16: =ROUND(V16*W16,0) -> 0 | Y16: Month | AB16: =ROUND(Z16*AA16,0) -> 0 | AC16: Month | AF16: =ROUND(AD16*AE16,0) -> 0 | AG16: Month | AJ16: =ROUND(AH16*AI16,0) -> 0 | AK16: Month | AN16: =ROUND(AL16*AM16,0) -> 0 | AO16: Month | AR16: =ROUND(AP16*AQ16,0) -> 0 | AS16: Month | AV16: =ROUND(AT16*AU16,0) -> 0
B17: M&E officer | E17: Month | H17: =ROUND(F17*G17,0) -> 0 | I17: Month | L17: =ROUND(J17*K17,0) -> 0 | M17: Month | P17: =ROUND(N17*O17,0) -> 0 | Q17: Month | T17: =ROUND(R17*S17,0) -> 0 | U17: Month | X17: =ROUND(V17*W17,0) -> 0 | Y17: Month | AB17: =ROUND(Z17*AA17,0) -> 0 | AC17: Month | AF17: =ROUND(AD17*AE17,0) -> 0 | AG17: Month | AJ17: =ROUND(AH17*AI17,0) -> 0 | AK17: Month | AN17: =ROUND(AL17*AM17,0) -> 0 | AO17: Month | AR17: =ROUND(AP17*AQ17,0) -> 0 | AS17: Month | AV17: =ROUND(AT17*AU17,0) -> 0
B18: Recruitment Director | E18: Month | H18: =ROUND(F18*G18,0) -> 0 | I18: Month | L18: =ROUND(J18*K18,0) -> 0 | M18: Month | P18: =ROUND(N18*O18,0) -> 0 | Q18: Month | T18: =ROUND(R18*S18,0) -> 0 | U18: Month | X18: =ROUND(V18*W18,0) -> 0 | Y18: Month | AB18: =ROUND(Z18*AA18,0) -> 0 | AC18: Month | AF18: =ROUND(AD18*AE18,0) -> 0 | AG18: Month | AJ18: =ROUND(AH18*AI18,0) -> 0 | AK18: Month | AN18: =ROUND(AL18*AM18,0) -> 0 | AO18: Month | AR18: =ROUND(AP18*AQ18,0) -> 0 | AS18: Month | AV18: =ROUND(AT18*AU18,0) -> 0
B19: Student mentors | E19: Month | H19: =ROUND(F19*G19,0) -> 0 | I19: Month | L19: =ROUND(J19*K19,0) -> 0 | M19: Month | P19: =ROUND(N19*O19,0) -> 0 | Q19: Month | T19: =ROUND(R19*S19,0) -> 0 | U19: Month | X19: =ROUND(V19*W19,0) -> 0 | Y19: Month | AB19: =ROUND(Z19*AA19,0) -> 0 | AC19: Month | AF19: =ROUND(AD19*AE19,0) -> 0 | AG19: Month | AJ19: =ROUND(AH19*AI19,0) -> 0 | AK19: Month | AN19: =ROUND(AL19*AM19,0) -> 0 | AO19: Month | AR19: =ROUND(AP19*AQ19,0) -> 0 | AS19: Month | AV19: =ROUND(AT19*AU19,0) -> 0
B20: Administrative assistant | E20: Month | H20: =ROUND(F20*G20,0) -> 0 | I20: Month | L20: =ROUND(J20*K20,0) -> 0 | M20: Month | P20: =ROUND(N20*O20,0) -> 0 | Q20: Month | T20: =ROUND(R20*S20,0) -> 0 | U20: Month | X20: =ROUND(V20*W20,0) -> 0 | Y20: Month | AB20: =ROUND(Z20*AA20,0) -> 0 | AC20: Month | AF20: =ROUND(AD20*AE20,0) -> 0 | AG20: Month | AJ20: =ROUND(AH20*AI20,0) -> 0 | AK20: Month | AN20: =ROUND(AL20*AM20,0) -> 0 | AO20: Month | AR20: =ROUND(AP20*AQ20,0) -> 0 | AS20: Month | AV20: =ROUND(AT20*AU20,0) -> 0
B21: Civic engagement officer | E21: Month | H21: =ROUND(F21*G21,0) -> 0 | I21: Month | L21: =ROUND(J21*K21,0) -> 0 | M21: Month | P21: =ROUND(N21*O21,0) -> 0 | Q21: Month | T21: =ROUND(R21*S21,0) -> 0 | U21: Month | X21: =ROUND(V21*W21,0) -> 0 | Y21: Month | AB21: =ROUND(Z21*AA21,0) -> 0 | AC21: Month | AF21: =ROUND(AD21*AE21,0) -> 0 | AG21: Month | AJ21: =ROUND(AH21*AI21,0) -> 0 | AK21: Month | AN21: =ROUND(AL21*AM21,0) -> 0 | AO21: Month | AR21: =ROUND(AP21*AQ21,0) -> 0 | AS21: Month | AV21: =ROUND(AT21*AU21,0) -> 0
B22: Career preparation officer | E22: Month | H22: =ROUND(F22*G22,0) -> 0 | I22: Month | L22: =ROUND(J22*K22,0) -> 0 | M22: Month | P22: =ROUND(N22*O22,0) -> 0 | Q22: Month | T22: =ROUND(R22*S22,0) -> 0 | U22: Month | X22: =ROUND(V22*W22,0) -> 0 | Y22: Month | AB22: =ROUND(Z22*AA22,0) -> 0 | AC22: Month | AF22: =ROUND(AD22*AE22,0) -> 0 | AG22: Month | AJ22: =ROUND(AH22*AI22,0) -> 0 | AK22: Month | AN22: =ROUND(AL22*AM22,0) -> 0 | AO22: Month | AR22: =ROUND(AP22*AQ22,0) -> 0 | AS22: Month | AV22: =ROUND(AT22*AU22,0) -> 0
B23: Finance support | E23: Month | H23: =ROUND(F23*G23,0) -> 0 | I23: Month | L23: =ROUND(J23*K23,0) -> 0 | M23: Month | P23: =ROUND(N23*O23,0) -> 0 | Q23: Month | T23: =ROUND(R23*S23,0) -> 0 | U23: Month | X23: =ROUND(V23*W23,0) -> 0 | Y23: Month | AB23: =ROUND(Z23*AA23,0) -> 0 | AC23: Month | AF23: =ROUND(AD23*AE23,0) -> 0 | AG23: Month | AJ23: =ROUND(AH23*AI23,0) -> 0 | AK23: Month | AN23: =ROUND(AL23*AM23,0) -> 0 | AO23: Month | AR23: =ROUND(AP23*AQ23,0) -> 0 | AS23: Month | AV23: =ROUND(AT23*AU23,0) -> 0
A25: SUBTOTAL NATIONAL STAFF | H25: =SUM(H15:H24) -> 0 | L25: =SUM(L15:L24) -> 0 | P25: =SUM(P15:P24) -> 0 | T25: =SUM(T15:T24) -> 0 | X25: =SUM(X15:X24) -> 0 | AB25: =SUM(AB15:AB24) -> 0 | AF25: =SUM(AF15:AF24) -> 0 | AJ25: =SUM(AJ15:AJ24) -> 0 | AN25: =SUM(AN15:AN24) -> 0 | AR25: =SUM(AR15:AR24) -> 0 | AV25: =SUM(AV15:AV24) -> 0
A27: TOTAL PERSONNEL | H27: =SUM(H25) -> 0 | L27: =SUM(L25) -> 0 | P27: =SUM(P25) -> 0 | T27: =SUM(T25) -> 0 | X27: =SUM(X25) -> 0 | AB27: =SUM(AB25) -> 0 | AF27: =SUM(AF25) -> 0 | AJ27: =SUM(AJ25) -> 0 | AN27: =SUM(AN25) -> 0 | AR27: =SUM(AR25) -> 0 | AV27: =SUM(AV25) -> 0
A29: FRINGE BENEFITS
B31: Benefits - Local Staff | E31: Percent | H31: =ROUND(F31*G31,0) -> 0 | I31: Percent | L31: =ROUND(J31*K31,0) -> 0 | M31: Percent | P31: =ROUND(N31*O31,0) -> 0 | Q31: Percent | T31: =ROUND(R31*S31,0) -> 0 | U31: Percent | X31: =ROUND(V31*W31,0) -> 0 | Y31: Percent | AB31: =ROUND(Z31*AA31,0) -> 0 | AC31: Percent | AF31: =ROUND(AD31*AE31,0) -> 0 | AG31: Percent | AJ31: =ROUND(AH31*AI31,0) -> 0 | AK31: Percent | AN31: =ROUND(AL31*AM31,0) -> 0 | AO31: Percent | AR31: =ROUND(AP31*AQ31,0) -> 0 | AS31: Percent | AV31: =ROUND(AT31*AU31,0) -> 0
A33: TOTAL FRINGE BENEFITS | H33: =SUM(H31:H32) -> 0 | L33: =SUM(L30:L32) -> 0 | P33: =SUM(P30:P32) -> 0 | T33: =SUM(T30:T32) -> 0 | X33: =SUM(X30:X32) -> 0 | AB33: =SUM(AB30:AB32) -> 0 | AF33: =SUM(AF30:AF32) -> 0 | AJ33: =SUM(AJ30:AJ32) -> 0 | AN33: =SUM(AN30:AN32) -> 0 | AR33: =SUM(AR30:AR32) -> 0 | AV33: =SUM(AV30:AV32) -> 0
A35: TRAVEL (SEE TRAVEL TABLE FOR ADDITIONAL INFO)
B37: Local & Domestic Travel | E37: Total | H37: =ROUND(F37*G37,0) -> 0 | I37: Total | L37: =ROUND(J37*K37,0) -> 0 | M37: Total | P37: =ROUND(N37*O37,0) -> 0 | Q37: Total | T37: =ROUND(R37*S37,0) -> 0 | U37: Total | X37: =ROUND(V37*W37,0) -> 0 | Y37: Total | AB37: =ROUND(Z37*AA37,0) -> 0 | AC37: Total | AF37: =ROUND(AD37*AE37,0) -> 0 | AG37: Total | AJ37: =ROUND(AH37*AI37,0) -> 0 | AK37: Total | AN37: =ROUND(AL37*AM37,0) -> 0 | AO37: Total | AR37: =ROUND(AP37*AQ37,0) -> 0 | AS37: Total | AV37: =ROUND(AT37*AU37,0) -> 0
A39: TOTAL TRAVEL AND TRANSPORTATION | H39: =SUM(H37:H38) -> 0 | L39: =SUM(L37:L38) -> 0 | P39: =SUM(P37:P38) -> 0 | T39: =SUM(T37:T38) -> 0 | X39: =SUM(X37:X38) -> 0 | AB39: =SUM(AB37:AB38) -> 0 | AF39: =SUM(AF37:AF38) -> 0 | AJ39: =SUM(AJ37:AJ38) -> 0 | AN39: =SUM(AN37:AN38) -> 0 | AR39: =SUM(AR37:AR38) -> 0 | AV39: =SUM(AV37:AV38) -> 0
A41: EQUIPMENT
A43: Vehicles (Restricted Item-Waivor Required)
B44: <Specific vehicle type/model> | H44: =ROUND(F44*G44,0) -> 0 | L44: =ROUND(J44*K44,0) -> 0 | P44: =ROUND(N44*O44,0) -> 0 | T44: =ROUND(R44*S44,0) -> 0 | X44: =ROUND(V44*W44,0) -> 0 | AB44: =ROUND(Z44*AA44,0) -> 0 | AF44: =ROUND(AD44*AE44,0) -> 0 | AJ44: =ROUND(AH44*AI44,0) -> 0 | AN44: =ROUND(AL44*AM44,0) -> 0 | AR44: =ROUND(AP44*AQ44,0) -> 0 | AV44: =ROUND(AT44*AU44,0) -> 0
B45: <Specific vehicle type/model> | H45: =ROUND(F45*G45,0) -> 0 | L45: =ROUND(J45*K45,0) -> 0 | P45: =ROUND(N45*O45,0) -> 0 | T45: =ROUND(R45*S45,0) -> 0 | X45: =ROUND(V45*W45,0) -> 0 | AB45: =ROUND(Z45*AA45,0) -> 0 | AF45: =ROUND(AD45*AE45,0) -> 0 | AJ45: =ROUND(AH45*AI45,0) -> 0 | AN45: =ROUND(AL45*AM45,0) -> 0 | AR45: =ROUND(AP45*AQ45,0) -> 0 | AV45: =ROUND(AT45*AU45,0) -> 0
B46: <Specific vehicle type/model> | H46: =ROUND(F46*G46,0) -> 0 | L46: =ROUND(J46*K46,0) -> 0 | P46: =ROUND(N46*O46,0) -> 0 | T46: =ROUND(R46*S46,0) -> 0 | X46: =ROUND(V46*W46,0) -> 0 | AB46: =ROUND(Z46*AA46,0) -> 0 | AF46: =ROUND(AD46*AE46,0) -> 0 | AJ46: =ROUND(AH46*AI46,0) -> 0 | AN46: =ROUND(AL46*AM46,0) -> 0 | AR46: =ROUND(AP46*AQ46,0) -> 0 | AV46: =ROUND(AT46*AU46,0) -> 0
B47: <Insert more Vehicles lines here> | H47: =ROUND(F47*G47,0) -> 0 | L47: =ROUND(J47*K47,0) -> 0 | P47: =ROUND(N47*O47,0) -> 0 | T47: =ROUND(R47*S47,0) -> 0 | X47: =ROUND(V47*W47,0) -> 0 | AB47: =ROUND(Z47*AA47,0) -> 0 | AF47: =ROUND(AD47*AE47,0) -> 0 | AJ47: =ROUND(AH47*AI47,0) -> 0 | AN47: =ROUND(AL47*AM47,0) -> 0 | AR47: =ROUND(AP47*AQ47,0) -> 0 | AV47: =ROUND(AT47*AU47,0) -> 0
A49: Capital Equipment
B50: <Specific capital equipment> | H50: =ROUND(F50*G50,0) -> 0 | L50: =ROUND(J50*K50,0) -> 0 | P50: =ROUND(N50*O50,0) -> 0 | T50: =ROUND(R50*S50,0) -> 0 | X50: =ROUND(V50*W50,0) -> 0 | AB50: =ROUND(Z50*AA50,0) -> 0 | AF50: =ROUND(AD50*AE50,0) -> 0 | AJ50: =ROUND(AH50*AI50,0) -> 0 | AN50: =ROUND(AL50*AM50,0) -> 0 | AR50: =ROUND(AP50*AQ50,0) -> 0 | AV50: =ROUND(AT50*AU50,0) -> 0
B51: <Specific capital equipment> | H51: =ROUND(F51*G51,0) -> 0 | L51: =ROUND(J51*K51,0) -> 0 | P51: =ROUND(N51*O51,0) -> 0 | T51: =ROUND(R51*S51,0) -> 0 | X51: =ROUND(V51*W51,0) -> 0 | AB51: =ROUND(Z51*AA51,0) -> 0 | AF51: =ROUND(AD51*AE51,0) -> 0 | AJ51: =ROUND(AH51*AI51,0) -> 0 | AN51: =ROUND(AL51*AM51,0) -> 0 | AR51: =ROUND(AP51*AQ51,0) -> 0 | AV51: =ROUND(AT51*AU51,0) -> 0
B52: <Specific capital equipment> | H52: =ROUND(F52*G52,0) -> 0 | L52: =ROUND(J52*K52,0) -> 0 | P52: =ROUND(N52*O52,0) -> 0 | T52: =ROUND(R52*S52,0) -> 0 | X52: =ROUND(V52*W52,0) -> 0 | AB52: =ROUND(Z52*AA52,0) -> 0 | AF52: =ROUND(AD52*AE52,0) -> 0 | AJ52: =ROUND(AH52*AI52,0) -> 0 | AN52: =ROUND(AL52*AM52,0) -> 0 | AR52: =ROUND(AP52*AQ52,0) -> 0 | AV52: =ROUND(AT52*AU52,0) -> 0
B53: <Insert more Capital Equipment lines here> | H53: =ROUND(F53*G53,0) -> 0 | L53: =ROUND(J53*K53,0) -> 0 | P53: =ROUND(N53*O53,0) -> 0 | T53: =ROUND(R53*S53,0) -> 0 | X53: =ROUND(V53*W53,0) -> 0 | AB53: =ROUND(Z53*AA53,0) -> 0 | AF53: =ROUND(AD53*AE53,0) -> 0 | AJ53: =ROUND(AH53*AI53,0) -> 0 | AN53: =ROUND(AL53*AM53,0) -> 0 | AR53: =ROUND(AP53*AQ53,0) -> 0 | AV53: =ROUND(AT53*AU53,0) -> 0
A55: TOTAL EQUIPMENT | H55: =SUM(H42:H54) -> 0 | L55: =SUM(L42:L54) -> 0 | P55: =SUM(P42:P54) -> 0 | T55: =SUM(T42:T54) -> 0 | X55: =SUM(X42:X54) -> 0 | AB55: =SUM(AB42:AB54) -> 0 | AF55: =SUM(AF42:AF54) -> 0 | AJ55: =SUM(AJ42:AJ54) -> 0 | AN55: =SUM(AN42:AN54) -> 0 | AR55: =SUM(AR42:AR54) -> 0 | AV55: =SUM(AV42:AV54) -> 0
A57: SUPPLIES
A59: General Equipment ($1 to $4999)
B60: <Specific general equipment> | E60: Each | H60: =ROUND(F60*G60,0) -> 0 | I60: Each | L60: =ROUND(J60*K60,0) -> 0 | M60: Each | P60: =ROUND(N60*O60,0) -> 0 | Q60: Each | T60: =ROUND(R60*S60,0) -> 0 | U60: Each | X60: =ROUND(V60*W60,0) -> 0 | Y60: Each | AB60: =ROUND(Z60*AA60,0) -> 0 | AC60: Each | AF60: =ROUND(AD60*AE60,0) -> 0 | AG60: Each | AJ60: =ROUND(AH60*AI60,0) -> 0 | AK60: Each | AN60: =ROUND(AL60*AM60,0) -> 0 | AO60: Each | AR60: =ROUND(AP60*AQ60,0) -> 0 | AS60: Each | AV60: =ROUND(AT60*AU60,0) -> 0
B61: <Specific general equipment> | E61: Each | H61: =ROUND(F61*G61,0) -> 0 | I61: Each | L61: =ROUND(J61*K61,0) -> 0 | M61: Each | P61: =ROUND(N61*O61,0) -> 0 | Q61: Each | T61: =ROUND(R61*S61,0) -> 0 | U61: Each | X61: =ROUND(V61*W61,0) -> 0 | Y61: Each | AB61: =ROUND(Z61*AA61,0) -> 0 | AC61: Each | AF61: =ROUND(AD61*AE61,0) -> 0 | AG61: Each | AJ61: =ROUND(AH61*AI61,0) -> 0 | AK61: Each | AN61: =ROUND(AL61*AM61,0) -> 0 | AO61: Each | AR61: =ROUND(AP61*AQ61,0) -> 0 | AS61: Each | AV61: =ROUND(AT61*AU61,0) -> 0
B62: <Specific general equipment> | E62: Each | H62: =ROUND(F62*G62,0) -> 0 | I62: Each | L62: =ROUND(J62*K62,0) -> 0 | M62: Each | P62: =ROUND(N62*O62,0) -> 0 | Q62: Each | T62: =ROUND(R62*S62,0) -> 0 | U62: Each | X62: =ROUND(V62*W62,0) -> 0 | Y62: Each | AB62: =ROUND(Z62*AA62,0) -> 0 | AC62: Each | AF62: =ROUND(AD62*AE62,0) -> 0 | AG62: Each | AJ62: =ROUND(AH62*AI62,0) -> 0 | AK62: Each | AN62: =ROUND(AL62*AM62,0) -> 0 | AO62: Each | AR62: =ROUND(AP62*AQ62,0) -> 0 | AS62: Each | AV62: =ROUND(AT62*AU62,0) -> 0
B63: <Insert more Gen'l. Equipment lines here> | E63: Each | H63: =ROUND(F63*G63,0) -> 0 | I63: Each | L63: =ROUND(J63*K63,0) -> 0 | M63: Each | P63: =ROUND(N63*O63,0) -> 0 | Q63: Each | T63: =ROUND(R63*S63,0) -> 0 | U63: Each | X63: =ROUND(V63*W63,0) -> 0 | Y63: Each | AB63: =ROUND(Z63*AA63,0) -> 0 | AC63: Each | AF63: =ROUND(AD63*AE63,0) -> 0 | AG63: Each | AJ63: =ROUND(AH63*AI63,0) -> 0 | AK63: Each | AN63: =ROUND(AL63*AM63,0) -> 0 | AO63: Each | AR63: =ROUND(AP63*AQ63,0) -> 0 | AS63: Each | AV63: =ROUND(AT63*AU63,0) -> 0
B64: <Insert more Gen'l. Equipment lines here> | E64: Each | H64: =ROUND(F64*G64,0) -> 0 | I64: Each | L64: =ROUND(J64*K64,0) -> 0 | M64: Each | P64: =ROUND(N64*O64,0) -> 0 | Q64: Each | T64: =ROUND(R64*S64,0) -> 0 | U64: Each | X64: =ROUND(V64*W64,0) -> 0 | Y64: Each | AB64: =ROUND(Z64*AA64,0) -> 0 | AC64: Each | AF64: =ROUND(AD64*AE64,0) -> 0 | AG64: Each | AJ64: =ROUND(AH64*AI64,0) -> 0 | AK64: Each | AN64: =ROUND(AL64*AM64,0) -> 0 | AO64: Each | AR64: =ROUND(AP64*AQ64,0) -> 0 | AS64: Each | AV64: =ROUND(AT64*AU64,0) -> 0
B65: <Insert more Gen'l. Equipment lines here> | E65: Each | H65: =ROUND(F65*G65,0) -> 0 | I65: Each | L65: =ROUND(J65*K65,0) -> 0 | M65: Each | P65: =ROUND(N65*O65,0) -> 0 | Q65: Each | T65: =ROUND(R65*S65,0) -> 0 | U65: Each | X65: =ROUND(V65*W65,0) -> 0 | Y65: Each | AB65: =ROUND(Z65*AA65,0) -> 0 | AC65: Each | AF65: =ROUND(AD65*AE65,0) -> 0 | AG65: Each | AJ65: =ROUND(AH65*AI65,0) -> 0 | AK65: Each | AN65: =ROUND(AL65*AM65,0) -> 0 | AO65: Each | AR65: =ROUND(AP65*AQ65,0) -> 0 | AS65: Each | AV65: =ROUND(AT65*AU65,0) -> 0
B66: <Insert more Gen'l. Equipment lines here> | E66: Each | H66: =ROUND(F66*G66,0) -> 0 | I66: Each | L66: =ROUND(J66*K66,0) -> 0 | M66: Each | P66: =ROUND(N66*O66,0) -> 0 | Q66: Each | T66: =ROUND(R66*S66,0) -> 0 | U66: Each | X66: =ROUND(V66*W66,0) -> 0 | Y66: Each | AB66: =ROUND(Z66*AA66,0) -> 0 | AC66: Each | AF66: =ROUND(AD66*AE66,0) -> 0 | AG66: Each | AJ66: =ROUND(AH66*AI66,0) -> 0 | AK66: Each | AN66: =ROUND(AL66*AM66,0) -> 0 | AO66: Each | AR66: =ROUND(AP66*AQ66,0) -> 0 | AS66: Each | AV66: =ROUND(AT66*AU66,0) -> 0
B67: <Insert more Gen'l. Equipment lines here> | E67: Each | H67: =ROUND(F67*G67,0) -> 0 | I67: Each | L67: =ROUND(J67*K67,0) -> 0 | M67: Each | P67: =ROUND(N67*O67,0) -> 0 | Q67: Each | T67: =ROUND(R67*S67,0) -> 0 | U67: Each | X67: =ROUND(V67*W67,0) -> 0 | Y67: Each | AB67: =ROUND(Z67*AA67,0) -> 0 | AC67: Each | AF67: =ROUND(AD67*AE67,0) -> 0 | AG67: Each | AJ67: =ROUND(AH67*AI67,0) -> 0 | AK67: Each | AN67: =ROUND(AL67*AM67,0) -> 0 | AO67: Each | AR67: =ROUND(AP67*AQ67,0) -> 0 | AS67: Each | AV67: =ROUND(AT67*AU67,0) -> 0
A69: TOTAL SUPPLIES | H69: =SUM(H55:H67) -> 0 | L69: =SUM(L55:L67) -> 0 | P69: =SUM(P55:P67) -> 0 | T69: =SUM(T55:T67) -> 0 | X69: =SUM(X55:X67) -> 0 | AB69: =SUM(AB55:AB67) -> 0 | AF69: =SUM(AF55:AF67) -> 0 | AJ69: =SUM(AJ55:AJ67) -> 0 | AN69: =SUM(AN55:AN67) -> 0 | AR69: =SUM(AR55:AR67) -> 0 | AV69: =SUM(AV55:AV67) -> 0
A71: CONTRACTUAL
A73: PROGRAM ACTIVITIES
A75: Training
B76: <Specific training activity> | E76: Each | H76: =ROUND(F76*G76,0) -> 0 | I76: Each | L76: =ROUND(J76*K76,0) -> 0 | M76: Each | P76: =ROUND(N76*O76,0) -> 0 | Q76: Each | T76: =ROUND(R76*S76,0) -> 0 | U76: Each | X76: =ROUND(V76*W76,0) -> 0 | Y76: Each | AB76: =ROUND(Z76*AA76,0) -> 0 | AC76: Each | AF76: =ROUND(AD76*AE76,0) -> 0 | AG76: Each | AJ76: =ROUND(AH76*AI76,0) -> 0 | AK76: Each | AN76: =ROUND(AL76*AM76,0) -> 0 | AO76: Each | AR76: =ROUND(AP76*AQ76,0) -> 0 | AS76: Each | AV76: =ROUND(AT76*AU76,0) -> 0
B77: <Specific training activity> | E77: Each | H77: =ROUND(F77*G77,0) -> 0 | I77: Each | L77: =ROUND(J77*K77,0) -> 0 | M77: Each | P77: =ROUND(N77*O77,0) -> 0 | Q77: Each | T77: =ROUND(R77*S77,0) -> 0 | U77: Each | X77: =ROUND(V77*W77,0) -> 0 | Y77: Each | AB77: =ROUND(Z77*AA77,0) -> 0 | AC77: Each | AF77: =ROUND(AD77*AE77,0) -> 0 | AG77: Each | AJ77: =ROUND(AH77*AI77,0) -> 0 | AK77: Each | AN77: =ROUND(AL77*AM77,0) -> 0 | AO77: Each | AR77: =ROUND(AP77*AQ77,0) -> 0 | AS77: Each | AV77: =ROUND(AT77*AU77,0) -> 0
B78: <Insert more Training lines here> | E78: Each | H78: =ROUND(F78*G78,0) -> 0 | I78: Each | L78: =ROUND(J78*K78,0) -> 0 | M78: Each | P78: =ROUND(N78*O78,0) -> 0 | Q78: Each | T78: =ROUND(R78*S78,0) -> 0 | U78: Each | X78: =ROUND(V78*W78,0) -> 0 | Y78: Each | AB78: =ROUND(Z78*AA78,0) -> 0 | AC78: Each | AF78: =ROUND(AD78*AE78,0) -> 0 | AG78: Each | AJ78: =ROUND(AH78*AI78,0) -> 0 | AK78: Each | AN78: =ROUND(AL78*AM78,0) -> 0 | AO78: Each | AR78: =ROUND(AP78*AQ78,0) -> 0 | AS78: Each | AV78: =ROUND(AT78*AU78,0) -> 0
A80: SUBTOTAL PROGRAM ACTIVITIES | H80: =SUM(H72:H79) -> 0 | L80: =SUM(L72:L79) -> 0 | P80: =SUM(P72:P79) -> 0 | T80: =SUM(T72:T79) -> 0 | X80: =SUM(X72:X79) -> 0 | AB80: =SUM(AB72:AB79) -> 0 | AF80: =SUM(AF72:AF79) -> 0 | AJ80: =SUM(AJ72:AJ79) -> 0 | AN80: =SUM(AN72:AN79) -> 0 | AR80: =SUM(AR72:AR79) -> 0 | AV80: =SUM(AV72:AV79) -> 0
A82: CONSULTANTS
A84: Consultants - Program
B85: Local Consultant
B86: <National consultant role> | E86: Each | H86: =ROUND(F86*G86,0) -> 0 | I86: Each | L86: =ROUND(J86*K86,0) -> 0 | M86: Each | P86: =ROUND(N86*O86,0) -> 0 | Q86: Each | T86: =ROUND(R86*S86,0) -> 0 | U86: Each | X86: =ROUND(V86*W86,0) -> 0 | Y86: Each | AB86: =ROUND(Z86*AA86,0) -> 0 | AC86: Each | AF86: =ROUND(AD86*AE86,0) -> 0 | AG86: Each | AJ86: =ROUND(AH86*AI86,0) -> 0 | AK86: Each | AN86: =ROUND(AL86*AM86,0) -> 0 | AO86: Each | AR86: =ROUND(AP86*AQ86,0) -> 0 | AS86: Each | AV86: =ROUND(AT86*AU86,0) -> 0
B87: <National consultant role> | E87: Each | H87: =ROUND(F87*G87,0) -> 0 | I87: Each | L87: =ROUND(J87*K87,0) -> 0 | M87: Each | P87: =ROUND(N87*O87,0) -> 0 | Q87: Each | T87: =ROUND(R87*S87,0) -> 0 | U87: Each | X87: =ROUND(V87*W87,0) -> 0 | Y87: Each | AB87: =ROUND(Z87*AA87,0) -> 0 | AC87: Each | AF87: =ROUND(AD87*AE87,0) -> 0 | AG87: Each | AJ87: =ROUND(AH87*AI87,0) -> 0 | AK87: Each | AN87: =ROUND(AL87*AM87,0) -> 0 | AO87: Each | AR87: =ROUND(AP87*AQ87,0) -> 0 | AS87: Each | AV87: =ROUND(AT87*AU87,0) -> 0
B88: <Insert more Nat'l. Consultant lines here> | E88: Each | H88: =ROUND(F88*G88,0) -> 0 | I88: Each | L88: =ROUND(J88*K88,0) -> 0 | M88: Each | P88: =ROUND(N88*O88,0) -> 0 | Q88: Each | T88: =ROUND(R88*S88,0) -> 0 | U88: Each | X88: =ROUND(V88*W88,0) -> 0 | Y88: Each | AB88: =ROUND(Z88*AA88,0) -> 0 | AC88: Each | AF88: =ROUND(AD88*AE88,0) -> 0 | AG88: Each | AJ88: =ROUND(AH88*AI88,0) -> 0 | AK88: Each | AN88: =ROUND(AL88*AM88,0) -> 0 | AO88: Each | AR88: =ROUND(AP88*AQ88,0) -> 0 | AS88: Each | AV88: =ROUND(AT88*AU88,0) -> 0
A90: SUBTOTAL CONSULTANTS | H90: =SUM(H81:H89) -> 0 | L90: =SUM(L81:L89) -> 0 | P90: =SUM(P81:P89) -> 0 | T90: =SUM(T81:T89) -> 0 | X90: =SUM(X81:X89) -> 0 | AB90: =SUM(AB81:AB89) -> 0 | AF90: =SUM(AF81:AF89) -> 0 | AJ90: =SUM(AJ81:AJ89) -> 0 | AN90: =SUM(AN81:AN89) -> 0 | AR90: =SUM(AR81:AR89) -> 0 | AV90: =SUM(AV81:AV89) -> 0
A92: SUBGRANTS
A94: Local Organization
B95: <Specific local subgrant activity> | E95: Each | H95: =ROUND(F95*G95,0) -> 0 | I95: Each | L95: =ROUND(J95*K95,0) -> 0 | M95: Each | P95: =ROUND(N95*O95,0) -> 0 | Q95: Each | T95: =ROUND(R95*S95,0) -> 0 | U95: Each | X95: =ROUND(V95*W95,0) -> 0 | Y95: Each | AB95: =ROUND(Z95*AA95,0) -> 0 | AC95: Each | AF95: =ROUND(AD95*AE95,0) -> 0 | AG95: Each | AJ95: =ROUND(AH95*AI95,0) -> 0 | AK95: Each | AN95: =ROUND(AL95*AM95,0) -> 0 | AO95: Each | AR95: =ROUND(AP95*AQ95,0) -> 0 | AS95: Each | AV95: =ROUND(AT95*AU95,0) -> 0
B96: <Specific local subgrant activity> | E96: Each | H96: =ROUND(F96*G96,0) -> 0 | I96: Each | L96: =ROUND(J96*K96,0) -> 0 | M96: Each | P96: =ROUND(N96*O96,0) -> 0 | Q96: Each | T96: =ROUND(R96*S96,0) -> 0 | U96: Each | X96: =ROUND(V96*W96,0) -> 0 | Y96: Each | AB96: =ROUND(Z96*AA96,0) -> 0 | AC96: Each | AF96: =ROUND(AD96*AE96,0) -> 0 | AG96: Each | AJ96: =ROUND(AH96*AI96,0) -> 0 | AK96: Each | AN96: =ROUND(AL96*AM96,0) -> 0 | AO96: Each | AR96: =ROUND(AP96*AQ96,0) -> 0 | AS96: Each | AV96: =ROUND(AT96*AU96,0) -> 0
B97: <Specific local subgrant activity> | E97: Each | H97: =ROUND(F97*G97,0) -> 0 | I97: Each | L97: =ROUND(J97*K97,0) -> 0 | M97: Each | P97: =ROUND(N97*O97,0) -> 0 | Q97: Each | T97: =ROUND(R97*S97,0) -> 0 | U97: Each | X97: =ROUND(V97*W97,0) -> 0 | Y97: Each | AB97: =ROUND(Z97*AA97,0) -> 0 | AC97: Each | AF97: =ROUND(AD97*AE97,0) -> 0 | AG97: Each | AJ97: =ROUND(AH97*AI97,0) -> 0 | AK97: Each | AN97: =ROUND(AL97*AM97,0) -> 0 | AO97: Each | AR97: =ROUND(AP97*AQ97,0) -> 0 | AS97: Each | AV97: =ROUND(AT97*AU97,0) -> 0
A99: SUBTOTAL SUBGRANTS | H99: =SUM(H91:H98) -> 0 | L99: =SUM(L91:L98) -> 0 | P99: =SUM(P91:P98) -> 0 | T99: =SUM(T91:T98) -> 0 | X99: =SUM(X91:X98) -> 0 | AB99: =SUM(AB91:AB98) -> 0 | AF99: =SUM(AF91:AF98) -> 0 | AJ99: =SUM(AJ91:AJ98) -> 0 | AN99: =SUM(AN91:AN98) -> 0 | AR99: =SUM(AR91:AR98) -> 0 | AV99: =SUM(AV91:AV98) -> 0
A101: TOTAL CONTRACTUAL/SUBAWARD | H101: =H80+H90+H99 -> 0 | L101: =L80+L90+L99 -> 0 | P101: =P80+P90+P99 -> 0 | T101: =T80+T90+T99 -> 0 | X101: =X80+X90+X99 -> 0 | AB101: =AB80+AB90+AB99 -> 0 | AF101: =AF80+AF90+AF99 -> 0 | AJ101: =AJ80+AJ90+AJ99 -> 0 | AN101: =AN80+AN90+AN99 -> 0 | AR101: =AR80+AR90+AR99 -> 0 | AV101: =AV80+AV90+AV99 -> 0
A103: OTHER DIRECT COSTS
B105: Tuition including intensive English | E105: Year | H105: =ROUND(F105*G105,0) -> 0 | I105: Year | L105: =ROUND(J105*K105,0) -> 0 | M105: Year | P105: =ROUND(N105*O105,0) -> 0 | Q105: Year | T105: =ROUND(R105*S105,0) -> 0 | U105: Year | X105: =ROUND(V105*W105,0) -> 0 | Y105: Year | AB105: =ROUND(Z105*AA105,0) -> 0 | AC105: Year | AF105: =ROUND(AD105*AE105,0) -> 0 | AG105: Year | AJ105: =ROUND(AH105*AI105,0) -> 0 | AK105: Year | AN105: =ROUND(AL105*AM105,0) -> 0 | AO105: Year | AR105: =ROUND(AP105*AQ105,0) -> 0 | AS105: Year | AV105: =ROUND(AT105*AU105,0) -> 0
B106: Tuition including intensive English for Refugees | E106: Year | H106: =ROUND(F106*G106,0) -> 0 | I106: Year | L106: =ROUND(J106*K106,0) -> 0 | M106: Year | P106: =ROUND(N106*O106,0) -> 0 | Q106: Year | T106: =ROUND(R106*S106,0) -> 0 | U106: Year | X106: =ROUND(V106*W106,0) -> 0 | Y106: Year | AB106: =ROUND(Z106*AA106,0) -> 0 | AC106: Year | AF106: =ROUND(AD106*AE106,0) -> 0 | AG106: Year | AJ106: =ROUND(AH106*AI106,0) -> 0 | AK106: Year | AN106: =ROUND(AL106*AM106,0) -> 0 | AO106: Year | AR106: =ROUND(AP106*AQ106,0) -> 0 | AS106: Year | AV106: =ROUND(AT106*AU106,0) -> 0
B107: Transportation allowance | E107: Year | H107: =ROUND(F107*G107,0) -> 0 | I107: Year | L107: =ROUND(J107*K107,0) -> 0 | M107: Year | P107: =ROUND(N107*O107,0) -> 0 | Q107: Year | T107: =ROUND(R107*S107,0) -> 0 | U107: Year | X107: =ROUND(V107*W107,0) -> 0 | Y107: Year | AB107: =ROUND(Z107*AA107,0) -> 0 | AC107: Year | AF107: =ROUND(AD107*AE107,0) -> 0 | AG107: Year | AJ107: =ROUND(AH107*AI107,0) -> 0 | AK107: Year | AN107: =ROUND(AL107*AM107,0) -> 0 | AO107: Year | AR107: =ROUND(AP107*AQ107,0) -> 0 | AS107: Year | AV107: =ROUND(AT107*AU107,0) -> 0
B108: Housing | E108: Year | H108: =ROUND(F108*G108,0) -> 0 | I108: Year | L108: =ROUND(J108*K108,0) -> 0 | M108: Year | P108: =ROUND(N108*O108,0) -> 0 | Q108: Year | T108: =ROUND(R108*S108,0) -> 0 | U108: Year | X108: =ROUND(V108*W108,0) -> 0 | Y108: Year | AB108: =ROUND(Z108*AA108,0) -> 0 | AC108: Year | AF108: =ROUND(AD108*AE108,0) -> 0 | AG108: Year | AJ108: =ROUND(AH108*AI108,0) -> 0 | AK108: Year | AN108: =ROUND(AL108*AM108,0) -> 0 | AO108: Year | AR108: =ROUND(AP108*AQ108,0) -> 0 | AS108: Year | AV108: =ROUND(AT108*AU108,0) -> 0
B109: Housing - Refugees | E109: Year | H109: =ROUND(F109*G109,0) -> 0 | I109: Year | L109: =ROUND(J109*K109,0) -> 0 | M109: Year | P109: =ROUND(N109*O109,0) -> 0 | Q109: Year | T109: =ROUND(R109*S109,0) -> 0 | U109: Year | X109: =ROUND(V109*W109,0) -> 0 | Y109: Year | AB109: =ROUND(Z109*AA109,0) -> 0 | AC109: Year | AF109: =ROUND(AD109*AE109,0) -> 0 | AG109: Year | AJ109: =ROUND(AH109*AI109,0) -> 0 | AK109: Year | AN109: =ROUND(AL109*AM109,0) -> 0 | AO109: Year | AR109: =ROUND(AP109*AQ109,0) -> 0 | AS109: Year | AV109: =ROUND(AT109*AU109,0) -> 0
B110: Stipends + Books + other fees | E110: Year | H110: =ROUND(F110*G110,0) -> 0 | I110: Year | L110: =ROUND(J110*K110,0) -> 0 | M110: Year | P110: =ROUND(N110*O110,0) -> 0 | Q110: Year | T110: =ROUND(R110*S110,0) -> 0 | U110: Year | X110: =ROUND(V110*W110,0) -> 0 | Y110: Year | AB110: =ROUND(Z110*AA110,0) -> 0 | AC110: Year | AF110: =ROUND(AD110*AE110,0) -> 0 | AG110: Year | AJ110: =ROUND(AH110*AI110,0) -> 0 | AK110: Year | AN110: =ROUND(AL110*AM110,0) -> 0 | AO110: Year | AR110: =ROUND(AP110*AQ110,0) -> 0 | AS110: Year | AV110: =ROUND(AT110*AU110,0) -> 0
B111: Stipends + Books + other fees - Refugees | E111: Year | H111: =ROUND(F111*G111,0) -> 0 | I111: Year | L111: =ROUND(J111*K111,0) -> 0 | M111: Year | P111: =ROUND(N111*O111,0) -> 0 | Q111: Year | T111: =ROUND(R111*S111,0) -> 0 | U111: Year | X111: =ROUND(V111*W111,0) -> 0 | Y111: Year | AB111: =ROUND(Z111*AA111,0) -> 0 | AC111: Year | AF111: =ROUND(AD111*AE111,0) -> 0 | AG111: Year | AJ111: =ROUND(AH111*AI111,0) -> 0 | AK111: Year | AN111: =ROUND(AL111*AM111,0) -> 0 | AO111: Year | AR111: =ROUND(AP111*AQ111,0) -> 0 | AS111: Year | AV111: =ROUND(AT111*AU111,0) -> 0
B112: Medical Insurance | E112: Year | H112: =ROUND(F112*G112,0) -> 0 | I112: Year | L112: =ROUND(J112*K112,0) -> 0 | M112: Year | P112: =ROUND(N112*O112,0) -> 0 | Q112: Year | T112: =ROUND(R112*S112,0) -> 0 | U112: Year | X112: =ROUND(V112*W112,0) -> 0 | Y112: Year | AB112: =ROUND(Z112*AA112,0) -> 0 | AC112: Year | AF112: =ROUND(AD112*AE112,0) -> 0 | AG112: Year | AJ112: =ROUND(AH112*AI112,0) -> 0 | AK112: Year | AN112: =ROUND(AL112*AM112,0) -> 0 | AO112: Year | AR112: =ROUND(AP112*AQ112,0) -> 0 | AS112: Year | AV112: =ROUND(AT112*AU112,0) -> 0
B113: Microfunds for community service projects | E113: Year | H113: =ROUND(F113*G113,0) -> 0 | I113: Year | L113: =ROUND(J113*K113,0) -> 0 | M113: Year | P113: =ROUND(N113*O113,0) -> 0 | Q113: Year | T113: =ROUND(R113*S113,0) -> 0 | U113: Year | X113: =ROUND(V113*W113,0) -> 0 | Y113: Year | AB113: =ROUND(Z113*AA113,0) -> 0 | AC113: Year | AF113: =ROUND(AD113*AE113,0) -> 0 | AG113: Year | AJ113: =ROUND(AH113*AI113,0) -> 0 | AK113: Year | AN113: =ROUND(AL113*AM113,0) -> 0 | AO113: Year | AR113: =ROUND(AP113*AQ113,0) -> 0 | AS113: Year | AV113: =ROUND(AT113*AU113,0) -> 0
B114: Staff Development Costs | E114: Each | H114: =ROUND(F114*G114,0) -> 0 | I114: Each | L114: =ROUND(J114*K114,0) -> 0 | M114: Each | P114: =ROUND(N114*O114,0) -> 0 | Q114: Each | T114: =ROUND(R114*S114,0) -> 0 | U114: Each | X114: =ROUND(V114*W114,0) -> 0 | Y114: Each | AB114: =ROUND(Z114*AA114,0) -> 0 | AC114: Each | AF114: =ROUND(AD114*AE114,0) -> 0 | AG114: Each | AJ114: =ROUND(AH114*AI114,0) -> 0 | AK114: Each | AN114: =ROUND(AL114*AM114,0) -> 0 | AO114: Each | AR114: =ROUND(AP114*AQ114,0) -> 0 | AS114: Each | AV114: =ROUND(AT114*AU114,0) -> 0
B115: Project Financial Audit Costs | H115: =ROUND(F115*G115,0) -> 0 | L115: =ROUND(J115*K115,0) -> 0 | P115: =ROUND(N115*O115,0) -> 0 | T115: =ROUND(R115*S115,0) -> 0 | X115: =ROUND(V115*W115,0) -> 0 | AB115: =ROUND(Z115*AA115,0) -> 0 | AF115: =ROUND(AD115*AE115,0) -> 0 | AJ115: =ROUND(AH115*AI115,0) -> 0 | AN115: =ROUND(AL115*AM115,0) -> 0 | AR115: =ROUND(AP115*AQ115,0) -> 0 | AV115: =ROUND(AT115*AU115,0) -> 0
B116: <Insert more ODC lines here> | H116: =ROUND(F116*G116,0) -> 0 | L116: =ROUND(J116*K116,0) -> 0 | P116: =ROUND(N116*O116,0) -> 0 | T116: =ROUND(R116*S116,0) -> 0 | X116: =ROUND(V116*W116,0) -> 0 | AB116: =ROUND(Z116*AA116,0) -> 0 | AF116: =ROUND(AD116*AE116,0) -> 0 | AJ116: =ROUND(AH116*AI116,0) -> 0 | AN116: =ROUND(AL116*AM116,0) -> 0 | AR116: =ROUND(AP116*AQ116,0) -> 0 | AV116: =ROUND(AT116*AU116,0) -> 0
A118: TOTAL OTHER DIRECT COSTS | H118: =SUM(H103:H117) -> 0 | L118: =SUM(L103:L117) -> 0 | P118: =SUM(P103:P117) -> 0 | T118: =SUM(T103:T117) -> 0 | X118: =SUM(X103:X117) -> 0 | AB118: =SUM(AB103:AB117) -> 0 | AF118: =SUM(AF103:AF117) -> 0 | AJ118: =SUM(AJ103:AJ117) -> 0 | AN118: =SUM(AN103:AN117) -> 0 | AR118: =SUM(AR103:AR117) -> 0 | AV118: =SUM(AV103:AV117) -> 0
A120: DIRECT COSTS
A122: INDIRECT COSTS
B124: Overhead | E124: Indirect | G124: =H27+H33+H101 -> 0 | H124: =ROUND(F124*G124,0) -> 0 | I124: Indirect | K124: =L27+L33+L101 -> 0 | L124: =ROUND(J124*K124,0) -> 0 | M124: Indirect | O124: =P27+P33+P101 -> 0 | P124: =ROUND(N124*O124,0) -> 0 | Q124: Indirect | S124: =T27+T33+T101 -> 0 | T124: =ROUND(R124*S124,0) -> 0 | U124: Indirect | W124: =X27+X33+X101 -> 0 | X124: =ROUND(V124*W124,0) -> 0 | Y124: Indirect | AA124: =AB27+AB33+AB101 -> 0 | AB124: =ROUND(Z124*AA124,0) -> 0 | AC124: Indirect | AE124: =AF27+AF33+AF101 -> 0 | AF124: =ROUND(AD124*AE124,0) -> 0 | AG124: Indirect | AI124: =AJ27+AJ33+AJ101 -> 0 | AJ124: =ROUND(AH124*AI124,0) -> 0 | AK124: Indirect | AM124: =AN27+AN33+AN101 -> 0 | AN124: =ROUND(AL124*AM124,0) -> 0 | AO124: Indirect | AQ124: =AR27+AR33+AR101 -> 0 | AR124: =ROUND(AP124*AQ124,0) -> 0 | AS124: Indirect | AU124: =AV27+AV33+AV101 -> 0 | AV124: =ROUND(AT124*AU124,0) -> 0
B125: Crisis Modifier | H125: =ROUND(F125*G125,0) -> 0 | L125: =ROUND(J125*K125,0) -> 0 | P125: =ROUND(N125*O125,0) -> 0 | T125: =ROUND(R125*S125,0) -> 0 | X125: =ROUND(V125*W125,0) -> 0 | AB125: =ROUND(Z125*AA125,0) -> 0 | AF125: =ROUND(AD125*AE125,0) -> 0 | AJ125: =ROUND(AH125*AI125,0) -> 0 | AN125: =ROUND(AL125*AM125,0) -> 0 | AR125: =ROUND(AP125*AQ125,0) -> 0 | AV125: =ROUND(AT125*AU125,0) -> 0
B126: <Insert more Indirect Cost lines here>
A128: TOTAL INDIRECT COSTS | H128: =SUM(H123:H127) -> 0 | L128: =SUM(L123:L127) -> 0 | P128: =SUM(P123:P127) -> 0 | T128: =SUM(T123:T127) -> 0 | X128: =SUM(X123:X127) -> 0 | AB128: =SUM(AB123:AB127) -> 0 | AF128: =SUM(AF123:AF127) -> 0 | AJ128: =SUM(AJ123:AJ127) -> 0 | AN128: =SUM(AN123:AN127) -> 0 | AR128: =SUM(AR123:AR127) -> 0 | AV128: =SUM(AV123:AV127) -> 0
A130: TOTAL COST SHARING | H130: =SUM(H125:H129) -> 0 | L130: =SUM(L125:L129) -> 0 | P130: =SUM(P125:P129) -> 0 | T130: =SUM(T125:T129) -> 0 | X130: =SUM(X125:X129) -> 0 | AB130: =SUM(AB125:AB129) -> 0 | AF130: =SUM(AF125:AF129) -> 0 | AJ130: =SUM(AJ125:AJ129) -> 0 | AN130: =SUM(AN125:AN129) -> 0 | AR130: =SUM(AR125:AR129) -> 0 | AV130: =SUM(AV125:AV129) -> 0
A132: TOTAL COSTS | AR132: 200000

Sheet Formula Sheet
D1: CountryName
D2: Afghanistan
D3: Aland Islands
A4: Day | D4: Albania
A5: Month | D5: Algeria
A6: Year | D6: American Samoa
A7: Each | D7: Andorra
A8: Percent | D8: Angola
A9: Total | D9: Anguilla
A10: Indirect | D10: Antarctica
A11: Fee | D11: Antigua And Barbuda
A12: N/A | D12: Argentina
D13: Armenia
D14: Aruba
D15: Australia
D16: Austria
D17: Azerbaijan
D18: Bahamas
D19: Bahrain
D20: Bangladesh
D21: Barbados
D22: Belarus
D23: Belgium
D24: Belize
... D245: (Not Specified)
