Workbook
Name Text156: 'Cost Share'!#REF!
Name Text157: 'Cost Share'!#REF!
Name Text158: 'Cost Share'!#REF!

Sheet Instructions and Summary
A1: Budget Justification for SF 424A Budget | E1: Last Updated / Version # : | G1: 07/07/2023 V 2
A2: Instructions and Summary
A3: Control Number: | D3: Original Date of Submission:
A4: Award Recipient: | D4: Submitted by: | G4: (Recipient or Subrecipient)
A6: Please read the instructions on each tab before starting. If you have any questions, please submit to NITRO@arpa-h.gov. Double check all fields highlighted in yellow!
A7: • This worksheet auto populates when data is entered on subsequent tabs (a. Personnel, b. Fringe Benefits, c. Travel, d. Equipment, e. Supplies, f. Contractual, g. Other, h. Indirect Costs, Cost Share). The term “tab” refers to a worksheet within the Budget Justification Workbook. Each tab may be found and accessed at the bottom of this Workbook. On this Instructions and Summary tab the award recipient should update Control Number, Award Recipient, Original Date of Submission, Submitted By and the Comments section as needed. If this is a new version please ensure to update the Last Updated / Version # in the top right of this sheet. X • The Prime Recipient must complete this Budget Justification Workbook. In addition, each Subrecipient incurring greater than or equal to 10% of the Total Project Cost must complete an additional Budget Justification Workbook to justify its proposed budget. The Subrecipient's Budget Justification Workbook total project costs must match the amount on tab f. Contractual in the Prime Recipient’s Budget Justification Workbook. All documents should be submitted as one package to ARPA-H, however, subrecipients can provide budget documents directly to ARPA-H if necessary. The Prime Recipient’s Budget Justification Workbook will not be reviewed until all supporting documentation is submitted. • The total budget presented in the Budget Justification Workbook and the SF-424A must include both Federal (ARPA-H) and Non-Federal (cost share) expenditures, the sum of which equals the Total Project Cost proposed by the Applicant. All costs, whether paid with Federal funding or by the Project Team, must be justified. • Each budget category will automatically populate in the second tab in this Budget Justification Workbook (SF-424A). The totals in each budget category and the Total Project Cost must be the same in the SF-424A and the Budget Justification Workbook. The award recipient must review the SF-424A, fill in the award number and fill in Section D (Projected Cash Flows) in the SF-424A tab. • All costs incurred by the Prime Recipient’s Subrecipients, vendors, contractors, consultants and Federally Funded Research and Development Centers (FFRDCs), must be entered in tab f. Contractual. All other sections are for the costs of the Prime Recipient only. • No individual may be paid more than $212,100 per year under an ARPA-H funding agreement. • All expenditures must be allowable, allocable, and reasonable in accordance with the applicable Federal cost principles.
A9: SUMMARY OF BUDGET CATEGORY COSTS PROPOSED (Note: The values in this summary table are from entries made in each budget category tab.)
A10: CATEGORY | B10: Year 1 | C10: Year 2 | D10: Year 3 | E10: Year 4 | F10: Year 5 | G10: Total Costs | H10: Project Costs % | I10: Comments (Add comments as needed)
A11: a. Personnel | B11: =ROUND('a. Personnel'!E180,0) -> 0 | C11: =ROUND('a. Personnel'!H180,0) -> 0 | D11: =ROUND('a. Personnel'!K180,0) -> 0 | E11: =ROUND('a. Personnel'!N180,0) -> 0 | F11: =ROUND('a. Personnel'!Q180,0) -> 0 | G11: =SUM(B11:F11) -> 0 | H11: =IFERROR(G11/$G$24,"")
A12: b. Fringe Benefits | B12: =ROUND('b. Fringe Benefits'!D10,0) -> 0 | C12: =ROUND('b. Fringe Benefits'!E10,0) -> 0 | D12: =ROUND('b. Fringe Benefits'!F10,0) -> 0 | E12: =ROUND('b. Fringe Benefits'!G10,0) -> 0 | F12: =ROUND('b. Fringe Benefits'!H10,0) -> 0 | G12: =SUM(B12:F12) -> 0 | H12: =IFERROR(G12/$G$24,"")
A13: c. Travel | B13: =ROUND('c. Travel'!G48,0) -> 0 | C13: =ROUND('c. Travel'!G91,0) -> 0 | D13: =ROUND('c. Travel'!G134,0) -> 0 | E13: =ROUND('c. Travel'!G177,0) -> 0 | F13: =ROUND('c. Travel'!G220,0) -> 0 | G13: =SUM(B13:F13) -> 0 | H13: =IFERROR(G13/$G$24,"")
A14: d. Equipment | B14: =ROUND('d. Equipment'!D80,0) -> 0 | C14: =ROUND('d. Equipment'!D153,0) -> 0 | D14: =ROUND('d. Equipment'!D226,0) -> 0 | E14: =ROUND('d. Equipment'!D299,0) -> 0 | F14: =ROUND('d. Equipment'!D372,0) -> 0 | G14: =SUM(B14:F14) -> 0 | H14: =IFERROR(G14/$G$24,"")
A15: e. Supplies | B15: =ROUND('e. Supplies'!D80,0) -> 0 | C15: =ROUND('e. Supplies'!D153,0) -> 0 | D15: =ROUND('e. Supplies'!B372,0) -> 0 | E15: =ROUND('e. Supplies'!C372,0) -> 0 | F15: =ROUND('e. Supplies'!D372,0) -> 0 | G15: =SUM(B15:F15) -> 0 | H15: =IFERROR(G15/$G$24,"")
A16: f. Contractual
A17: Sub-recipient | B17: =ROUND('f. Contractual'!C21,0) -> 0 | C17: =ROUND('f. Contractual'!D21,0) -> 0 | D17: =ROUND('f. Contractual'!C21,0) -> 0 | E17: =ROUND('f. Contractual'!D21,0) -> 0 | F17: =ROUND('f. Contractual'!E21,0) -> 0 | G17: =SUM(B17:F17) -> 0 | H17: =IFERROR(G17/$G$24,"")
A18: FFRDC | B18: =ROUND('f. Contractual'!C48,0) -> 0 | C18: =ROUND('f. Contractual'!D48,0) -> 0 | D18: =ROUND('f. Contractual'!C48,0) -> 0 | E18: =ROUND('f. Contractual'!D48,0) -> 0 | F18: =ROUND('f. Contractual'!E48,0) -> 0 | G18: =SUM(B18:F18) -> 0 | H18: =IFERROR(G18/$G$24,"")
A19: Vendor | B19: =ROUND('f. Contractual'!C35,0) -> 0 | C19: =ROUND('f. Contractual'!D35,0) -> 0 | D19: =ROUND('f. Contractual'!C35,0) -> 0 | E19: =ROUND('f. Contractual'!D35,0) -> 0 | F19: =ROUND('f. Contractual'!E35,0) -> 0 | G19: =SUM(B19:F19) -> 0 | H19: =IFERROR(G19/$G$24,"")
A20: Total Contractual | B20: =SUM(B17:B19) -> 0 | C20: =SUM(C17:C19) -> 0 | D20: =SUM(D17:D19) -> 0 | E20: =SUM(E17:E19) -> 0 | F20: =SUM(F17:F19) -> 0 | G20: =SUM(G17:G19) -> 0 | H20: =IFERROR(G20/$G$24,"")
A21: g. Construction | B21: =ROUND('g. Construction'!B16,0) -> 0 | C21: =ROUND('g. Construction'!B24,0) -> 0 | D21: =ROUND('g. Construction'!B32,0) -> 0 | E21: =ROUND('g. Construction'!B40,0) -> 0 | F21: =ROUND('g. Construction'!B48,0) -> 0 | G21: =SUM(B21:F21) -> 0 | H21: =IFERROR(G21/$G$24,"")
A22: h. Other Direct Costs | B22: =ROUND('h. Other'!B44,0) -> 0 | C22: =ROUND('h. Other'!B67,0) -> 0 | D22: =ROUND('h. Other'!B90,0) -> 0 | E22: =ROUND('h. Other'!B113,0) -> 0 | F22: =ROUND('h. Other'!B136,0) -> 0 | G22: =SUM(B22:F22) -> 0 | H22: =IFERROR(G22/$G$24,"")
A23: i. Indirect Charges | B23: =ROUND('i. Indirect Costs'!D9,0) -> 0 | C23: =ROUND('i. Indirect Costs'!E9,0) -> 0 | D23: =ROUND('i. Indirect Costs'!F9,0) -> 0 | E23: =ROUND('i. Indirect Costs'!G9,0) -> 0 | F23: =ROUND('i. Indirect Costs'!H9,0) -> 0 | G23: =SUM(B23:F23) -> 0 | H23: =IFERROR(G23/$G$24,"")
A24: Total Project Costs | B24: =SUM(B11:B15,B20:B23) -> 0 | C24: =SUM(C11:C15,C20:C23) -> 0 | D24: =SUM(D11:D15,D20:D23) -> 0 | E24: =SUM(E11:E15,E20:E23) -> 0 | F24: =SUM(F11:F15,F20:F23) -> 0 | G24: =SUM(G11:G15,G20:G23) -> 0 | H24: =IFERROR(SUM(H11:H23)-H20,"")
A26: Additional Explanations/Comments (as necessary):

Sheet SF-424A (Rev. 4-92) 
A1: Applicant Name: | E1: Award Number:
A2: Budget Information - Non Construction Programs
A3: OMB Approval No. 0348-0044
A4: Section A - Budget Summary
B5: Grant Program Function or Activity | C5: Catalog of Federal Domestic Assistance Number | D5: Estimated Unobligated Funds | F5: New or Revised Budget
D6: Federal | E6: Non-Federal | F6: Federal | G6: Non-Federal | H6: Total
B7: (a) | C7: (b) | D7: (c ) | E7: (d) | F7: (e) | G7: (f) | H7: (g)
A8: 1. | H8: =SUM(D8:G8) -> 0
A9: 2. | H9: =SUM(D9:G9) -> 0
A10: 3. | H10: =SUM(D10:G10) -> 0
A11: 4. | H11: =SUM(D11:G11) -> 0
A12: 5. | B12: Totals | D12: =SUM(D8:D11) -> 0 | E12: =SUM(E8:E11) -> 0 | F12: =SUM(F8:F11) -> 0 | G12: =SUM(G8:G11) -> 0 | H12: =SUM(H8:H11) -> 0
A13: Section B - Budget Categories
A14: 6. | B14: Object Class Categories | D14: Grant Program, Function or Activity | H14: Total (5)
D15: (1) | E15: (2) | F15: (3) | G15: (4)
B16: a. Personnel | H16: =SUM(D16:G16) -> 0
B17: b. Fringe Benefits | H17: =SUM(D17:G17) -> 0
B18: c. Travel | H18: =SUM(D18:G18) -> 0
B19: d. Equipment | H19: =SUM(D19:G19) -> 0
B20: e. Supplies | H20: =SUM(D20:G20) -> 0
B21: f. Contractual | H21: =SUM(D21:G21) -> 0
B22: g. Construction | H22: =SUM(D22:G22) -> 0
B23: h. Other | H23: =SUM(D23:G23) -> 0
B24: i. Total Direct Charges (sum of 6a-6h) | D24: =SUM(D16:D23) -> 0 | E24: =SUM(E16:E23) -> 0 | F24: =SUM(F16:F23) -> 0 | G24: =SUM(G16:G23) -> 0 | H24: =SUM(D24:G24) -> 0
B25: j. Indirect Charges | H25: =SUM(D25:G25) -> 0
B26: k. Totals (sum of 6i-6j) | D26: =SUM(D24:D25) -> 0 | E26: =SUM(E24:E25) -> 0 | F26: =SUM(F24:F25) -> 0 | G26: =SUM(G24:G25) -> 0 | H26: =SUM(H24:H25) -> 0
A28: 7. | B28: Program Income | H28: =SUM(D28:G28) -> 0
H30: SF-424A (Rev. 4-92)
A31: Previous Edition Usable | G31: Prescribed by OMB Circular A-102
A32: Authorized for Local Reproduction
A34: Section C - Non-Federal Resources
B35: (a) Grant Program | E35: (b) Applicant | F35: (c ) State | G35: (d) Other Sources | H35: (e) Totals
A36: 8. | H36: =SUM(E36:G36) -> 0
A37: 9. | H37: =SUM(E37:G37) -> 0
A38: 10. | H38: =SUM(E38:G38) -> 0
A39: 11. | H39: =SUM(E39:G39) -> 0
A40: 12. | B40: Total (sum of lines 8 - 11) | E40: =SUM(E36:E39) -> 0 | F40: =SUM(F36:F39) -> 0 | G40: =SUM(G36:G39) -> 0 | H40: =SUM(H36:H39) -> 0
A41: Section D - Forecasted Cash Needs
D42: Total for 1st Year | E42: 1st Quarter | F42: 2nd Quarter | G42: 3rd Quarter | H42: 4th quarter
A43: 13. | B43: Federal | D43: =SUM(E43:H43) -> 0
...

Sheet SF-424A
A1: Applicant Name: | C1: ='Instructions and Summary'!B4 -> 0 | E1: Award Number:
A2: Budget Information - Non Construction Programs
A3: OMB Approval No. 0348-0044
A4: Section A - Budget Summary
B5: Grant Program Function or Activity | C5: Catalog of Federal Domestic Assistance Number | D5: Estimated Unobligated Funds | F5: New or Revised Budget
D6: Federal | E6: Non-Federal | F6: Federal | G6: Non-Federal | H6: Total
B7: (a) | C7: (b) | D7: (c ) | E7: (d) | F7: (e) | G7: (f) | H7: (g)
A8: 1. | B8: Budget period 1 | C8: 93.384 | F8: =ROUND($D$28-G8,0) -> 0 | G8: =ROUND('Cost Share'!E25,0) -> 0 | H8: =SUM(D8:G8) -> 0
A9: 2. | B9: Budget period 2 | C9: 93.384 | F9: =ROUND($E$28-G9,0) -> 0 | G9: =ROUND('Cost Share'!F25,0) -> 0 | H9: =SUM(D9:G9) -> 0
A10: 3. | B10: Budget period 3 | C10: 93.384 | F10: =ROUND($H$28-G10,0) -> 0 | G10: =ROUND('Cost Share'!I25,0) -> 0 | H10: =SUM(D10:G10) -> 0
A11: 4. | B11: Budget period 4 | C11: 93.384
A12: 5. | B12: Budget period 5 | C12: 93.384
A13: 6. | B13: Totals | D13: =SUM(D8:D12) -> 0 | E13: =SUM(E8:E12) -> 0 | F13: =SUM(F8:F12) -> 0 | G13: =SUM(G8:G12) -> 0 | H13: =SUM(H8:H12) -> 0
A14: Section B - Budget Categories
A16: 7. | B16: Object Class Categories | D16: Grant Program, Function or Activity | I16: Total
D17: Budget period 1 | E17: Budget period 2 | F17: Budget period 3 | G17: Budget period 4 | H17: Budget period 5
B18: a. Personnel | D18: ='Instructions and Summary'!B11 -> 0 | E18: ='Instructions and Summary'!C11 -> 0 | F18: ='Instructions and Summary'!D11 -> 0 | G18: ='Instructions and Summary'!E11 -> 0 | H18: ='Instructions and Summary'!F11 -> 0 | I18: =SUM(D18:H18) -> 0
B19: b. Fringe Benefits | D19: ='Instructions and Summary'!B12 -> 0 | E19: ='Instructions and Summary'!C12 -> 0 | F19: ='Instructions and Summary'!D12 -> 0 | G19: ='Instructions and Summary'!E12 -> 0 | H19: ='Instructions and Summary'!F12 -> 0 | I19: =SUM(D19:H19) -> 0
B20: c. Travel | D20: ='Instructions and Summary'!B13 -> 0 | E20: ='Instructions and Summary'!C13 -> 0 | F20: ='Instructions and Summary'!D13 -> 0 | G20: ='Instructions and Summary'!E13 -> 0 | H20: ='Instructions and Summary'!F13 -> 0 | I20: =SUM(D20:H20) -> 0
B21: d. Equipment | D21: ='Instructions and Summary'!B14 -> 0 | E21: ='Instructions and Summary'!C14 -> 0 | F21: ='Instructions and Summary'!D14 -> 0 | G21: ='Instructions and Summary'!E14 -> 0 | H21: ='Instructions and Summary'!F14 -> 0 | I21: =SUM(D21:H21) -> 0
B22: e. Supplies | D22: ='Instructions and Summary'!B15 -> 0 | E22: ='Instructions and Summary'!C15 -> 0 | F22: ='Instructions and Summary'!D15 -> 0 | G22: ='Instructions and Summary'!E15 -> 0 | H22: ='Instructions and Summary'!F15 -> 0 | I22: =SUM(D22:H22) -> 0
B23: f. Contractual | D23: ='Instructions and Summary'!B20 -> 0 | E23: ='Instructions and Summary'!C20 -> 0 | F23: ='Instructions and Summary'!D16 -> 0 | G23: ='Instructions and Summary'!E20 -> 0 | H23: ='Instructions and Summary'!F20 -> 0 | I23: =SUM(D23:H23) -> 0
B24: g. Construction | D24: ='Instructions and Summary'!B21 -> 0 | E24: ='Instructions and Summary'!C21 -> 0 | F24: ='Instructions and Summary'!D17 -> 0 | G24: ='Instructions and Summary'!E21 -> 0 | H24: ='Instructions and Summary'!F21 -> 0 | I24: =SUM(D24:H24) -> 0
B25: h. Other | D25: ='Instructions and Summary'!B22 -> 0 | E25: ='Instructions and Summary'!C22 -> 0 | F25: ='Instructions and Summary'!D18 -> 0 | G25: ='Instructions and Summary'!E22 -> 0 | H25: ='Instructions and Summary'!F22 -> 0 | I25: =SUM(D25:H25) -> 0
B26: i. Total Direct Charges (sum of 6a-6h) | D26: =SUM(D18:D25) -> 0 | E26: =SUM(E18:E25) -> 0 | F26: ='Instructions and Summary'!D19 -> 0 | G26: =SUM(G18:G25) -> 0 | H26: =SUM(H18:H25) -> 0 | I26: =SUM(D26:H26) -> 0
B27: j. Indirect Charges | D27: ='Instructions and Summary'!B23 -> 0 | E27: ='Instructions and Summary'!C23 -> 0 | F27: ='Instructions and Summary'!D20 -> 0 | G27: ='Instructions and Summary'!E23 -> 0 | H27: ='Instructions and Summary'!F23 -> 0 | I27: =SUM(D27:H27) -> 0
B28: k. Totals (sum of 7i-7j) | D28: =SUM(D26:D27) -> 0 | E28: =SUM(E26:E27) -> 0 | F28: ='Instructions and Summary'!D21 -> 0 | G28: =SUM(G26:G27) -> 0 | H28: =SUM(H26:H27) -> 0 | I28: =SUM(I26:I27) -> 0
A30: 8. | B30: Program Income | I30: =SUM(D30:H30) -> 0
H32: SF-424A (Rev. 4-92)
A33: Previous Edition Usable | G33: Prescribed by OMB Circular A-102
A34: Authorized for Local Reproduction
A36: Section C - Non-Federal Resources
B37: (a) Grant Program | E37: (b) Applicant | F37: (c ) State | G37: (d) Other Sources | H37: (e) Totals
A38: 9. | B38: Budget period 1 | E38: =ROUND('Cost Share'!M13,0) -> 0 | F38: =ROUND('Cost Share'!M14,0) -> 0 | G38: =ROUND('Cost Share'!M15,0) -> 0 | H38: =SUM(E38:G38) -> 0
A39: 10. | B39: Budget period 2 | E39: =ROUND('Cost Share'!N13,0) -> 0 | F39: =ROUND('Cost Share'!N14,0) -> 0 | G39: =ROUND('Cost Share'!N15,0) -> 0 | H39: =SUM(E39:G39) -> 0
A40: 11. | B40: Budget period 3 | E40: =ROUND('Cost Share'!O13,0) -> 0 | F40: =ROUND('Cost Share'!O14,0) -> 0 | G40: =ROUND('Cost Share'!O15,0) -> 0 | H40: =SUM(E40:G40) -> 0
A41: 12. | B41: Budget period 4 | E41: =ROUND('Cost Share'!P13,0) -> 0 | F41: =ROUND('Cost Share'!P14,0) -> 0 | G41: =ROUND('Cost Share'!P15,0) -> 0 | H41: =SUM(E41:G41) -> 0
A42: 13. | B42: Budget period 5 | E42: =ROUND('Cost Share'!Q13,0) -> 0 | F42: =ROUND('Cost Share'!Q14,0) -> 0 | G42: =ROUND('Cost Share'!Q15,0) -> 0 | H42: =SUM(E42:G42) -> 0
A43: 14. | H43: =SUM(E43:G43) -> 0
A44: 15. | B44: Total (sum of lines 8 - 11) | E44: =SUM(E38:E43) -> 0 | F44: =SUM(F38:F43) -> 0 | G44: =SUM(G38:G43) -> 0 | H44: =SUM(H38:H43) -> 0
...

Sheet a. Personnel
A1: Budget Justification for SF 424A Budget | D1: Award Recipient: | F1: ='Instructions and Summary'!B4 -> 0 | L1: ='Instructions and Summary'!G1 -> 07/07/2023 V 2
A2: a. Personnel
A3: PLEASE READ!!! List personnel costs solely for employees of the entity completing this workbook. All other personnel costs (of subrecipients or other contractual efforts of the entity preparing this) must be included under tab f., Contractual. This includes all consultants and FFRDCs. When submitting this Budget Justification Workbook include resumes in the same package. Identify positions to be supported. Key personnel should be identified by title. All other personnel should be identified either by title or a group category. State the amounts of time (e.g., hours ) to be expended, the base pay rate or composite base rate, total direct personnel compensation and identify the rate basis (e.g., actual salary, labor distribution report, technical estimate, state civil service rates, etc.). If composite rates are proposed for a particular position or group category, please provide a list of the proposed personnel and rates/hours used to compute the composite rates in the “Additional explanation/comments” box, as applicable. If you are proposing escalation rates for the labor rates, please explain in the “Additional explanation/comments” box at the bottom.
A6: Task # and Title | B6: Position Title | C6: Year 1 | F6: Year 2 | I6: Year 3 | L6: Year 4 | O6: Year 5 | R6: Total Hours | S6: Total Dollars | T6: Rate Basis
C7: Time (Hours) | D7: Pay Rate ($/Hr) | E7: Total Budget Period 1 | F7: Time (Hours) | G7: Pay Rate ($/Hr) | H7: Total Budget Period 2 | I7: Time (Hours) | J7: Pay Rate ($/Hr) | K7: Total Budget Period 3 | L7: Time (Hours) | M7: Pay Rate ($/Hr) | N7: Total Budget Period 3 | O7: Time (Hours) | P7: Pay Rate ($/Hr) | Q7: Total Budget Period 3
A8: 1. Generation 2A Receiver Design | C8: =SUM(C9:C11) -> 7960 | E8: =SUM(E9:E11) -> 372400 | F8: =SUM(F9:F11) -> 600 | H8: =SUM(H9:H11) -> 26000 | I8: =SUM(I9:I11) -> 800 | K8: =SUM(K9:K11) -> 34000 | L8: =SUM(L9:L11) -> 800 | N8: =SUM(N9:N11) -> 34000 | O8: =SUM(O9:O11) -> 800 | Q8: =SUM(Q9:Q11) -> 34000 | R8: =C8+F8+I8+L8+O8 -> 10960 | S8: =E8+H8+Q8 -> 432400 | T8: Actual Salary
A9: EXAMPLE ONLY!!! | B9: Sr. Engineer | C9: 2000 | D9: 85 | E9: =C9*D9 -> 170000 | F9: 200 | G9: 50 | H9: =F9*G9 -> 10000 | I9: 200 | J9: 50 | K9: =I9*J9 -> 10000 | L9: 200 | M9: 50 | N9: =L9*M9 -> 10000 | O9: 200 | P9: 50 | Q9: =O9*P9 -> 10000 | R9: =C9+F9+O9 -> 2400 | S9: =E9+H9+Q9 -> 190000 | T9: Actual Salary
B10: Electrical engineers (2) | C10: 4160 | D10: 40 | E10: =C10*D10 -> 166400 | F10: 400 | G10: 40 | H10: =F10*G10 -> 16000 | I10: 600 | J10: 40 | K10: =I10*J10 -> 24000 | L10: 600 | M10: 40 | N10: =L10*M10 -> 24000 | O10: 600 | P10: 40 | Q10: =O10*P10 -> 24000 | R10: =C10+F10+O10 -> 5160 | S10: =E10+H10+Q10 -> 206400 | T10: Actual Salary
B11: Technician | C11: 1800 | D11: 20 | E11: =C11*D11 -> 36000 | F11: 0 | G11: 0 | H11: =F11*G11 -> 0 | I11: 0 | J11: 0 | K11: =I11*J11 -> 0 | L11: 0 | M11: 0 | N11: =L11*M11 -> 0 | O11: 0 | P11: 0 | Q11: =O11*P11 -> 0 | R11: =C11+F11+O11 -> 1800 | S11: =E11+H11+Q11 -> 36000 | T11: Actual Salary
A12: 1. (Task 1 Title) | C12: =SUM(C13:C32) -> 0 | E12: =SUM(E13:E32) -> 0 | F12: =SUM(F13:F32) -> 0 | H12: =SUM(H13:H32) -> 0 | I12: =SUM(I13:I32) -> 0 | K12: =SUM(K13:K32) -> 0 | L12: =SUM(L13:L32) -> 0 | N12: =SUM(N13:N32) -> 0 | O12: =SUM(O13:O32) -> 0 | Q12: =SUM(Q13:Q32) -> 0 | R12: =C12+F12+I12+L12+O12 -> 0 | S12: =E12+H12+K12+N12+Q12 -> 0
E13: =C13*D13 -> 0 | H13: =F13*G13 -> 0 | K13: =I13*J13 -> 0 | N13: =L13*M13 -> 0 | Q13: =O13*P13 -> 0 | R13: =C13+F13+I13+L13+O13 -> 0 | S13: =E13+H13+Q13 -> 0
E14: =C14*D14 -> 0 | H14: =F14*G14 -> 0 | K14: =I14*J14 -> 0 | N14: =L14*M14 -> 0 | Q14: =O14*P14 -> 0 | R14: =C14+F14+I14+L14+O14 -> 0 | S14: =E14+H14+Q14 -> 0
E15: =C15*D15 -> 0 | H15: =F15*G15 -> 0 | K15: =I15*J15 -> 0 | N15: =L15*M15 -> 0 | Q15: =O15*P15 -> 0 | R15: =C15+F15+I15+L15+O15 -> 0 | S15: =E15+H15+Q15 -> 0
E16: =C16*D16 -> 0 | H16: =F16*G16 -> 0 | K16: =I16*J16 -> 0 | N16: =L16*M16 -> 0 | Q16: =O16*P16 -> 0 | R16: =C16+F16+I16+L16+O16 -> 0 | S16: =E16+H16+Q16 -> 0
E17: =C17*D17 -> 0 | H17: =F17*G17 -> 0 | K17: =I17*J17 -> 0 | N17: =L17*M17 -> 0 | Q17: =O17*P17 -> 0 | R17: =C17+F17+I17+L17+O17 -> 0 | S17: =E17+H17+Q17 -> 0
E18: =C18*D18 -> 0 | H18: =F18*G18 -> 0 | K18: =I18*J18 -> 0 | N18: =L18*M18 -> 0 | Q18: =O18*P18 -> 0 | R18: =C18+F18+I18+L18+O18 -> 0 | S18: =E18+H18+Q18 -> 0
E19: =C19*D19 -> 0 | H19: =F19*G19 -> 0 | K19: =I19*J19 -> 0 | N19: =L19*M19 -> 0 | Q19: =O19*P19 -> 0 | R19: =C19+F19+I19+L19+O19 -> 0 | S19: =E19+H19+Q19 -> 0
E20: =C20*D20 -> 0 | H20: =F20*G20 -> 0 | K20: =I20*J20 -> 0 | N20: =L20*M20 -> 0 | Q20: =O20*P20 -> 0 | R20: =C20+F20+I20+L20+O20 -> 0 | S20: =E20+H20+Q20 -> 0
E21: =C21*D21 -> 0 | H21: =F21*G21 -> 0 | K21: =I21*J21 -> 0 | N21: =L21*M21 -> 0 | Q21: =O21*P21 -> 0 | R21: =C21+F21+I21+L21+O21 -> 0 | S21: =E21+H21+Q21 -> 0
E22: =C22*D22 -> 0 | H22: =F22*G22 -> 0 | K22: =I22*J22 -> 0 | N22: =L22*M22 -> 0 | Q22: =O22*P22 -> 0 | R22: =C22+F22+I22+L22+O22 -> 0 | S22: =E22+H22+Q22 -> 0
E23: =C23*D23 -> 0 | H23: =F23*G23 -> 0 | K23: =I23*J23 -> 0 | N23: =L23*M23 -> 0 | Q23: =O23*P23 -> 0 | R23: =C23+F23+I23+L23+O23 -> 0 | S23: =E23+H23+Q23 -> 0
E24: =C24*D24 -> 0 | H24: =F24*G24 -> 0 | K24: =I24*J24 -> 0 | N24: =L24*M24 -> 0 | Q24: =O24*P24 -> 0 | R24: =C24+F24+I24+L24+O24 -> 0 | S24: =E24+H24+Q24 -> 0
... E32: =C32*D32 -> 0 | H32: =F32*G32 -> 0 | K32: =I32*J32 -> 0 | N32: =L32*M32 -> 0 | Q32: =O32*P32 -> 0 | R32: =C32+F32+I32+L32+O32 -> 0 | S32: =E32+H32+Q32 -> 0
A33: 2. (Task 2 Title) | C33: =SUM(C34:C53) -> 0 | E33: =SUM(E34:E53) -> 0 | F33: =SUM(F34:F53) -> 0 | H33: =SUM(H34:H53) -> 0 | I33: =SUM(I34:I53) -> 0 | K33: =SUM(K34:K53) -> 0 | L33: =SUM(L34:L53) -> 0 | N33: =SUM(N34:N53) -> 0 | O33: =SUM(O34:O53) -> 0 | Q33: =SUM(Q34:Q53) -> 0 | R33: =C33+F33+I33+L33+O33 -> 0 | S33: =E33+H33+K33+N33+Q33 -> 0
E34: =C34*D34 -> 0 | H34: =F34*G34 -> 0 | K34: =I34*J34 -> 0 | N34: =L34*M34 -> 0 | Q34: =O34*P34 -> 0 | R34: =C34+F34+I34+L34+O34 -> 0 | S34: =E34+H34+K34+N34+Q34 -> 0
E35: =C35*D35 -> 0 | H35: =F35*G35 -> 0 | K35: =I35*J35 -> 0 | N35: =L35*M35 -> 0 | Q35: =O35*P35 -> 0 | R35: =C35+F35+I35+L35+O35 -> 0 | S35: =E35+H35+K35+N35+Q35 -> 0
E36: =C36*D36 -> 0 | H36: =F36*G36 -> 0 | K36: =I36*J36 -> 0 | N36: =L36*M36 -> 0 | Q36: =O36*P36 -> 0 | R36: =C36+F36+I36+L36+O36 -> 0 | S36: =E36+H36+K36+N36+Q36 -> 0
E37: =C37*D37 -> 0 | H37: =F37*G37 -> 0 | K37: =I37*J37 -> 0 | N37: =L37*M37 -> 0 | Q37: =O37*P37 -> 0 | R37: =C37+F37+I37+L37+O37 -> 0 | S37: =E37+H37+K37+N37+Q37 -> 0
E38: =C38*D38 -> 0 | H38: =F38*G38 -> 0 | K38: =I38*J38 -> 0 | N38: =L38*M38 -> 0 | Q38: =O38*P38 -> 0 | R38: =C38+F38+I38+L38+O38 -> 0 | S38: =E38+H38+K38+N38+Q38 -> 0
E39: =C39*D39 -> 0 | H39: =F39*G39 -> 0 | K39: =I39*J39 -> 0 | N39: =L39*M39 -> 0 | Q39: =O39*P39 -> 0 | R39: =C39+F39+I39+L39+O39 -> 0 | S39: =E39+H39+K39+N39+Q39 -> 0
E40: =C40*D40 -> 0 | H40: =F40*G40 -> 0 | K40: =I40*J40 -> 0 | N40: =L40*M40 -> 0 | Q40: =O40*P40 -> 0 | R40: =C40+F40+I40+L40+O40 -> 0 | S40: =E40+H40+K40+N40+Q40 -> 0
E41: =C41*D41 -> 0 | H41: =F41*G41 -> 0 | K41: =I41*J41 -> 0 | N41: =L41*M41 -> 0 | Q41: =O41*P41 -> 0 | R41: =C41+F41+I41+L41+O41 -> 0 | S41: =E41+H41+K41+N41+Q41 -> 0
E42: =C42*D42 -> 0 | H42: =F42*G42 -> 0 | K42: =I42*J42 -> 0 | N42: =L42*M42 -> 0 | Q42: =O42*P42 -> 0 | R42: =C42+F42+I42+L42+O42 -> 0 | S42: =E42+H42+K42+N42+Q42 -> 0
E43: =C43*D43 -> 0 | H43: =F43*G43 -> 0 | K43: =I43*J43 -> 0 | N43: =L43*M43 -> 0 | Q43: =O43*P43 -> 0 | R43: =C43+F43+I43+L43+O43 -> 0 | S43: =E43+H43+K43+N43+Q43 -> 0
E44: =C44*D44 -> 0 | H44: =F44*G44 -> 0 | K44: =I44*J44 -> 0 | N44: =L44*M44 -> 0 | Q44: =O44*P44 -> 0 | R44: =C44+F44+I44+L44+O44 -> 0 | S44: =E44+H44+K44+N44+Q44 -> 0
E45: =C45*D45 -> 0 | H45: =F45*G45 -> 0 | K45: =I45*J45 -> 0 | N45: =L45*M45 -> 0 | Q45: =O45*P45 -> 0 | R45: =C45+F45+I45+L45+O45 -> 0 | S45: =E45+H45+K45+N45+Q45 -> 0
... E53: =C53*D53 -> 0 | H53: =F53*G53 -> 0 | K53: =I53*J53 -> 0 | N53: =L53*M53 -> 0 | Q53: =O53*P53 -> 0 | R53: =C53+F53+I53+L53+O53 -> 0 | S53: =E53+H53+K53+N53+Q53 -> 0
A54: 3. (Task 3 Title) | C54: =SUM(C55:C74) -> 0 | E54: =SUM(E55:E74) -> 0 | F54: =SUM(F55:F74) -> 0 | H54: =SUM(H55:H74) -> 0 | I54: =SUM(I55:I74) -> 0 | K54: =SUM(K55:K74) -> 0 | L54: =SUM(L55:L74) -> 0 | N54: =SUM(N55:N74) -> 0 | O54: =SUM(O55:O74) -> 0 | Q54: =SUM(Q55:Q74) -> 0 | R54: =C54+F54+I54+L54+O54 -> 0 | S54: =E54+H54+K54+N54+Q54 -> 0
E55: =C55*D55 -> 0 | H55: =F55*G55 -> 0 | K55: =I55*J55 -> 0 | N55: =L55*M55 -> 0 | Q55: =O55*P55 -> 0 | R55: =C55+F55+I55+L55+O55 -> 0 | S55: =E55+H55+K55+N55+Q55 -> 0
E56: =C56*D56 -> 0 | H56: =F56*G56 -> 0 | K56: =I56*J56 -> 0 | N56: =L56*M56 -> 0 | Q56: =O56*P56 -> 0 | R56: =C56+F56+I56+L56+O56 -> 0 | S56: =E56+H56+K56+N56+Q56 -> 0
...

Sheet b. Fringe Benefits
A1: Budget Justification for SF 424A Budget | E1: Award Recipient: | F1: ='Instructions and Summary'!B4 -> 0 | I1: ='Instructions and Summary'!G1 -> 07/07/2023 V 2
A2: b. Fringe Benefits
A3: Rate Type: | D3: Year 1 | E3: Year 2 | F3: Year 3 | G3: Year 4 | H3: Year 5 | I3: Total
D4: 0 | E4: 0 | F4: 0 | G4: 0 | H4: 0
D5: 0 | E5: 0 | F5: 0 | G5: 0 | H5: 0
D6: 0 | E6: 0 | F6: 0 | G6: 0 | H6: 0
D7: 0 | E7: 0 | F7: 0 | G7: 0 | H7: 0
D8: 0 | E8: 0 | F8: 0 | G8: 0 | H8: 0
D9: 0 | E9: 0 | F9: 0 | G9: 0 | H9: 0
A10: Total fringe requested: | D10: 0 | E10: 0 | F10: 0 | G10: 0 | H10: 0 | I10: =SUM(D10:H10) -> 0
A11: =IF(A15=A17,"One box should be checked in the fringe rate agreement section.","") -> One box should be checked in the fringe rate agreement section.
A13: Applicants are required to indicate if they have a Federally approved fringe benefit rate agreement.
A14: If reimbursement for fringe benefits is requested, a Federally approved fringe benefit rate agreement, or a fringe benefit rate proposal is required in accordance with the instructions below. The fringe benefit rate proposal must be accepted by ARPA-H for estimating purposes. Calculate the fringe rate/dollars and enter this information above.
B15: A fringe benefit rate has been negotiated with, or approved by, a Federal government agency. A copy of the latest rate agreement is included with the Full Application (*see information below).
B17: A fringe benefit rate has not been negotiated with, or approved by, a Federal agency (*see information below).
B18: If an Applicant is selected for award negotiations and does not have a Federally approved fringe benefit rate agreement, then the Applicant is required to submit an Indirect Rate Proposal to the ARPA-H Contracting Officer. The Applicant must provide this information to the ARPA-H Contracting Officer at NITRO@arpa-h.gov within 2 days after the receiving the award notification. In the subject line of the email, please state “Rate Proposal” and include the Applicant’s name, FOA name and number, and application control number. | J18: X
A20: *IMPORTANT: In the space provided below (or as an attachment) provide a complete explanation and the full calculations used to derive the total fringe costs. If the total fringe costs are a cumulative amount of more than one calculation or rate application, the explanation and calculations should identify all rates used, along with the base they were applied to (and how the base was derived), and a total for each (along with grand total). Do not average the rates and apply them to get one fringe cost percentage. NOTE: You must apply the fringe benefit rate to both the Federal Share and Recipient Cost Share.
A24: Explanations/Comments/Calculations/Formula:

Sheet c. Travel
A1: Budget Justification for SF 424A Budget | C1: Award Recipient: | E1: ='Instructions and Summary'!B4 -> 0 | H1: ='Instructions and Summary'!G1 -> 07/07/2023 V 2
A2: c. Travel
A3: PLEASE READ!!! Provide travel detail as requested below, identifying total Foreign and Domestic Travel as separate items. "Purpose of travel" are items such as professional conference, ARPA-H sponsored meeting, project management meeting, etc. The Basis for Estimating Costs are items such as past trips, current quotations, Federal Travel Regulations, etc. Note: Travel to the OA/NITRO Symposium(s) must be proposed under the “Other Direct Cost” tab for each Budget Year. All listed travel must be necessary for the performance of the objectives in the Statement of Project Objectives and accompanying Technical Milestones and Deliverables. The Prime Recipient must budget for one visit per year with the ARPA-H Program Director in Washington, DC.
A5: Purpose of travel | B5: No. of Travelers | C5: Depart From | D5: Destination | E5: No. of Days | F5: Cost per Traveler | G5: Cost per Trip | H5: Basis for Estimating Costs
A6: EXAMPLE ONLY!!! Visit to PV cell mfr. to set up vendor agreement | B6: 2 | E6: 2 | F6: 650 | G6: =F6*B6 -> 1300 | H6: Internet prices
A7: Year 1
A8: Domestic Travel
G9: =F9*B9 -> 0
G10: =F10*B10 -> 0
G11: =F11*B11 -> 0
G12: =F12*B12 -> 0
G13: =F13*B13 -> 0
G14: =F14*B14 -> 0
G15: =F15*B15 -> 0
G16: =F16*B16 -> 0
G17: =F17*B17 -> 0
G18: =F18*B18 -> 0
G19: =F19*B19 -> 0
G20: =F20*B20 -> 0
... G26: =F26*B26 -> 0
A27: Domestic Travel Subtotal | G27: =SUM(G9:G26) -> 0
A28: International Travel
G29: =F29*B29 -> 0
G30: =F30*B30 -> 0
G31: =F31*B31 -> 0
G32: =F32*B32 -> 0
G33: =F33*B33 -> 0
G34: =F34*B34 -> 0
G35: =F35*B35 -> 0
G36: =F36*B36 -> 0
G37: =F37*B37 -> 0
G38: =F38*B38 -> 0
G39: =F39*B39 -> 0
G40: =F40*B40 -> 0
... G46: =F46*B46 -> 0
A47: International Travel Subtotal | G47: =SUM(G29:G46) -> 0
A48: Year 1 Total | G48: =G27+G47 -> 0
A50: Year 2
A51: Domestic Travel
G52: =F52*B52 -> 0
...

Sheet d. Equipment
A1: Budget Justification for SF 424A Budget | C1: Award Recipient: | D1: ='Instructions and Summary'!B4 -> 0 | F1: ='Instructions and Summary'!G1 -> 07/07/2023 V 2
A2: d. Equipment
A3: PLEASE READ!!! "Equipment" is generally defined as an item with an acquisition cost greater than $10,000 and a useful life expectancy of more than one year. Further definitions can be found at 2 C.F.R. 200. List all proposed equipment below, providing a basis of cost such as vendor quotes, catalog prices, prior invoices, etc., and briefly justify its need as it applies to the Statement of Project Objectives and accompanying Technical Milestones and Deliverables. If it is existing equipment, and the value of its contribution to the project budget is being shown as cost share, provide logical support for the estimated value shown. If it is new equipment which will retain a useful life upon completion of the project, provide logical support for the estimated value shown. For equipment with an aggregate price of $10,000.00 or greater, also include supporting documentation such as a copy of the associated vendor quote or catalog price list.
A5: Equipment Item | B5: Qty | C5: Unit Cost | D5: Total Cost | E5: Basis of Cost | F5: Justification of Need
A6: EXAMPLE ONLY!!! Thermal shock chamber | B6: 2 | C6: 20000 | D6: =B6*C6 -> 40000 | E6: Vendor Quote | F6: Reliability testing of PV modules- Task 4.3
A7: Year 1
D8: =B8*C8 -> 0
D9: =B9*C9 -> 0
D10: =B10*C10 -> 0
D11: =B11*C11 -> 0
D12: =B12*C12 -> 0
D13: =B13*C13 -> 0
D14: =B14*C14 -> 0
D15: =B15*C15 -> 0
D16: =B16*C16 -> 0
D17: =B17*C17 -> 0
D18: =B18*C18 -> 0
D19: =B19*C19 -> 0
... D79: =B79*C79 -> 0
A80: Year 1 Total | D80: =SUM(D8:D79) -> 0
A82: Year 2
D83: =B83*C83 -> 0
D84: =B84*C84 -> 0
D85: =B85*C85 -> 0
D86: =B86*C86 -> 0
D87: =B87*C87 -> 0
D88: =B88*C88 -> 0
D89: =B89*C89 -> 0
D90: =B90*C90 -> 0
D91: =B91*C91 -> 0
D92: =B92*C92 -> 0
D93: =B93*C93 -> 0
D94: =B94*C94 -> 0
... D152: =B152*C152 -> 0
A153: Year 2 Total | D153: =SUM(D83:D152) -> 0
A155: Year 3
D156: =B156*C156 -> 0
D157: =B157*C157 -> 0
D158: =B158*C158 -> 0
D159: =B159*C159 -> 0
...

Sheet e. Supplies
A1: Budget Justification for SF 424A Budget | C1: Award Recipient: | D1: ='Instructions and Summary'!B4 -> 0 | F1: ='Instructions and Summary'!G1 -> 07/07/2023 V 2
A2: e. Supplies
A3: PLEASE READ!!! "Supplies" are generally defined as an item with an acquisition cost of $10,000 or less and a useful life expectancy of less than one year. Supplies are generally consumed during the project performance. Further definitions can be found at 2 C.F.R. 200. List all proposed supplies below, providing a bases of cost such as vendor quotes, catalog prices, prior invoices, etc., and briefly justifying the need for the Supplies as they apply to the Statement of Project Objectives and accompanying Technical Milestones and Deliverables. Note that Supply items must be direct costs to the project at this budget category, and not duplicative of supply costs included in the indirect pool that is the basis of the indirect rate applied for this project.
A5: General Category of Supplies | B5: Qty | C5: Unit Cost | D5: Total Cost | E5: Basis of Cost | F5: Justification of Need
A6: EXAMPLE ONLY!!! Wireless DAS components | B6: 10 | C6: 360 | D6: 3600 | E6: Catalog price | F6: For Alpha prototype - Task 2.4
A7: Year 1
D8: =B8*C8 -> 0
D9: =B9*C9 -> 0
D10: =B10*C10 -> 0
D11: =B11*C11 -> 0
D12: =B12*C12 -> 0
D13: =B13*C13 -> 0
D14: =B14*C14 -> 0
D15: =B15*C15 -> 0
D16: =B16*C16 -> 0
D17: =B17*C17 -> 0
D18: =B18*C18 -> 0
D19: =B19*C19 -> 0
... D79: =B79*C79 -> 0
A80: Year 1 Total | D80: =SUM(D8:D79) -> 0
A82: Year 2
D83: =B83*C83 -> 0
D84: =B84*C84 -> 0
D85: =B85*C85 -> 0
D86: =B86*C86 -> 0
D87: =B87*C87 -> 0
D88: =B88*C88 -> 0
D89: =B89*C89 -> 0
D90: =B90*C90 -> 0
D91: =B91*C91 -> 0
D92: =B92*C92 -> 0
D93: =B93*C93 -> 0
D94: =B94*C94 -> 0
... D152: =B152*C152 -> 0
A153: Year 2 Total | D153: =SUM(D83:D152) -> 0
A155: Year 3
D156: =B156*C156 -> 0
D157: =B157*C157 -> 0
D158: =B158*C158 -> 0
D159: =B159*C159 -> 0
...

Sheet f. Contractual
A1: Budget Justification for SF 424A Budget | B1: Award Recipient: | C1: ='Instructions and Summary'!B4 -> 0 | H1: ='Instructions and Summary'!G1 -> 07/07/2023 V 2
A2: f. Contractual
A3: PLEASE READ!!! The entity completing this form must provide all costs related to subrecipients, vendors, contractors, consultants and FFRDC partners in the applicable boxes below. Subrecipients (partners, subawardees): Each Subrecipient incurring greater than or equal to 10% of the Total Project Costs must complete a separate Budget Justification Workbook to justify its proposed budget. The Subrecipients’ SF-424A and Budget Justification Workbooks may be completed by either the Subrecipients themselves or by the preparer of this workbook. The budget totals on the Subrecipients' workbooks must match the Subrecipient entries described below. Subrecipients incurring less than 10% of the Total Project Costs are not required to complete a separate Budget Justification workbook. However, such Subrecipients are required to provide supporting documentation to justify their proposed budgets. At a minimum, the supporting documentation must include a sufficient basis for the estimated costs for ARPA-H evaluation. Please also refer to instructions in tabs b. Fringe Benefits and i. Indirect Costs.
A4: Vendors (includes contractors and consultants): List all vendors/contractors/consultants supplying commercial supplies or services used to support the project. The support to justify vendor costs (in any amount) should provide the purpose for the products or services and a basis of the estimated costs that is considered sufficient for ARPA-H evaluation. Federal Research and Development Centers (FFRDCs): Each FFRDC incurring greater than or equal to 10% of the Total Project Costs must complete a separate SF-424A and separate Budget Justification worksheet to justify its proposed budget. The FFRDC workbooks may be completed by either the Subrecipients themselves or by the preparer of this workbook. The budget totals on the Subrecipient's SF-424A and Budget Justification Workbook must match the Subrecipient entries described below. FFRDCs incurring less than 10% of the Total Project Cost are not required to complete a separate SF-424A and Budget Justification Workbook. However, FFRDCs are required to provide supporting documentation to justify their proposed budgets. At a minimum, the supporting documentation must include a sufficient basis for the estimated costs for ARPA-H evaluation. Please also refer to instructions in tabs b. Fringe Benefits and i. Indirect Costs.
A6: Sub-Recipient Name/Organization | B6: Purpose/Tasks in Statement of Project Objectives (SOPO) | C6: Year 1 Costs | D6: Year 2 Costs | E6: Year 3 Costs | F6: Year 4 Costs | G6: Year 5 Costs | H6: Project Total
A7: EXAMPLE ONLY!!! XYZ Corp. | B7: Partner to develop optimal fresnel lens for Gen 2 product - Task 2.4 | C7: 48000 | D7: 32000 | E7: 16000 | H7: =SUM(C7:E7) -> 96000 | I7: =IF(H7>100000,"Separate budget forms required for this sub-recipient!", " ")
H8: =SUM(C8:E8) -> 0 | I8: =IF(H8>=100000,"Separate budget forms required for this sub-recipient!", " ")
H9: =SUM(C9:E9) -> 0
H10: =SUM(C10:E10) -> 0
H11: =SUM(C11:E11) -> 0
H12: =SUM(C12:E12) -> 0
H13: =SUM(C13:E13) -> 0
H14: =SUM(C14:E14) -> 0 | I14: =IF(H14>100000,"Separate budget forms required for this sub-recipient!", " ")
H15: =SUM(C15:E15) -> 0 | I15: =IF(H15>100000,"Separate budget forms required for this sub-recipient!", " ")
H16: =SUM(C16:E16) -> 0 | I16: =IF(H16>100000,"Separate budget forms required for this sub-recipient!", " ")
H17: =SUM(C17:E17) -> 0 | I17: =IF(H17>100000,"Separate budget forms required for this sub-recipient!", " ")
H18: =SUM(C18:E18) -> 0 | I18: =IF(H18>100000,"Separate budget forms required for this sub-recipient!", " ")
H19: =SUM(C19:E19) -> 0 | I19: =IF(H19>100000,"Separate budget forms required for this sub-recipient!", " ")
H20: =SUM(C20:E20) -> 0 | I20: =IF(H20>100000,"Separate budget forms required for this sub-recipient!", " ")
A21: Total Sub-Recipient | C21: =SUM(C8:C20) -> 0 | D21: =SUM(D8:D20) -> 0 | E21: =SUM(E8:E19) -> 0 | F21: =SUM(F8:F19) -> 0 | G21: =SUM(G8:G19) -> 0 | H21: =SUM(H8:H20) -> 0
A23: Vendor Name/Organization | B23: Product or Service, Purpose/Need and Basis of Cost (Provide additional support at bottom of page as needed) | C23: Year 1 Costs | D23: Year 2 Costs | E23: Year 3 Costs | F23: Year 4 Costs | G23: Year 5 Costs | H23: Project Total
A24: EXAMPLE ONLY!!! ABC Corp. | B24: Vendor for developing custom robotics to perform lens inspection, alignment, and placement (Task 4 ). Required for expanding CPV module mfg. capacity. Cost is from competitive quotes. | C24: 32900 | D24: 86500 | H24: =SUM(C24:E24) -> 119400
H25: =SUM(C25:E25) -> 0
H26: =SUM(C26:E26) -> 0
H27: =SUM(C27:E27) -> 0
H28: =SUM(C28:E28) -> 0
H29: =SUM(C29:E29) -> 0
H30: =SUM(C30:E30) -> 0
H31: =SUM(C31:E31) -> 0
H32: =SUM(C32:E32) -> 0
H33: =SUM(C33:E33) -> 0
H34: =SUM(C34:E34) -> 0
A35: Total Vendor / Organization | C35: =SUM(C25:C34) -> 0 | D35: =SUM(D25:D34) -> 0 | E35: =SUM(E25:E34) -> 0 | F35: =SUM(F25:F34) -> 0 | G35: =SUM(G25:G34) -> 0 | H35: =SUM(H25:H34) -> 0
A37: FFRDC Name/Organization | B37: Purpose | C37: Year 1 Costs | D37: Year 2 Costs | E37: Year 3 Costs | F37: Year 4 Costs | G37: Year 5 Costs | H37: Project Total
H38: =SUM(C38:E38) -> 0
H39: =SUM(C39:E39) -> 0
H40: =SUM(C40:E40) -> 0
H41: =SUM(C41:E41) -> 0
H42: =SUM(C42:E42) -> 0
H43: =SUM(C43:E43) -> 0
...

Sheet g. Construction
A1: Budget Justification for SF 424A Budget | B1: Award Recipient: | C1: ='Instructions and Summary'!B4 -> 0 | D1: ='Instructions and Summary'!G1 -> 07/07/2023 V 2
A2: g. Construction
A3: PLEASE READ!!! "Construction" for the purpose of budgeting, is defined as all types of work done on a particular building, including erecting, altering, or remodeling. Construction conducted by the award recipient is entered on this page. Any construction work that is performed by a vendor or subrecipient to the award recipient should be entered under f. Contractual. List all proposed construction below, providing a basis of cost such as engineering estimates, prior construction, etc., and briefly justify its need as it applies to the Statement of Project Objectives and accompanying Technical Milestones and Deliverables being performed.
A5: Overall description of construction activities:
A6: EXAMPLE ONLY!!! "Build wind turbine platform"
A8: General Description | B8: Cost | C8: Basis of Cost | D8: Justification of Need
A9: EXAMPLE ONLY!!! Three days of excavation for platform site | B9: 28000 | C9: Engineering estimate | D9: Site must be prepared for construction of platform.
A10: Year 1
A16: Year 1 Total | B16: =SUM(B11:B15) -> 0
A18: Year 2
A24: Year 2 Total | B24: =SUM(B19:B23) -> 0
A26: Year 3
A32: Year 3 Total | B32: =SUM(B27:B31) -> 0
A34: Year 4
A40: Year 4 Total | B40: =SUM(B35:B39) -> 0
A42: Year 5
A48: Year 5 Total | B48: =SUM(B43:B47) -> 0
A50: PROJECT TOTAL | B50: =-B48+B40+B32+B24+B16 -> 0
A52: Additional Explanations/Comments (as necessary):

Sheet h. Other
A1: Budget Justification for SF 424A Budget | B1: Award Recipient: | C1: ='Instructions and Summary'!B4 -> 0 | F1: ='Instructions and Summary'!G1 -> 07/07/2023 V 2
A2: h. Other Direct Costs
A3: PLEASE READ!!! Applicants must provide and justify proposed costs related to Other Direct Costs for each year of the entire budget period. Other Direct Costs are direct cost items required for the project which do not fit clearly into other categories, and are not included in the indirect pool for which the indirect rate is being applied to this project. Other Direct Costs include Technology Transfer and Outreach (TT&O) activities. Examples of TT&O activities that are allowable under Federal costs principles are provided in Section IV.G.8 of the FOA. Applicants must provide a basis of cost (e.g., vendor quotes, prior purchases of similar or like items, published price list, etc.). Only TT&O costs that relate to a specific technology funded by ARPA-H will be allowed, if the costs are allowable in accordance with Federal cost principles. For TT&O activities aimed at advancing a portfolio of technologies and/or products owned by the Recipient or Project Partner, only the portion of costs specifically attributable to advancing the ARPA-H funded technology will be reimbursed. Note for Patent Costs: ARPA-H will not reimburse any costs and fees relating to the filing and prosecution of foreign patent applications on subject inventions disclosed to ARPA-H. | I3: TT&O Totals (Optional) | L3: TT&O Year 1 | M3: =SUMIF(D24:D43, "Yes", B24:B43) -> 0
I4: TT&O Personnel | J4: =SUMIFS($B$24:$B$136,$D$24:$D$136,"Yes",$E$24:$E$136,I4) -> 0 | L4: TT&O Year 2 | M4: =SUMIF(D47:D66, "Yes", B47:B66) -> 0
I5: TT&O Fringe | J5: =SUMIFS($B$24:$B$136,$D$24:$D$136,"Yes",$E$24:$E$136,I5) -> 0 | L5: TT&O Year 3 | M5: =SUMIF(D70:D89, "Yes", B70:B89) -> 0
I6: TT&O Travel | J6: =SUMIFS($B$24:$B$136,$D$24:$D$136,"Yes",$E$24:$E$136,I6) -> 0 | L6: TT&O Year 4 | M6: =SUMIF(D93:D112, "Yes", B93:B112) -> 0
I7: TT&O Equipment | J7: =SUMIFS($B$24:$B$136,$D$24:$D$136,"Yes",$E$24:$E$136,I7) -> 0 | L7: TT&O Year 5 | M7: =SUMIF(D116:D135, "Yes", B116:B135) -> 0
I8: TT&O Supplies | J8: =SUMIFS($B$24:$B$136,$D$24:$D$136,"Yes",$E$24:$E$136,I8) -> 0
I9: TT&O Other | J9: =SUMIFS($B$24:$B$136,$D$24:$D$136,"Yes",$E$24:$E$136,I9) -> 0
I10: TT&O Contractual | J10: =SUMIFS($B$24:$B$136,$D$24:$D$136,"Yes",$E$24:$E$136,I10) -> 0
I11: TT&O Construction | J11: =SUMIFS($B$24:$B$136,$D$24:$D$136,"Yes",$E$24:$E$136,I11) -> 0
I12: TT&O Total | J12: =SUM(J4:J11) -> 0
A19: General description | B19: Cost | C19: Basis of Cost | D19: TT&O? | E19: TT&O Type | F19: Justification of Need
A20: EXAMPLE ONLY!!! Grad student tuition | B20: 16000 | C20: Established UCD costs | D20: No | F20: Support of graduate students working on project
A21: EXAMPLE ONLY!!! Contractual | B21: 10000 | C21: Vendor Quote | D21: No | F21: Personnel costs to develop commercialization plans
A22: EXAMPLE ONLY!!! Conferences | B22: 4000 | C22: Travel & Conference Expenses | D22: Yes | E22: TT&O Travel | F22: ARPA-H Energy Summit travel and registration
C23: Year 1 | I23: Yes
I24: No
A44: Year 1 Total | B44: =SUM(B24:B43) -> 0
C46: Year 2
A67: Year 2 Total | B67: =SUM(B47:B66) -> 0
C69: Year 3
A90: Year 3 Total | B90: =SUM(B70:B89) -> 0
C92: Year 4
A113: Year 4 Total | B113: =SUM(B93:B112) -> 0
C115: Year 5
A136: Year 5 Total | B136: =SUM(B116:B135) -> 0
A138: PROJECT TOTAL | B138: =B136+B113+B90+B67+B44 -> 0
A140: Additional Explanations/Comments (as necessary):

Sheet i. Indirect Costs
A1: Budget Justification for SF 424A Budget | D1: Award Recipient: | E1: ='Instructions and Summary'!B4 -> 0 | J1: ='Instructions and Summary'!G1 -> 07/07/2023 V 2
A2: i. Indirect Costs
A3: Rate type: | D3: Year 1 | E3: Year 2 | F3: Year 3 | G3: Year 4 | H3: Year 5 | I3: Total
D4: 0 | E4: 0 | F4: 0 | G4: 0 | H4: 0
D5: 0 | E5: 0 | F5: 0 | G5: 0 | H5: 0
D6: 0 | E6: 0 | F6: 0 | G6: 0 | H6: 0
D7: 0 | E7: 0 | F7: 0 | G7: 0 | H7: 0
D8: 0 | E8: 0 | F8: 0 | G8: 0 | H8: 0
A9: Total indirect costs requested: | D9: 0 | E9: 0 | F9: 0 | G9: 0 | H9: 0 | I9: =SUM(D9:H9) -> 0
A10: =IF(A14=A16,"One box should be checked in the indirect rate agreement section.","") -> One box should be checked in the indirect rate agreement section.
A12: Applicants are required to indicate if they have a Federally approved indirect rate agreement.
A13: If reimbursement for indirect costs is requested, a federally approved indirect rate agreement , or an indirect rate proposal is required in accordance with the instructions below. The indirect rate proposal must be accepted by ARPA-E for estimating purposes. Calculate the indirect rate/dollars and enter this information above. | M13: x
B14: An indirect rate has been negotiated with, or approved by, a Federal government agency. A copy of the latest rate agreement is included with the Full Application (*see information below).
B16: An indirect rate agreement has not been negotiated with, or approved by, a Federal government agency (*see information below).
B17: If an Applicant is selected for award negotiations and does not have a Federally approved indirect rate agreement, then the Applicant is required to submit an Indirect Rate Proposal to the ARPA-H Contracting Officer. The Applicant must provide this information to the ARPA-H Contracting Officer at NITRO@arpa-h.gov within 2 days after the receiving the award notification. In the subject line of the email, please state “Rate Proposal” and include the Applicant’s name, FOA name and number, and application control number.
A20: *IMPORTANT: In the space provided below (or as an attachment) provide a complete explanation and the full calculations used to derive the total indirect costs. If the total indirect costs are a cumulative amount of more than one calculation or rate application, the explanation and calculations should identify all rates used, along with the base they were applied to (and how the base was derived), and a total for each (along with grand total). Do not average the rates and apply them to get one indirect cost percentage. NOTE: You must apply the indirect rate to both the Federal Share and Recipient Cost Share.
A22: Explanations/Comments/Calculations/Formula:

Sheet Cost Share
A1: Budget Justification for SF 424A Budget | C1: Award Recipient: | D1: ='Instructions and Summary'!B4 -> 0 | F1: ='Instructions and Summary'!G1 -> 07/07/2023 V 2
A2: Cost Share
A3: PLEASE READ!!! IF PROPOSING A COST SHARE ARRANGEMENT, applicants must provide and justify proposed costs related to Cost Share for each year of the entire budget period. Applicants must provide a detailed explanation of the cash or cash value of all cost share proposed for the project. Project teams are not permitted to receive fees or profits under ARPA-H awards. All monies must be spent on activities or equipment directly related to meeting the objectives in the Statement of Project Objectives and accompanying Technical Milestones and Deliverables. Additionally, foregone fee or profit by any member of the proposed Project Team may not be considered cost sharing under any resulting award.
A5: Organization/Source | B5: Type | C5: Type of Donor (MUST SELECT) | D5: Cost Share Item | E5: Year 1 Cost Share | F5: Year 2 Cost Share | G5: Year 3 Cost Share | H5: Year 4 Cost Share | I5: Year 5 Cost Share | J5: Total Project Cost Share
A6: EXAMPLE ONLY!!! ABC Company | B6: Cash | C6: Other | D6: Project partner ABC Company will provide 40 PV modules for product development at 50% off the of the retail price of $680 | E6: 13600 | J6: =SUM(E6:I6) -> 13600
J7: =SUM(E7:I7) -> 0 | L7: Cash
J8: =SUM(E8:I8) -> 0 | L8: In Kind
J9: =SUM(E9:I9) -> 0 | L9: Other
J10: =SUM(E10:I10) -> 0
J11: =SUM(E11:I11) -> 0
J12: =SUM(E12:I12) -> 0
J13: =SUM(E13:I13) -> 0 | L13: Applicant | M13: =SUMIF($C$7:$C$24,L13,$E$7:$E$24) -> 0 | N13: =SUMIF($C$7:$C$24,L13,$F$7:$F$24) -> 0 | O13: =SUMIF($C$7:$C$24,L13,$H$7:$H$24) -> 0 | P13: =SUMIF($C$7:$C$24,L13,$G$7:$G$24) -> 0 | Q13: =SUMIF($C$7:$C$24,L13,$I$7:$I$24) -> 0
J14: =SUM(E14:I14) -> 0 | L14: State | M14: =SUMIF($C$7:$C$24,L14,$E$7:$E$24) -> 0 | N14: =SUMIF($C$7:$C$24,L14,$F$7:$F$24) -> 0 | O14: =SUMIF($C$7:$C$24,L14,$G$7:$G$24) -> 0 | P14: =SUMIF($C$7:$C$24,L14,$H$7:$H$24) -> 0 | Q14: =SUMIF($C$7:$C$24,L14,$I$7:$I$24) -> 0
J15: =SUM(E15:I15) -> 0 | L15: Other Sources | M15: =SUMIF($C$7:$C$24,L15,$E$7:$E$24) -> 0 | N15: =SUMIF($C$7:$C$24,L15,$F$7:$F$24) -> 0 | O15: =SUMIF($C$7:$C$24,L15,$G$7:$G$24) -> 0 | P15: =SUMIF($C$7:$C$24,L15,$H$7:$H$24) -> 0 | Q15: =SUMIF($C$7:$C$24,L15,$I$7:$I$24) -> 0
J16: =SUM(E16:I16) -> 0
J17: =SUM(E17:I17) -> 0
J18: =SUM(E18:I18) -> 0
J19: =SUM(E19:I19) -> 0
J20: =SUM(E20:I20) -> 0
J21: =SUM(E21:I21) -> 0
J22: =SUM(E22:I22) -> 0
J23: =SUM(E23:I23) -> 0
J24: =SUM(E24:I24) -> 0
A25: Totals | E25: =SUM(E7:E24) -> 0 | F25: =SUM(F7:F24) -> 0 | G25: =SUM(G7:G24) -> 0 | H25: =SUM(H7:H24) -> 0 | I25: =SUM(I7:I24) -> 0 | J25: =SUM(J7:J24) -> 0
A27: Total Project Cost: | D27: ='Instructions and Summary'!G24 -> 0 | E27: Cost Share Percent of Award: | J27: =IFERROR(J25/D27,"")
A29: Additional Explanations/Comments (as necessary):
