Workbook
Name _Hlk59024142: 'Drop Down List Text'!$L$87
Name Build_or_Sustain?: 'Grant Activities Outline'!$B$791
Name Capacity1: 'Grant Activities Outline'!$B$22
Name Capacity10: 'Grant Activities Outline'!$B$463
Name Capacity11: 'Grant Activities Outline'!$B$512
Name Capacity12: 'Grant Activities Outline'!$B$561
Name Capacity13: 'Grant Activities Outline'!$B$610
Name Capacity14: 'Grant Activities Outline'!$B$659
Name Capacity15: 'Grant Activities Outline'!$B$708
Name Capacity16: 'Grant Activities Outline'!$B$757
Name Capacity17: 'Grant Activities Outline'!$B$806
Name Capacity18: 'Grant Activities Outline'!$B$855
Name Capacity19: 'Grant Activities Outline'!$B$904
Name Capacity2: 'Grant Activities Outline'!$B$71
Name Capacity20: 'Grant Activities Outline'!$B$953
Name Capacity21: 'Grant Activities Outline'!$B$1002
Name Capacity22: 'Grant Activities Outline'!$B$1051
Name Capacity23: 'Grant Activities Outline'!$B$1100
Name Capacity24: 'Grant Activities Outline'!$B$1149
Name Capacity25: 'Grant Activities Outline'!$B$1198
Name Capacity26: 'Grant Activities Outline'!$B$1247
Name Capacity27: 'Grant Activities Outline'!$B$1296
Name Capacity28: 'Grant Activities Outline'!$B$1345
Name Capacity29: 'Grant Activities Outline'!$B$1394
Name Capacity3: 'Grant Activities Outline'!$B$120
Name Capacity30: 'Grant Activities Outline'!$B$1443
Name Capacity31: 'Grant Activities Outline'!$B$1492
Name Capacity32: 'Grant Activities Outline'!$B$1541
Name Capacity33: 'Grant Activities Outline'!$B$1590
Name Capacity34: 'Grant Activities Outline'!$B$1639
Name Capacity35: 'Grant Activities Outline'!$B$1688
Name Capacity36: 'Grant Activities Outline'!$B$1737
Name Capacity37: 'Grant Activities Outline'!$B$1786
Name Capacity38: 'Grant Activities Outline'!$B$1835
Name Capacity39: 'Grant Activities Outline'!$B$1884
Name Capacity4: 'Grant Activities Outline'!$B$169
Name Capacity40: 'Grant Activities Outline'!$B$1933
Name Capacity5: 'Grant Activities Outline'!$B$218
Name Capacity6: 'Grant Activities Outline'!$B$267
Name Capacity7: 'Grant Activities Outline'!$B$316
Name Capacity8: 'Grant Activities Outline'!$B$365
Name Capacity9: 'Grant Activities Outline'!$B$414
Name Core1.1: 'Grant Activities Outline'!$F$30
Name Core1.2: 'Grant Activities Outline'!$F$31
Name Core1.3: 'Grant Activities Outline'!$F$32
Name Core1.4: 'Grant Activities Outline'!$F$33
Name Core1.5: 'Grant Activities Outline'!$F$34
Name Core10.1: 'Grant Activities Outline'!$F$471
Name Core10.2: 'Grant Activities Outline'!$F$472
Name Core10.3: 'Grant Activities Outline'!$F$473
Name Core10.4: 'Grant Activities Outline'!$F$474
Name Core10.5: 'Grant Activities Outline'!$F$475
Name Core11.1: 'Grant Activities Outline'!$F$520
Name Core11.2: 'Grant Activities Outline'!$F$521
Name Core11.3: 'Grant Activities Outline'!$F$522
Name Core11.4: 'Grant Activities Outline'!$F$523
Name Core11.5: 'Grant Activities Outline'!$F$524
Name Core12.1: 'Grant Activities Outline'!$F$569
Name Core12.2: 'Grant Activities Outline'!$F$570
Name Core12.3: 'Grant Activities Outline'!$F$571

Sheet Cover Page
A1: EMPG & ARPA Work Plan Template
A4: Region:
A5: State/Territory:
A6: Grant Number:
A7: Agency/Organization:
A8: Page | C8: Description
A9: Definitions and Guidance | C9: This page contains supplemental guidance and instructions for completing the Grant Investment Strategy, Grant Activities Outline, Project Activities Outline, and Personnel Data Table. This sheet cannot be edited.
A10: Grant Investment Strategy | C10: This worksheet requires the applicant to provide an overview of the state/territory's preparedness investment strategy. It should serve as the foundation for completing the remainder of the Work Plan.
A11: Budget Overview | C11: This worksheet will pull a summary of the information from the detailed budget. This sheet cannot be edited.
A12: Grant Activities Outline | C12: This worksheet is used to capture the proposed EMPG-funded projects and link them to the agreed-upon/RA approved priorities.
A13: Project Activities Outline | C13: This worksheet requires outlining key project activities associated with each project identified in the Grant Activities Outline along with temporal details associated with planning and managing each project.
A14: Personnel Data Table | C14: Complete the tables for the personnel associated with the EMPG program.
A15: Training Data Table | C15: Complete the table for the training associated with the EMPG program.
A16: Exercise Data Table | C16: Complete the table for the exercises associated with the EMPG program.
A17: Detailed Budget | C17: Fill in this sheet to account for each expenditure on the grant in columns A - G and I - J. Assign each line item to its relevant project. Associating the line item with the project will allow the information in mission areas, core capabilities, priorities, and POETE categories to populate accordingly. NOTE: Project numbers listed in the detailed budget must exactly match those listed in the Project Activity Outlines to allow the sheet to populate data correctly.

Sheet Definitions and Guidance
A1: Grant Investment Strategy
A2: Purpose: The intent of this worksheet is to provide an overview of the state/territory's preparedness investment strategy. It includes separate sections to explain the most recent THIRA/SPR results; significant risks and capability gaps that currently exist based on THIRA/SPR outputs and other information sources; resulting preparedness priorities; the goals associated with each priority area; and, the anticipated impact of the proposed EMPG-funded investments relative to the priorities, performance goals, and/or core capabilities supported. Instructions: For the Priorities and Goals section, identify the 3-5 priorities that were mutually agreed to and approved by the Regional Administrator. At least one performance goal should be identified for each priority area. Each goal must be: specific; measurable; achievable within the period of performance; relevant to the priority area; and have a target date for completion (i.e. SMART goal). It should describe how achieving each goal or objective will impact the priority area it supports by the end of the period of performance.
A10: Grant Activities Outline
A11: Purpose: The Grant Activities Outline is used to capture the proposed EMPG-funded projects and link them to the identified priorities, performance goals, and gaps or needs. Coupled with the Project Activities Outline, the Grant Activities Outline supports identification and tracking of EMPG-funded project outcomes, which will enable better understanding of the impacts of those investments relative to the performance goals and the associated core capabilities. The worksheet includes sections that allow the applicant to identify the performance goals that are supported by each project and the milestones that are critical to accomplishing each goal. Additional guidance on performance goals and milestones, including specific examples of each, are provided below. The worksheet also requires the applicant to explain the objective and anticipated impact of each project relative to the associated priorities, goals, and related core capabilities. The "Project Objective" should explain what the project will accomplish; specifically, how the project will address the identified gap or need and how it supports one or more of the identified Performance Goals. The "Anticipated Project Impact" should explain the expected project outcome relative to the associated priorities and performance goals. The impact statement should include a quantitative estimate of the degree to which the project will contribute to achieving the identified performance goal (see hierarchy example below). Effective completion of the Grant Activities Outline requires an understanding of the established planning hierarchy. Priorities are at the top of the hierarchy, followed by performance goals that define a clear outcome or end-state and provide the basis for addressing each priority. Based on the identified performance goals, project proposals are identified. High-priority capability gaps or needs identified through the THIRA/SPR process and other assessments are also used to inform project selection and to identify specific project objectives. Project objectives, and accompanying impact statements, should complement the performance goals by including similar outcome-focused metrics, as explained above. Lastly, project activities are identified. Project activities are key components and/or milestones that are critical to successful completion of the project. An example of this hierarchy is provided below: All EMPG-funded investments must be accounted for in the Grant Activities Outline. However, recognizing that some sustainment activities, such as funding of emergency manager salaries, may not align to a specific priority or performance goal, applicants are not required to identify priorities and performance goals for such investments. However, all other portions of the Grant Activities Outline must be completed as a means to justify the applicable sustainment costs. Instructions: The template allows entering up to ten projects. Ensure that the number assigned to the project title is entered consistently throughout the Template to enable the "auto-populate" features used throughout this spreadsheet. Enter the requested information or select a choice from the drop-down menu as applicable to your award.
A13: Performance Goals
A14: Term | B14: Definition/Guidance
A15: Performance Goal | B15: From 2 C.F.R.: Performance goal means a target level of performance expressed as a tangible, measurable objective, against which actual achievement can be compared, including a goal expressed as a quantitative standard, value, or rate. In some instances (e.g., discretionary research awards), this may be limited to the requirement to submit technical performance reports (to be evaluated in accordance with agency policy). Each goal must be: specific; measurable; achievable within the period of performance; relevant to the priority area; and have a target date for completion (i.e. SMART goals). Each goal must include an estimate quantifying the extent to which the supporting investments will close capability gaps. The standardized targets included in the Core Capability Development Sheets should be used for developing performance goals, as these standardized targets meet all of the SMART goal requirements. The standardized targets also serve as the basis for setting preparedness goals, identifying capability gaps and approaches for closing those gaps, and tracking efforts to build and sustain capability gaps each year in the state/territory's THIRA/SPR. By using the same goals as those identified in the THIRA/SPR, this enables better understanding and tracking of how EMPG-funded investments contribute to building and sustaining capabilities each year, thus yielding a better understanding of investment outcomes and impacts.
A16: Core Capability Metrics | B16: Current capability levels associated with the capabilities identified in the performance goals; they provide the baseline for measuring project effectiveness.
A17: Milestones | B17: Milestones will identify key project activities and other deliverables or outputs that are critical to accomplishing the identified performance goal and can be tracked to demonstrate progress toward achieving the goal.
A18: Core Capability Development Sheets
A19: Examples
A20: Performance Goal | C20: Core Capability Metrics | E20: Milestones
A21: Increase the number of people who can find and secure long-term housing within 1 year of an incident by 10%. | C21: Sheltering for 6,000 people | E21: *Update State Housing Strategy Template by June 30, 2021 *Conduct two Housing tabletop exercises; one by Sept 30, 2021, the other by Sept 30, 2022 *Prepare AAR and update State Disaster Housing Plan within 60 days of exercise completion based on lessons-learned identified in the AAR
A22: Within 24 hours of an incident, identify and mobilize life-sustaining commodities, resources, and services to 10,000 people requiring shelter and 100,000 people requiring food and water. Maintain distribution system for at least 30 days. | C22: Food & water for 60,000 people | E22: *Conduct tabletop exercise focusing on Logistics and Supply Chain Management by June 30, 2021 *Prepare AAR and update Distribution Management Plan within 60 days of exercise completion based on lessons-learned identified in the AAR *Procure inventory management system by Sept 30, 2021
A25: Project Activities Outline
A26: Purpose: This worksheet is used to capture key project activities to include BOTH the EMPG-funded activities that are critical to accomplishing the project objectives as identified in the Grant Activities Outline, as well as activities that are essential to effective project management. Thus, this product can be used as a basic project management tool -- to plan and track the progress of key project activities. Key project activities should generally correlate with the "Milestones" identified for each project included in the Grant Activities Outline. The basic details for each project included in the Grant Activities Outline will auto-populate into the corresponding tables/fields included in the Project Activities Outline. This includes: the Project Number; Project Name; Gap or Need Addressed; Project Objective; and Build or Sustain fields. A separate "Planned Activities" table should be completed for each project. Instructions: In the planned activity table, identify each key activity and its associated information in the appropriate line based on year and quarter. The Activity Steps identified below should be used to help identify and guide the project management-related activities associated with each project.
A27: Activity Steps
A28: Step | B28: Description | D28: Process
A29: Initiate | B29: The authorization to begin work or resume work on any particular activity. | D29: Involves preparing for, assembling resources, and getting work started. May apply to any level, e.g., program, project, phase, activity, task.
A30: Plan | B30: The purposes of establishing, at an early date, the parameters of the project that is going to be worked on as well as to try to delineate any specific and/or any peculiarities to the project as a whole and/or any specific phases of the project. | D30: Involves working out and extending the theoretical, practical, and/or useful application of an idea, concept, or preliminary design. This also involves a plan for moving a project concept to a viable project.
A31: Execute | B31: The period within the project lifecycle during which the actual work of creating the project's deliverables is carried out. | D31: Involves directing, accomplishing, managing, and completing all phases and aspects of work for a given project.
A32: Control | B32: A mechanism which reacts to the current project status in order to ensure accomplishment of project objectives. This involves planning, measuring, monitoring, and taking corrective action based on the results of the monitoring. | D32: Involves exercising corrective action as necessary to yield a required outcome consequent upon monitoring performance. Or, the process of comparing actual performance with planned performance, analyzing variances, evaluating possible alternatives, and taking appropriate corrective action as needed.
A33: Close Out | B33: The completion of all work on a project. Can also refer to completion of a phase of the project. | D33: Involves formally terminating and concluding all tasks, activities, and component parts of a particular project, or phase of a project.
A36: Personnel Data Table
A37: Data Requested | D37: Definitions
A38: EMPG funds (federal AND match) allocated towards state/territory emergency management personnel | D38: The total of all EMPG funds (federal and match) allocated for state/territory emergency management personnel. This should exclude local and tribal personnel.
A39: EMPG funds (federal AND match) allocated towards NON-STATE/TERRITORY emergency management personnel | D39: All EMPG funds (federal and match) allocated towards non-state/territory emergency management personnel (i.e. local, tribal personnel). This excludes state/territory personnel.
A40: Total number of all emergency management full time equivalent (FTE) personnel. | D40: Total number of state emergency management FTE personnel (including those supported and not supported by the EMPG). This should include only funded positions. Vacant positions should be excluded.
A41: Number of state/territory emergency management FTE personnel supported (fully or partially) by EMPG | D41: Number of state/territory emergency management FTE personnel supported by the EMPG. This excludes local and tribal personnel.
A42: Total number of SLTT emergency management personnel supported (fully or partially) by EMPG | D42: Total number of state/territory, local, and tribal emergency management personnel funded (fully or partially) by the EMPG. This number provides the "Universe" number for the training and exercise templates.

Sheet Grant Investment Strategy
A1: Grant Investment Strategy
A2: Provide a narrative overview of the state/territory's preparedness investment strategy by addressing each of the sections below.
A4: Provide an overview of your state or territory's Risk Profile based on the most recent THIRA/SPR results, Hazard Mitigation Plan, and/or other information sources used to assess risk.
A7: Describe the gaps or areas of need as identified through the THIRA/SPR process and/or other relevant assessments.
A10: Identify the 3-5 priority areas that serve as the focus for EMPG-funded investments and the performance goals associated with each priority.
A13: Provide a BRIEF overview of the state or territory's investment strategy by identifying proposed EMPG-funded investments; briefly explaining how they support the identified priorities and performance goals, along with the state/territory's risks, gaps, and needs identified above; and providing the anticipated impact of the investments relative to the priorities, performance goals, and/or core capabilities supported.
A16: Provide a description of the cost share for EMPG and matching funds.

Sheet Budget Overview
A1: REMINDER: This sheet automatically populates with data from the Detailed Budget tab and cannot be edited. To change any information as it is found in this tab, make edits to the line items within the Detailed Budget.
A3: Budget | F3: Mission Area (Primary Only) | G3: Total
B4: Federal | C4: Non-Federal | D4: Total | F4: Prevention | G4: =SUMIF('Detailed Budget'!$P$10:$P$1048576, "Prevention", 'Detailed Budget'!$N$10:$N$1048576) -> 0
A5: FY21 EMPG | B5: =Federal_EMPG21_Amount -> 0 | C5: =Non_Federal_EMPG21_Amount -> 0 | D5: =Total_EMPG21_Award_Amount -> 0 | F5: Protection | G5: =SUMIF('Detailed Budget'!$P$10:$P$1048576, "Protection", 'Detailed Budget'!$N$10:$N$1048576) -> 0
A6: EMPG-ARPA | B6: =Federal_ARP_Amount -> 0 | C6: =Non_Federal_ARP_Amount -> 0 | D6: =Total_ARP_Award_Amount -> 0 | F6: Mitigation | G6: =SUMIF('Detailed Budget'!$P$10:$P$1048576, "Mitigation", 'Detailed Budget'!$N$10:$N$1048576) -> 0
A7: Total | B7: =B5+B6 -> 0 | C7: =C5+C6 -> 0 | D7: =Grand_Total -> 0 | F7: Response | G7: =SUMIF('Detailed Budget'!$P$10:$P$1048576, "Response", 'Detailed Budget'!$N$10:$N$1048576) -> 0
F8: Recovery | G8: =SUMIF('Detailed Budget'!$P$10:$P$1048576, "Recovery", 'Detailed Budget'!$N$10:$N$1048576) -> 0
B9: Federal | C9: Non-Federal | D9: Total | F9: Core Capability (Primary Only)
A10: Personnel | B10: =B11+B12 -> 0 | C10: =C11+C12 -> 0 | D10: =SUMIF('Detailed Budget'!$A$10:$A$1048576, "Personnel",'Detailed Budget'!$N$10:$N$1048576) -> 0 | F10: Access Control and Identity Verification | G10: =SUMIF('Detailed Budget'!$S$10:$S$1048576, "Access Control and Identity Verification", 'Detailed Budget'!$N$10:$N$1048576) -> 0
A11: FY21 EMPG | B11: =SUMIF('Detailed Budget'!$A$10:$A$1048576, "Personnel",'Detailed Budget'!$D$10:$D$1048576) -> 0 | C11: =SUMIF('Detailed Budget'!$A$10:$A$1048576, "Personnel",'Detailed Budget'!$F$10:$F$1048576) -> 0 | D11: =C11+B11 -> 0 | F11: Body Recovery/Storage | G11: =SUMIF('Detailed Budget'!$S$10:$S$1048576, "Body Recovery/Storage", 'Detailed Budget'!$N$10:$N$1048576) -> 0
A12: EMPG-ARPA | B12: =SUMIF('Detailed Budget'!$A$10:$A$1048576, "Personnel",'Detailed Budget'!$E$10:$E$1048576) -> 0 | C12: =SUMIF('Detailed Budget'!$A$10:$A$1048576, "Personnel",'Detailed Budget'!$G$10:$G$1048576) -> 0 | D12: =C12+B12 -> 0 | F12: Catastrophic Disaster Housing | G12: =SUMIF('Detailed Budget'!$S$10:$S$1048576, "Catastrophic Disaster Housing", 'Detailed Budget'!$N$10:$N$1048576) -> 0
A13: Fringes | B13: =B14+B15 -> 0 | C13: =C14+C15 -> 0 | D13: =SUMIF('Detailed Budget'!$A$10:$A$1048576, "Personnel",'Detailed Budget'!$N$10:$N$1048576) -> 0 | F13: Community Resilience | G13: =SUMIF('Detailed Budget'!$S$10:$S$1048576, "Community Resilience", 'Detailed Budget'!$N$10:$N$1048576) -> 0
A14: FY21 EMPG | B14: =SUMIF('Detailed Budget'!$A$10:$A$1048576, "Fringes",'Detailed Budget'!$D$10:$D$1048576) -> 0 | C14: =SUMIF('Detailed Budget'!$A$10:$A$1048576, "Fringes",'Detailed Budget'!$F$10:$F$1048576) -> 0 | D14: =B14+C14 -> 0 | F14: Community Sheltering | G14: =SUMIF('Detailed Budget'!$S$10:$S$1048576, "Community Sheltering", 'Detailed Budget'!$N$10:$N$1048576) -> 0
A15: EMPG-ARPA | B15: =SUMIF('Detailed Budget'!$A$10:$A$1048576, "Fringes",'Detailed Budget'!$E$10:$E$1048576) -> 0 | C15: =SUMIF('Detailed Budget'!$A$10:$A$1048576, "Fringes",'Detailed Budget'!$G$10:$G$1048576) -> 0 | D15: =B15+C15 -> 0 | F15: Critical Transportation | G15: =SUMIF('Detailed Budget'!$S$10:$S$1048576, "Critical Transportation", 'Detailed Budget'!$N$10:$N$1048576) -> 0
A16: Travel | B16: =B17+B18 -> 0 | C16: =C17+C18 -> 0 | D16: =SUMIF('Detailed Budget'!$A$10:$A$1048576, "Personnel",'Detailed Budget'!$N$10:$N$1048576) -> 0 | F16: Cybersecurity | G16: =SUMIF('Detailed Budget'!$S$10:$S$1048576, "Cybersecurity", 'Detailed Budget'!$N$10:$N$1048576) -> 0
A17: FY21 EMPG | B17: =SUMIF('Detailed Budget'!$A$10:$A$1048576, "Travel",'Detailed Budget'!$D$10:$D$1048576) -> 0 | C17: =SUMIF('Detailed Budget'!$A$10:$A$1048576, "Travel",'Detailed Budget'!$F$10:$F$1048576) -> 0 | D17: =B17+C17 -> 0 | F17: Disaster Financial Management | G17: =SUMIF('Detailed Budget'!$S$10:$S$1048576, "Disaster Financial Management", 'Detailed Budget'!$N$10:$N$1048576) -> 0
A18: EMPG-ARPA | B18: =SUMIF('Detailed Budget'!$A$10:$A$1048576, "Travel",'Detailed Budget'!$E$10:$E$1048576) -> 0 | C18: =SUMIF('Detailed Budget'!$A$10:$A$1048576, "Travel",'Detailed Budget'!$G$10:$G$1048576) -> 0 | D18: =B18+C18 -> 0 | F18: Economic Recovery | G18: =SUMIF('Detailed Budget'!$S$10:$S$1048576, "Economic Recovery", 'Detailed Budget'!$N$10:$N$1048576) -> 0
A19: Equipment | B19: =B20+B21 -> 0 | C19: =C20+C21 -> 0 | D19: =SUMIF('Detailed Budget'!$A$10:$A$1048576, "Personnel",'Detailed Budget'!$N$10:$N$1048576) -> 0 | F19: Environmental Response/Health and Safety | G19: =SUMIF('Detailed Budget'!$S$10:$S$1048576, "Environmental Response/Health and Safety", 'Detailed Budget'!$N$10:$N$1048576) -> 0
A20: FY21 EMPG | B20: =SUMIF('Detailed Budget'!$A$10:$A$1048576, "Equipment",'Detailed Budget'!$D$10:$D$1048576) -> 0 | C20: =SUMIF('Detailed Budget'!$A$10:$A$1048576, "Equipment",'Detailed Budget'!$F$10:$F$1048576) -> 0 | D20: =B20+C20 -> 0 | F20: Evacuation Plan/Annex | G20: =SUMIF('Detailed Budget'!$S$10:$S$1048576, "Evacuation Plan/Annex", 'Detailed Budget'!$N$10:$N$1048576) -> 0
A21: EMPG-ARPA | B21: =SUMIF('Detailed Budget'!$A$10:$A$1048576, "Equipment",'Detailed Budget'!$E$10:$E$1048576) -> 0 | C21: =SUMIF('Detailed Budget'!$A$10:$A$1048576, "Equipment",'Detailed Budget'!$G$10:$G$1048576) -> 0 | D21: =B21+C21 -> 0 | F21: Fatality Management Services | G21: =SUMIF('Detailed Budget'!$S$10:$S$1048576, "Fatality Management Services", 'Detailed Budget'!$N$10:$N$1048576) -> 0
A22: Supplies | B22: =B23+B24 -> 0 | C22: =C23+C24 -> 0 | D22: =SUMIF('Detailed Budget'!$A$10:$A$1048576, "Personnel",'Detailed Budget'!$N$10:$N$1048576) -> 0 | F22: Fire Management and Suppression | G22: =SUMIF('Detailed Budget'!$S$10:$S$1048576, "Fire Management and Suppression", 'Detailed Budget'!$N$10:$N$1048576) -> 0
A23: FY21 EMPG | B23: =SUMIF('Detailed Budget'!$A$10:$A$1048576, "Supplies",'Detailed Budget'!$D$10:$D$1048576) -> 0 | C23: =SUMIF('Detailed Budget'!$A$10:$A$1048576, "Supplies",'Detailed Budget'!$F$10:$F$1048576) -> 0 | D23: =B23+C23 -> 0 | F23: Forensics and Attribution | G23: =SUMIF('Detailed Budget'!$S$10:$S$1048576, "Forensics and Attribution", 'Detailed Budget'!$N$10:$N$1048576) -> 0
A24: EMPG-ARPA | B24: =SUMIF('Detailed Budget'!$A$10:$A$1048576, "Supplies",'Detailed Budget'!$E$10:$E$1048576) -> 0 | C24: =SUMIF('Detailed Budget'!$A$10:$A$1048576, "Supplies",'Detailed Budget'!$G$10:$G$1048576) -> 0 | D24: =B24+C24 -> 0 | F24: Health and Social Services | G24: =SUMIF('Detailed Budget'!$S$10:$S$1048576, "Health and Social Services", 'Detailed Budget'!$N$10:$N$1048576) -> 0
A25: Contractual | B25: =B26+B27 -> 0 | C25: =C26+C27 -> 0 | D25: =SUMIF('Detailed Budget'!$A$10:$A$1048576, "Personnel",'Detailed Budget'!$N$10:$N$1048576) -> 0 | F25: Housing | G25: =SUMIF('Detailed Budget'!$S$10:$S$1048576, "Housing", 'Detailed Budget'!$N$10:$N$1048576) -> 0
A26: FY21 EMPG | B26: =SUMIF('Detailed Budget'!$A$10:$A$1048576, "Consultants/Contracts",'Detailed Budget'!$D$10:$D$1048576) -> 0 | C26: =SUMIF('Detailed Budget'!$A$10:$A$1048576, "Consultants/Contracts",'Detailed Budget'!$F$10:$F$1048576) -> 0 | D26: =B26+C26 -> 0 | F26: Infrastructure Systems | G26: =SUMIF('Detailed Budget'!$S$10:$S$1048576, "Infrastructure Systems", 'Detailed Budget'!$N$10:$N$1048576) -> 0
A27: EMPG-ARPA | B27: =SUMIF('Detailed Budget'!$A$10:$A$1048576, "Consultants/Contracts",'Detailed Budget'!$E$10:$E$1048576) -> 0 | C27: =SUMIF('Detailed Budget'!$A$10:$A$1048576, "Consultants/Contracts",'Detailed Budget'!$G$10:$G$1048576) -> 0 | D27: =B27+C27 -> 0 | F27: Intelligence and Information Sharing | G27: =SUMIF('Detailed Budget'!$S$10:$S$1048576, "Intelligence and Information Sharing", 'Detailed Budget'!$N$10:$N$1048576) -> 0
A28: Other | B28: =B29+B30 -> 0 | C28: =C29+C30 -> 0 | D28: =SUMIF('Detailed Budget'!$A$10:$A$1048576, "Personnel",'Detailed Budget'!$N$10:$N$1048576) -> 0 | F28: Interdiction and Disruption | G28: =SUMIF('Detailed Budget'!$S$10:$S$1048576, "Interdiction and Disruption", 'Detailed Budget'!$N$10:$N$1048576) -> 0
A29: FY21 EMPG | B29: =SUMIF('Detailed Budget'!$A$10:$A$1048576, "Other",'Detailed Budget'!$D$10:$D$1048576) -> 0 | C29: =SUMIF('Detailed Budget'!$A$10:$A$1048576, "Other",'Detailed Budget'!$F$10:$F$1048576) -> 0 | D29: =B29+C29 -> 0 | F29: Life-Sustaining Goods Delivery | G29: =SUMIF('Detailed Budget'!$S$10:$S$1048576, "Life-Sustaining Goods Delivery", 'Detailed Budget'!$N$10:$N$1048576) -> 0
A30: EMPG-ARPA | B30: =SUMIF('Detailed Budget'!$A$10:$A$1048576, "Other",'Detailed Budget'!$E$10:$E$1048576) -> 0 | C30: =SUMIF('Detailed Budget'!$A$10:$A$1048576, "Other",'Detailed Budget'!$G$10:$G$1048576) -> 0 | D30: =B30+C30 -> 0 | F30: Logistics – Distribution Management Planning | G30: =SUMIF('Detailed Budget'!$S$10:$S$1048576, "Logistics – Distribution Management Planning", 'Detailed Budget'!$N$10:$N$1048576) -> 0
A31: Construction | B31: =B32+B33 -> 0 | C31: =C32+C33 -> 0 | D31: =SUMIF('Detailed Budget'!$A$10:$A$1048576, "Personnel",'Detailed Budget'!$N$10:$N$1048576) -> 0 | F31: Logistics and Supply Chain Management | G31: =SUMIF('Detailed Budget'!$S$10:$S$1048576, "Logistics and Supply Chain Management", 'Detailed Budget'!$N$10:$N$1048576) -> 0
A32: FY21 EMPG | B32: =SUMIF('Detailed Budget'!$A$10:$A$1048576, "Construction",'Detailed Budget'!$D$10:$D$1048576) -> 0 | C32: =SUMIF('Detailed Budget'!$A$10:$A$1048576, "Construction",'Detailed Budget'!$F$10:$F$1048576) -> 0 | D32: =B32+C32 -> 0 | F32: Long-term Housing | G32: =SUMIF('Detailed Budget'!$S$10:$S$1048576, "Long-term Housing", 'Detailed Budget'!$N$10:$N$1048576) -> 0
A33: EMPG-ARPA | B33: =SUMIF('Detailed Budget'!$A$10:$A$1048576, "Construction",'Detailed Budget'!$E$10:$E$1048576) -> 0 | C33: =SUMIF('Detailed Budget'!$A$10:$A$1048576, "Construction",'Detailed Budget'!$G$10:$G$1048576) -> 0 | D33: =B33+C33 -> 0 | F33: Long-term Vulnerability Reduction | G33: =SUMIF('Detailed Budget'!$S$10:$S$1048576, "Long-term Vulnerability Reduction", 'Detailed Budget'!$N$10:$N$1048576) -> 0
A34: Indirect | B34: =B35+B36 -> 0 | C34: =C35+C36 -> 0 | D34: =SUMIF('Detailed Budget'!$A$10:$A$1048576, "Personnel",'Detailed Budget'!$N$10:$N$1048576) -> 0 | F34: Mass Care Services | G34: =SUMIF('Detailed Budget'!$S$10:$S$1048576, "Mass Care Services", 'Detailed Budget'!$N$10:$N$1048576) -> 0
A35: FY21 EMPG | B35: =SUMIF('Detailed Budget'!$A$10:$A$1048576, "Indirect",'Detailed Budget'!$D$10:$D$1048576) -> 0 | C35: =SUMIF('Detailed Budget'!$A$10:$A$1048576, "Indirect",'Detailed Budget'!$F$10:$F$1048576) -> 0 | D35: =B35+C35 -> 0 | F35: Mass Search and Rescue Operations | G35: =SUMIF('Detailed Budget'!$S$10:$S$1048576, "Mass Search and Rescue Operations", 'Detailed Budget'!$N$10:$N$1048576) -> 0
A36: EMPG-ARPA | B36: =SUMIF('Detailed Budget'!$A$10:$A$1048576, "Indirect",'Detailed Budget'!$E$10:$E$1048576) -> 0 | C36: =SUMIF('Detailed Budget'!$A$10:$A$1048576, "Indirect",'Detailed Budget'!$G$10:$G$1048576) -> 0 | D36: =B36+C36 -> 0 | F36: Natural and Cultural Resources | G36: =SUMIF('Detailed Budget'!$S$10:$S$1048576, "Natural and Cultural Resources", 'Detailed Budget'!$N$10:$N$1048576) -> 0
F37: On-Scene Security, Protection, and Law Enforcement | G37: =SUMIF('Detailed Budget'!$S$10:$S$1048576, "On-Scene Security, Protection, and Law Enforcement", 'Detailed Budget'!$N$10:$N$1048576) -> 0
F38: Operational Communications | G38: =SUMIF('Detailed Budget'!$S$10:$S$1048576, "Operational Communications", 'Detailed Budget'!$N$10:$N$1048576) -> 0
F39: Operational Coordination | G39: =SUMIF('Detailed Budget'!$S$10:$S$1048576, "Operational Coordination", 'Detailed Budget'!$N$10:$N$1048576) -> 0
F40: Physical Protective Measures | G40: =SUMIF('Detailed Budget'!$S$10:$S$1048576, "Physical Protective Measures", 'Detailed Budget'!$N$10:$N$1048576) -> 0
F41: Planning | G41: =SUMIF('Detailed Budget'!$S$10:$S$1048576, "Planning", 'Detailed Budget'!$N$10:$N$1048576) -> 0
...

Sheet Grant Activities Outline
A1: Project Count | B1: =COUNTA(Name1, Name2, Name3, Name4, Name5, Name6, Name7, Name8, Name9, Name10, Name11, Name12, Name13, Name14, Name15, Name16, Name17, Name18, Name19, Name20, Name21, Name22, Name23, Name24, Name25, Name26, Name27, Name28, Name29, Name30, Name31, Name32, Name33, Name34, Name35, Name36, Name37, Name38, Name39, Name40) -> 0
A2: Total P-T-Ex Count | B2: {=SUM(COUNTIFS(POETE1.1:POETE40.3, {"Planning","Training","Exercises"}))} -> 0
A3: Total Gap Count | B3: ='Project Reference'!X42 -> 0
A4: Total P-T-Ex (%) Alignment | B4: =B2/B3 -> #DIV/0!
A6: Project Number | B6: 1
A7: Project Name
A10: Brief Description of Project
A13: Gap or Need Addressed | F13: Reference for Identified Gap or Need
A16: Project Objective
A19: Anticipated Project Impact
A22: Build or Sustain?
A24: RA Agreed Upon Priority Area | E24: Mission Area
E25: Primary
A26: POETE Category | E26: Secondary
A27: Primary | E27: Tertiary
A28: Secondary
A29: Tertiary | E29: Core Capabilities
E30: 1
A31: EMAP Standard Element | E31: 2
A32: 1 | E32: 3
A33: 2 | E33: 4
A34: 3 | E34: 5
A36: Performance Goals
A37: Goals should be based on the capability targets identified in the Core Capability Development Sheets.
A38: For additional guidance on Performance Goals and Measures, please click here.
A39: Performance Goals | D39: Current Capability Metrics | F39: Milestones
A40: Example: Within three years, the (state/territory) will have the capability to identify and mobilize life-sustaining commodities, resources, and services to 10,000 people requiring shelter and 100,000 people requiring food and water, within 24-hours of an incident, and to maintain the distribution system for at least 30 days. | D40: Example: - Sheltering for 6,000 people - Food & water for 60,000 people | F40: Example: - Coordinate with key stakeholders to update the State Distribution Management Plan annually by September 30th. - Conduct a tabletop exercise with state and local emergency management officials and other key stakeholders to test logistics and supply chain management capabilities during a major disaster by May 31, 2022. - Identify and procure critical emergency supplies needed to support a major disaster and develop a five-year viable inventory management plan by June 30, 2021. - Procure an inventory management system by June 30, 2021. - Identify suitable and available facilities for stockpiling of critical emergency supplies and enter into lease agreements by June 30, 2022.
A55: Project Number | B55: 2
A56: Project Name
A59: Brief Description of Project
A62: Gap or Need Addressed | F62: Reference for Identified Gap or Need
A65: Project Objective
A68: Anticipated Project Impact
A71: Build or Sustain?
A73: RA Agreed Upon Priority Area | E73: Mission Area
E74: Primary
A75: POETE Category | E75: Secondary
A76: Primary | E76: Tertiary
A77: Secondary
A78: Tertiary | E78: Core Capabilities
...

Sheet Project Activities Outline
A1: Project Number | B1: 1
A2: Project Name | B2: =Name1 -> 0
A5: Gap or Need Addressed | B5: =GapA1 -> 0
A8: Project Objective | B8: =Objective1 -> 0
A11: Build or Sustain? | B11: =Capacity1 -> 0
A16: Planned Activities
A17: Year | B17: Quarter | C17: Task No. | D17: Key Activity | E17: Step | F17: Estimated Start Date | G17: Actual Start Date | H17: Estimated Completion Date | I17: Actual Completion Date | J17: % Complete | K17: Challenges/Risks | L17: Notes
A18: 1 | B18: 1 | C18: 1
C19: 2
C20: 3
C21: 4
C22: 5
C23: 6
C24: 7
C25: 8
C26: 9
C27: 10
C28: 11
C29: 12
B30: 2 | C30: 1
C31: 2
C32: 3
C33: 4
C34: 5
C35: 6
C36: 7
C37: 8
C38: 9
C39: 10
C40: 11
C41: 12
B42: 3 | C42: 1
C43: 2
C44: 3
C45: 4
C46: 5
C47: 6
C48: 7
C49: 8
C50: 9
...

Sheet Personnel Data Table
A1: Emergency Management Personnel Statistics | I1: Definitions
A2: EMPG funds (federal AND match) allocated towards STATE/TERRITORY emergency management personnel
A3: EMPG funds (federal AND match) allocated towards NON-STATE/TERRITORY emergency management personnel (e.g., local, tribal)
A4: Total number state/territory emergency management full time equivalent (FTE) personnel (including those supported and not supported by EMPG)
A5: Number state/territory emergency management FTE personnel supported (fully or partially) by EMPG
A6: Total number of SLTT emergency management personnel supported (fully or partially) by EMPG
A8: EMPG Funded Personnel Data
A9: Name | B9: Title | C9: Agency | D9: State Employee? (Y/N) | E9: Amount paid by EMPG | F9: Federal Share | G9: Match | H9: Project No.

Sheet Project Reference
A1: Project Name | B1: Project Number | C1: Primary Mission Area | D1: Secondary Mission Area | E1: Tertiary Mission Area | F1: Core Capability 1 | G1: Core Capability 2 | H1: Core Capability 3 | I1: Core Capability 4 | J1: Core Capability 5 | K1: State/Regional Priority | L1: EMAP1 | M1: EMAP2 | N1: EMAP3 | O1: POETE 1 | P1: POETE 2 | Q1: POETE 3 | R1: Gap References | S1: Project Number | T1: Project Name | U1: PTEx Count | V1: Count if "Reference" was given | W1: are ANY POETE categories PTEx? | X1: Count of project with PTEx AND a Reference
A2: =Name1 -> 0 | B2: 1 | C2: =Mission1.1 -> 0 | D2: =Mission1.2 -> 0 | E2: =Mission1.3 -> 0 | F2: =Core1.1 -> 0 | G2: =Core1.2 -> 0 | H2: =Core1.3 -> 0 | I2: =Core1.4 -> 0 | J2: =Core1.5 -> 0 | K2: =RAPriority1 -> 0 | L2: =EMAP1.1 -> 0 | M2: =EMAP1.2 -> 0 | N2: =EMAP1.3 -> 0 | O2: =POETE1.1 -> 0 | P2: =POETE1.2 -> 0 | Q2: =POETE1.3 -> 0 | R2: =GapRef1 -> 0 | S2: 1 | T2: =Name1 -> 0 | U2: {=SUM(COUNTIF(POETE1.1:POETE1.3, {"Planning","Training","Exercises"}))} -> 0 | V2: =COUNTIF(R2,"<>0") -> 0 | W2: =COUNTIF(U2,"<>0") -> 0 | X2: =W2*V2 -> 0
A3: =Name2 -> 0 | B3: 2 | C3: =Mission2.1 -> 0 | D3: =Mission2.2 -> 0 | E3: =Mission2.3 -> 0 | F3: =Core2.1 -> 0 | G3: =Core2.2 -> 0 | H3: =Core2.3 -> 0 | I3: =Core2.4 -> 0 | J3: =Core2.5 -> 0 | K3: =RAPriority2 -> 0 | L3: =EMAP2.1 -> 0 | M3: =EMAP2.2 -> 0 | N3: =EMAP2.3 -> 0 | O3: =POETE2.1 -> 0 | P3: =POETE2.2 -> 0 | Q3: =POETE2.3 -> 0 | R3: =GapRef2 -> 0 | S3: 2 | T3: =Name2 -> 0 | U3: {=SUM(COUNTIF(POETE2.1:POETE2.3, {"Planning","Training","Exercises"}))} -> 0 | V3: =COUNTIF(R3,"<>0") -> 0 | W3: =COUNTIF(U3,"<>0") -> 0 | X3: =W3*V3 -> 0
A4: =Name3 -> 0 | B4: 3 | C4: =Mission3.1 -> 0 | D4: =Mission3.2 -> 0 | E4: =Mission3.3 -> 0 | F4: =Core3.1 -> 0 | G4: =Core3.2 -> 0 | H4: =Core3.3 -> 0 | I4: =Core3.4 -> 0 | J4: =Core3.5 -> 0 | K4: =RAPriority3 -> 0 | L4: =EMAP3.1 -> 0 | M4: =EMAP3.2 -> 0 | N4: =EMAP3.3 -> 0 | O4: =POETE3.1 -> 0 | P4: =POETE3.2 -> 0 | Q4: =POETE3.3 -> 0 | R4: =GapRef3 -> 0 | S4: 3 | T4: =Name3 -> 0 | U4: {=SUM(COUNTIF(POETE3.1:POETE3.3, {"Planning","Training","Exercises"}))} -> 0 | V4: =COUNTIF(R4,"<>0") -> 0 | W4: =COUNTIF(U4,"<>0") -> 0 | X4: =W4*V4 -> 0
A5: =Name4 -> 0 | B5: 4 | C5: =Mission4.1 -> 0 | D5: =Mission4.2 -> 0 | E5: =Mission4.3 -> 0 | F5: =Core4.1 -> 0 | G5: =Core4.2 -> 0 | H5: =Core4.3 -> 0 | I5: =Core4.4 -> 0 | J5: =Core4.5 -> 0 | K5: =RAPriority4 -> 0 | L5: =EMAP4.1 -> 0 | M5: =EMAP4.2 -> 0 | N5: =EMAP4.3 -> 0 | O5: =POETE4.1 -> 0 | P5: =POETE4.2 -> 0 | Q5: =POETE4.3 -> 0 | R5: =GapRef4 -> 0 | S5: 4 | T5: =Name4 -> 0 | U5: {=SUM(COUNTIF(POETE4.1:POETE4.3, {"Planning","Training","Exercises"}))} -> 0 | V5: =COUNTIF(R5,"<>0") -> 0 | W5: =COUNTIF(U5,"<>0") -> 0 | X5: =W5*V5 -> 0
A6: =Name5 -> 0 | B6: 5 | C6: =Mission5.2 -> 0 | D6: =Mission5.2 -> 0 | E6: =Mission5.3 -> 0 | F6: =Core5.1 -> 0 | G6: =Core5.2 -> 0 | H6: =Core5.3 -> 0 | I6: =Core5.4 -> 0 | J6: =Core5.5 -> 0 | K6: =RAPriority5 -> 0 | L6: =EMAP5.1 -> 0 | M6: =EMAP5.2 -> 0 | N6: =EMAP5.3 -> 0 | O6: =POETE5.1 -> 0 | P6: =POETE5.2 -> 0 | Q6: =POETE5.3 -> 0 | R6: =GapRef5 -> 0 | S6: 5 | T6: =Name5 -> 0 | U6: {=SUM(COUNTIF(POETE5.1:POETE5.3, {"Planning","Training","Exercises"}))} -> 0 | V6: =COUNTIF(R6,"<>0") -> 0 | W6: =COUNTIF(U6,"<>0") -> 0 | X6: =W6*V6 -> 0
A7: =Name6 -> 0 | B7: 6 | C7: =Mission6.1 -> 0 | D7: =Mission6.2 -> 0 | E7: =Mission6.3 -> 0 | F7: =Core6.1 -> 0 | G7: =Core6.2 -> 0 | H7: =Core6.3 -> 0 | I7: =Core6.4 -> 0 | J7: =Core6.5 -> 0 | K7: =RAPriority6 -> 0 | L7: =EMAP6.1 -> 0 | M7: =EMAP6.2 -> 0 | N7: =EMAP6.3 -> 0 | O7: =POETE6.1 -> 0 | P7: =POETE6.2 -> 0 | Q7: =POETE6.3 -> 0 | R7: =GapRef6 -> 0 | S7: 6 | T7: =Name6 -> 0 | U7: {=SUM(COUNTIF(POETE6.1:POETE6.3, {"Planning","Training","Exercises"}))} -> 0 | V7: =COUNTIF(R7,"<>0") -> 0 | W7: =COUNTIF(U7,"<>0") -> 0 | X7: =W7*V7 -> 0
A8: =Name7 -> 0 | B8: 7 | C8: =Mission7.1 -> 0 | D8: =Mission7.2 -> 0 | E8: =Mission7.3 -> 0 | F8: =Core7.1 -> 0 | G8: =Core7.2 -> 0 | H8: =Core7.3 -> 0 | I8: =Core7.4 -> 0 | J8: =Core7.5 -> 0 | K8: =RAPriority7 -> 0 | L8: =EMAP7.1 -> 0 | M8: =EMAP7.2 -> 0 | N8: =EMAP7.3 -> 0 | O8: =POETE7.1 -> 0 | P8: =POETE7.2 -> 0 | Q8: =POETE7.3 -> 0 | R8: =GapRef7 -> 0 | S8: 7 | T8: =Name7 -> 0 | U8: {=SUM(COUNTIF(POETE7.1:POETE7.3, {"Planning","Training","Exercises"}))} -> 0 | V8: =COUNTIF(R8,"<>0") -> 0 | W8: =COUNTIF(U8,"<>0") -> 0 | X8: =W8*V8 -> 0
A9: =Name8 -> 0 | B9: 8 | C9: =Mission8.1 -> 0 | D9: =Mission8.2 -> 0 | E9: =Mission8.3 -> 0 | F9: =Core8.1 -> 0 | G9: =Core8.2 -> 0 | H9: =Core8.3 -> 0 | I9: =Core8.4 -> 0 | J9: =Core8.5 -> 0 | K9: =RAPriority8 -> 0 | L9: =EMAP8.1 -> 0 | M9: =EMAP8.2 -> 0 | N9: =EMAP8.3 -> 0 | O9: =POETE8.1 -> 0 | P9: =POETE8.2 -> 0 | Q9: =POETE8.3 -> 0 | R9: =GapRef8 -> 0 | S9: 8 | T9: =Name8 -> 0 | U9: {=SUM(COUNTIF(POETE8.1:POETE8.3, {"Planning","Training","Exercises"}))} -> 0 | V9: =COUNTIF(R9,"<>0") -> 0 | W9: =COUNTIF(U9,"<>0") -> 0 | X9: =W9*V9 -> 0
A10: =Name9 -> 0 | B10: 9 | C10: =Mission9.1 -> 0 | D10: =Mission9.2 -> 0 | E10: =Mission9.3 -> 0 | F10: =Core9.1 -> 0 | G10: =Core9.2 -> 0 | H10: =Core9.3 -> 0 | I10: =Core9.4 -> 0 | J10: =Core9.5 -> 0 | K10: =RAPriority9 -> 0 | L10: =EMAP9.1 -> 0 | M10: =EMAP9.2 -> 0 | N10: =EMAP9.3 -> 0 | O10: =POETE9.1 -> 0 | P10: =POETE9.2 -> 0 | Q10: =POETE9.3 -> 0 | R10: =GapRef9 -> 0 | S10: 9 | T10: =Name9 -> 0 | U10: {=SUM(COUNTIF(POETE9.1:POETE9.3, {"Planning","Training","Exercises"}))} -> 0 | V10: =COUNTIF(R10,"<>0") -> 0 | W10: =COUNTIF(U10,"<>0") -> 0 | X10: =W10*V10 -> 0
A11: =Name10 -> 0 | B11: 10 | C11: =Mission10.1 -> 0 | D11: =Mission10.2 -> 0 | E11: =Mission10.3 -> 0 | F11: =Core10.1 -> 0 | G11: =Core10.2 -> 0 | H11: =Core10.3 -> 0 | I11: =Core10.4 -> 0 | J11: =Core10.5 -> 0 | K11: =RAPriority10 -> 0 | L11: =EMAP10.1 -> 0 | M11: =EMAP10.2 -> 0 | N11: =EMAP10.3 -> 0 | O11: =POETE10.1 -> 0 | P11: =POETE10.2 -> 0 | Q11: =POETE10.3 -> 0 | R11: =GapRef10 -> 0 | S11: 10 | T11: =Name10 -> 0 | U11: {=SUM(COUNTIF(POETE10.1:POETE10.3, {"Planning","Training","Exercises"}))} -> 0 | V11: =COUNTIF(R11,"<>0") -> 0 | W11: =COUNTIF(U11,"<>0") -> 0 | X11: =W11*V11 -> 0
A12: =Name11 -> 0 | B12: 11 | C12: =Mission11.1 -> 0 | D12: =Mission11.2 -> 0 | E12: =Mission11.3 -> 0 | F12: =Core11.1 -> 0 | G12: =Core11.2 -> 0 | H12: =Core11.3 -> 0 | I12: =Core11.4 -> 0 | J12: =Core11.5 -> 0 | K12: =RAPriority11 -> 0 | L12: =EMAP11.1 -> 0 | M12: =EMAP11.2 -> 0 | N12: =EMAP11.3 -> 0 | O12: =POETE11.1 -> 0 | P12: =POETE11.2 -> 0 | Q12: =POETE11.3 -> 0 | R12: =GapRef11 -> 0 | S12: 11 | T12: =Name11 -> 0 | U12: {=SUM(COUNTIF(POETE11.1:POETE11.3, {"Planning","Training","Exercises"}))} -> 0 | V12: =COUNTIF(R12,"<>0") -> 0 | W12: =COUNTIF(U12,"<>0") -> 0 | X12: =W12*V12 -> 0
A13: =Name12 -> 0 | B13: 12 | C13: =Mission12.1 -> 0 | D13: =Mission12.2 -> 0 | E13: =Mission12.3 -> 0 | F13: =Core12.1 -> 0 | G13: =Core12.2 -> 0 | H13: =Core12.3 -> 0 | I13: =Core12.4 -> 0 | J13: =Core12.5 -> 0 | K13: =RAPriority12 -> 0 | L13: =EMAP12.1 -> 0 | M13: =EMAP12.2 -> 0 | N13: =EMAP12.3 -> 0 | O13: =POETE12.1 -> 0 | P13: =POETE12.2 -> 0 | Q13: =POETE12.3 -> 0 | R13: =GapRef12 -> 0 | S13: 12 | T13: =Name12 -> 0 | U13: {=SUM(COUNTIF(POETE12.1:POETE12.3, {"Planning","Training","Exercises"}))} -> 0 | V13: =COUNTIF(R13,"<>0") -> 0 | W13: =COUNTIF(U13,"<>0") -> 0 | X13: =W13*V13 -> 0
A14: =Name13 -> 0 | B14: 13 | C14: =Mission13.1 -> 0 | D14: =Mission13.2 -> 0 | E14: =Mission13.3 -> 0 | F14: =Core13.1 -> 0 | G14: =Core13.2 -> 0 | H14: =Core13.3 -> 0 | I14: =Core13.4 -> 0 | J14: =Core13.5 -> 0 | K14: =RAPriority13 -> 0 | L14: =EMAP13.1 -> 0 | M14: =EMAP13.2 -> 0 | N14: =EMAP13.3 -> 0 | O14: =POETE13.1 -> 0 | P14: =POETE13.2 -> 0 | Q14: =POETE13.3 -> 0 | R14: =GapRef13 -> 0 | S14: 13 | T14: =Name13 -> 0 | U14: {=SUM(COUNTIF(POETE13.1:POETE13.3, {"Planning","Training","Exercises"}))} -> 0 | V14: =COUNTIF(R14,"<>0") -> 0 | W14: =COUNTIF(U14,"<>0") -> 0 | X14: =W14*V14 -> 0
A15: =Name14 -> 0 | B15: 14 | C15: =Mission14.1 -> 0 | D15: =Mission14.2 -> 0 | E15: =Mission14.3 -> 0 | F15: =Core14.1 -> 0 | G15: =Core14.2 -> 0 | H15: =Core14.3 -> 0 | I15: =Core14.4 -> 0 | J15: =Core14.5 -> 0 | K15: =RAPriority14 -> 0 | L15: =EMAP14.1 -> 0 | M15: =EMAP14.2 -> 0 | N15: =EMAP14.3 -> 0 | O15: =POETE14.1 -> 0 | P15: =POETE14.2 -> 0 | Q15: =POETE14.3 -> 0 | R15: =GapRef14 -> 0 | S15: 14 | T15: =Name14 -> 0 | U15: {=SUM(COUNTIF(POETE14.1:POETE14.3, {"Planning","Training","Exercises"}))} -> 0 | V15: =COUNTIF(R15,"<>0") -> 0 | W15: =COUNTIF(U15,"<>0") -> 0 | X15: =W15*V15 -> 0
A16: =Name15 -> 0 | B16: 15 | C16: =Mission15.1 -> 0 | D16: =Mission15.2 -> 0 | E16: =Mission15.3 -> 0 | F16: =Core15.1 -> 0 | G16: =Core15.2 -> 0 | H16: =Core15.3 -> 0 | I16: =Core15.4 -> 0 | J16: =Core15.5 -> 0 | K16: =RAPriority15 -> 0 | L16: =EMAP15.1 -> 0 | M16: =EMAP15.2 -> 0 | N16: =EMAP15.3 -> 0 | O16: =POETE15.1 -> 0 | P16: =POETE15.2 -> 0 | Q16: =POETE15.3 -> 0 | R16: =GapRef15 -> 0 | S16: 15 | T16: =Name15 -> 0 | U16: {=SUM(COUNTIF(POETE15.1:POETE15.3, {"Planning","Training","Exercises"}))} -> 0 | V16: =COUNTIF(R16,"<>0") -> 0 | W16: =COUNTIF(U16,"<>0") -> 0 | X16: =W16*V16 -> 0
A17: =Name16 -> 0 | B17: 16 | C17: =Mission16.1 -> 0 | D17: =Mission16.2 -> 0 | E17: =Mission16.3 -> 0 | F17: =Core16.1 -> 0 | G17: =Core16.2 -> 0 | H17: =Core16.3 -> 0 | I17: =Core16.4 -> 0 | J17: =Core16.5 -> 0 | K17: =RAPriority16 -> 0 | L17: =EMAP16.1 -> 0 | M17: =EMAP16.2 -> 0 | N17: =EMAP16.3 -> 0 | O17: =POETE16.1 -> 0 | P17: =POETE16.2 -> 0 | Q17: =POETE16.3 -> 0 | R17: =GapRef16 -> 0 | S17: 16 | T17: =Name16 -> 0 | U17: {=SUM(COUNTIF(POETE16.1:POETE16.3, {"Planning","Training","Exercises"}))} -> 0 | V17: =COUNTIF(R17,"<>0") -> 0 | W17: =COUNTIF(U17,"<>0") -> 0 | X17: =W17*V17 -> 0
A18: =Name17 -> 0 | B18: 17 | C18: =Mission17.1 -> 0 | D18: =Mission17.2 -> 0 | E18: =Mission17.3 -> 0 | F18: =Core17.1 -> 0 | G18: =Core17.2 -> 0 | H18: =Core17.3 -> 0 | I18: =Core17.4 -> 0 | J18: =Core17.5 -> 0 | K18: =RAPriority17 -> 0 | L18: =EMAP17.1 -> 0 | M18: =EMAP17.2 -> 0 | N18: =EMAP17.3 -> 0 | O18: =POETE17.1 -> 0 | P18: =POETE17.2 -> 0 | Q18: =POETE17.3 -> 0 | R18: =GapRef17 -> 0 | S18: 17 | T18: =Name17 -> 0 | U18: {=SUM(COUNTIF(POETE17.1:POETE17.3, {"Planning","Training","Exercises"}))} -> 0 | V18: =COUNTIF(R18,"<>0") -> 0 | W18: =COUNTIF(U18,"<>0") -> 0 | X18: =W18*V18 -> 0
A19: =Name18 -> 0 | B19: 18 | C19: =Mission18.1 -> 0 | D19: =Mission18.2 -> 0 | E19: =Mission18.3 -> 0 | F19: =Core18.1 -> 0 | G19: =Core18.2 -> 0 | H19: =Core18.3 -> 0 | I19: =Core18.4 -> 0 | J19: =Core18.5 -> 0 | K19: =RAPriority18 -> 0 | L19: =EMAP18.1 -> 0 | M19: =EMAP18.2 -> 0 | N19: =EMAP18.3 -> 0 | O19: =POETE18.1 -> 0 | P19: =POETE18.2 -> 0 | Q19: =POETE18.3 -> 0 | R19: =GapRef18 -> 0 | S19: 18 | T19: =Name18 -> 0 | U19: {=SUM(COUNTIF(POETE18.1:POETE18.3, {"Planning","Training","Exercises"}))} -> 0 | V19: =COUNTIF(R19,"<>0") -> 0 | W19: =COUNTIF(U19,"<>0") -> 0 | X19: =W19*V19 -> 0
A20: =Name19 -> 0 | B20: 19 | C20: =Mission19.1 -> 0 | D20: =Mission19.2 -> 0 | E20: =Mission19.3 -> 0 | F20: =Core19.1 -> 0 | G20: =Core19.2 -> 0 | H20: =Core19.3 -> 0 | I20: =Core19.4 -> 0 | J20: =Core19.5 -> 0 | K20: =RAPriority19 -> 0 | L20: =EMAP19.1 -> 0 | M20: =EMAP19.2 -> 0 | N20: =EMAP19.3 -> 0 | O20: =POETE19.1 -> 0 | P20: =POETE19.2 -> 0 | Q20: =POETE19.3 -> 0 | R20: =GapRef19 -> 0 | S20: 19 | T20: =Name19 -> 0 | U20: {=SUM(COUNTIF(POETE19.1:POETE19.3, {"Planning","Training","Exercises"}))} -> 0 | V20: =COUNTIF(R20,"<>0") -> 0 | W20: =COUNTIF(U20,"<>0") -> 0 | X20: =W20*V20 -> 0
A21: =Name20 -> 0 | B21: 20 | C21: =Mission20.1 -> 0 | D21: =Mission20.2 -> 0 | E21: =Mission20.3 -> 0 | F21: =Core20.1 -> 0 | G21: =Core20.2 -> 0 | H21: =Core20.3 -> 0 | I21: =Core20.4 -> 0 | J21: =Core20.5 -> 0 | K21: =RAPriority20 -> 0 | L21: =EMAP20.1 -> 0 | M21: =EMAP20.2 -> 0 | N21: =EMAP20.3 -> 0 | O21: =POETE20.1 -> 0 | P21: =POETE20.2 -> 0 | Q21: =POETE20.3 -> 0 | R21: =GapRef20 -> 0 | S21: 20 | T21: =Name20 -> 0 | U21: {=SUM(COUNTIF(POETE20.1:POETE20.3, {"Planning","Training","Exercises"}))} -> 0 | V21: =COUNTIF(R21,"<>0") -> 0 | W21: =COUNTIF(U21,"<>0") -> 0 | X21: =W21*V21 -> 0
A22: =Name21 -> 0 | B22: 21 | C22: =Mission21.1 -> 0 | D22: =Mission21.2 -> 0 | E22: =Mission21.3 -> 0 | F22: =Core21.1 -> 0 | G22: =Core21.2 -> 0 | H22: =Core21.3 -> 0 | I22: =Core21.4 -> 0 | J22: =Core21.5 -> 0 | K22: =RAPriority21 -> 0 | L22: =EMAP21.1 -> 0 | M22: =EMAP21.2 -> 0 | N22: =EMAP21.3 -> 0 | O22: =POETE21.1 -> 0 | P22: =POETE21.2 -> 0 | Q22: =POETE21.3 -> 0 | R22: =GapRef21 -> 0 | S22: 21 | T22: =Name21 -> 0 | U22: {=SUM(COUNTIF(POETE21.1:POETE21.3, {"Planning","Training","Exercises"}))} -> 0 | V22: =COUNTIF(R22,"<>0") -> 0 | W22: =COUNTIF(U22,"<>0") -> 0 | X22: =W22*V22 -> 0
A23: =Name22 -> 0 | B23: 22 | C23: =Mission22.1 -> 0 | D23: =Mission22.2 -> 0 | E23: =Mission22.3 -> 0 | F23: =Core22.1 -> 0 | G23: =Core22.2 -> 0 | H23: =Core22.3 -> 0 | I23: =Core22.4 -> 0 | J23: =Core22.5 -> 0 | K23: =RAPriority22 -> 0 | L23: =EMAP22.1 -> 0 | M23: =EMAP22.2 -> 0 | N23: =EMAP22.3 -> 0 | O23: =POETE22.1 -> 0 | P23: =POETE22.2 -> 0 | Q23: =POETE22.3 -> 0 | R23: =GapRef22 -> 0 | S23: 22 | T23: =Name22 -> 0 | U23: {=SUM(COUNTIF(POETE22.1:POETE22.3, {"Planning","Training","Exercises"}))} -> 0 | V23: =COUNTIF(R23,"<>0") -> 0 | W23: =COUNTIF(U23,"<>0") -> 0 | X23: =W23*V23 -> 0
A24: =Name23 -> 0 | B24: 23 | C24: =Mission23.1 -> 0 | D24: =Mission23.2 -> 0 | E24: =Mission23.3 -> 0 | F24: =Core23.1 -> 0 | G24: =Core23.2 -> 0 | H24: =Core23.3 -> 0 | I24: =Core23.4 -> 0 | J24: =Core23.5 -> 0 | K24: =RAPriority23 -> 0 | L24: =EMAP23.1 -> 0 | M24: =EMAP23.2 -> 0 | N24: =EMAP23.3 -> 0 | O24: =POETE23.1 -> 0 | P24: =POETE23.2 -> 0 | Q24: =POETE23.3 -> 0 | R24: =GapRef23 -> 0 | S24: 23 | T24: =Name23 -> 0 | U24: {=SUM(COUNTIF(POETE23.1:POETE23.3, {"Planning","Training","Exercises"}))} -> 0 | V24: =COUNTIF(R24,"<>0") -> 0 | W24: =COUNTIF(U24,"<>0") -> 0 | X24: =W24*V24 -> 0
A25: =Name24 -> 0 | B25: 24 | C25: =Mission24.1 -> 0 | D25: =Mission24.2 -> 0 | E25: =Mission24.3 -> 0 | F25: =Core24.1 -> 0 | G25: =Core24.2 -> 0 | H25: =Core24.3 -> 0 | I25: =Core24.4 -> 0 | J25: =Core24.5 -> 0 | K25: =RAPriority24 -> 0 | L25: =EMAP24.1 -> 0 | M25: =EMAP24.2 -> 0 | N25: =EMAP24.3 -> 0 | O25: =POETE24.1 -> 0 | P25: =POETE24.2 -> 0 | Q25: =POETE24.3 -> 0 | R25: =GapRef24 -> 0 | S25: 24 | T25: =Name24 -> 0 | U25: {=SUM(COUNTIF(POETE24.1:POETE24.3, {"Planning","Training","Exercises"}))} -> 0 | V25: =COUNTIF(R25,"<>0") -> 0 | W25: =COUNTIF(U25,"<>0") -> 0 | X25: =W25*V25 -> 0
A26: =Name25 -> 0 | B26: 25 | C26: =Mission25.1 -> 0 | D26: =Mission25.2 -> 0 | E26: =Mission25.3 -> 0 | F26: =Core25.1 -> 0 | G26: =Core25.2 -> 0 | H26: =Core25.3 -> 0 | I26: =Core25.4 -> 0 | J26: =Core25.5 -> 0 | K26: =RAPriority25 -> 0 | L26: =EMAP25.1 -> 0 | M26: =EMAP25.2 -> 0 | N26: =EMAP25.3 -> 0 | O26: =POETE25.1 -> 0 | P26: =POETE25.2 -> 0 | Q26: =POETE25.3 -> 0 | R26: =GapRef25 -> 0 | S26: 25 | T26: =Name25 -> 0 | U26: {=SUM(COUNTIF(POETE25.1:POETE25.3, {"Planning","Training","Exercises"}))} -> 0 | V26: =COUNTIF(R26,"<>0") -> 0 | W26: =COUNTIF(U26,"<>0") -> 0 | X26: =W26*V26 -> 0
A27: =Name26 -> 0 | B27: 26 | C27: =Mission26.1 -> 0 | D27: =Mission26.2 -> 0 | E27: =Mission26.3 -> 0 | F27: =Core26.1 -> 0 | G27: =Core26.2 -> 0 | H27: =Core26.3 -> 0 | I27: =Core26.4 -> 0 | J27: =Core26.5 -> 0 | K27: =RAPriority26 -> 0 | L27: =EMAP26.1 -> 0 | M27: =EMAP26.2 -> 0 | N27: =EMAP26.3 -> 0 | O27: =POETE26.1 -> 0 | P27: =POETE26.2 -> 0 | Q27: =POETE26.3 -> 0 | R27: =GapRef26 -> 0 | S27: 26 | T27: =Name26 -> 0 | U27: {=SUM(COUNTIF(POETE26.1:POETE26.3, {"Planning","Training","Exercises"}))} -> 0 | V27: =COUNTIF(R27,"<>0") -> 0 | W27: =COUNTIF(U27,"<>0") -> 0 | X27: =W27*V27 -> 0
A28: =Name27 -> 0 | B28: 27 | C28: =Mission27.1 -> 0 | D28: =Mission27.2 -> 0 | E28: =Mission27.3 -> 0 | F28: =Core27.1 -> 0 | G28: =Core27.2 -> 0 | H28: =Core27.3 -> 0 | I28: =Core27.4 -> 0 | J28: =Core27.5 -> 0 | K28: =RAPriority27 -> 0 | L28: =EMAP27.1 -> 0 | M28: =EMAP27.2 -> 0 | N28: =EMAP27.3 -> 0 | O28: =POETE27.1 -> 0 | P28: =POETE27.2 -> 0 | Q28: =POETE27.3 -> 0 | R28: =GapRef27 -> 0 | S28: 27.28 | T28: =Name27 -> 0 | U28: {=SUM(COUNTIF(POETE27.1:POETE27.3, {"Planning","Training","Exercises"}))} -> 0 | V28: =COUNTIF(R28,"<>0") -> 0 | W28: =COUNTIF(U28,"<>0") -> 0 | X28: =W28*V28 -> 0
A29: =Name28 -> 0 | B29: 28 | C29: =Mission28.1 -> 0 | D29: =Mission28.2 -> 0 | E29: =Mission28.3 -> 0 | F29: =Core28.1 -> 0 | G29: =Core28.2 -> 0 | H29: =Core28.3 -> 0 | I29: =Core28.4 -> 0 | J29: =Core28.5 -> 0 | K29: =RAPriority28 -> 0 | L29: =EMAP28.1 -> 0 | M29: =EMAP28.2 -> 0 | N29: =EMAP28.3 -> 0 | O29: =POETE28.1 -> 0 | P29: =POETE28.2 -> 0 | Q29: =POETE28.3 -> 0 | R29: =GapRef28 -> 0 | S29: 28 | T29: =Name28 -> 0 | U29: {=SUM(COUNTIF(POETE28.1:POETE28.3, {"Planning","Training","Exercises"}))} -> 0 | V29: =COUNTIF(R29,"<>0") -> 0 | W29: =COUNTIF(U29,"<>0") -> 0 | X29: =W29*V29 -> 0
A30: =Name29 -> 0 | B30: 29 | C30: =Mission29.1 -> 0 | D30: =Mission29.2 -> 0 | E30: =Mission29.3 -> 0 | F30: =Core29.1 -> 0 | G30: =Core29.2 -> 0 | H30: =Core29.3 -> 0 | I30: =Core29.4 -> 0 | J30: =Core29.5 -> 0 | K30: =RAPriority29 -> 0 | L30: =EMAP29.1 -> 0 | M30: =EMAP29.2 -> 0 | N30: =EMAP29.3 -> 0 | O30: =POETE29.1 -> 0 | P30: =POETE29.2 -> 0 | Q30: =POETE29.3 -> 0 | R30: =GapRef29 -> 0 | S30: 29 | T30: =Name29 -> 0 | U30: {=SUM(COUNTIF(POETE29.1:POETE29.3, {"Planning","Training","Exercises"}))} -> 0 | V30: =COUNTIF(R30,"<>0") -> 0 | W30: =COUNTIF(U30,"<>0") -> 0 | X30: =W30*V30 -> 0
A31: =Name30 -> 0 | B31: 30 | C31: =Mission30.1 -> 0 | D31: =Mission30.2 -> 0 | E31: =Mission30.3 -> 0 | F31: =Core30.1 -> 0 | G31: =Core30.2 -> 0 | H31: =Core30.3 -> 0 | I31: =Core30.4 -> 0 | J31: =Core30.5 -> 0 | K31: =RAPriority30 -> 0 | L31: =EMAP30.1 -> 0 | M31: =EMAP30.2 -> 0 | N31: =EMAP30.3 -> 0 | O31: =POETE30.1 -> 0 | P31: =POETE30.2 -> 0 | Q31: =POETE30.3 -> 0 | R31: =GapRef30 -> 0 | S31: 30 | T31: =Name30 -> 0 | U31: {=SUM(COUNTIF(POETE30.1:POETE30.3, {"Planning","Training","Exercises"}))} -> 0 | V31: =COUNTIF(R31,"<>0") -> 0 | W31: =COUNTIF(U31,"<>0") -> 0 | X31: =W31*V31 -> 0
A32: =Name31 -> 0 | B32: 31 | C32: =Mission31.1 -> 0 | D32: =Mission31.2 -> 0 | E32: =Mission31.3 -> 0 | F32: =Core31.1 -> 0 | G32: =Core31.2 -> 0 | H32: =Core31.3 -> 0 | I32: =Core31.4 -> 0 | J32: =Core31.5 -> 0 | K32: =RAPriority31 -> 0 | L32: =EMAP31.1 -> 0 | M32: =EMAP31.2 -> 0 | N32: =EMAP31.3 -> 0 | O32: =POETE31.1 -> 0 | P32: =POETE31.2 -> 0 | Q32: =POETE31.3 -> 0 | R32: =GapRef31 -> 0 | S32: 31 | T32: =Name31 -> 0 | U32: {=SUM(COUNTIF(POETE31.1:POETE31.3, {"Planning","Training","Exercises"}))} -> 0 | V32: =COUNTIF(R32,"<>0") -> 0 | W32: =COUNTIF(U32,"<>0") -> 0 | X32: =W32*V32 -> 0
A33: =Name32 -> 0 | B33: 32 | C33: =Mission32.1 -> 0 | D33: =Mission32.2 -> 0 | E33: =Mission32.3 -> 0 | F33: =Core32.1 -> 0 | G33: =Core32.2 -> 0 | H33: =Core32.3 -> 0 | I33: =Core32.4 -> 0 | J33: =Core32.5 -> 0 | K33: =RAPriority32 -> 0 | L33: =EMAP32.1 -> 0 | M33: =EMAP32.2 -> 0 | N33: =EMAP32.3 -> 0 | O33: =POETE32.1 -> 0 | P33: =POETE32.2 -> 0 | Q33: =POETE32.3 -> 0 | R33: =GapRef32 -> 0 | S33: 32 | T33: =Name32 -> 0 | U33: {=SUM(COUNTIF(POETE32.1:POETE32.3, {"Planning","Training","Exercises"}))} -> 0 | V33: =COUNTIF(R33,"<>0") -> 0 | W33: =COUNTIF(U33,"<>0") -> 0 | X33: =W33*V33 -> 0
A34: =Name33 -> 0 | B34: 33 | C34: =Mission33.1 -> 0 | D34: =Mission33.2 -> 0 | E34: =Mission33.3 -> 0 | F34: =Core33.1 -> 0 | G34: =Core33.2 -> 0 | H34: =Core33.3 -> 0 | I34: =Core33.4 -> 0 | J34: =Core33.5 -> 0 | K34: =RAPriority33 -> 0 | L34: =EMAP33.1 -> 0 | M34: =EMAP33.2 -> 0 | N34: =EMAP33.3 -> 0 | O34: =POETE33.1 -> 0 | P34: =POETE33.2 -> 0 | Q34: =POETE33.3 -> 0 | R34: =GapRef33 -> 0 | S34: 33 | T34: =Name33 -> 0 | U34: {=SUM(COUNTIF(POETE33.1:POETE33.3, {"Planning","Training","Exercises"}))} -> 0 | V34: =COUNTIF(R34,"<>0") -> 0 | W34: =COUNTIF(U34,"<>0") -> 0 | X34: =W34*V34 -> 0
A35: =Name34 -> 0 | B35: 34 | C35: =Mission34.1 -> 0 | D35: =Mission34.2 -> 0 | E35: =Mission34.3 -> 0 | F35: =Core34.1 -> 0 | G35: =Core34.2 -> 0 | H35: =Core34.3 -> 0 | I35: =Core34.4 -> 0 | J35: =Core34.5 -> 0 | K35: =RAPriority34 -> 0 | L35: =EMAP34.1 -> 0 | M35: =EMAP34.2 -> 0 | N35: =EMAP34.3 -> 0 | O35: =POETE34.1 -> 0 | P35: =POETE34.2 -> 0 | Q35: =POETE34.3 -> 0 | R35: =GapRef34 -> 0 | S35: 34 | T35: =Name34 -> 0 | U35: {=SUM(COUNTIF(POETE34.1:POETE34.3, {"Planning","Training","Exercises"}))} -> 0 | V35: =COUNTIF(R35,"<>0") -> 0 | W35: =COUNTIF(U35,"<>0") -> 0 | X35: =W35*V35 -> 0
A36: =Name35 -> 0 | B36: 35 | C36: =Mission35.1 -> 0 | D36: =Mission35.2 -> 0 | E36: =Mission35.3 -> 0 | F36: =Core35.1 -> 0 | G36: =Core35.2 -> 0 | H36: =Core35.3 -> 0 | I36: =Core35.4 -> 0 | J36: =Core35.5 -> 0 | K36: =RAPriority35 -> 0 | L36: =EMAP35.1 -> 0 | M36: =EMAP35.2 -> 0 | N36: =EMAP35.3 -> 0 | O36: =POETE35.1 -> 0 | P36: =POETE35.2 -> 0 | Q36: =POETE35.3 -> 0 | R36: =GapRef35 -> 0 | S36: 35 | T36: =Name35 -> 0 | U36: {=SUM(COUNTIF(POETE35.1:POETE35.3, {"Planning","Training","Exercises"}))} -> 0 | V36: =COUNTIF(R36,"<>0") -> 0 | W36: =COUNTIF(U36,"<>0") -> 0 | X36: =W36*V36 -> 0
A37: =Name36 -> 0 | B37: 36 | C37: =Mission36.1 -> 0 | D37: =Mission36.2 -> 0 | E37: =Mission36.3 -> 0 | F37: =Core36.1 -> 0 | G37: =Core36.2 -> 0 | H37: =Core36.3 -> 0 | I37: =Core36.4 -> 0 | J37: =Core36.5 -> 0 | K37: =RAPriority36 -> 0 | L37: =EMAP36.1 -> 0 | M37: =EMAP36.2 -> 0 | N37: =EMAP36.3 -> 0 | O37: =POETE36.1 -> 0 | P37: =POETE36.2 -> 0 | Q37: =POETE36.3 -> 0 | R37: =GapRef36 -> 0 | S37: 36 | T37: =Name36 -> 0 | U37: {=SUM(COUNTIF(POETE36.1:POETE36.3, {"Planning","Training","Exercises"}))} -> 0 | V37: =COUNTIF(R37,"<>0") -> 0 | W37: =COUNTIF(U37,"<>0") -> 0 | X37: =W37*V37 -> 0
A38: =Name37 -> 0 | B38: 37 | C38: =Mission37.1 -> 0 | D38: =Mission37.2 -> 0 | E38: =Mission37.3 -> 0 | F38: =Core37.1 -> 0 | G38: =Core37.2 -> 0 | H38: =Core37.3 -> 0 | I38: =Core37.4 -> 0 | J38: =Core37.5 -> 0 | K38: =RAPriority37 -> 0 | L38: =EMAP37.1 -> 0 | M38: =EMAP37.2 -> 0 | N38: =EMAP37.3 -> 0 | O38: =POETE37.1 -> 0 | P38: =POETE37.2 -> 0 | Q38: =POETE37.3 -> 0 | R38: =GapRef37 -> 0 | S38: 37 | T38: =Name37 -> 0 | U38: {=SUM(COUNTIF(POETE37.1:POETE37.3, {"Planning","Training","Exercises"}))} -> 0 | V38: =COUNTIF(R38,"<>0") -> 0 | W38: =COUNTIF(U38,"<>0") -> 0 | X38: =W38*V38 -> 0
A39: =Name38 -> 0 | B39: 38 | C39: =Mission38.1 -> 0 | D39: =Mission38.2 -> 0 | E39: =Mission38.3 -> 0 | F39: =Core38.1 -> 0 | G39: =Core38.2 -> 0 | H39: =Core38.3 -> 0 | I39: =Core38.4 -> 0 | J39: =Core38.5 -> 0 | K39: =RAPriority38 -> 0 | L39: =EMAP38.1 -> 0 | M39: =EMAP38.2 -> 0 | N39: =EMAP38.3 -> 0 | O39: =POETE38.1 -> 0 | P39: =POETE38.2 -> 0 | Q39: =POETE38.3 -> 0 | R39: =GapRef38 -> 0 | S39: 38 | T39: =Name38 -> 0 | U39: {=SUM(COUNTIF(POETE38.1:POETE38.3, {"Planning","Training","Exercises"}))} -> 0 | V39: =COUNTIF(R39,"<>0") -> 0 | W39: =COUNTIF(U39,"<>0") -> 0 | X39: =W39*V39 -> 0
A40: =Name39 -> 0 | B40: 39 | C40: =Mission39.1 -> 0 | D40: =Mission39.2 -> 0 | E40: =Mission39.3 -> 0 | F40: =Core39.1 -> 0 | G40: =Core39.2 -> 0 | H40: =Core39.3 -> 0 | I40: =Core39.4 -> 0 | J40: =Core39.5 -> 0 | K40: =RAPriority39 -> 0 | L40: =EMAP39.1 -> 0 | M40: =EMAP39.2 -> 0 | N40: =EMAP39.3 -> 0 | O40: =POETE39.1 -> 0 | P40: =POETE39.2 -> 0 | Q40: =POETE39.3 -> 0 | R40: =GapRef39 -> 0 | S40: 39 | T40: =Name39 -> 0 | U40: {=SUM(COUNTIF(POETE39.1:POETE39.3, {"Planning","Training","Exercises"}))} -> 0 | V40: =COUNTIF(R40,"<>0") -> 0 | W40: =COUNTIF(U40,"<>0") -> 0 | X40: =W40*V40 -> 0
...

Sheet Drop Down List Text
A1: Core Capabilities | F1: POETE Categories | G1: National Priorities | H1: Core Capabilities as State or Regional Priorities: | I1: EMAPs | J1: Budget Category | K1: Mission Areas | L1: RA Agreed Upon Priorities | M1: Funding Source
A2: Prevention | B2: Protection | C2: Mitigation | D2: Response | E2: Recovery | F2: Planning | G2: Body Recovery/Storage | H2: Access Control and Identity Verification | I2: Emergency Management Program | J2: Personnel | K2: Prevention | L2: Access Control and Identity Verification | M2: ARP
A3: Planning | B3: Planning | C3: Planning | D3: Planning | E3: Planning | F3: Organization | G3: Catastrophic Disaster Housing | H3: Body Recovery/Storage | I3: Hazard Identification, Risk Assessment and Consequence Analysis | J3: Fringes | K3: Protection | L3: Body Recovery/Storage | M3: EMPG
A4: Public Information and Warning | B4: Public Information and Warning | C4: Public Information and Warning | D4: Public Information and Warning | E4: Public Information and Warning | F4: Equipment | G4: Community Sheltering | H4: Catastrophic Disaster Housing | I4: Hazard Mitigation | J4: Travel | K4: Mitigation | L4: Building Code Review | M4: Both
A5: Operational Coordination | B5: Operational Coordination | C5: Operational Coordination | D5: Operational Coordination | E5: Operational Coordination | F5: Training | G5: Cybersecurity | H5: Community Resilience | I5: Prevention | J5: Equipment | K5: Response | L5: Catastrophic Disaster Housing
