Workbook

Sheet FY22 Spend Plan App C.1
A1: FY 2022 - $37.832M Budget Spend Plan (Final)
B2: 2022-OS-A391-D60D-XXXX | E2: Final Budget Amount: | F2: 37832000
B3: Task Forces: | C3: =F27 -> 35348200 | E3: Direct Support: | F3: =F30 -> 2483800
A4: Task Force Readiness Cooperative Agreements
A5: # | B5: ITEM | C5: UNIT COST | D5: QTY | E5: EXTENDED COST | F5: SUBTOTAL
A6: 1 | B6: Program Management | C6: 670000 | D6: 28 | E6: =SUM(C6:C13) -> 1209650 | F6: =SUM(D6*E6) -> 33870200
A7: =A6+1 -> 2 | B7: Staff & Other Travel - TAVs | C7: 50000
A8: =A7+1 -> 3 | B8: Support & Mtg. Travel or as directed by US&R Branch | C8: 60000
A9: =A8+1 -> 4 | B9: Readiness Assessment Program Participation | C9: 5000
A10: =A9+1 -> 5 | B10: Support & Trvl - Nat'l & Local Trng/Exer/Canine Evals | C10: 82500
A11: =A10+1 -> 6 | B11: Equip-Veh Acquisition and Lifecycle Mgmnt | C11: 150175
A12: =A11+1 -> 7 | B12: Equip Recapitilization - Congressional Intent | C12: 37475
A13: =A12+1 -> 8 | B13: Storage/Maintenance | C13: 154500
A14: # | B14: ITEM | C14: SPECIFIC TFs | D14: QTY | E14: UNIT COST | F14: SUBTOTAL
A15: =A13+1 -> 9 | B15: IST Cache | C15: See: Spend Plan TF Details | D15: 1 | E15: ='[1]FY22 Spend Pln TF Details '!F8 -> 289500 | F15: =SUM(D15*E15) -> 289500
A16: =A15+1 -> 10 | B16: HEPP Cache | C16: See: Spend Plan TF Details | D16: 1 | E16: ='[1]FY22 Spend Pln TF Details '!F11 -> 630000 | F16: =SUM(D16*E16) -> 630000
A17: =A16+1 -> 11 | B17: Nat'l Level Training Delivery Hosting | C17: None budgeted this FY | D17: 0 | E17: ='[1]FY22 Spend Pln TF Details '!F23 -> 0 | F17: =SUM(D17*E17) -> 0
A18: =A17+1 -> 12 | B18: Nat'l Level Training Initiatives | C18: None budgeted this FY | D18: 0 | E18: ='[1]FY22 Spend Pln TF Details '!F25 -> 0 | F18: =SUM(D18*E18) -> 0
A19: =A18+1 -> 13 | B19: Divisional Multi-Task Force Field Exercises | C19: None budgeted this FY | D19: 0 | E19: 15000 | F19: =SUM(D19*E19) -> 0
A20: =A19+1 -> 14 | B20: Divisional Multi-Task Force Table Top Exercises | C20: None budgeted this FY | D20: 0 | E20: 10000 | F20: =SUM(D20*E20) -> 0
A21: =A20+1 -> 15 | B21: IST CE Wkshp & New Mem. Orntation Hosting - CY24 | C21: VA-TF2 | D21: 1 | E21: 47000 | F21: =SUM(D21*E21) -> 47000
A22: =A21+1 -> 16 | B22: IST National Level Training Course (S-420) | C22: VA-TF2 | D22: 1 | E22: 90000 | F22: =SUM(D22*E22) -> 90000
A23: =A22+1 -> 17 | B23: IST Support | C23: See: Spend Plan TF Details | D23: 1 | E23: ='[1]FY22 Spend Pln TF Details '!F31 -> 33000 | F23: =SUM(D23*E23) -> 33000
A24: =A23+1 -> 18 | B24: Annual Meetings Hosting | C24: None budgeted this FY | D24: 0 | E24: ='[1]FY22 Spend Pln TF Details '!F39 -> 0 | F24: =SUM(D24*E24) -> 0
A25: =A24+1 -> 19 | B25: Annual Advisory Organization Stipends | C25: See: Spend Plan TF Details | D25: 1 | E25: ='[1]FY22 Spend Pln TF Details '!F52 -> 193500 | F25: =SUM(D25*E25) -> 193500
A26: =A25+1 -> 20 | B26: Canine Search Specialist Certification Process | C26: See: Spend Plan TF Details | D26: 1 | E26: ='[1]FY22 Spend Pln TF Details '!F54 -> 195000 | F26: =SUM(D26*E26) -> 195000
A27: =A26+1 -> 21 | D27: TF Readiness Cooperative Agreements Subtotal: | E27: =SUM(F27/F32) -> 0.93434658 | F27: =SUM(F6,F15:F26) -> 35348200
A28: =A27+1 -> 22 | B28: TF Readiness CA Supplemental Funding - End of Year US&R Funding:
A29: =A28+1 -> 23 | B29: TF Readiness CA Supplemental Funding - End of Year PDO Funding:
A30: =A29+1 -> 24 | D30: Direct Task Force Support Subtotal: | E30: ='[1]FY22 Dir TF Sprt Spend Pln'!E44 -> 0.065653415 | F30: ='[1]FY22 Dir TF Sprt Spend Pln'!F44 -> 2483800
A31: =A30+1 -> 25 | E31: Budget Task Force Surplus/Deficit Subtotal: | F31: =F2-F32 -> 0
A32: =A31+1 -> 26 | E32: Final Budget Combined Spend Plans Total: | F32: =SUM(F27:F30) -> 37832000
A33: 27 | E33: Administrative Travel Spend Plan Total (amount not paid from Appropriation):

Sheet FY22 Spend Plan App C.2
A1: FY 2022 - $37.832M Budget Spend Plan - 03/28/2022 (Version 2.4)
B2: 2022-OS-A391-D60D-XXXX | E2: Final Budget Total Amount: | F2: ='[1]FY22 TF CA Spend Pln'!F2 -> 37832000
B3: A391 - Task Forces: | C3: ='[1]FY22 TF CA Spend Pln'!C3 -> 35348200 | E3: ='[1]FY22 TF CA Spend Pln'!E3 -> Direct Support: | F3: ='[1]FY22 TF CA Spend Pln'!F3 -> 2483800
A4: Spend Plan Task Force Details
A5: # | B5: ITEM | C5: DETAILS | D5: QTY | E5: UNIT COST | F5: SUBTOTAL
A6: ='[1]FY22 TF CA Spend Pln'!A33+1 -> 28 | B6: IST Cache Maintenance (Exercises, Med Kits, database) | C6: CA-TF6, TX-TF1, VA-TF2 | D6: 3 | E6: 91500 | F6: =SUM(D6*E6) -> 274500
A7: =A6+1 -> 29 | B7: IST Cache Recapitalization | C7: CA-TF6, TX-TF1, VA-TF2 | D7: 3 | E7: 5000 | F7: =SUM(D7*E7) -> 15000
A8: =A7+1 -> 30 | B8: Line 9: IST Cache Maintenance Total: | F8: =SUM(F6:F7) -> 289500
A9: =A8+1 -> 31 | B9: HEPP Cache Maintenance | C9: CA-TF7, CO-TF1, FL-TF2, IN-TF1, MD-TF1, NV-TF1, TX-TF1 | D9: 7 | E9: 35000 | F9: =SUM(D9*E9) -> 245000
A10: =A9+1 -> 32 | B10: HEPP Cache Recapitalization | C10: CA-TF7, CO-TF1, FL-TF2, IN-TF1, MD-TF1, NV-TF1, TX-TF1 | D10: 7 | E10: 55000 | F10: =SUM(D10*E10) -> 385000
A11: =A10+1 -> 33 | B11: Line 10: HEPP Cache Maintenance Total: | F11: =SUM(F9:F10) -> 630000
A12: =A11+1 -> 34 | B12: Nat'l Lvl Training Hosting - CSS | E12: 35000 | F12: =SUM(D12*E12) -> 0
A13: =A12+1 -> 35 | B13: Nat'l Lvl Training Hosting - Comm N Workshop | E13: 35000 | F13: =SUM(D13*E13) -> 0
A14: =A13+1 -> 36 | B14: Nat'l Lvl Training Hosting - Comm Spec | E14: 90000 | F14: =SUM(D14*E14) -> 0
A15: =A14+1 -> 37 | B15: Nat'l Lvl Training Hosting - HERS | E15: 45000 | F15: =SUM(D15*E15) -> 0
A16: =A15+1 -> 38 | B16: Nat'l Lvl Training Hosting - Log | E16: 40000 | F16: =SUM(D16*E16) -> 0
A17: =A16+1 -> 39 | B17: Nat'l Lvl Training Hosting - MTT | E17: 90000 | F17: =SUM(D17*E17) -> 0
A18: =A17+1 -> 40 | B18: Nat'l Lvl Training Hosting - MTT | E18: 90000 | F18: =SUM(D18*E18) -> 0
A19: =A18+1 -> 41 | B19: Nat'l Lvl Training Hosting - PTT | E19: 40000 | F19: =SUM(D19*E19) -> 0
A20: =A19+1 -> 42 | B20: Nat'l Lvl Training Hosting - SOFR | E20: 35000 | F20: =SUM(D20*E20) -> 0
A21: =A20+1 -> 43 | B21: Nat'l Lvl Training Hosting - TFL | E21: 35000 | F21: =SUM(D21*E21) -> 0
A22: =A21+1 -> 44 | B22: Nat'l Lvl Training Hosting - TSS | E22: 40000 | F22: =SUM(D22*E22) -> 0
A23: =A22+1 -> 45 | B23: Line 11: Nat'l Level Training Delivery Hosting Total: | F23: =SUM(F12:F22) -> 0
A24: =A23+1 -> 46 | B24: Nat'l Lvl Annual Water Ops Training Workshop | E24: 10000 | F24: =SUM(D24*E24) -> 0
A25: =A24+1 -> 47 | B25: Line 12 Nat'l Level Training Initiatives Total: | F25: =SUM(F24:F24) -> 0
A26: =A25+1 -> 48 | B26: IST Support - ISTL Stipend - Red IST | C26: VA-TF2 | D26: 1 | E26: 6000 | F26: =SUM(D26*E26) -> 6000
A27: =A26+1 -> 49 | B27: IST Support - ISTL Stipend - White IST | C27: CA-TF5 | D27: 1 | E27: 6000 | F27: =SUM(D27*E27) -> 6000
A28: =A27+1 -> 50 | B28: IST Support - ISTL Stipend - Blue IST | C28: TX-TF1 for CA-TF7 | D28: 1 | E28: 6000 | F28: =SUM(D28*E28) -> 6000
A29: =A28+1 -> 51 | B29: IST Support - C&GS Stipend Facilitation | C29: NE-TF1 | D29: 10 | E29: 1500 | F29: =SUM(D29*E29) -> 15000
A30: =A29+1 -> 52 | B30: IST Support - IST Trng Facilitation | C30: NE-TF1 | D30: 0 | E30: 100000 | F30: =SUM(D30*E30) -> 0
A31: =A30+1 -> 53 | B31: Line 17: IST Support Total: | F31: =SUM(F26:F30) -> 33000
A32: =A31+1 -> 54 | B32: Annual Mtg Hosting - Bienniel SAC Meeting (CY20) | E32: 20000 | F32: =SUM(D32*E32) -> 0
A33: =A32+1 -> 55 | B33: Annual Mtg Hosting - CY21 Strat Mtg | E33: 1000 | F33: =SUM(D33*E33) -> 0
A34: =A33+1 -> 56 | B34: Annual Mtg Hosting - CY21 Adv Grp Mtg | E34: 1000 | F34: =SUM(D34*E34) -> 0
A35: =A34+1 -> 57 | B35: Annual Mtg Hosting - CY21 TFR Mtg | E35: 40000 | F35: =SUM(D35*E35) -> 0
A36: =A35+1 -> 58 | B36: Annual Mtg Hosting - CY21 Grants Wkshp (1 day) | E36: 5000 | F36: =SUM(D36*E36) -> 0
A37: =A36+1 -> 59 | B37: Annual Mtg Hosting - CY21 Trng/Exercise Wkshp (2 days) | E37: 10000 | F37: =SUM(D37*E37) -> 0
A38: =A37+1 -> 60 | B38: Annual Mtg Hosting - CY21 Adv Org Meetings | E38: 40000 | F38: =SUM(D38*E38) -> 0
A39: =A38+1 -> 61 | B39: Line 18: Annual Mtg Hosting Total: | F39: =SUM(F32:F38) -> 0
A40: =A39+1 -> 62 | B40: Annual Adv Org Stipends - SACR-Ds | C40: CA-TF5, CO-TF1, MD-TF1 | D40: 3 | E40: 4000 | F40: =SUM(D40*E40) -> 12000
...

Sheet FY22 Spend Plan App C.3
A1: FY 2022 - $37.832M Budget Spend Plan - 03/28/2022 (Version 2.4)
B2: 2022-OS-A391-D60D-XXXX | E2: Final Budget Total Amount: | F2: ='[1]FY22 TF CA Spend Pln'!F2 -> 37832000
B3: Task Forces: | C3: ='[1]FY22 TF CA Spend Pln'!C3 -> 35348200 | E3: ='[1]FY22 TF CA Spend Pln'!E3 -> Direct Support: | F3: ='[1]FY22 TF CA Spend Pln'!F3 -> 2483800
A4: Direct Task Force Support Spend Plan
A5: # | B5: ITEM | C5: DETAILS | D5: QTY | E5: UNIT COST | F5: SUBTOTAL
A6: ='FY22 Spend Plan App C.2'!A54+1 -> 77 | B6: Balance of Planned Operational Travel Costs | C6: On: Ops Trvl Spend Plan | D6: n/a | E6: n/a | F6: ='[1]FY22 Operational Trvl Spend Pln'!H56 -> 31000
A7: =A6+1 -> 78 | B7: IST and HEPP Fleet Use & Maintenance | D7: 1 | E7: 93839 | F7: =SUM(D7*E7) -> 93839
A8: =A7+1 -> 79 | B8: IST Equipment | C8: IST Clothing | D8: 1 | E8: 10020 | F8: =SUM(D8*E8) -> 10020
A9: =A8+1 -> 80 | B9: Learning Management System (Annual sustainment Fee) | D9: 1 | E9: 77611 | F9: =SUM(D9*E9) -> 77611
A10: =A9+1 -> 81 | B10: Nat'l Training Development/Delivery | D10: 1 | E10: 400000 | F10: =SUM(D10*E10) -> 400000
A11: =A10+1 -> 82 | B11: Program Documentation (Fed Register/FOGs) | D11: 1 | E11: 2600 | F11: =SUM(D11*E11) -> 2600
A12: =A11+1 -> 83 | B12: Security Clearances (Tier 2 - $6,163) | D12: 2 | E12: 0 | F12: =SUM(D12*E12) -> 0
A13: =A12+1 -> 84 | B13: Shipping - Freight, General | D13: 1 | E13: 10000 | F13: =SUM(D13*E13) -> 10000
A14: =A13+1 -> 85 | B14: Technical Support Contract | C14: HSFE70-15-F-0090 | D14: 1 | E14: 80000 | F14: =SUM(D14*E14) -> 80000
A15: =A14+1 -> 86 | B15: US&R Mail | C15: UPS / DHL | D15: 1 | E15: 5000 | F15: =SUM(D15*E15) -> 5000
A16: =A15+1 -> 87 | B16: USACE Interagency Agreement | D16: 1 | E16: 154000 | F16: =SUM(D16*E16) -> 154000
A17: =A16+1 -> 88 | B17: Warehouse Services Credit Card | D17: 1 | E17: 15000 | F17: =SUM(D17*E17) -> 15000
A18: =A17+1 -> 89 | B18: Equipment Cache Recapitilization (Remaining Portable Radios | C18: 228 Portable Radios | D18: 1 | E18: 1587730 | F18: =SUM(D18*E18) -> 1587730
A19: =A18+1 -> 90 | B19: Equipment Cache Recapitilization (shipping for Portable Radios | C19: 228 Portalbe Radios, Shipping | D19: 1 | E19: 15000 | F19: =SUM(D19*E19) -> 15000
A20: =A19+1 -> 91 | B20: OCONUS Operations | D20: 1 | E20: 1000 | F20: =SUM(D20*E20) -> 1000
A21: =A20+1 -> 92 | B21: IT Service Cost for SIM Cards | D21: 2 | E21: 500 | F21: =SUM(D21*E21) -> 1000
A22: =A21+1 -> 93 | E22: 0 | F22: =SUM(D22*E22) -> 0
A23: =A22+1 -> 94 | E23: 0 | F23: =SUM(D23*E23) -> 0
A24: =A23+1 -> 95 | E24: 0 | F24: =SUM(D24*E24) -> 0
A25: =A24+1 -> 96 | E25: 0 | F25: =SUM(D25*E25) -> 0
A26: =A25+1 -> 97 | E26: 0 | F26: =SUM(D26*E26) -> 0
A27: =A26+1 -> 98 | E27: 0 | F27: =SUM(D27*E27) -> 0
A28: =A27+1 -> 99 | E28: 0 | F28: =SUM(D28*E28) -> 0
A29: =A28+1 -> 100 | E29: 0 | F29: =SUM(D29*E29) -> 0
A30: =A29+1 -> 101 | E30: 0 | F30: =SUM(D30*E30) -> 0
A31: =A30+1 -> 102 | E31: 0 | F31: =SUM(D31*E31) -> 0
A32: =A31+1 -> 103 | E32: 0 | F32: =SUM(D32*E32) -> 0
A33: =A32+1 -> 104 | E33: 0 | F33: =SUM(D33*E33) -> 0
... A43: =A42+1 -> 114 | E43: 0 | F43: =SUM(D43*E43) -> 0
A44: =A43+1 -> 115 | D44: Direct Task Force Support Subtotal: | E44: =SUM(F44/'[1]FY22 TF CA Spend Pln'!F32) -> 0.065653415 | F44: =SUM(F6:F43) -> 2483800

Sheet TF Allocations-APP D
A1: Sponsoring Agency/Cooperative Agreement Recipients | M1: Base Funding Amount | N1: Administrative Costs | O1: Special Cache Costs | P1: Total Cooperative Agreement Amount
A2: 1 | G2: City of Phoenix Fire Department (AZ-TF1) | M2: 1209650 | N2: ='Admin Budget-APP E'!I2 -> 0 | O2: ='Special Caches-Budget - APP F'!E2 -> 0 | P2: =SUM(M2:O5) -> 1209650
G3: Attn: Cynthia Mullenix (cynthia.mullenix@phoenix.gov)
G4: 2430 S. 2nd Avenue
G5: Phoenix, AZ 85009 (602) 499-5450
A6: 2 | G6: City of Los Angeles Fire Department (CA-TF1) | M6: 1209650 | N6: ='Admin Budget-APP E'!I4 -> 2000 | O6: ='Special Caches-Budget - APP F'!E7 -> 0 | P6: =SUM(M6:O9) -> 1211650
G7: Attn: Craig White (craig.white@lacity.org)
G8: 5021 N. Sepulveda Blvd.
G9: Sherman Oaks, CA 91403 | J9: (818) 756-9678
A10: 3 | G10: Los Angeles County Fire Department (CA-TF2) | M10: 1209650 | N10: ='Admin Budget-APP E'!I6 -> 0 | O10: ='Special Caches-Budget - APP F'!E11 -> 0 | P10: =SUM(M10:O13) -> 1209650
G11: Attn: Trevon Epsy (trevon.espy@fire.lacounty.gov)
G12: 12605 Osborne Street
G13: Pacoima, CA 91331 (818) 890-5700
A14: 4 | G14: Menlo Park Fire Protection District (CA TF3) | M14: 1209650 | N14: ='Admin Budget-APP E'!I8 -> 0 | O14: ='Special Caches-Budget - APP F'!E15 -> 0 | P14: =SUM(M14:O17) -> 1209650
G15: Attn: Ben Marra (benm@MenloFire.org)
G16: 170 Middlefield Road
G17: Menlo Park, CA 94025 650-688-8405
A18: 5 | G18: City of Oakland Fire Services Agency (CA TF4) | M18: 1209650 | N18: ='Admin Budget-APP E'!I10 -> 2000 | O18: ='Special Caches-Budget - APP F'!E19 -> 0 | P18: =SUM(M18:O21) -> 1211650
G19: Attn: Tracey Chin (tchin@oaklandca.gov)
G20: 150 Frank H. Ogawa Plaza, Suite 3354
G21: Oakland , CA 94612-2007 (510) 238-4765
A22: 6 | G22: Orange County Fire Authority (CA-TF5) | M22: 1209650 | N22: ='Admin Budget-APP E'!I12 -> 38000 | O22: ='Special Caches-Budget - APP F'!E24 -> 0 | P22: =SUM(M22:O25) -> 1247650 | R22: `
G23: Attn: Kevin Fetterman (kevinfetterman@ocfa.org)
G24: 19682 Descartes
G25: Foothill Ranch, CA 92610 (949) 389-0055
A26: 7 | G26: City of Riverside Fire Department (CA-TF6) | M26: 1209650 | N26: ='Admin Budget-APP E'!I18 -> 40000 | O26: ='Special Caches-Budget - APP F'!E28 -> 96500 | P26: =SUM(M26:O29) -> 1346150
G27: Attn: Jeff DeLaurie (jdelaurie@riversideca.gov)
G28: 3085 St. Lawrence Street
G29: Riverside, CA 92504 (951) 351-6292
A30: 8 | G30: City of Sacramento (CA-TF7) | M30: 1209650 | N30: ='Admin Budget-APP E'!I20 -> 32500 | O30: ='Special Caches-Budget - APP F'!E32 -> 90000 | P30: =SUM(M30:O33) -> 1332150
G31: Attn: Chris Costamagna (ccostamagna@sfd.cityofsacramento.org)
G32: 5770 Freeport Blvd. #200
G33: Sacramento, CA 95822 (916) 767-2204
A34: 9 | G34: City of San Diego Fire-Rescue Department (CA-TF8) | M34: 1209650 | N34: ='Admin Budget-APP E'!I22 -> 0 | O34: ='Special Caches-Budget - APP F'!E37 -> 0 | P34: =SUM(M34:O38) -> 1209650
G35: City of San Diego
G36: Attn: Aide Barbat (abarbat@sandiego.gov)
G37: 1010 Second Ave., Suite 400
G38: San Diego, CA 92101 (619) 572-5690
A39: 10 | G39: West Metro Fire Protection District (CO-TF1) | M39: 1209650 | N39: =SUM('Admin Budget-APP E'!D24:H25) -> 4000 | O39: ='Special Caches-Budget - APP F'!E42 -> 90000 | P39: =SUM(M39:O43) -> 1303650
G40: Attn: Bob Olme (bolme@westmetrofire.org)
...

Sheet Admin Budget-APP E
A1: Sponsoring Agency/Cooperative Agreement Recipients | B1: Task Force | C1: Strategic Group, Advisory Group Leadership (Attachment G) & National Meeting Name/ Purpose of Financial Facilitation | D1: SAC/National/ Divisional Rep/Advisory Group Member/Financial Facilitation $$ | E1: TFR Meetings/Advisory Group/SG Meeting/SAC Meeting Host $$ | F1: Canine Search Spec. Certification $$ | G1: National Training Host | H1: IST ConEd, IST Training, IST Support | I1: Total Amount Per Task Force
A2: City of Phoenix Fire Department | B2: AZ-TF1 | I2: =SUM(D2:H3) -> 0
A4: City of Los Angeles Fire Department | B4: CA-TF1 | C4: L71 - Subgroup Ldr - Exercise | D4: 2000 | I4: =SUM(D4:H5) -> 2000
A6: Los Angeles County Fire Department | B6: CA-TF2 | I6: =SUM(D6:H7) -> 0
A8: Menlo Park Fire Protection District | B8: CA-TF3 | I8: =SUM(D8:H9) -> 0
A10: Oakland Fire Department | B10: CA-TF4 | C10: L71 - Subgroup Ldr - Medical | D10: 2000 | I10: =SUM(D10:H11) -> 2000
B12: CA-TF5 | C12: L49 - ISTL Stipend | H12: 6000 | I12: =SUM(D12:H17) -> 38000
A13: Orange County Fire Authority | C13: L62 - SAC-D | D13: 4000
C14: L67 - Adv Org IST Rep | D14: 18000
C15: L69 - Functional Grp Ldr - Logs | D15: 6000
C16: L70 - Dep. Functional Grp Ldr - Ops | D16: 2000
C17: L70 - IST Group Adv - Ops | D17: 2000
B18: C-TF6 | C18: L64 - TFR-D | D18: 7500 | I18: =SUM(D18:H19) -> 40000
C19: L75 - CSS-CE | F19: 32500
A20: City of Sacramento Fire Department | B20: CA-TF7 | C20: L75 - CSS-CE | F20: 32500 | I20: =SUM(D20:H21) -> 32500
B22: CA-TF8 | I22: =SUM(D22:H23) -> 0
B24: CO-TF1 | C24: L62 - SACR-D | D24: 4000 | I24: =SUM(D24:H25) -> 4000
A26: Miami-Dade County Fire Department | B26: FL-TF1 | I26: =SUM(D26:H27) -> 0
B28: FL-TF2 | C28: L75 - CSS-CE | F28: 32500 | I28: =SUM(D28:H29) -> 32500
B30: IN-TF1 | C30: L65 - Advisory Group Chair | D30: 15000 | I30: =SUM(D30:H32) -> 49500
C31: L71 - Subgroup Ldr - Transportation | D31: 2000
C32: L75 - CSS-CE | F32: 32500
A33: City of Beverly EMA | B33: MA-TF1 | I33: =SUM(D33:H34) -> 0
A35: Montgomery County Fire and Rescue Service | B35: MD-TF1 | C35: L62 - SACR-D | D35: 4000 | I35: =SUM(D35:H36) -> 4000
A37: Boone County Fire Protection District | B37: MO-TF1 | I37: =SUM(D37:H38) -> 0
B39: NE-TF1 | C39: L50 - TFR-D | D39: 7500 | I39: =SUM(D39:H43) -> 63000
C40: L51 - IST Support - C&GS Stipend Facilitation | H40: 15000
C41: L69 - Func Grp Ldr - Finance/Admin (Hold) | D41: 6000
C42: L70 - Dep. Functional Grp Ldr - Adm/Fin (Hold) | D42: 2000
C43: L75 - CSS-CE | F43: 32500
A44: NJ State Police | B44: NJ-TF1 | D44: 0 | I44: =SUM(D45:H46) -> 32500
C45: L75 - CSS-CE | F45: 32500
A47: Clark County Fire Department | B47: NV-TF1 | C47: L71 - Subgroup Ldr - Public Affairs | D47: 2000 | I47: =SUM(D47:H48) -> 4000
C48: L71 - Subgroup Ldr - Safety | D48: 2000
B49: NY-TF1 | C49: L64 - TFR-N | D49: 10000 | I49: =SUM(D49:H50) -> 12000
C50: L71 - Subgroup Ldr - Canine | D50: 2000
B51: OH-TF1 | C51: L69 - Functional Grp Ldr - Planning | D51: 6000 | I51: =SUM(D51:H52) -> 8000
C52: L71 - Subgroup Leader - Management Policy | D52: 2000
A53: Philadelphia Fire Department | B53: PA-TF1 | C53: L64 - TFR-D | D53: 7500 | I53: =SUM(D53:H54) -> 9500
C54: L70 - Planning Functional Group - IST GA | D54: 2000
...

Sheet Special Caches-Budget - APP F
A1: Sponsoring Organization/Cooperative Agreement Recipients | B1: Task Force | C1: HEPP Cache Maintenance & Recapitalization (PAPR Year 1 of 3) - Line 9 | D1: IST Cache Maintenance & Recapitalization - Line 8 | E1: Total Amount Per Task Force
A2: City of Phoenix Fire Department | B2: AZ-TF1 | E2: =SUM(C2:D6) -> 0
A7: City of Los Angeles Fire Department | B7: CA-TF1 | E7: =SUM(C7:D10) -> 0
A11: Los Angeles County Fire Department | B11: CA-TF2 | E11: =SUM(C11:D14) -> 0
A15: Menlo Park Fire Protection District | B15: CA-TF3 | E15: =SUM(C15:D18) -> 0
A19: Oakland Fire Department | B19: CA-TF4 | E19: =SUM(C19:D23) -> 0
A24: Orange County Fire Authority | B24: CA-TF5 | E24: =SUM(C24:D27) -> 0
A28: City of Riverside Fire Department | B28: CA-TF6 | D28: 96500 | E28: =SUM(C28:D31) -> 96500
A32: City of Sacramento Fire Department | B32: CA-TF7 | C32: 90000 | E32: =SUM(C32:D36) -> 90000
A37: City of San Diego Fire-RescueDepartment | B37: CA-TF8 | E37: =SUM(C37:D41) -> 0
A42: West Metro Fire Protection District | B42: CO-TF1 | C42: 90000 | E42: =SUM(C42:D46) -> 90000
A47: Miami-Dade County Fire Department | B47: FL-TF1 | E47: =SUM(C47:D51) -> 0
A52: City of Miami Fire and Rescue | B52: FL-TF2 | C52: 90000 | E52: =SUM(C52:D55) -> 90000
A56: City of Indianapolis - DPS | B56: IN-TF1 | C56: 90000 | E56: =SUM(C56:D60) -> 90000
A61: City of Beverly EMA | B61: MA-TF1 | E61: =SUM(C61:D64) -> 0
A65: Montgomery County Fire and Rescue Service | B65: MD-TF1 | C65: 90000 | E65: =SUM(C65:D69) -> 90000
A70: Boone County Fire Protection District | B70: MO-TF1 | E70: =SUM(C70:D73) -> 0
A74: Lincoln Fire & Rescue | B74: NE-TF1 | E74: =SUM(C74:D77) -> 0
A78: NJ State Police | B78: NJ-TF1 | E78: =SUM(C78:D83) -> 0
A84: Clark County Fire Department | B84: NV-TF1 | C84: 90000 | E84: =SUM(C84:D87) -> 90000
A88: NYC Office of Emergency Management | B88: NY-TF1 | E88: =SUM(C88:D91) -> 0
A92: Miami Valley Fire/EMS Alliance | B92: OH-TF1 | E92: =SUM(C92:D95) -> 0
A96: Philadelphia Fire Department | B96: PA-TF1 | E96: =SUM(C96:D99) -> 0
A100: City of Memphis Fire Service | B100: TN-TF1 | E100: =SUM(C100:D104) -> 0
A105: Texas Engineering Extension Service | B105: TX-TF1 | C105: 90000 | D105: 96500 | E105: =SUM(C105:D108) -> 186500
A109: Salt Lake Urban Search & Rescue | B109: UT-TF1 | E109: =SUM(C109:D112) -> 0
A113: Fairfax County Fire and Rescue Dept. | B113: VA-TF1 | E113: =SUM(C113:D116) -> 0
A117: Virginia Beach Fire Department | B117: VA-TF2 | D117: 96500 | E117: =SUM(C117:D121) -> 96500
A122: Pierce County Dept. of Emerg. Mgmt/US&R | B122: WA-TF1 | E122: =SUM(C122:D126) -> 0
A127: Totals: | C127: =SUM(C2:C126) -> 630000 | D127: =SUM(D2:D126) -> 289500 | E127: =SUM(E2:E126) -> 919500

Sheet Adv Org - App G
A1: ANNUAL ADVISORY ORGANIZATION STIPENDS
A3: Line # | B3: Position | C3: First Name | D3: Last Name | E3: TF | F3: Stipend
A4: 62 | B4: SAC - Division Central | C4: Don | D4: Lombardi | E4: CO-TF1 | F4: 4000
A5: 62 | B5: SAC - Division East | C5: Scott | D5: Goldstein | E5: MD-TF1 | F5: 4000
A6: 62 | B6: SAC - Division West | C6: Brian | D6: Fennessey | E6: CA-TF5 | F6: 4000
A7: 63 | B7: TFR - National | C7: Joe | D7: Downey | E7: NY-TF1 | F7: 10000
A8: 64 | B8: TFR - Division Central | C8: Brad | D8: Thavenet | E8: NE-TF1 | F8: 7500
A9: 64 | B9: TFR - Division East | C9: Ken | D9: Pagurek | E9: PA-TF1 | F9: 7500
A10: 64 | B10: TFR - Division West | C10: Steve | D10: McKinster | E10: CA-TF6 | F10: 7500
A11: 65 | B11: Advisory Group Chair | C11: Bill | D11: Brown | E11: IN-TF1 | F11: 15000
A12: 66 | B12: Advisory Group Chair - Deputy | C12: Keith | D12: Bevan | E12: UT-TF1 | F12: 12000
A13: 67 | B13: Advisory Group - IST Representative | C13: Mike | D13: Boyle | E13: CA-TF5 | F13: 18000
A14: 68 | B14: Advisory Group - Legal Representative | C14: Brian | D14: Roberts | E14: UT-TF1 | F14: 4000
A15: 69 | B15: FUNCTIONAL GROUP LEADER | C15: Jeff | D15: Saunders | E15: TX-TF1 | F15: 6000
... A17: 69 | B17: FUNCTIONAL GROUP LEADER | C17: Richard | D17: Ventura | E17: CA-TF5 | F17: 6000
A18: 69 | B18: FUNCTIONAL GROUP LEADER | D18: Park at NE-TF1 | E18: NE-TF1 | F18: 6000
A19: 70.1 | B19: DEPUTY FUNCTIONAL GROUP LEADER | D19: Park at NE-TF1 | E19: NE-TF1 | F19: 2000
A20: 70.1 | B20: DEPUTY FUNCTIONAL GROUP LEADER | C20: Bill | D20: Geyer | E20: TN-TF1 | F20: 2000
A21: 70.1 | B21: DEPUTY FUNCTIONAL GROUP LEADER | C21: Wayne | D21: Black | E21: VA-TF2 | F21: 2000
A22: 70.1 | B22: DEPUTY FUNCTIONAL GROUP LEADER | C22: Kevin | D22: Fetterman | E22: CA-TF5 | F22: 2000
A23: 70.2 | B23: IST GROUP ADVISOR | D23: Park at UT-TF1 | E23: UT-TF1 | F23: 2000
A24: 70.2 | B24: IST GROUP ADVISOR | C24: Ken | D24: Wright | E24: TX-TF1 | F24: 2000
A25: 70.2 | B25: IST GROUP ADVISOR | C25: Jennifer | D25: Bevan | E25: UT-TF1 | F25: 2000
A26: 70.2 | B26: IST GROUP ADVISOR | C26: Marty | D26: Nevil | E26: PA-TF1 | F26: 2000
A27: 71 | B27: SUBGROUP LEADER - CANINE | C27: Scott | D27: Mateyaschuk | E27: NY-TF1 | F27: 2000
A28: 71 | B28: SUBGROUP LEADER - COMMUNICATIONS | C28: Justin | D28: Waters | E28: UT-TF1 | F28: 2000
A29: 71 | B29: SUBGROUP LEADER - EQUIPMENT | C29: Keith | D29: Brown | E29: TX-TF1 | F29: 2000
A30: 71 | B30: SUBGROUP LEADER - EXERCISE | C30: Jarvis | D30: Willis | E30: CA-TF1 | F30: 2000
A31: 71 | B31: SUBGROUP LEADER - FINANCE | C31: Vanessa | D31: Soun | E31: WA-TF1 | F31: 2000
A32: 71 | B32: SUBGROUP LEADER - HAZMAT | C32: Mark | D32: Hundley | E32: VA-TF2 | F32: 2000
A33: 71 | B33: SUBGROUP LEADER - MANAGEMENT - POLICY | C33: Evan | D33: Schumann | E33: OH-TF1 | F33: 2000
A34: 71 | B34: SUBGROUP LEADER - MEDICAL | C34: Linda | D34: Buell | E34: CA-TF4 | F34: 2000
A35: 71 | B35: SUBGROUP LEADER - PUBLIC AFFAIRS | C35: Karl | D35: Lee | E35: NV-TF1 | F35: 2000
... A41: 71 | B41: UNIT LEADER - SAFETY | C41: Jim | D41: Colston | E41: NV-TF1 | F41: 2000
A42: 72 | B42: Annual Advisory Org Stipends - IT Support | E42: UT-TF1 | F42: 30000
A43: 73 | B43: Annual Advisory Org Stipends - Exer Unit Support | E43: NE-TF1 | F43: 0
B44: Total: Shows on Tab 1 Line 19 and Tab 2 Line 74 | F44: =SUM(F4:F43) -> 193500

Sheet Deliverables Summary - APP H
A1: YEARLY REPORTING REQUIREMENTS
B2: Deliverable | C2: Due Date(s) | D2: Method(s) of Submittal | E2: Point(s) of Contact | F2: Additional Information
A3: 1 | B3: Grant Application | C3: June 1st | D3: Submit initially through through Grants.gov (www.grants.gov). Once determined eligible, submit complete package through NDGrants System | E3: Tawana Mack / Rayna Bal | F3: Use current template (FEMA Form 089-0-10)
A4: =A3+1 -> 2 | B4: Task Force Self-Evaluation | C4: Per Program Directive | D4: Formstack | E4: Parry Boogard | F4: National US&R Reponse System Task Force Self-Evaluation Scoresheet (FEMA Form 089-0-14)
A5: 3 | B5: Equipment Database | C5: January 31st | D5: Submit via email, OneDrive, LMS - Depending on file size and capability. US&R Branch cannot except external drive (ie thumb drive or CD) | E5: Bruce Barnett / Dave Conrad
A6: 4 | B6: Inventory of Federally Owned Equipment (2nd Cache, HEPP & IST, where applicable); Current copy of 18-4 | C6: January 31st | E6: Bruce Barnett / Dave Conrad
A7: 5 | B7: Time-Phase Force Deployment Data (TPFDD)/"Aircraft Loading Data" form (FEMA Form 089-0-15) | C7: January 31st | E7: Bruce Neuhaus
A8: 6 | B8: HEPP Maintenance Annual Cost Estimates | C8: October 30th | D8: Submit via email, OneDrive, LMS - Depending on file size and capability. US&R Branch cannot except external drive (ie thumb drive or CD) | E8: Bruce Barnett | F8: This cost estimate shall be based on actual expenses incurred from the previous year and any additional costs anticipated for the following year.
A9: 7 | B9: Semi-Annual Performance Report (FEMA Form 089-0-11) | C9: January 30th | D9: Submit Semi-Annual Perforance Report through ND Grants | E9: Rayna Bal Tawana Mack | F9: FEMA Form 089-0-11
C10: July 30th
A11: 8 | B11: Quarterly Financial Report (SF-425) | C11: October 30th | D11: Submit SF425 through the Payment and Reporting System (PARS) | F11: Must be submitted in PARS to continue to draw down funds
C12: January 30th
C13: April 30th
C15: July 30th
A16: 9 | B16: Notification of Mobilization or Full-Scale Exercise | C16: No later than 60 days before the exercise begins | D16: Email | E16: Brian Smith | F16: Notification should be brief, but include dates, scope of exercise, number of participants, and other agencies involved. (not take the place of, and should not be confused with sanction request letters to obtain FEMA approval of TF sponsored training and exercises)
A17: 10 | B17: Exercise After Action Report | C17: Within 90 days of the completion of a mobilization or full-scale exercise, or a training activity with duration of more than 24 consecutive hours. | D17: Submit via email, OneDrive, LMS - Depending on file size and capability. US&R Branch cannot except external drive (ie thumb drive or CD) | E17: Brian Smith | F17: AAR should be written in a format where lessons learned may be shared with other task forces in the National US&R Response System.
A19: CLOSEOUT REPORTING REQUIREMENTS - Due 120 days after end of the Cooperative Agreement Period of Performance
B20: Deliverable | D20: Method(s) of Submittal | E20: Point(s) of Contact | F20: Additional Information
B21: USE CURRENT CLOSEOUT PACKAGE TEMPLATE (CONTAINS THE FOLLOWING ITEMS with exception of the SF-425): | D21: Email entire package to FEMA-USR-GRANTS@fema.dhs.gov cc: Tawana.Mack@fema.dhs.gov | E21: Tawana Mack / Rayna Bal FEMA-USR-Grants@fema.dhs.gov
A22: 1 | B22: Final Performance Report (should show actual expenditures, by budget category) | D22: Email as a Microsoft Word or .PDF file | F22: Consolidates and summarizes all prior performance reports
A23: 2 | B23: Final Financial Status Report (SF-425) | D23: Submit through the Payment and Reporting System (PARS) and Email that submission as .pdf file with closeout package
A24: 3 | B24: Financial Payment and Unexpended Funds (if applicable) | D24: Discuss specific method of repayment with Grants Officer at time of closeout | F24: Payment of all unliquidated obligations for FEMA and report unexpended funds to Assistance Officer
A25: 4 | B25: Equipment Inventory | D25: Email | E25: Tawana Mack / Rayna Bal | F25: Inventory should include items purchased with Federal grant funds, where current fair market value is equal to or greater than $5,000 per item
A26: 5 | B26: Inventory of unused or residual supplies (if applicable) and Tangible Personal Property Report | D26: Email | E26: Tawana Mack / Rayna Bal FEMA-USR-Grants@fema.dhs.gov | F26: Inventory should include items purchased with Federal grant funds, which the aggregate exceeds $5,000 or provide written statement (in cover letter) that such supplies (if any) do not exceed $5,000. If not applicable, state so in Cover Letter
A27: 6 | B27: Cover Letter, including statement of intent for future use of equipment | D27: Email | F27: Include in cover letter stating the equipment/supplies will be used for their intended purpose of the grant over the life cycle of the equipment/supplies.
B29: POC NAME | C29: EMAIL | D29: Phone | E29: ADDRESS
B30: US&R BRANCH CONTACTS
B31: GROUP EMAIL ACCOUNT | C31: FEMA-USR-GRANTS@fema.dhs.gov | D31: N/A | E31: U.S. Department of Homeland Security
B32: Brian Smith | C32: briand.smith@fema.dhs.gov | D32: 202-212-4316 | E32: Federal Emergency Management Agency
B33: Bruce Neuhaus | C33: bruce.neuhaus@fema.dhs.gov | D33: 202-924-1707 | E33: US&R Branch, ORR-RS-OP-UB
B34: Buddy Ey | C34: elwood.ey-iii@fema.dhs.gov | D34: 202-702-8854 | E34: Attn: (Appropriate name here)
B35: Parry Boogard | C35: parry.boogardjr@fema.dhs.gov | D35: 202-664-0647 | E35: 500 C Street, SW
B36: Rayna Bal | C36: Rayna.Bal@fema.dhs.gov | D36: 202-646-7933 | E36: Washington, DC 20472
B37: Tawana Mack | C37: tawana.mack@fema.dhs.gov | D37: 202-258-9722
B38: US&R WAREHOUSE CONTACT - EQUIPMENT INVENTORY ITEMS | E38: Federal Emergency Management Agency US&R Warehouse
B39: GROUP EMAIL ACCOUNT | C39: fema-usr-logs@fema.dhs.gov | E39: 13990 Park Center Road
B40: Bruce Barnett | C40: bruce.barnett@fema.dhs.gov | D40: 202-212-1763 / 202-391-4253 | E40: Building 9
B41: Dave Conrad | C41: davidp.conrad@fema.dhs.gov | D41: 202-322-3717 | E41: Herndon, VA 20171-3222
B43: GRANT PROGRAMS DIRECTORATE CONTACT | E43: U.S. Department of Homeland Security
E44: Federal Emergency Management Agency
...
