Workbook

Sheet Data Entry Sheet
A2: Year | B2: Annual Count | C2: 3-Yr Moving Avg | D2: 5-Yr Moving Avg
C7: =AVERAGE(B5:B7) -> #DIV/0! | D7: =AVERAGE(B3:B7) -> #DIV/0!
C8: =AVERAGE(B6:B8) -> #DIV/0! | D8: =AVERAGE(B4:B8) -> #DIV/0!
A9: 2017 | C9: =AVERAGE(B7:B9) -> #DIV/0! | D9: =AVERAGE(B5:B9) -> #DIV/0!
A10: 2018 | C10: =AVERAGE(B8:B10) -> #DIV/0! | D10: =AVERAGE(B6:B10) -> #DIV/0!
A11: 2019 | C11: =AVERAGE(B9:B11) -> #DIV/0! | D11: =AVERAGE(B7:B11) -> #DIV/0!
A12: 2020 | C12: =AVERAGE(B10:B12) -> #DIV/0! | D12: =AVERAGE(B8:B12) -> #DIV/0!
A13: 2021 | C13: =AVERAGE(B11:B13) -> #DIV/0! | D13: =AVERAGE(B9:B13) -> #DIV/0!
A14: =A13+1 -> 2022
A15: =A13+2 -> 2023
A16: =A13+3 -> 2024
A17: =A16+1 -> 2025
A21: Update years and event counts by replacing existing data to maintain a ten-year span. Udate the title
A24: **Be sure to replace existing data. Do not move cells; this will cause errors in calculations!
B26: Click on the tabs below to see your new charts and calculations

Sheet ChartSheet
C1: 5- yr
A2: FATALITY SLOPE | C2: FATALITY TRENDLINE
A3: =LINEST('Data Entry Sheet'!B9:B13,'Data Entry Sheet'!A9:A13) -> #VALUE! | C3: ='Data Entry Sheet'!A9 -> 2017 | D3: =(C3*$A$3+$A$5) -> #VALUE!
A4: FATALITY INTERCEPT | C4: ='Data Entry Sheet'!A10 -> 2018 | D4: =(C4*$A$3+$A$5) -> #VALUE!
A5: =INTERCEPT('Data Entry Sheet'!B9:B13,'Data Entry Sheet'!A9:A13) -> #DIV/0! | C5: ='Data Entry Sheet'!A11 -> 2019 | D5: =(C5*$A$3+$A$5) -> #VALUE!
C6: ='Data Entry Sheet'!A12 -> 2020 | D6: =(C6*$A$3+$A$5) -> #VALUE!
C7: ='Data Entry Sheet'!A13 -> 2021 | D7: =(C7*$A$3+$A$5) -> #VALUE!
C8: ='Data Entry Sheet'!A14 -> 2022 | D8: =(C8*$A$3+$A$5) -> #VALUE!
C9: ='Data Entry Sheet'!A15 -> 2023 | D9: =(C9*$A$3+$A$5) -> #VALUE!
C10: ='Data Entry Sheet'!A16 -> 2024 | D10: =(C10*$A$3+$A$5) -> #VALUE!
C14: 4-year | P14: =SUM([1]BStateTotal!P34:R34)/(SUM([1]BStateTotal!P39:R39)/100) -> 0.8287116
A15: FATALITY SLOPE | C15: FATALITY TRENDLINE
A16: =LINEST('Data Entry Sheet'!B10:B13,'Data Entry Sheet'!A10:A13) -> #VALUE! | C16: ='Data Entry Sheet'!A10 -> 2018 | D16: =(C16*$A$16+$A$18) -> #VALUE!
A17: FATALITY INTERCEPT | C17: ='Data Entry Sheet'!A11 -> 2019 | D17: =(C17*$A$16+$A$18) -> #VALUE!
A18: =INTERCEPT('Data Entry Sheet'!B10:B13,'Data Entry Sheet'!A10:A13) -> #DIV/0! | C18: ='Data Entry Sheet'!A12 -> 2020 | D18: =(C18*$A$16+$A$18) -> #VALUE!
C19: ='Data Entry Sheet'!A13 -> 2021 | D19: =(C19*$A$16+$A$18) -> #VALUE!
C20: ='Data Entry Sheet'!A14 -> 2022 | D20: =(C20*$A$16+$A$18) -> #VALUE!
C21: ='Data Entry Sheet'!A15 -> 2023 | D21: =(C21*$A$16+$A$18) -> #VALUE!
C22: ='Data Entry Sheet'!A16 -> 2024 | D22: =(C22*$A$16+$A$18) -> #VALUE!

Sheet 3-Yr Alt Baseline Calculation
H1: Alternative Baseline Calculation: 3-Year Baseline Period
H2: Baseline Period | K2: Comparison Year | N2: % Change
H3: (Multi-year average calculated from annual data) | K3: (3 years later than last year in multi-year baseline period) | N3: (Comparison year versus baseline period)
H4: ="("&'Data Entry Sheet'!A6&"-"&'Data Entry Sheet'!A8&") avg." -> (-) avg. | I4: =AVERAGE('Data Entry Sheet'!B6:B8) -> #DIV/0! | K4: ="("&'Data Entry Sheet'!A11&")" -> (2019) | L4: ='Data Entry Sheet'!B11 -> 0 | N4: =(L4-I4)/I4 -> #DIV/0!
H6: ="("&'Data Entry Sheet'!A7&"-"&'Data Entry Sheet'!A9&") avg." -> (-2017) avg. | I6: =AVERAGE('Data Entry Sheet'!B7:B9) -> #DIV/0! | K6: ="("&'Data Entry Sheet'!A12&")" -> (2020) | L6: ='Data Entry Sheet'!B12 -> 0 | N6: =(L6-I6)/I6 -> #DIV/0!
H8: ="("&'Data Entry Sheet'!A8&"-"&'Data Entry Sheet'!A10&") avg." -> (-2018) avg. | I8: =AVERAGE('Data Entry Sheet'!B8:B10) -> #DIV/0! | K8: ="("&'Data Entry Sheet'!A13&")" -> (2021) | L8: ='Data Entry Sheet'!B13 -> 0 | N8: =(L8-I8)/I8 -> #DIV/0!
K10: Average % Change | N10: =AVERAGE(N4,N6,N8) -> #DIV/0!
H12: Current Multi-Year Base | N12: ='Data Entry Sheet'!A13+3&" Projection" -> 2024 Projection
H13: ="("&'Data Entry Sheet'!A11&"-"&'Data Entry Sheet'!A13&") avg." -> (2019-2021) avg. | I13: =AVERAGE('Data Entry Sheet'!B11:B13) -> #DIV/0! | N13: =(I13*N10)+I13 -> #DIV/0!

Sheet 5-Yr Alt Baseline Calculation
H1: Alternative Baseline Calculation: 5-Year Baseline Period
H2: Baseline Period | K2: Comparison Year | N2: % Change
H3: (Multi-year average calculated from annual data) | K3: (3 years later than last year in multi-year baseline period) | N3: (Comparison year versus baseline period)
H4: ="("&'Data Entry Sheet'!A4&"-"&'Data Entry Sheet'!A8&") avg." -> (-) avg. | I4: =IF(Chart[[#This Row],[Annual Count]]=0,"?",AVERAGE('Data Entry Sheet'!B4:B8)) -> ? | K4: ="("&'Data Entry Sheet'!A11&")" -> (2019) | L4: ='Data Entry Sheet'!B11 -> 0 | N4: =IF(Chart[[#This Row],[Annual Count]]=0,"?",(L4-I4)/I4) -> ?
H6: ="("&'Data Entry Sheet'!A5&"-"&'Data Entry Sheet'!A9&") avg." -> (-2017) avg. | I6: =IF('Data Entry Sheet'!B5=0,"?",AVERAGE('Data Entry Sheet'!B5:B9)) -> ? | K6: ="("&'Data Entry Sheet'!A12&")" -> (2020) | L6: ='Data Entry Sheet'!B12 -> 0 | N6: =IF('Data Entry Sheet'!B5=0,"?",(L6-I6)/I6) -> ?
H8: ="("&'Data Entry Sheet'!A6&"-"&'Data Entry Sheet'!A10&") avg." -> (-2018) avg. | I8: =IF('Data Entry Sheet'!B6=0,"?",AVERAGE('Data Entry Sheet'!B6:B10)) -> ? | K8: ="("&'Data Entry Sheet'!A13&")" -> (2021) | L8: ='Data Entry Sheet'!B13 -> 0 | N8: =IF('Data Entry Sheet'!B6=0,"?",(L8-I8)/I8) -> ?
K10: Average % Change | N10: =IF('Data Entry Sheet'!B4=0,"?",AVERAGE(N4,N6,N8)) -> ?
H12: Current Multi-Year Base | N12: ='Data Entry Sheet'!A13+3&" Projection" -> 2024 Projection
H13: ="("&'Data Entry Sheet'!A9&"-"&'Data Entry Sheet'!A13&") avg." -> (2017-2021) avg. | I13: =AVERAGE('Data Entry Sheet'!B9:B13) -> #DIV/0! | N13: =IF('Data Entry Sheet'!B4=0,"?",(I13*N10)+I13) -> ?
