Workbook

Sheet General
A1: Cost Proposal
B3: GENERAL INFORMATION
B5: The purpose of the requested information in the attached worksheets is to assist government personnel in the review and evaluation of cost proposals submitted by offerors. Offerors are reminded that the responsibility for providing adequate supporting data and attachments lies solely with them. Further, the offeror must also bear the burden of proof in establishing reasonableness of proposed costs; therefore, it is in the offeror’s best interest to submit a fully supportable and well-prepared cost proposal. The basis and rationale for all proposed costs should be provided as part of the proposal so that Government personnel can place reliance on the information as current, complete and accurate. Further, FAR 15.403-4 sets forth those circumstances in which offerors are required to submit certified cost or pricing data. (Updated Nov. 8, 2011)
B8: Cost by Task: In addition to providing summary by period of performance (base and any options), the contractor is also responsible for providing a breakdown of cost for each task indentified in the statement of work. The sum of all cost by task worksheets MUST equal the total cost summary.
B10: Options: The US Army Natick Contracting Division does not accept unpriced options. Any option that is not fully priced, will not be included in any resulting award.
B12: Enter the proposed cost detail for the base and each option period (as needed) on the tabs entitled,, "Base", "O-I". "O-II", O-III", "O-IV", and "O-V". The tab entitled, "Total Amount" will automatically calculate from the Base and Option tabs.
B15: Below is a summary of the proposed cost. This chart will automatically fill in from the "Total Amount" tab. | J15: Below is a summary of Documentation/Documents Required
J16: Prior to Negotiations
C17: ='Total Amount'!B28 -> Total Direct Labor Costs | D17: ='Total Amount'!W28 -> 0 | J17: =IF(COUNTIF(Subcontractor!B16:O24,"<>"&"")>0, "Prime Contractor's Cost Analysis and Source Selection documentationfor each Subcontractor", "")
C18: ='Total Amount'!B32 -> Total Fringe Benefit Costs | D18: ='Total Amount'!W32 -> 0 | J18: =IF(COUNTIF(Consultants!B5:J13,"<>"&"")>0, "Consulting Agreement for each Consultant", "")
C19: ='Total Amount'!B36 -> Total Labor Overhead Costs | D19: ='Total Amount'!W36 -> 0 | J19: =IF(COUNTIF('Materials-Supplies'!B4:J12,"<>"&"")>0, "Supporting documentation for Materials/Supplies", "")
C20: ='Total Amount'!B42 -> Total Subcontract Costs | D20: ='Total Amount'!W42 -> 0 | J20: =IF(COUNTIF(Equipment!B4:M8,"<>"&"")>0, "Supporting documentation for Equipment", "")
C21: ='Total Amount'!B48 -> Total Consultant Costs | D21: ='Total Amount'!W48 -> 0 | J21: =IF(COUNTIF('ODC Details'!B4:H10,"<>"&"")>0, "Supporting documentation for Other ODC", "")
C22: ='Total Amount'!B54 -> Total Other Direct Costs | D22: ='Total Amount'!W54 -> 0 | J22: =IF(COUNTIF('Labor&Ind Rates'!D18:J24,"<>"&"")>0, "Basis of Indirect Rate for each Indirect Rate", "")
C23: ='Total Amount'!B58 -> Total Material Handling Costs | D23: ='Total Amount'!W58 -> 0
C24: ='Total Amount'!A59 -> Subtotal Costs | D24: ='Total Amount'!W59 -> 0
C25: ='Total Amount'!B63 -> Total G&A Costs | D25: ='Total Amount'!W63 -> 0
C26: ='Total Amount'!A64 -> Subtotal Costs | D26: ='Total Amount'!W64 -> 0 | J26: Prior to Contract
C27: ='Total Amount'!B68 -> Total Cost of Money | D27: ='Total Amount'!W68 -> 0 | J27: Certificate of Current Cost/Pricing Data for Prime if Contract > $700K
C28: ='Total Amount'!A69 -> Total Estimated Costs | D28: ='Total Amount'!W69 -> 0 | J28: Certificate of Current Cost/Pricing Data for each Subcontractor > $700K
C29: ='Total Amount'!A70 -> Proposed Fee/Profit | D29: ='Total Amount'!W70 -> 0
C30: ='Total Amount'!A71 -> Total Proposed Cost | D30: ='Total Amount'!W71 -> 0

Sheet Total Amount
A1: Cost Proposal
A2: Prime Offeror Name:
A3: Subcontractor Name:
E4: (NOTE 2) | H4: (NOTE 2) | K4: (NOTE 2) | N4: (NOTE 2) | Q4: (NOTE 2) | T4: (NOTE 2)
E5: BASE | H5: OPTION 1 | K5: OPTION 2 | N5: OPTION 3 | Q5: OPTION 4 | T5: OPTION 5 | V5: Total
A6: Direct Labor (DL) (Note 1) | E6: MM/YR to MM/YR | H6: MM/YR to MM/YR | K6: MM/YR to MM/YR | N6: MM/YR to MM/YR | Q6: MM/YR to MM/YR | T6: MM/YR to MM/YR | V6: (NOTE 3) | W6: X-Months
B7: Offeror's Labor Category (NOTE 1) | C7: Name (Last, First) | D7: Base/Hours | E7: Rate | F7: Extended $ | G7: Base/Hours | H7: Rate | I7: Extended $ | J7: Base/Hours | K7: Rate | L7: Extended $ | M7: Base/Hours | N7: Rate | O7: Extended $ | P7: Base/Hours | Q7: Rate | R7: Extended $ | S7: Base/Hours | T7: Rate | U7: Extended $ | V7: Base/Hours | W7: Extended $
D8: =Base!V8 -> 0 | F8: =Base!W8 -> 0 | G8: ='O-I'!V8 -> 0 | I8: ='O-I'!W8 -> 0 | J8: ='O-II'!V8 -> 0 | L8: ='O-II'!W8 -> 0 | M8: ='O-III'!V8 -> 0 | O8: ='O-III'!W8 -> 0 | P8: ='O-IV'!V8 -> 0 | R8: ='O-IV'!W8 -> 0 | S8: ='O-V'!S8 -> 0 | U8: ='O-V'!W8 -> 0 | V8: =D8+G8+J8+M8+P8+S8 -> 0 | W8: =F8+I8+L8+O8+R8+U8 -> 0
D9: =Base!V9 -> 0 | F9: =Base!W9 -> 0 | G9: ='O-I'!V9 -> 0 | I9: ='O-I'!W9 -> 0 | J9: ='O-II'!V9 -> 0 | L9: ='O-II'!W9 -> 0 | M9: ='O-III'!V9 -> 0 | O9: ='O-III'!W9 -> 0 | P9: ='O-IV'!V9 -> 0 | R9: ='O-IV'!W9 -> 0 | S9: ='O-V'!S9 -> 0 | U9: ='O-V'!W9 -> 0 | V9: =D9+G9+J9+M9+P9+S9 -> 0 | W9: =F9+I9+L9+O9+R9+U9 -> 0
D10: =Base!V10 -> 0 | F10: =Base!W10 -> 0 | G10: ='O-I'!V10 -> 0 | I10: ='O-I'!W10 -> 0 | J10: ='O-II'!V10 -> 0 | L10: ='O-II'!W10 -> 0 | M10: ='O-III'!V10 -> 0 | O10: ='O-III'!W10 -> 0 | P10: ='O-IV'!V10 -> 0 | R10: ='O-IV'!W10 -> 0 | S10: ='O-V'!S10 -> 0 | U10: ='O-V'!W10 -> 0 | V10: =D10+G10+J10+M10+P10+S10 -> 0 | W10: =F10+I10+L10+O10+R10+U10 -> 0
D11: =Base!V11 -> 0 | F11: =Base!W11 -> 0 | G11: ='O-I'!V11 -> 0 | I11: ='O-I'!W11 -> 0 | J11: ='O-II'!V11 -> 0 | L11: ='O-II'!W11 -> 0 | M11: ='O-III'!V11 -> 0 | O11: ='O-III'!W11 -> 0 | P11: ='O-IV'!V11 -> 0 | R11: ='O-IV'!W11 -> 0 | S11: ='O-V'!S11 -> 0 | U11: ='O-V'!W11 -> 0 | V11: =D11+G11+J11+M11+P11+S11 -> 0 | W11: =F11+I11+L11+O11+R11+U11 -> 0
D12: =Base!V12 -> 0 | F12: =Base!W12 -> 0 | G12: ='O-I'!V12 -> 0 | I12: ='O-I'!W12 -> 0 | J12: ='O-II'!V12 -> 0 | L12: ='O-II'!W12 -> 0 | M12: ='O-III'!V12 -> 0 | O12: ='O-III'!W12 -> 0 | P12: ='O-IV'!V12 -> 0 | R12: ='O-IV'!W12 -> 0 | S12: ='O-V'!S12 -> 0 | U12: ='O-V'!W12 -> 0 | V12: =D12+G12+J12+M12+P12+S12 -> 0 | W12: =F12+I12+L12+O12+R12+U12 -> 0
D13: =Base!V13 -> 0 | F13: =Base!W13 -> 0 | G13: ='O-I'!V13 -> 0 | I13: ='O-I'!W13 -> 0 | J13: ='O-II'!V13 -> 0 | L13: ='O-II'!W13 -> 0 | M13: ='O-III'!V13 -> 0 | O13: ='O-III'!W13 -> 0 | P13: ='O-IV'!V13 -> 0 | R13: ='O-IV'!W13 -> 0 | S13: ='O-V'!S13 -> 0 | U13: ='O-V'!W13 -> 0 | V13: =D13+G13+J13+M13+P13+S13 -> 0 | W13: =F13+I13+L13+O13+R13+U13 -> 0
D14: =Base!V14 -> 0 | F14: =Base!W14 -> 0 | G14: ='O-I'!V14 -> 0 | I14: ='O-I'!W14 -> 0 | J14: ='O-II'!V14 -> 0 | L14: ='O-II'!W14 -> 0 | M14: ='O-III'!V14 -> 0 | O14: ='O-III'!W14 -> 0 | P14: ='O-IV'!V14 -> 0 | R14: ='O-IV'!W14 -> 0 | S14: ='O-V'!S14 -> 0 | U14: ='O-V'!W14 -> 0 | V14: =D14+G14+J14+M14+P14+S14 -> 0 | W14: =F14+I14+L14+O14+R14+U14 -> 0
D15: =Base!V15 -> 0 | F15: =Base!W15 -> 0 | G15: ='O-I'!V15 -> 0 | I15: ='O-I'!W15 -> 0 | J15: ='O-II'!V15 -> 0 | L15: ='O-II'!W15 -> 0 | M15: ='O-III'!V15 -> 0 | O15: ='O-III'!W15 -> 0 | P15: ='O-IV'!V15 -> 0 | R15: ='O-IV'!W15 -> 0 | S15: ='O-V'!S15 -> 0 | U15: ='O-V'!W15 -> 0 | V15: =D15+G15+J15+M15+P15+S15 -> 0 | W15: =F15+I15+L15+O15+R15+U15 -> 0
D16: =Base!V16 -> 0 | F16: =Base!W16 -> 0 | G16: ='O-I'!V16 -> 0 | I16: ='O-I'!W16 -> 0 | J16: ='O-II'!V16 -> 0 | L16: ='O-II'!W16 -> 0 | M16: ='O-III'!V16 -> 0 | O16: ='O-III'!W16 -> 0 | P16: ='O-IV'!V16 -> 0 | R16: ='O-IV'!W16 -> 0 | S16: ='O-V'!S16 -> 0 | U16: ='O-V'!W16 -> 0 | V16: =D16+G16+J16+M16+P16+S16 -> 0 | W16: =F16+I16+L16+O16+R16+U16 -> 0
D17: =Base!V17 -> 0 | F17: =Base!W17 -> 0 | G17: ='O-I'!V17 -> 0 | I17: ='O-I'!W17 -> 0 | J17: ='O-II'!V17 -> 0 | L17: ='O-II'!W17 -> 0 | M17: ='O-III'!V17 -> 0 | O17: ='O-III'!W17 -> 0 | P17: ='O-IV'!V17 -> 0 | R17: ='O-IV'!W17 -> 0 | S17: ='O-V'!S17 -> 0 | U17: ='O-V'!W17 -> 0 | V17: =D17+G17+J17+M17+P17+S17 -> 0 | W17: =F17+I17+L17+O17+R17+U17 -> 0
D18: =Base!V18 -> 0 | F18: =Base!W18 -> 0 | G18: ='O-I'!V18 -> 0 | I18: ='O-I'!W18 -> 0 | J18: ='O-II'!V18 -> 0 | L18: ='O-II'!W18 -> 0 | M18: ='O-III'!V18 -> 0 | O18: ='O-III'!W18 -> 0 | P18: ='O-IV'!V18 -> 0 | R18: ='O-IV'!W18 -> 0 | S18: ='O-V'!S18 -> 0 | U18: ='O-V'!W18 -> 0 | V18: =D18+G18+J18+M18+P18+S18 -> 0 | W18: =F18+I18+L18+O18+R18+U18 -> 0
D19: =Base!V19 -> 0 | F19: =Base!W19 -> 0 | G19: ='O-I'!V19 -> 0 | I19: ='O-I'!W19 -> 0 | J19: ='O-II'!V19 -> 0 | L19: ='O-II'!W19 -> 0 | M19: ='O-III'!V19 -> 0 | O19: ='O-III'!W19 -> 0 | P19: ='O-IV'!V19 -> 0 | R19: ='O-IV'!W19 -> 0 | S19: ='O-V'!S19 -> 0 | U19: ='O-V'!W19 -> 0 | V19: =D19+G19+J19+M19+P19+S19 -> 0 | W19: =F19+I19+L19+O19+R19+U19 -> 0
... D27: =Base!V27 -> 0 | F27: =Base!W27 -> 0 | G27: ='O-I'!V27 -> 0 | I27: ='O-I'!W27 -> 0 | J27: ='O-II'!V27 -> 0 | L27: ='O-II'!W27 -> 0 | M27: ='O-III'!V27 -> 0 | O27: ='O-III'!W27 -> 0 | P27: ='O-IV'!V27 -> 0 | R27: ='O-IV'!W27 -> 0 | S27: ='O-V'!S27 -> 0 | U27: ='O-V'!W27 -> 0 | V27: =D27+G27+J27+M27+P27+S27 -> 0 | W27: =F27+I27+L27+O27+R27+U27 -> 0
B28: Total Direct Labor Costs | D28: =SUM(D8:D27) -> 0 | F28: =SUM(F8:F27) -> 0 | G28: =SUM(G8:G27) -> 0 | I28: =SUM(I8:I27) -> 0 | J28: =SUM(J8:J27) -> 0 | L28: =SUM(L8:L27) -> 0 | M28: =SUM(M8:M27) -> 0 | O28: =SUM(O8:O27) -> 0 | P28: =SUM(P8:P27) -> 0 | R28: =SUM(R8:R27) -> 0 | S28: =SUM(S8:S27) -> 0 | U28: =SUM(U8:U27) -> 0 | V28: =SUM(V8:V27) -> 0 | W28: =F28+I28+L28+O28+R28+U28 -> 0
A29: Fringe Benefits (F/B) (See Escalation and Indirect Rate Worksheet)
B30: Insert F/B rate title | D30: =F28 -> 0 | F30: =Base!W30 -> 0 | G30: =I28 -> 0 | I30: ='O-I'!W30 -> 0 | J30: =L28 -> 0 | L30: ='O-II'!W30 -> 0 | M30: =O28 -> 0 | O30: ='O-III'!W30 -> 0 | P30: =R28 -> 0 | R30: ='O-IV'!W30 -> 0 | S30: =U28 -> 0 | U30: ='O-V'!W30 -> 0 | V30: =SUM(D30+G30+J30+M30+P30+S30) -> 0 | W30: =F30+I30+L30+O30+R30+U30 -> 0
B31: Insert line(s) & title(s) for any other F/B rates | F31: =Base!W31 -> 0 | I31: ='O-I'!W31 -> 0 | L31: ='O-II'!W31 -> 0 | O31: ='O-III'!W31 -> 0 | R31: ='O-IV'!W31 -> 0 | U31: ='O-V'!W31 -> 0 | W31: =F31+I31+L31+O31+R31+U31 -> 0
B32: Total Fringe Benefit Costs | F32: =SUM(F30:F31) -> 0 | I32: =SUM(I30:I31) -> 0 | L32: =ROUND(J32*K32,0) -> 0 | O32: =SUM(O30:O31) -> 0 | R32: =SUM(R30:R31) -> 0 | U32: =SUM(U30:U31) -> 0 | W32: =F32+I32+L32+O32+R32+U32 -> 0
A33: Labor Overhead (O/H) (See Escalation and Indirect Rate Worksheet)
B34: Insert O/H rate title | D34: =F28+F32 -> 0 | F34: =Base!W34 -> 0 | G34: =I28+I32 -> 0 | I34: ='O-I'!W34 -> 0 | J34: =L28+L32 -> 0 | L34: ='O-II'!W34 -> 0 | M34: =O28+O32 -> 0 | O34: ='O-III'!W34 -> 0 | P34: =R28+R32 -> 0 | R34: ='O-IV'!W34 -> 0 | S34: =U28+U32 -> 0 | U34: ='O-V'!W34 -> 0 | V34: =D34+G34+J34+M34+P34+S34 -> 0 | W34: =F34+I34+L34+O34+R34+U34 -> 0
B35: Insert line(s) & title(s) for any other O/H rates | F35: =Base!W35 -> 0 | I35: ='O-I'!W35 -> 0 | L35: ='O-II'!W35 -> 0 | O35: ='O-III'!W35 -> 0 | R35: ='O-IV'!W35 -> 0 | U35: ='O-V'!W35 -> 0 | W35: =F35+I35+L35+O35+R35+U35 -> 0
B36: Total Labor Overhead Costs | F36: =SUM(F34:F35) -> 0 | I36: =SUM(I34:I35) -> 0 | L36: =SUM(L34:L35) -> 0 | O36: =SUM(O34:O35) -> 0 | R36: =SUM(R34:R35) -> 0 | U36: =SUM(U34:U35) -> 0 | W36: =F36+I36+L36+O36+R36+U36 -> 0
A37: Subcontracts/Interorganizational Transfer | C37: File/Tab Name or Link
B38: Subcontract/Interorganizational Name - #01 | C38: Identify Tab/File Name of Each Sub | F38: =Base!W38 -> 0 | I38: ='O-I'!W38 -> 0 | L38: ='O-II'!W38 -> 0 | O38: ='O-III'!W38 -> 0 | R38: ='O-IV'!W38 -> 0 | U38: ='O-V'!W38 -> 0 | W38: =F38+I38+L38+O38+R38+U38 -> 0
B39: Subcontract/Interorganizational Name - #02 | C39: Identify Tab/File Name of Each Sub | F39: =Base!W39 -> 0 | I39: ='O-I'!W39 -> 0 | L39: ='O-II'!W39 -> 0 | O39: ='O-III'!W39 -> 0 | R39: ='O-IV'!W39 -> 0 | U39: ='O-V'!W39 -> 0 | W39: =F39+I39+L39+O39+R39+U39 -> 0
B40: Subcontract/Interorganizational Name - #03 | C40: Identify Tab/File Name of Each Sub | F40: =Base!W40 -> 0 | I40: ='O-I'!W40 -> 0 | L40: ='O-II'!W40 -> 0 | O40: ='O-III'!W40 -> 0 | R40: ='O-IV'!W40 -> 0 | U40: ='O-V'!W40 -> 0 | W40: =F40+I40+L40+O40+R40+U40 -> 0
B41: Insert line(s) for any additional Subcontractors/Interorganizational | C41: Identify Tab/File Name of Each Sub | F41: =Base!W41 -> 0 | I41: ='O-I'!W41 -> 0 | L41: ='O-II'!W41 -> 0 | O41: ='O-III'!W41 -> 0 | R41: ='O-IV'!W41 -> 0 | U41: ='O-V'!W41 -> 0 | W41: =F41+I41+L41+O41+R41+U41 -> 0
B42: Total Subcontract Costs | F42: =SUM(F38:F41) -> 0 | I42: =SUM(I38:I41) -> 0 | L42: =SUM(L38:L41) -> 0 | O42: =SUM(O38:O41) -> 0 | R42: =SUM(R38:R41) -> 0 | U42: =SUM(U38:U41) -> 0 | W42: =F42+I42+L42+O42+R42+U42 -> 0
A43: Consultants
B44: Consultant Name - #01 | C44: Provide details on next Worksheet | F44: =Base!W44 -> 0 | I44: ='O-I'!W44 -> 0 | L44: ='O-II'!W44 -> 0 | O44: ='O-III'!W44 -> 0 | R44: ='O-IV'!W44 -> 0 | U44: ='O-V'!W44 -> 0 | W44: =F44+I44+L44+O44+R44+U44 -> 0
B45: Consultant Name - #02 | C45: Provide details on next Worksheet | F45: =Base!W45 -> 0 | I45: ='O-I'!W45 -> 0 | L45: ='O-II'!W45 -> 0 | O45: ='O-III'!W45 -> 0 | R45: ='O-IV'!W45 -> 0 | U45: ='O-V'!W45 -> 0 | W45: =F45+I45+L45+O45+R45+U45 -> 0
B46: Consultant Name - #03 | C46: Provide details on next Worksheet | F46: =Base!W46 -> 0 | I46: ='O-I'!W46 -> 0 | L46: ='O-II'!W46 -> 0 | O46: ='O-III'!W46 -> 0 | R46: ='O-IV'!W46 -> 0 | U46: ='O-V'!W46 -> 0 | W46: =F46+I46+L46+O46+R46+U46 -> 0
B47: Insert line(s) for any additional Consultants | C47: Provide details on next Worksheet | F47: =Base!W47 -> 0 | I47: ='O-I'!W47 -> 0 | L47: ='O-II'!W47 -> 0 | O47: ='O-III'!W47 -> 0 | R47: ='O-IV'!W47 -> 0 | U47: ='O-V'!W47 -> 0 | W47: =F47+I47+L47+O47+R47+U47 -> 0
...

Sheet Base
A1: Cost Proposal - Base
A2: Prime Offeror Name:
A3: Subcontractor Name:
E4: (NOTE 2) | H4: (NOTE 2) | K4: (NOTE 2) | N4: (NOTE 2) | Q4: (NOTE 2) | T4: (NOTE 2)
E5: CY/FY 11 or 12 | H5: CY/FY 12 or 13 | K5: CY/FY 13 or 14 | N5: CY/FY 14 or 15 | Q5: CY/FY 15 or 16 | T5: CY/FY 16 or 17 | V5: Total
A6: Direct Labor (DL) (Note 1) | E6: MM/YR to MM/YR | H6: MM/YR to MM/YR | K6: MM/YR to MM/YR | N6: MM/YR to MM/YR | Q6: MM/YR to MM/YR | T6: MM/YR to MM/YR | V6: (NOTE 3) | W6: X-Months
B7: Offeror's Labor Category (NOTE 1) | C7: Name (Last, First) | D7: Base/Hours | E7: Rate | F7: Extended $ | G7: Base/Hours | H7: Rate | I7: Extended $ | J7: Base/Hours | K7: Rate | L7: Extended $ | M7: Base/Hours | N7: Rate | O7: Extended $ | P7: Base/Hours | Q7: Rate | R7: Extended $ | S7: Base/Hours | T7: Rate | U7: Extended $ | V7: Base/Hours | W7: Extended $
F8: =ROUND(D8*E8,0) -> 0 | I8: =ROUND(G8*H8,0) -> 0 | L8: =ROUND(J8*K8,0) -> 0 | O8: =ROUND(M8*N8,0) -> 0 | R8: =ROUND(P8*Q8,0) -> 0 | U8: =ROUND(S8*T8,0) -> 0 | V8: =D8+G8+J8+M8+P8+S8 -> 0 | W8: =F8+I8+L8+O8+R8+U8 -> 0
F9: =ROUND(D9*E9,0) -> 0 | I9: =ROUND(G9*H9,0) -> 0 | L9: =ROUND(J9*K9,0) -> 0 | O9: =ROUND(M9*N9,0) -> 0 | R9: =ROUND(P9*Q9,0) -> 0 | U9: =ROUND(S9*T9,0) -> 0 | V9: =D9+G9+J9+M9+P9+S9 -> 0 | W9: =F9+I9+L9+O9+R9+U9 -> 0
F10: =ROUND(D10*E10,0) -> 0 | I10: =ROUND(G10*H10,0) -> 0 | L10: =ROUND(J10*K10,0) -> 0 | O10: =ROUND(M10*N10,0) -> 0 | R10: =ROUND(P10*Q10,0) -> 0 | U10: =ROUND(S10*T10,0) -> 0 | V10: =D10+G10+J10+M10+P10+S10 -> 0 | W10: =F10+I10+L10+O10+R10+U10 -> 0
F11: =ROUND(D11*E11,0) -> 0 | I11: =ROUND(G11*H11,0) -> 0 | L11: =ROUND(J11*K11,0) -> 0 | O11: =ROUND(M11*N11,0) -> 0 | R11: =ROUND(P11*Q11,0) -> 0 | U11: =ROUND(S11*T11,0) -> 0 | V11: =D11+G11+J11+M11+P11+S11 -> 0 | W11: =F11+I11+L11+O11+R11+U11 -> 0
F12: =ROUND(D12*E12,0) -> 0 | I12: =ROUND(G12*H12,0) -> 0 | L12: =ROUND(J12*K12,0) -> 0 | O12: =ROUND(M12*N12,0) -> 0 | R12: =ROUND(P12*Q12,0) -> 0 | U12: =ROUND(S12*T12,0) -> 0 | V12: =D12+G12+J12+M12+P12+S12 -> 0 | W12: =F12+I12+L12+O12+R12+U12 -> 0
F13: =ROUND(D13*E13,0) -> 0 | I13: =ROUND(G13*H13,0) -> 0 | L13: =ROUND(J13*K13,0) -> 0 | O13: =ROUND(M13*N13,0) -> 0 | R13: =ROUND(P13*Q13,0) -> 0 | U13: =ROUND(S13*T13,0) -> 0 | V13: =D13+G13+J13+M13+P13+S13 -> 0 | W13: =F13+I13+L13+O13+R13+U13 -> 0
F14: =ROUND(D14*E14,0) -> 0 | I14: =ROUND(G14*H14,0) -> 0 | L14: =ROUND(J14*K14,0) -> 0 | O14: =ROUND(M14*N14,0) -> 0 | R14: =ROUND(P14*Q14,0) -> 0 | U14: =ROUND(S14*T14,0) -> 0 | V14: =D14+G14+J14+M14+P14+S14 -> 0 | W14: =F14+I14+L14+O14+R14+U14 -> 0
F15: =ROUND(D15*E15,0) -> 0 | I15: =ROUND(G15*H15,0) -> 0 | L15: =ROUND(J15*K15,0) -> 0 | O15: =ROUND(M15*N15,0) -> 0 | R15: =ROUND(P15*Q15,0) -> 0 | U15: =ROUND(S15*T15,0) -> 0 | V15: =D15+G15+J15+M15+P15+S15 -> 0 | W15: =F15+I15+L15+O15+R15+U15 -> 0
F16: =ROUND(D16*E16,0) -> 0 | I16: =ROUND(G16*H16,0) -> 0 | L16: =ROUND(J16*K16,0) -> 0 | O16: =ROUND(M16*N16,0) -> 0 | R16: =ROUND(P16*Q16,0) -> 0 | U16: =ROUND(S16*T16,0) -> 0 | V16: =D16+G16+J16+M16+P16+S16 -> 0 | W16: =F16+I16+L16+O16+R16+U16 -> 0
F17: =ROUND(D17*E17,0) -> 0 | I17: =ROUND(G17*H17,0) -> 0 | L17: =ROUND(J17*K17,0) -> 0 | O17: =ROUND(M17*N17,0) -> 0 | R17: =ROUND(P17*Q17,0) -> 0 | U17: =ROUND(S17*T17,0) -> 0 | V17: =D17+G17+J17+M17+P17+S17 -> 0 | W17: =F17+I17+L17+O17+R17+U17 -> 0
F18: =ROUND(D18*E18,0) -> 0 | I18: =ROUND(G18*H18,0) -> 0 | L18: =ROUND(J18*K18,0) -> 0 | O18: =ROUND(M18*N18,0) -> 0 | R18: =ROUND(P18*Q18,0) -> 0 | U18: =ROUND(S18*T18,0) -> 0 | V18: =D18+G18+J18+M18+P18+S18 -> 0 | W18: =F18+I18+L18+O18+R18+U18 -> 0
F19: =ROUND(D19*E19,0) -> 0 | I19: =ROUND(G19*H19,0) -> 0 | L19: =ROUND(J19*K19,0) -> 0 | O19: =ROUND(M19*N19,0) -> 0 | R19: =ROUND(P19*Q19,0) -> 0 | U19: =ROUND(S19*T19,0) -> 0 | V19: =D19+G19+J19+M19+P19+S19 -> 0 | W19: =F19+I19+L19+O19+R19+U19 -> 0
... F27: =ROUND(D27*E27,0) -> 0 | I27: =ROUND(G27*H27,0) -> 0 | L27: =ROUND(J27*K27,0) -> 0 | O27: =ROUND(M27*N27,0) -> 0 | R27: =ROUND(P27*Q27,0) -> 0 | U27: =ROUND(S27*T27,0) -> 0 | V27: =D27+G27+J27+M27+P27+S27 -> 0 | W27: =F27+I27+L27+O27+R27+U27 -> 0
B28: Total Direct Labor Costs | D28: =SUM(D8:D27) -> 0 | F28: =SUM(F8:F27) -> 0 | G28: =SUM(G8:G27) -> 0 | I28: =SUM(I8:I27) -> 0 | J28: =SUM(J8:J27) -> 0 | L28: =SUM(L8:L27) -> 0 | M28: =SUM(M8:M27) -> 0 | O28: =SUM(O8:O27) -> 0 | P28: =SUM(P8:P27) -> 0 | R28: =SUM(R8:R27) -> 0 | S28: =SUM(S8:S27) -> 0 | U28: =SUM(U8:U27) -> 0 | V28: =SUM(V8:V27) -> 0 | W28: =F28+I28+L28+O28+R28+U28 -> 0
A29: Fringe Benefits (F/B) (See Escalation and Indirect Rate Worksheet)
B30: Insert F/B rate title | D30: =F28 -> 0 | F30: =ROUND(D30*E30,0) -> 0 | G30: =I28 -> 0 | I30: =ROUND(G30*H30,0) -> 0 | J30: =L28 -> 0 | L30: =ROUND(J30*K30,0) -> 0 | M30: =O28 -> 0 | O30: =ROUND(M30*N30,0) -> 0 | P30: =R28 -> 0 | R30: =ROUND(P30*Q30,0) -> 0 | S30: =U28 -> 0 | U30: =ROUND(S30*T30,0) -> 0 | W30: =F30+I30+L30+O30+R30+U30 -> 0
B31: Insert line(s) & title(s) for any other F/B rates | F31: =ROUND(D31*E31,0) -> 0 | I31: =ROUND(G31*H31,0) -> 0 | L31: =ROUND(J31*K31,0) -> 0 | O31: =ROUND(M31*N31,0) -> 0 | R31: =ROUND(P31*Q31,0) -> 0 | U31: =ROUND(S31*T31,0) -> 0 | W31: =F31+I31+L31+O31+R31+U31 -> 0
B32: Total Fringe Benefit Costs | F32: =SUM(F30:F31) -> 0 | I32: =SUM(I30:I31) -> 0 | L32: =ROUND(J32*K32,0) -> 0 | O32: =SUM(O30:O31) -> 0 | R32: =SUM(R30:R31) -> 0 | U32: =SUM(U30:U31) -> 0 | W32: =F32+I32+L32+O32+R32+U32 -> 0
A33: Labor Overhead (O/H) (See Escalation and Indirect Rate Worksheet)
B34: Insert O/H rate title | D34: =F28+F32 -> 0 | F34: =ROUND(D34*E34,0) -> 0 | G34: =I28+I32 -> 0 | I34: =ROUND(G34*H34,0) -> 0 | J34: =L28+L32 -> 0 | L34: =ROUND(J34*K34,0) -> 0 | M34: =O28+O32 -> 0 | O34: =ROUND(M34*N34,0) -> 0 | P34: =R28+R32 -> 0 | R34: =ROUND(P34*Q34,0) -> 0 | S34: =U28+U32 -> 0 | U34: =ROUND(S34*T34,0) -> 0 | W34: =F34+I34+L34+O34+R34+U34 -> 0
B35: Insert line(s) & title(s) for any other O/H rates | F35: =ROUND(D35*E35,0) -> 0 | I35: =ROUND(G35*H35,0) -> 0 | L35: =ROUND(J35*K35,0) -> 0 | O35: =ROUND(M35*N35,0) -> 0 | R35: =ROUND(P35*Q35,0) -> 0 | U35: =ROUND(S35*T35,0) -> 0 | W35: =F35+I35+L35+O35+R35+U35 -> 0
B36: Total Labor Overhead Costs | F36: =SUM(F34:F35) -> 0 | I36: =SUM(I34:I35) -> 0 | L36: =SUM(L34:L35) -> 0 | O36: =SUM(O34:O35) -> 0 | R36: =SUM(R34:R35) -> 0 | U36: =SUM(U34:U35) -> 0 | W36: =F36+I36+L36+O36+R36+U36 -> 0
A37: Subcontracts/Interorganizational Transfer | C37: File/Tab Name or Link
B38: Subcontract/Interorganizational Name - #01 | C38: Identify Tab/File Name of Each Sub | F38: 0 | I38: 0 | L38: 0 | O38: 0 | R38: 0 | U38: 0 | W38: =F38+I38+L38+O38+R38+U38 -> 0
B39: Subcontract/Interorganizational Name - #02 | C39: Identify Tab/File Name of Each Sub | F39: 0 | I39: 0 | L39: 0 | O39: 0 | R39: 0 | U39: 0 | W39: =F39+I39+L39+O39+R39+U39 -> 0
B40: Subcontract/Interorganizational Name - #03 | C40: Identify Tab/File Name of Each Sub | F40: 0 | I40: 0 | L40: 0 | O40: 0 | R40: 0 | U40: 0 | W40: =F40+I40+L40+O40+R40+U40 -> 0
B41: Insert line(s) for any additional Subcontractors/Interorganizational | C41: Identify Tab/File Name of Each Sub | F41: 0 | I41: 0 | L41: 0 | O41: 0 | R41: 0 | U41: 0 | W41: =F41+I41+L41+O41+R41+U41 -> 0
B42: Total Subcontract Costs | F42: =SUM(F38:F41) -> 0 | I42: =SUM(I38:I41) -> 0 | L42: =SUM(L38:L41) -> 0 | O42: =SUM(O38:O41) -> 0 | R42: =SUM(R38:R41) -> 0 | U42: =SUM(U38:U41) -> 0 | W42: =F42+I42+L42+O42+R42+U42 -> 0
A43: Consultants
B44: Consultant Name - #01 | C44: Provide details on next Worksheet | F44: =ROUND(D44*E44,0) -> 0 | I44: =ROUND(G44*H44,0) -> 0 | L44: =ROUND(J44*K44,0) -> 0 | O44: =ROUND(M44*N44,0) -> 0 | R44: =ROUND(P44*Q44,0) -> 0 | U44: =ROUND(S44*T44,0) -> 0 | W44: =F44+I44+L44+O44+R44+U44 -> 0
B45: Consultant Name - #02 | C45: Provide details on next Worksheet | F45: =ROUND(D45*E45,0) -> 0 | I45: =ROUND(G45*H45,0) -> 0 | L45: =ROUND(J45*K45,0) -> 0 | O45: =ROUND(M45*N45,0) -> 0 | R45: =ROUND(P45*Q45,0) -> 0 | U45: =ROUND(S45*T45,0) -> 0 | W45: =F45+I45+L45+O45+R45+U45 -> 0
B46: Consultant Name - #03 | C46: Provide details on next Worksheet | F46: =ROUND(D46*E46,0) -> 0 | I46: =ROUND(G46*H46,0) -> 0 | L46: =ROUND(J46*K46,0) -> 0 | O46: =ROUND(M46*N46,0) -> 0 | R46: =ROUND(P46*Q46,0) -> 0 | U46: =ROUND(S46*T46,0) -> 0 | W46: =F46+I46+L46+O46+R46+U46 -> 0
B47: Insert line(s) for any additional Consultants | C47: Provide details on next Worksheet | F47: =ROUND(D47*E47,0) -> 0 | I47: =ROUND(G47*H47,0) -> 0 | L47: =ROUND(J47*K47,0) -> 0 | O47: =ROUND(M47*N47,0) -> 0 | R47: =ROUND(P47*Q47,0) -> 0 | U47: =ROUND(S47*T47,0) -> 0 | W47: =F47+I47+L47+O47+R47+U47 -> 0
...

Sheet O-I
A1: Cost Proposal - Option
A2: Prime Offeror Name:
A3: Subcontractor Name:
E4: (NOTE 2) | H4: (NOTE 2) | K4: (NOTE 2) | N4: (NOTE 2) | Q4: (NOTE 2) | T4: (NOTE 2)
E5: CY/FY 11 or 12 | H5: CY/FY 12 or 13 | K5: CY/FY 13 or 14 | N5: CY/FY 14 or 15 | Q5: CY/FY 15 or 16 | T5: CY/FY 16 or 17 | V5: Total
A6: Direct Labor (DL) (Note 1) | E6: MM/YR to MM/YR | H6: MM/YR to MM/YR | K6: MM/YR to MM/YR | N6: MM/YR to MM/YR | Q6: MM/YR to MM/YR | T6: MM/YR to MM/YR | V6: (NOTE 3) | W6: X-Months
B7: Offeror's Labor Category (NOTE 1) | C7: Name (Last, First) | D7: Base/Hours | E7: Rate | F7: Extended $ | G7: Base/Hours | H7: Rate | I7: Extended $ | J7: Base/Hours | K7: Rate | L7: Extended $ | M7: Base/Hours | N7: Rate | O7: Extended $ | P7: Base/Hours | Q7: Rate | R7: Extended $ | S7: Base/Hours | T7: Rate | U7: Extended $ | V7: Base/Hours | W7: Extended $
F8: =ROUND(D8*E8,0) -> 0 | I8: =ROUND(G8*H8,0) -> 0 | L8: =ROUND(J8*K8,0) -> 0 | O8: =ROUND(M8*N8,0) -> 0 | R8: =ROUND(P8*Q8,0) -> 0 | U8: =ROUND(S8*T8,0) -> 0 | V8: =D8+G8+J8+M8+P8+S8 -> 0 | W8: =F8+I8+L8+O8+R8+U8 -> 0
F9: =ROUND(D9*E9,0) -> 0 | I9: =ROUND(G9*H9,0) -> 0 | L9: =ROUND(J9*K9,0) -> 0 | O9: =ROUND(M9*N9,0) -> 0 | R9: =ROUND(P9*Q9,0) -> 0 | U9: =ROUND(S9*T9,0) -> 0 | V9: =D9+G9+J9+M9+P9+S9 -> 0 | W9: =F9+I9+L9+O9+R9+U9 -> 0
F10: =ROUND(D10*E10,0) -> 0 | I10: =ROUND(G10*H10,0) -> 0 | L10: =ROUND(J10*K10,0) -> 0 | O10: =ROUND(M10*N10,0) -> 0 | R10: =ROUND(P10*Q10,0) -> 0 | U10: =ROUND(S10*T10,0) -> 0 | V10: =D10+G10+J10+M10+P10+S10 -> 0 | W10: =F10+I10+L10+O10+R10+U10 -> 0
F11: =ROUND(D11*E11,0) -> 0 | I11: =ROUND(G11*H11,0) -> 0 | L11: =ROUND(J11*K11,0) -> 0 | O11: =ROUND(M11*N11,0) -> 0 | R11: =ROUND(P11*Q11,0) -> 0 | U11: =ROUND(S11*T11,0) -> 0 | V11: =D11+G11+J11+M11+P11+S11 -> 0 | W11: =F11+I11+L11+O11+R11+U11 -> 0
F12: =ROUND(D12*E12,0) -> 0 | I12: =ROUND(G12*H12,0) -> 0 | L12: =ROUND(J12*K12,0) -> 0 | O12: =ROUND(M12*N12,0) -> 0 | R12: =ROUND(P12*Q12,0) -> 0 | U12: =ROUND(S12*T12,0) -> 0 | V12: =D12+G12+J12+M12+P12+S12 -> 0 | W12: =F12+I12+L12+O12+R12+U12 -> 0
F13: =ROUND(D13*E13,0) -> 0 | I13: =ROUND(G13*H13,0) -> 0 | L13: =ROUND(J13*K13,0) -> 0 | O13: =ROUND(M13*N13,0) -> 0 | R13: =ROUND(P13*Q13,0) -> 0 | U13: =ROUND(S13*T13,0) -> 0 | V13: =D13+G13+J13+M13+P13+S13 -> 0 | W13: =F13+I13+L13+O13+R13+U13 -> 0
F14: =ROUND(D14*E14,0) -> 0 | I14: =ROUND(G14*H14,0) -> 0 | L14: =ROUND(J14*K14,0) -> 0 | O14: =ROUND(M14*N14,0) -> 0 | R14: =ROUND(P14*Q14,0) -> 0 | U14: =ROUND(S14*T14,0) -> 0 | V14: =D14+G14+J14+M14+P14+S14 -> 0 | W14: =F14+I14+L14+O14+R14+U14 -> 0
F15: =ROUND(D15*E15,0) -> 0 | I15: =ROUND(G15*H15,0) -> 0 | L15: =ROUND(J15*K15,0) -> 0 | O15: =ROUND(M15*N15,0) -> 0 | R15: =ROUND(P15*Q15,0) -> 0 | U15: =ROUND(S15*T15,0) -> 0 | V15: =D15+G15+J15+M15+P15+S15 -> 0 | W15: =F15+I15+L15+O15+R15+U15 -> 0
F16: =ROUND(D16*E16,0) -> 0 | I16: =ROUND(G16*H16,0) -> 0 | L16: =ROUND(J16*K16,0) -> 0 | O16: =ROUND(M16*N16,0) -> 0 | R16: =ROUND(P16*Q16,0) -> 0 | U16: =ROUND(S16*T16,0) -> 0 | V16: =D16+G16+J16+M16+P16+S16 -> 0 | W16: =F16+I16+L16+O16+R16+U16 -> 0
F17: =ROUND(D17*E17,0) -> 0 | I17: =ROUND(G17*H17,0) -> 0 | L17: =ROUND(J17*K17,0) -> 0 | O17: =ROUND(M17*N17,0) -> 0 | R17: =ROUND(P17*Q17,0) -> 0 | U17: =ROUND(S17*T17,0) -> 0 | V17: =D17+G17+J17+M17+P17+S17 -> 0 | W17: =F17+I17+L17+O17+R17+U17 -> 0
F18: =ROUND(D18*E18,0) -> 0 | I18: =ROUND(G18*H18,0) -> 0 | L18: =ROUND(J18*K18,0) -> 0 | O18: =ROUND(M18*N18,0) -> 0 | R18: =ROUND(P18*Q18,0) -> 0 | U18: =ROUND(S18*T18,0) -> 0 | V18: =D18+G18+J18+M18+P18+S18 -> 0 | W18: =F18+I18+L18+O18+R18+U18 -> 0
F19: =ROUND(D19*E19,0) -> 0 | I19: =ROUND(G19*H19,0) -> 0 | L19: =ROUND(J19*K19,0) -> 0 | O19: =ROUND(M19*N19,0) -> 0 | R19: =ROUND(P19*Q19,0) -> 0 | U19: =ROUND(S19*T19,0) -> 0 | V19: =D19+G19+J19+M19+P19+S19 -> 0 | W19: =F19+I19+L19+O19+R19+U19 -> 0
... F27: =ROUND(D27*E27,0) -> 0 | I27: =ROUND(G27*H27,0) -> 0 | L27: =ROUND(J27*K27,0) -> 0 | O27: =ROUND(M27*N27,0) -> 0 | R27: =ROUND(P27*Q27,0) -> 0 | U27: =ROUND(S27*T27,0) -> 0 | V27: =D27+G27+J27+M27+P27+S27 -> 0 | W27: =F27+I27+L27+O27+R27+U27 -> 0
B28: Total Direct Labor Costs | D28: =SUM(D8:D27) -> 0 | F28: =SUM(F8:F27) -> 0 | G28: =SUM(G8:G27) -> 0 | I28: =SUM(I8:I27) -> 0 | J28: =SUM(J8:J27) -> 0 | L28: =SUM(L8:L27) -> 0 | M28: =SUM(M8:M27) -> 0 | O28: =SUM(O8:O27) -> 0 | P28: =SUM(P8:P27) -> 0 | R28: =SUM(R8:R27) -> 0 | S28: =SUM(S8:S27) -> 0 | U28: =SUM(U8:U27) -> 0 | V28: =SUM(V8:V27) -> 0 | W28: =F28+I28+L28+O28+R28+U28 -> 0
A29: Fringe Benefits (F/B) (See Escalation and Indirect Rate Worksheet)
B30: Insert F/B rate title | D30: =F28 -> 0 | F30: =ROUND(D30*E30,0) -> 0 | G30: =I28 -> 0 | I30: =ROUND(G30*H30,0) -> 0 | J30: =L28 -> 0 | L30: =ROUND(J30*K30,0) -> 0 | M30: =O28 -> 0 | O30: =ROUND(M30*N30,0) -> 0 | P30: =R28 -> 0 | R30: =ROUND(P30*Q30,0) -> 0 | S30: =U28 -> 0 | U30: =ROUND(S30*T30,0) -> 0 | W30: =F30+I30+L30+O30+R30+U30 -> 0
B31: Insert line(s) & title(s) for any other F/B rates | F31: =ROUND(D31*E31,0) -> 0 | I31: =ROUND(G31*H31,0) -> 0 | L31: =ROUND(J31*K31,0) -> 0 | O31: =ROUND(M31*N31,0) -> 0 | R31: =ROUND(P31*Q31,0) -> 0 | U31: =ROUND(S31*T31,0) -> 0 | W31: =F31+I31+L31+O31+R31+U31 -> 0
B32: Total Fringe Benefit Costs | F32: =SUM(F30:F31) -> 0 | I32: =SUM(I30:I31) -> 0 | L32: =ROUND(J32*K32,0) -> 0 | O32: =SUM(O30:O31) -> 0 | R32: =SUM(R30:R31) -> 0 | U32: =SUM(U30:U31) -> 0 | W32: =F32+I32+L32+O32+R32+U32 -> 0
A33: Labor Overhead (O/H) (See Escalation and Indirect Rate Worksheet)
B34: Insert O/H rate title | D34: =F28+F32 -> 0 | F34: =ROUND(D34*E34,0) -> 0 | G34: =I28+I32 -> 0 | I34: =ROUND(G34*H34,0) -> 0 | J34: =L28+L32 -> 0 | L34: =ROUND(J34*K34,0) -> 0 | M34: =O28+O32 -> 0 | O34: =ROUND(M34*N34,0) -> 0 | P34: =R28+R32 -> 0 | R34: =ROUND(P34*Q34,0) -> 0 | S34: =U28+U32 -> 0 | U34: =ROUND(S34*T34,0) -> 0 | W34: =F34+I34+L34+O34+R34+U34 -> 0
B35: Insert line(s) & title(s) for any other O/H rates | F35: =ROUND(D35*E35,0) -> 0 | I35: =ROUND(G35*H35,0) -> 0 | L35: =ROUND(J35*K35,0) -> 0 | O35: =ROUND(M35*N35,0) -> 0 | R35: =ROUND(P35*Q35,0) -> 0 | U35: =ROUND(S35*T35,0) -> 0 | W35: =F35+I35+L35+O35+R35+U35 -> 0
B36: Total Labor Overhead Costs | F36: =SUM(F34:F35) -> 0 | I36: =SUM(I34:I35) -> 0 | L36: =SUM(L34:L35) -> 0 | O36: =SUM(O34:O35) -> 0 | R36: =SUM(R34:R35) -> 0 | U36: =SUM(U34:U35) -> 0 | W36: =F36+I36+L36+O36+R36+U36 -> 0
A37: Subcontracts/Interorganizational Transfer | C37: File/Tab Name or Link
B38: Subcontract/Interorganizational Name - #01 | C38: Identify Tab/File Name of Each Sub | F38: 0 | I38: 0 | L38: 0 | O38: 0 | R38: 0 | U38: 0 | W38: =F38+I38+L38+O38+R38+U38 -> 0
B39: Subcontract/Interorganizational Name - #02 | C39: Identify Tab/File Name of Each Sub | F39: 0 | I39: 0 | L39: 0 | O39: 0 | R39: 0 | U39: 0 | W39: =F39+I39+L39+O39+R39+U39 -> 0
B40: Subcontract/Interorganizational Name - #03 | C40: Identify Tab/File Name of Each Sub | F40: 0 | I40: 0 | L40: 0 | O40: 0 | R40: 0 | U40: 0 | W40: =F40+I40+L40+O40+R40+U40 -> 0
B41: Insert line(s) for any additional Subcontractors/Interorganizational | C41: Identify Tab/File Name of Each Sub | F41: 0 | I41: 0 | L41: 0 | O41: 0 | R41: 0 | U41: 0 | W41: =F41+I41+L41+O41+R41+U41 -> 0
B42: Total Subcontract Costs | F42: =SUM(F38:F41) -> 0 | I42: =SUM(I38:I41) -> 0 | L42: =SUM(L38:L41) -> 0 | O42: =SUM(O38:O41) -> 0 | R42: =SUM(R38:R41) -> 0 | U42: =SUM(U38:U41) -> 0 | W42: =F42+I42+L42+O42+R42+U42 -> 0
A43: Consultants
B44: Consultant Name - #01 | C44: Provide details on next Worksheet | F44: =ROUND(D44*E44,0) -> 0 | I44: =ROUND(G44*H44,0) -> 0 | L44: =ROUND(J44*K44,0) -> 0 | O44: =ROUND(M44*N44,0) -> 0 | R44: =ROUND(P44*Q44,0) -> 0 | U44: =ROUND(S44*T44,0) -> 0 | W44: =F44+I44+L44+O44+R44+U44 -> 0
B45: Consultant Name - #02 | C45: Provide details on next Worksheet | F45: =ROUND(D45*E45,0) -> 0 | I45: =ROUND(G45*H45,0) -> 0 | L45: =ROUND(J45*K45,0) -> 0 | O45: =ROUND(M45*N45,0) -> 0 | R45: =ROUND(P45*Q45,0) -> 0 | U45: =ROUND(S45*T45,0) -> 0 | W45: =F45+I45+L45+O45+R45+U45 -> 0
B46: Consultant Name - #03 | C46: Provide details on next Worksheet | F46: =ROUND(D46*E46,0) -> 0 | I46: =ROUND(G46*H46,0) -> 0 | L46: =ROUND(J46*K46,0) -> 0 | O46: =ROUND(M46*N46,0) -> 0 | R46: =ROUND(P46*Q46,0) -> 0 | U46: =ROUND(S46*T46,0) -> 0 | W46: =F46+I46+L46+O46+R46+U46 -> 0
B47: Insert line(s) for any additional Consultants | C47: Provide details on next Worksheet | F47: =ROUND(D47*E47,0) -> 0 | I47: =ROUND(G47*H47,0) -> 0 | L47: =ROUND(J47*K47,0) -> 0 | O47: =ROUND(M47*N47,0) -> 0 | R47: =ROUND(P47*Q47,0) -> 0 | U47: =ROUND(S47*T47,0) -> 0 | W47: =F47+I47+L47+O47+R47+U47 -> 0
...

Sheet O-II
A1: Cost Proposal - Option
A2: Prime Offeror Name:
A3: Subcontractor Name:
E4: (NOTE 2) | H4: (NOTE 2) | K4: (NOTE 2) | N4: (NOTE 2) | Q4: (NOTE 2) | T4: (NOTE 2)
E5: CY/FY 11 or 12 | H5: CY/FY 12 or 13 | K5: CY/FY 13 or 14 | N5: CY/FY 14 or 15 | Q5: CY/FY 15 or 16 | T5: CY/FY 16 or 17 | V5: Total
A6: Direct Labor (DL) (Note 1) | E6: MM/YR to MM/YR | H6: MM/YR to MM/YR | K6: MM/YR to MM/YR | N6: MM/YR to MM/YR | Q6: MM/YR to MM/YR | T6: MM/YR to MM/YR | V6: (NOTE 3) | W6: X-Months
B7: Offeror's Labor Category (NOTE 1) | C7: Name (Last, First) | D7: Base/Hours | E7: Rate | F7: Extended $ | G7: Base/Hours | H7: Rate | I7: Extended $ | J7: Base/Hours | K7: Rate | L7: Extended $ | M7: Base/Hours | N7: Rate | O7: Extended $ | P7: Base/Hours | Q7: Rate | R7: Extended $ | S7: Base/Hours | T7: Rate | U7: Extended $ | V7: Base/Hours | W7: Extended $
F8: =ROUND(D8*E8,0) -> 0 | I8: =ROUND(G8*H8,0) -> 0 | L8: =ROUND(J8*K8,0) -> 0 | O8: =ROUND(M8*N8,0) -> 0 | R8: =ROUND(P8*Q8,0) -> 0 | U8: =ROUND(S8*T8,0) -> 0 | V8: =D8+G8+J8+M8+P8+S8 -> 0 | W8: =F8+I8+L8+O8+R8+U8 -> 0
F9: =ROUND(D9*E9,0) -> 0 | I9: =ROUND(G9*H9,0) -> 0 | L9: =ROUND(J9*K9,0) -> 0 | O9: =ROUND(M9*N9,0) -> 0 | R9: =ROUND(P9*Q9,0) -> 0 | U9: =ROUND(S9*T9,0) -> 0 | V9: =D9+G9+J9+M9+P9+S9 -> 0 | W9: =F9+I9+L9+O9+R9+U9 -> 0
F10: =ROUND(D10*E10,0) -> 0 | I10: =ROUND(G10*H10,0) -> 0 | L10: =ROUND(J10*K10,0) -> 0 | O10: =ROUND(M10*N10,0) -> 0 | R10: =ROUND(P10*Q10,0) -> 0 | U10: =ROUND(S10*T10,0) -> 0 | V10: =D10+G10+J10+M10+P10+S10 -> 0 | W10: =F10+I10+L10+O10+R10+U10 -> 0
F11: =ROUND(D11*E11,0) -> 0 | I11: =ROUND(G11*H11,0) -> 0 | L11: =ROUND(J11*K11,0) -> 0 | O11: =ROUND(M11*N11,0) -> 0 | R11: =ROUND(P11*Q11,0) -> 0 | U11: =ROUND(S11*T11,0) -> 0 | V11: =D11+G11+J11+M11+P11+S11 -> 0 | W11: =F11+I11+L11+O11+R11+U11 -> 0
F12: =ROUND(D12*E12,0) -> 0 | I12: =ROUND(G12*H12,0) -> 0 | L12: =ROUND(J12*K12,0) -> 0 | O12: =ROUND(M12*N12,0) -> 0 | R12: =ROUND(P12*Q12,0) -> 0 | U12: =ROUND(S12*T12,0) -> 0 | V12: =D12+G12+J12+M12+P12+S12 -> 0 | W12: =F12+I12+L12+O12+R12+U12 -> 0
F13: =ROUND(D13*E13,0) -> 0 | I13: =ROUND(G13*H13,0) -> 0 | L13: =ROUND(J13*K13,0) -> 0 | O13: =ROUND(M13*N13,0) -> 0 | R13: =ROUND(P13*Q13,0) -> 0 | U13: =ROUND(S13*T13,0) -> 0 | V13: =D13+G13+J13+M13+P13+S13 -> 0 | W13: =F13+I13+L13+O13+R13+U13 -> 0
F14: =ROUND(D14*E14,0) -> 0 | I14: =ROUND(G14*H14,0) -> 0 | L14: =ROUND(J14*K14,0) -> 0 | O14: =ROUND(M14*N14,0) -> 0 | R14: =ROUND(P14*Q14,0) -> 0 | U14: =ROUND(S14*T14,0) -> 0 | V14: =D14+G14+J14+M14+P14+S14 -> 0 | W14: =F14+I14+L14+O14+R14+U14 -> 0
F15: =ROUND(D15*E15,0) -> 0 | I15: =ROUND(G15*H15,0) -> 0 | L15: =ROUND(J15*K15,0) -> 0 | O15: =ROUND(M15*N15,0) -> 0 | R15: =ROUND(P15*Q15,0) -> 0 | U15: =ROUND(S15*T15,0) -> 0 | V15: =D15+G15+J15+M15+P15+S15 -> 0 | W15: =F15+I15+L15+O15+R15+U15 -> 0
F16: =ROUND(D16*E16,0) -> 0 | I16: =ROUND(G16*H16,0) -> 0 | L16: =ROUND(J16*K16,0) -> 0 | O16: =ROUND(M16*N16,0) -> 0 | R16: =ROUND(P16*Q16,0) -> 0 | U16: =ROUND(S16*T16,0) -> 0 | V16: =D16+G16+J16+M16+P16+S16 -> 0 | W16: =F16+I16+L16+O16+R16+U16 -> 0
F17: =ROUND(D17*E17,0) -> 0 | I17: =ROUND(G17*H17,0) -> 0 | L17: =ROUND(J17*K17,0) -> 0 | O17: =ROUND(M17*N17,0) -> 0 | R17: =ROUND(P17*Q17,0) -> 0 | U17: =ROUND(S17*T17,0) -> 0 | V17: =D17+G17+J17+M17+P17+S17 -> 0 | W17: =F17+I17+L17+O17+R17+U17 -> 0
F18: =ROUND(D18*E18,0) -> 0 | I18: =ROUND(G18*H18,0) -> 0 | L18: =ROUND(J18*K18,0) -> 0 | O18: =ROUND(M18*N18,0) -> 0 | R18: =ROUND(P18*Q18,0) -> 0 | U18: =ROUND(S18*T18,0) -> 0 | V18: =D18+G18+J18+M18+P18+S18 -> 0 | W18: =F18+I18+L18+O18+R18+U18 -> 0
F19: =ROUND(D19*E19,0) -> 0 | I19: =ROUND(G19*H19,0) -> 0 | L19: =ROUND(J19*K19,0) -> 0 | O19: =ROUND(M19*N19,0) -> 0 | R19: =ROUND(P19*Q19,0) -> 0 | U19: =ROUND(S19*T19,0) -> 0 | V19: =D19+G19+J19+M19+P19+S19 -> 0 | W19: =F19+I19+L19+O19+R19+U19 -> 0
... F27: =ROUND(D27*E27,0) -> 0 | I27: =ROUND(G27*H27,0) -> 0 | L27: =ROUND(J27*K27,0) -> 0 | O27: =ROUND(M27*N27,0) -> 0 | R27: =ROUND(P27*Q27,0) -> 0 | U27: =ROUND(S27*T27,0) -> 0 | V27: =D27+G27+J27+M27+P27+S27 -> 0 | W27: =F27+I27+L27+O27+R27+U27 -> 0
B28: Total Direct Labor Costs | D28: =SUM(D8:D27) -> 0 | F28: =SUM(F8:F27) -> 0 | G28: =SUM(G8:G27) -> 0 | I28: =SUM(I8:I27) -> 0 | J28: =SUM(J8:J27) -> 0 | L28: =SUM(L8:L27) -> 0 | M28: =SUM(M8:M27) -> 0 | O28: =SUM(O8:O27) -> 0 | P28: =SUM(P8:P27) -> 0 | R28: =SUM(R8:R27) -> 0 | S28: =SUM(S8:S27) -> 0 | U28: =SUM(U8:U27) -> 0 | V28: =SUM(V8:V27) -> 0 | W28: =F28+I28+L28+O28+R28+U28 -> 0
A29: Fringe Benefits (F/B) (See Escalation and Indirect Rate Worksheet)
B30: Insert F/B rate title | D30: =F28 -> 0 | F30: =ROUND(D30*E30,0) -> 0 | G30: =I28 -> 0 | I30: =ROUND(G30*H30,0) -> 0 | J30: =L28 -> 0 | L30: =ROUND(J30*K30,0) -> 0 | M30: =O28 -> 0 | O30: =ROUND(M30*N30,0) -> 0 | P30: =R28 -> 0 | R30: =ROUND(P30*Q30,0) -> 0 | S30: =U28 -> 0 | U30: =ROUND(S30*T30,0) -> 0 | W30: =F30+I30+L30+O30+R30+U30 -> 0
B31: Insert line(s) & title(s) for any other F/B rates | F31: =ROUND(D31*E31,0) -> 0 | I31: =ROUND(G31*H31,0) -> 0 | L31: =ROUND(J31*K31,0) -> 0 | O31: =ROUND(M31*N31,0) -> 0 | R31: =ROUND(P31*Q31,0) -> 0 | U31: =ROUND(S31*T31,0) -> 0 | W31: =F31+I31+L31+O31+R31+U31 -> 0
B32: Total Fringe Benefit Costs | F32: =SUM(F30:F31) -> 0 | I32: =SUM(I30:I31) -> 0 | L32: =ROUND(J32*K32,0) -> 0 | O32: =SUM(O30:O31) -> 0 | R32: =SUM(R30:R31) -> 0 | U32: =SUM(U30:U31) -> 0 | W32: =F32+I32+L32+O32+R32+U32 -> 0
A33: Labor Overhead (O/H) (See Escalation and Indirect Rate Worksheet)
B34: Insert O/H rate title | D34: =F28+F32 -> 0 | F34: =ROUND(D34*E34,0) -> 0 | G34: =I28+I32 -> 0 | I34: =ROUND(G34*H34,0) -> 0 | J34: =L28+L32 -> 0 | L34: =ROUND(J34*K34,0) -> 0 | M34: =O28+O32 -> 0 | O34: =ROUND(M34*N34,0) -> 0 | P34: =R28+R32 -> 0 | R34: =ROUND(P34*Q34,0) -> 0 | S34: =U28+U32 -> 0 | U34: =ROUND(S34*T34,0) -> 0 | W34: =F34+I34+L34+O34+R34+U34 -> 0
B35: Insert line(s) & title(s) for any other O/H rates | F35: =ROUND(D35*E35,0) -> 0 | I35: =ROUND(G35*H35,0) -> 0 | L35: =ROUND(J35*K35,0) -> 0 | O35: =ROUND(M35*N35,0) -> 0 | R35: =ROUND(P35*Q35,0) -> 0 | U35: =ROUND(S35*T35,0) -> 0 | W35: =F35+I35+L35+O35+R35+U35 -> 0
B36: Total Labor Overhead Costs | F36: =SUM(F34:F35) -> 0 | I36: =SUM(I34:I35) -> 0 | L36: =SUM(L34:L35) -> 0 | O36: =SUM(O34:O35) -> 0 | R36: =SUM(R34:R35) -> 0 | U36: =SUM(U34:U35) -> 0 | W36: =F36+I36+L36+O36+R36+U36 -> 0
A37: Subcontracts/Interorganizational Transfer | C37: File/Tab Name or Link
B38: Subcontract/Interorganizational Name - #01 | C38: Identify Tab/File Name of Each Sub | F38: 0 | I38: 0 | L38: 0 | O38: 0 | R38: 0 | U38: 0 | W38: =F38+I38+L38+O38+R38+U38 -> 0
B39: Subcontract/Interorganizational Name - #02 | C39: Identify Tab/File Name of Each Sub | F39: 0 | I39: 0 | L39: 0 | O39: 0 | R39: 0 | U39: 0 | W39: =F39+I39+L39+O39+R39+U39 -> 0
B40: Subcontract/Interorganizational Name - #03 | C40: Identify Tab/File Name of Each Sub | F40: 0 | I40: 0 | L40: 0 | O40: 0 | R40: 0 | U40: 0 | W40: =F40+I40+L40+O40+R40+U40 -> 0
B41: Insert line(s) for any additional Subcontractors/Interorganizational | C41: Identify Tab/File Name of Each Sub | F41: 0 | I41: 0 | L41: 0 | O41: 0 | R41: 0 | U41: 0 | W41: =F41+I41+L41+O41+R41+U41 -> 0
B42: Total Subcontract Costs | F42: =SUM(F38:F41) -> 0 | I42: =SUM(I38:I41) -> 0 | L42: =SUM(L38:L41) -> 0 | O42: =SUM(O38:O41) -> 0 | R42: =SUM(R38:R41) -> 0 | U42: =SUM(U38:U41) -> 0 | W42: =F42+I42+L42+O42+R42+U42 -> 0
A43: Consultants
B44: Consultant Name - #01 | C44: Provide details on next Worksheet | F44: =ROUND(D44*E44,0) -> 0 | I44: =ROUND(G44*H44,0) -> 0 | L44: =ROUND(J44*K44,0) -> 0 | O44: =ROUND(M44*N44,0) -> 0 | R44: =ROUND(P44*Q44,0) -> 0 | U44: =ROUND(S44*T44,0) -> 0 | W44: =F44+I44+L44+O44+R44+U44 -> 0
B45: Consultant Name - #02 | C45: Provide details on next Worksheet | F45: =ROUND(D45*E45,0) -> 0 | I45: =ROUND(G45*H45,0) -> 0 | L45: =ROUND(J45*K45,0) -> 0 | O45: =ROUND(M45*N45,0) -> 0 | R45: =ROUND(P45*Q45,0) -> 0 | U45: =ROUND(S45*T45,0) -> 0 | W45: =F45+I45+L45+O45+R45+U45 -> 0
B46: Consultant Name - #03 | C46: Provide details on next Worksheet | F46: =ROUND(D46*E46,0) -> 0 | I46: =ROUND(G46*H46,0) -> 0 | L46: =ROUND(J46*K46,0) -> 0 | O46: =ROUND(M46*N46,0) -> 0 | R46: =ROUND(P46*Q46,0) -> 0 | U46: =ROUND(S46*T46,0) -> 0 | W46: =F46+I46+L46+O46+R46+U46 -> 0
B47: Insert line(s) for any additional Consultants | C47: Provide details on next Worksheet | F47: =ROUND(D47*E47,0) -> 0 | I47: =ROUND(G47*H47,0) -> 0 | L47: =ROUND(J47*K47,0) -> 0 | O47: =ROUND(M47*N47,0) -> 0 | R47: =ROUND(P47*Q47,0) -> 0 | U47: =ROUND(S47*T47,0) -> 0 | W47: =F47+I47+L47+O47+R47+U47 -> 0
...

Sheet O-III
A1: Cost Proposal - Option
A2: Prime Offeror Name:
A3: Subcontractor Name:
E4: (NOTE 2) | H4: (NOTE 2) | K4: (NOTE 2) | N4: (NOTE 2) | Q4: (NOTE 2) | T4: (NOTE 2)
E5: CY/FY 11 or 12 | H5: CY/FY 12 or 13 | K5: CY/FY 13 or 14 | N5: CY/FY 14 or 15 | Q5: CY/FY 15 or 16 | T5: CY/FY 16 or 17 | V5: Total
A6: Direct Labor (DL) (Note 1) | E6: MM/YR to MM/YR | H6: MM/YR to MM/YR | K6: MM/YR to MM/YR | N6: MM/YR to MM/YR | Q6: MM/YR to MM/YR | T6: MM/YR to MM/YR | V6: (NOTE 3) | W6: X-Months
B7: Offeror's Labor Category (NOTE 1) | C7: Name (Last, First) | D7: Base/Hours | E7: Rate | F7: Extended $ | G7: Base/Hours | H7: Rate | I7: Extended $ | J7: Base/Hours | K7: Rate | L7: Extended $ | M7: Base/Hours | N7: Rate | O7: Extended $ | P7: Base/Hours | Q7: Rate | R7: Extended $ | S7: Base/Hours | T7: Rate | U7: Extended $ | V7: Base/Hours | W7: Extended $
F8: =ROUND(D8*E8,0) -> 0 | I8: =ROUND(G8*H8,0) -> 0 | L8: =ROUND(J8*K8,0) -> 0 | O8: =ROUND(M8*N8,0) -> 0 | R8: =ROUND(P8*Q8,0) -> 0 | U8: =ROUND(S8*T8,0) -> 0 | V8: =D8+G8+J8+M8+P8+S8 -> 0 | W8: =F8+I8+L8+O8+R8+U8 -> 0
F9: =ROUND(D9*E9,0) -> 0 | I9: =ROUND(G9*H9,0) -> 0 | L9: =ROUND(J9*K9,0) -> 0 | O9: =ROUND(M9*N9,0) -> 0 | R9: =ROUND(P9*Q9,0) -> 0 | U9: =ROUND(S9*T9,0) -> 0 | V9: =D9+G9+J9+M9+P9+S9 -> 0 | W9: =F9+I9+L9+O9+R9+U9 -> 0
F10: =ROUND(D10*E10,0) -> 0 | I10: =ROUND(G10*H10,0) -> 0 | L10: =ROUND(J10*K10,0) -> 0 | O10: =ROUND(M10*N10,0) -> 0 | R10: =ROUND(P10*Q10,0) -> 0 | U10: =ROUND(S10*T10,0) -> 0 | V10: =D10+G10+J10+M10+P10+S10 -> 0 | W10: =F10+I10+L10+O10+R10+U10 -> 0
F11: =ROUND(D11*E11,0) -> 0 | I11: =ROUND(G11*H11,0) -> 0 | L11: =ROUND(J11*K11,0) -> 0 | O11: =ROUND(M11*N11,0) -> 0 | R11: =ROUND(P11*Q11,0) -> 0 | U11: =ROUND(S11*T11,0) -> 0 | V11: =D11+G11+J11+M11+P11+S11 -> 0 | W11: =F11+I11+L11+O11+R11+U11 -> 0
F12: =ROUND(D12*E12,0) -> 0 | I12: =ROUND(G12*H12,0) -> 0 | L12: =ROUND(J12*K12,0) -> 0 | O12: =ROUND(M12*N12,0) -> 0 | R12: =ROUND(P12*Q12,0) -> 0 | U12: =ROUND(S12*T12,0) -> 0 | V12: =D12+G12+J12+M12+P12+S12 -> 0 | W12: =F12+I12+L12+O12+R12+U12 -> 0
F13: =ROUND(D13*E13,0) -> 0 | I13: =ROUND(G13*H13,0) -> 0 | L13: =ROUND(J13*K13,0) -> 0 | O13: =ROUND(M13*N13,0) -> 0 | R13: =ROUND(P13*Q13,0) -> 0 | U13: =ROUND(S13*T13,0) -> 0 | V13: =D13+G13+J13+M13+P13+S13 -> 0 | W13: =F13+I13+L13+O13+R13+U13 -> 0
F14: =ROUND(D14*E14,0) -> 0 | I14: =ROUND(G14*H14,0) -> 0 | L14: =ROUND(J14*K14,0) -> 0 | O14: =ROUND(M14*N14,0) -> 0 | R14: =ROUND(P14*Q14,0) -> 0 | U14: =ROUND(S14*T14,0) -> 0 | V14: =D14+G14+J14+M14+P14+S14 -> 0 | W14: =F14+I14+L14+O14+R14+U14 -> 0
F15: =ROUND(D15*E15,0) -> 0 | I15: =ROUND(G15*H15,0) -> 0 | L15: =ROUND(J15*K15,0) -> 0 | O15: =ROUND(M15*N15,0) -> 0 | R15: =ROUND(P15*Q15,0) -> 0 | U15: =ROUND(S15*T15,0) -> 0 | V15: =D15+G15+J15+M15+P15+S15 -> 0 | W15: =F15+I15+L15+O15+R15+U15 -> 0
F16: =ROUND(D16*E16,0) -> 0 | I16: =ROUND(G16*H16,0) -> 0 | L16: =ROUND(J16*K16,0) -> 0 | O16: =ROUND(M16*N16,0) -> 0 | R16: =ROUND(P16*Q16,0) -> 0 | U16: =ROUND(S16*T16,0) -> 0 | V16: =D16+G16+J16+M16+P16+S16 -> 0 | W16: =F16+I16+L16+O16+R16+U16 -> 0
F17: =ROUND(D17*E17,0) -> 0 | I17: =ROUND(G17*H17,0) -> 0 | L17: =ROUND(J17*K17,0) -> 0 | O17: =ROUND(M17*N17,0) -> 0 | R17: =ROUND(P17*Q17,0) -> 0 | U17: =ROUND(S17*T17,0) -> 0 | V17: =D17+G17+J17+M17+P17+S17 -> 0 | W17: =F17+I17+L17+O17+R17+U17 -> 0
F18: =ROUND(D18*E18,0) -> 0 | I18: =ROUND(G18*H18,0) -> 0 | L18: =ROUND(J18*K18,0) -> 0 | O18: =ROUND(M18*N18,0) -> 0 | R18: =ROUND(P18*Q18,0) -> 0 | U18: =ROUND(S18*T18,0) -> 0 | V18: =D18+G18+J18+M18+P18+S18 -> 0 | W18: =F18+I18+L18+O18+R18+U18 -> 0
F19: =ROUND(D19*E19,0) -> 0 | I19: =ROUND(G19*H19,0) -> 0 | L19: =ROUND(J19*K19,0) -> 0 | O19: =ROUND(M19*N19,0) -> 0 | R19: =ROUND(P19*Q19,0) -> 0 | U19: =ROUND(S19*T19,0) -> 0 | V19: =D19+G19+J19+M19+P19+S19 -> 0 | W19: =F19+I19+L19+O19+R19+U19 -> 0
... F27: =ROUND(D27*E27,0) -> 0 | I27: =ROUND(G27*H27,0) -> 0 | L27: =ROUND(J27*K27,0) -> 0 | O27: =ROUND(M27*N27,0) -> 0 | R27: =ROUND(P27*Q27,0) -> 0 | U27: =ROUND(S27*T27,0) -> 0 | V27: =D27+G27+J27+M27+P27+S27 -> 0 | W27: =F27+I27+L27+O27+R27+U27 -> 0
B28: Total Direct Labor Costs | D28: =SUM(D8:D27) -> 0 | F28: =SUM(F8:F27) -> 0 | G28: =SUM(G8:G27) -> 0 | I28: =SUM(I8:I27) -> 0 | J28: =SUM(J8:J27) -> 0 | L28: =SUM(L8:L27) -> 0 | M28: =SUM(M8:M27) -> 0 | O28: =SUM(O8:O27) -> 0 | P28: =SUM(P8:P27) -> 0 | R28: =SUM(R8:R27) -> 0 | S28: =SUM(S8:S27) -> 0 | U28: =SUM(U8:U27) -> 0 | V28: =SUM(V8:V27) -> 0 | W28: =F28+I28+L28+O28+R28+U28 -> 0
A29: Fringe Benefits (F/B) (See Escalation and Indirect Rate Worksheet)
B30: Insert F/B rate title | D30: =F28 -> 0 | F30: =ROUND(D30*E30,0) -> 0 | G30: =I28 -> 0 | I30: =ROUND(G30*H30,0) -> 0 | J30: =L28 -> 0 | L30: =ROUND(J30*K30,0) -> 0 | M30: =O28 -> 0 | O30: =ROUND(M30*N30,0) -> 0 | P30: =R28 -> 0 | R30: =ROUND(P30*Q30,0) -> 0 | S30: =U28 -> 0 | U30: =ROUND(S30*T30,0) -> 0 | W30: =F30+I30+L30+O30+R30+U30 -> 0
B31: Insert line(s) & title(s) for any other F/B rates | F31: =ROUND(D31*E31,0) -> 0 | I31: =ROUND(G31*H31,0) -> 0 | L31: =ROUND(J31*K31,0) -> 0 | O31: =ROUND(M31*N31,0) -> 0 | R31: =ROUND(P31*Q31,0) -> 0 | U31: =ROUND(S31*T31,0) -> 0 | W31: =F31+I31+L31+O31+R31+U31 -> 0
B32: Total Fringe Benefit Costs | F32: =SUM(F30:F31) -> 0 | I32: =SUM(I30:I31) -> 0 | L32: =ROUND(J32*K32,0) -> 0 | O32: =SUM(O30:O31) -> 0 | R32: =SUM(R30:R31) -> 0 | U32: =SUM(U30:U31) -> 0 | W32: =F32+I32+L32+O32+R32+U32 -> 0
A33: Labor Overhead (O/H) (See Escalation and Indirect Rate Worksheet)
B34: Insert O/H rate title | D34: =F28+F32 -> 0 | F34: =ROUND(D34*E34,0) -> 0 | G34: =I28+I32 -> 0 | I34: =ROUND(G34*H34,0) -> 0 | J34: =L28+L32 -> 0 | L34: =ROUND(J34*K34,0) -> 0 | M34: =O28+O32 -> 0 | O34: =ROUND(M34*N34,0) -> 0 | P34: =R28+R32 -> 0 | R34: =ROUND(P34*Q34,0) -> 0 | S34: =U28+U32 -> 0 | U34: =ROUND(S34*T34,0) -> 0 | W34: =F34+I34+L34+O34+R34+U34 -> 0
B35: Insert line(s) & title(s) for any other O/H rates | F35: =ROUND(D35*E35,0) -> 0 | I35: =ROUND(G35*H35,0) -> 0 | L35: =ROUND(J35*K35,0) -> 0 | O35: =ROUND(M35*N35,0) -> 0 | R35: =ROUND(P35*Q35,0) -> 0 | U35: =ROUND(S35*T35,0) -> 0 | W35: =F35+I35+L35+O35+R35+U35 -> 0
B36: Total Labor Overhead Costs | F36: =SUM(F34:F35) -> 0 | I36: =SUM(I34:I35) -> 0 | L36: =SUM(L34:L35) -> 0 | O36: =SUM(O34:O35) -> 0 | R36: =SUM(R34:R35) -> 0 | U36: =SUM(U34:U35) -> 0 | W36: =F36+I36+L36+O36+R36+U36 -> 0
A37: Subcontracts/Interorganizational Transfer | C37: File/Tab Name or Link
B38: Subcontract/Interorganizational Name - #01 | C38: Identify Tab/File Name of Each Sub | F38: 0 | I38: 0 | L38: 0 | O38: 0 | R38: 0 | U38: 0 | W38: =F38+I38+L38+O38+R38+U38 -> 0
B39: Subcontract/Interorganizational Name - #02 | C39: Identify Tab/File Name of Each Sub | F39: 0 | I39: 0 | L39: 0 | O39: 0 | R39: 0 | U39: 0 | W39: =F39+I39+L39+O39+R39+U39 -> 0
B40: Subcontract/Interorganizational Name - #03 | C40: Identify Tab/File Name of Each Sub | F40: 0 | I40: 0 | L40: 0 | O40: 0 | R40: 0 | U40: 0 | W40: =F40+I40+L40+O40+R40+U40 -> 0
B41: Insert line(s) for any additional Subcontractors/Interorganizational | C41: Identify Tab/File Name of Each Sub | F41: 0 | I41: 0 | L41: 0 | O41: 0 | R41: 0 | U41: 0 | W41: =F41+I41+L41+O41+R41+U41 -> 0
B42: Total Subcontract Costs | F42: =SUM(F38:F41) -> 0 | I42: =SUM(I38:I41) -> 0 | L42: =SUM(L38:L41) -> 0 | O42: =SUM(O38:O41) -> 0 | R42: =SUM(R38:R41) -> 0 | U42: =SUM(U38:U41) -> 0 | W42: =F42+I42+L42+O42+R42+U42 -> 0
A43: Consultants
B44: Consultant Name - #01 | C44: Provide details on next Worksheet | F44: =ROUND(D44*E44,0) -> 0 | I44: =ROUND(G44*H44,0) -> 0 | L44: =ROUND(J44*K44,0) -> 0 | O44: =ROUND(M44*N44,0) -> 0 | R44: =ROUND(P44*Q44,0) -> 0 | U44: =ROUND(S44*T44,0) -> 0 | W44: =F44+I44+L44+O44+R44+U44 -> 0
B45: Consultant Name - #02 | C45: Provide details on next Worksheet | F45: =ROUND(D45*E45,0) -> 0 | I45: =ROUND(G45*H45,0) -> 0 | L45: =ROUND(J45*K45,0) -> 0 | O45: =ROUND(M45*N45,0) -> 0 | R45: =ROUND(P45*Q45,0) -> 0 | U45: =ROUND(S45*T45,0) -> 0 | W45: =F45+I45+L45+O45+R45+U45 -> 0
B46: Consultant Name - #03 | C46: Provide details on next Worksheet | F46: =ROUND(D46*E46,0) -> 0 | I46: =ROUND(G46*H46,0) -> 0 | L46: =ROUND(J46*K46,0) -> 0 | O46: =ROUND(M46*N46,0) -> 0 | R46: =ROUND(P46*Q46,0) -> 0 | U46: =ROUND(S46*T46,0) -> 0 | W46: =F46+I46+L46+O46+R46+U46 -> 0
B47: Insert line(s) for any additional Consultants | C47: Provide details on next Worksheet | F47: =ROUND(D47*E47,0) -> 0 | I47: =ROUND(G47*H47,0) -> 0 | L47: =ROUND(J47*K47,0) -> 0 | O47: =ROUND(M47*N47,0) -> 0 | R47: =ROUND(P47*Q47,0) -> 0 | U47: =ROUND(S47*T47,0) -> 0 | W47: =F47+I47+L47+O47+R47+U47 -> 0
...

Sheet O-IV
A1: Cost Proposal - Option
A2: Prime Offeror Name:
A3: Subcontractor Name:
E4: (NOTE 2) | H4: (NOTE 2) | K4: (NOTE 2) | N4: (NOTE 2) | Q4: (NOTE 2) | T4: (NOTE 2)
E5: CY/FY 11 or 12 | H5: CY/FY 12 or 13 | K5: CY/FY 13 or 14 | N5: CY/FY 14 or 15 | Q5: CY/FY 15 or 16 | T5: CY/FY 16 or 17 | V5: Total
A6: Direct Labor (DL) (Note 1) | E6: MM/YR to MM/YR | H6: MM/YR to MM/YR | K6: MM/YR to MM/YR | N6: MM/YR to MM/YR | Q6: MM/YR to MM/YR | T6: MM/YR to MM/YR | V6: (NOTE 3) | W6: X-Months
B7: Offeror's Labor Category (NOTE 1) | C7: Name (Last, First) | D7: Base/Hours | E7: Rate | F7: Extended $ | G7: Base/Hours | H7: Rate | I7: Extended $ | J7: Base/Hours | K7: Rate | L7: Extended $ | M7: Base/Hours | N7: Rate | O7: Extended $ | P7: Base/Hours | Q7: Rate | R7: Extended $ | S7: Base/Hours | T7: Rate | U7: Extended $ | V7: Base/Hours | W7: Extended $
F8: =ROUND(D8*E8,0) -> 0 | I8: =ROUND(G8*H8,0) -> 0 | L8: =ROUND(J8*K8,0) -> 0 | O8: =ROUND(M8*N8,0) -> 0 | R8: =ROUND(P8*Q8,0) -> 0 | U8: =ROUND(S8*T8,0) -> 0 | V8: =D8+G8+J8+M8+P8+S8 -> 0 | W8: =F8+I8+L8+O8+R8+U8 -> 0
F9: =ROUND(D9*E9,0) -> 0 | I9: =ROUND(G9*H9,0) -> 0 | L9: =ROUND(J9*K9,0) -> 0 | O9: =ROUND(M9*N9,0) -> 0 | R9: =ROUND(P9*Q9,0) -> 0 | U9: =ROUND(S9*T9,0) -> 0 | V9: =D9+G9+J9+M9+P9+S9 -> 0 | W9: =F9+I9+L9+O9+R9+U9 -> 0
F10: =ROUND(D10*E10,0) -> 0 | I10: =ROUND(G10*H10,0) -> 0 | L10: =ROUND(J10*K10,0) -> 0 | O10: =ROUND(M10*N10,0) -> 0 | R10: =ROUND(P10*Q10,0) -> 0 | U10: =ROUND(S10*T10,0) -> 0 | V10: =D10+G10+J10+M10+P10+S10 -> 0 | W10: =F10+I10+L10+O10+R10+U10 -> 0
F11: =ROUND(D11*E11,0) -> 0 | I11: =ROUND(G11*H11,0) -> 0 | L11: =ROUND(J11*K11,0) -> 0 | O11: =ROUND(M11*N11,0) -> 0 | R11: =ROUND(P11*Q11,0) -> 0 | U11: =ROUND(S11*T11,0) -> 0 | V11: =D11+G11+J11+M11+P11+S11 -> 0 | W11: =F11+I11+L11+O11+R11+U11 -> 0
F12: =ROUND(D12*E12,0) -> 0 | I12: =ROUND(G12*H12,0) -> 0 | L12: =ROUND(J12*K12,0) -> 0 | O12: =ROUND(M12*N12,0) -> 0 | R12: =ROUND(P12*Q12,0) -> 0 | U12: =ROUND(S12*T12,0) -> 0 | V12: =D12+G12+J12+M12+P12+S12 -> 0 | W12: =F12+I12+L12+O12+R12+U12 -> 0
F13: =ROUND(D13*E13,0) -> 0 | I13: =ROUND(G13*H13,0) -> 0 | L13: =ROUND(J13*K13,0) -> 0 | O13: =ROUND(M13*N13,0) -> 0 | R13: =ROUND(P13*Q13,0) -> 0 | U13: =ROUND(S13*T13,0) -> 0 | V13: =D13+G13+J13+M13+P13+S13 -> 0 | W13: =F13+I13+L13+O13+R13+U13 -> 0
F14: =ROUND(D14*E14,0) -> 0 | I14: =ROUND(G14*H14,0) -> 0 | L14: =ROUND(J14*K14,0) -> 0 | O14: =ROUND(M14*N14,0) -> 0 | R14: =ROUND(P14*Q14,0) -> 0 | U14: =ROUND(S14*T14,0) -> 0 | V14: =D14+G14+J14+M14+P14+S14 -> 0 | W14: =F14+I14+L14+O14+R14+U14 -> 0
F15: =ROUND(D15*E15,0) -> 0 | I15: =ROUND(G15*H15,0) -> 0 | L15: =ROUND(J15*K15,0) -> 0 | O15: =ROUND(M15*N15,0) -> 0 | R15: =ROUND(P15*Q15,0) -> 0 | U15: =ROUND(S15*T15,0) -> 0 | V15: =D15+G15+J15+M15+P15+S15 -> 0 | W15: =F15+I15+L15+O15+R15+U15 -> 0
F16: =ROUND(D16*E16,0) -> 0 | I16: =ROUND(G16*H16,0) -> 0 | L16: =ROUND(J16*K16,0) -> 0 | O16: =ROUND(M16*N16,0) -> 0 | R16: =ROUND(P16*Q16,0) -> 0 | U16: =ROUND(S16*T16,0) -> 0 | V16: =D16+G16+J16+M16+P16+S16 -> 0 | W16: =F16+I16+L16+O16+R16+U16 -> 0
F17: =ROUND(D17*E17,0) -> 0 | I17: =ROUND(G17*H17,0) -> 0 | L17: =ROUND(J17*K17,0) -> 0 | O17: =ROUND(M17*N17,0) -> 0 | R17: =ROUND(P17*Q17,0) -> 0 | U17: =ROUND(S17*T17,0) -> 0 | V17: =D17+G17+J17+M17+P17+S17 -> 0 | W17: =F17+I17+L17+O17+R17+U17 -> 0
F18: =ROUND(D18*E18,0) -> 0 | I18: =ROUND(G18*H18,0) -> 0 | L18: =ROUND(J18*K18,0) -> 0 | O18: =ROUND(M18*N18,0) -> 0 | R18: =ROUND(P18*Q18,0) -> 0 | U18: =ROUND(S18*T18,0) -> 0 | V18: =D18+G18+J18+M18+P18+S18 -> 0 | W18: =F18+I18+L18+O18+R18+U18 -> 0
F19: =ROUND(D19*E19,0) -> 0 | I19: =ROUND(G19*H19,0) -> 0 | L19: =ROUND(J19*K19,0) -> 0 | O19: =ROUND(M19*N19,0) -> 0 | R19: =ROUND(P19*Q19,0) -> 0 | U19: =ROUND(S19*T19,0) -> 0 | V19: =D19+G19+J19+M19+P19+S19 -> 0 | W19: =F19+I19+L19+O19+R19+U19 -> 0
... F27: =ROUND(D27*E27,0) -> 0 | I27: =ROUND(G27*H27,0) -> 0 | L27: =ROUND(J27*K27,0) -> 0 | O27: =ROUND(M27*N27,0) -> 0 | R27: =ROUND(P27*Q27,0) -> 0 | U27: =ROUND(S27*T27,0) -> 0 | V27: =D27+G27+J27+M27+P27+S27 -> 0 | W27: =F27+I27+L27+O27+R27+U27 -> 0
B28: Total Direct Labor Costs | D28: =SUM(D8:D27) -> 0 | F28: =SUM(F8:F27) -> 0 | G28: =SUM(G8:G27) -> 0 | I28: =SUM(I8:I27) -> 0 | J28: =SUM(J8:J27) -> 0 | L28: =SUM(L8:L27) -> 0 | M28: =SUM(M8:M27) -> 0 | O28: =SUM(O8:O27) -> 0 | P28: =SUM(P8:P27) -> 0 | R28: =SUM(R8:R27) -> 0 | S28: =SUM(S8:S27) -> 0 | U28: =SUM(U8:U27) -> 0 | V28: =SUM(V8:V27) -> 0 | W28: =F28+I28+L28+O28+R28+U28 -> 0
A29: Fringe Benefits (F/B) (See Escalation and Indirect Rate Worksheet)
B30: Insert F/B rate title | D30: =F28 -> 0 | F30: =ROUND(D30*E30,0) -> 0 | G30: =I28 -> 0 | I30: =ROUND(G30*H30,0) -> 0 | J30: =L28 -> 0 | L30: =ROUND(J30*K30,0) -> 0 | M30: =O28 -> 0 | O30: =ROUND(M30*N30,0) -> 0 | P30: =R28 -> 0 | R30: =ROUND(P30*Q30,0) -> 0 | S30: =U28 -> 0 | U30: =ROUND(S30*T30,0) -> 0 | W30: =F30+I30+L30+O30+R30+U30 -> 0
B31: Insert line(s) & title(s) for any other F/B rates | F31: =ROUND(D31*E31,0) -> 0 | I31: =ROUND(G31*H31,0) -> 0 | L31: =ROUND(J31*K31,0) -> 0 | O31: =ROUND(M31*N31,0) -> 0 | R31: =ROUND(P31*Q31,0) -> 0 | U31: =ROUND(S31*T31,0) -> 0 | W31: =F31+I31+L31+O31+R31+U31 -> 0
B32: Total Fringe Benefit Costs | F32: =SUM(F30:F31) -> 0 | I32: =SUM(I30:I31) -> 0 | L32: =ROUND(J32*K32,0) -> 0 | O32: =SUM(O30:O31) -> 0 | R32: =SUM(R30:R31) -> 0 | U32: =SUM(U30:U31) -> 0 | W32: =F32+I32+L32+O32+R32+U32 -> 0
A33: Labor Overhead (O/H) (See Escalation and Indirect Rate Worksheet)
B34: Insert O/H rate title | D34: =F28+F32 -> 0 | F34: =ROUND(D34*E34,0) -> 0 | G34: =I28+I32 -> 0 | I34: =ROUND(G34*H34,0) -> 0 | J34: =L28+L32 -> 0 | L34: =ROUND(J34*K34,0) -> 0 | M34: =O28+O32 -> 0 | O34: =ROUND(M34*N34,0) -> 0 | P34: =R28+R32 -> 0 | R34: =ROUND(P34*Q34,0) -> 0 | S34: =U28+U32 -> 0 | U34: =ROUND(S34*T34,0) -> 0 | W34: =F34+I34+L34+O34+R34+U34 -> 0
B35: Insert line(s) & title(s) for any other O/H rates | F35: =ROUND(D35*E35,0) -> 0 | I35: =ROUND(G35*H35,0) -> 0 | L35: =ROUND(J35*K35,0) -> 0 | O35: =ROUND(M35*N35,0) -> 0 | R35: =ROUND(P35*Q35,0) -> 0 | U35: =ROUND(S35*T35,0) -> 0 | W35: =F35+I35+L35+O35+R35+U35 -> 0
B36: Total Labor Overhead Costs | F36: =SUM(F34:F35) -> 0 | I36: =SUM(I34:I35) -> 0 | L36: =SUM(L34:L35) -> 0 | O36: =SUM(O34:O35) -> 0 | R36: =SUM(R34:R35) -> 0 | U36: =SUM(U34:U35) -> 0 | W36: =F36+I36+L36+O36+R36+U36 -> 0
A37: Subcontracts/Interorganizational Transfer | C37: File/Tab Name or Link
B38: Subcontract/Interorganizational Name - #01 | C38: Identify Tab/File Name of Each Sub | F38: 0 | I38: 0 | L38: 0 | O38: 0 | R38: 0 | U38: 0 | W38: =F38+I38+L38+O38+R38+U38 -> 0
B39: Subcontract/Interorganizational Name - #02 | C39: Identify Tab/File Name of Each Sub | F39: 0 | I39: 0 | L39: 0 | O39: 0 | R39: 0 | U39: 0 | W39: =F39+I39+L39+O39+R39+U39 -> 0
B40: Subcontract/Interorganizational Name - #03 | C40: Identify Tab/File Name of Each Sub | F40: 0 | I40: 0 | L40: 0 | O40: 0 | R40: 0 | U40: 0 | W40: =F40+I40+L40+O40+R40+U40 -> 0
B41: Insert line(s) for any additional Subcontractors/Interorganizational | C41: Identify Tab/File Name of Each Sub | F41: 0 | I41: 0 | L41: 0 | O41: 0 | R41: 0 | U41: 0 | W41: =F41+I41+L41+O41+R41+U41 -> 0
B42: Total Subcontract Costs | F42: =SUM(F38:F41) -> 0 | I42: =SUM(I38:I41) -> 0 | L42: =SUM(L38:L41) -> 0 | O42: =SUM(O38:O41) -> 0 | R42: =SUM(R38:R41) -> 0 | U42: =SUM(U38:U41) -> 0 | W42: =F42+I42+L42+O42+R42+U42 -> 0
A43: Consultants
B44: Consultant Name - #01 | C44: Provide details on next Worksheet | F44: =ROUND(D44*E44,0) -> 0 | I44: =ROUND(G44*H44,0) -> 0 | L44: =ROUND(J44*K44,0) -> 0 | O44: =ROUND(M44*N44,0) -> 0 | R44: =ROUND(P44*Q44,0) -> 0 | U44: =ROUND(S44*T44,0) -> 0 | W44: =F44+I44+L44+O44+R44+U44 -> 0
B45: Consultant Name - #02 | C45: Provide details on next Worksheet | F45: =ROUND(D45*E45,0) -> 0 | I45: =ROUND(G45*H45,0) -> 0 | L45: =ROUND(J45*K45,0) -> 0 | O45: =ROUND(M45*N45,0) -> 0 | R45: =ROUND(P45*Q45,0) -> 0 | U45: =ROUND(S45*T45,0) -> 0 | W45: =F45+I45+L45+O45+R45+U45 -> 0
B46: Consultant Name - #03 | C46: Provide details on next Worksheet | F46: =ROUND(D46*E46,0) -> 0 | I46: =ROUND(G46*H46,0) -> 0 | L46: =ROUND(J46*K46,0) -> 0 | O46: =ROUND(M46*N46,0) -> 0 | R46: =ROUND(P46*Q46,0) -> 0 | U46: =ROUND(S46*T46,0) -> 0 | W46: =F46+I46+L46+O46+R46+U46 -> 0
B47: Insert line(s) for any additional Consultants | C47: Provide details on next Worksheet | F47: =ROUND(D47*E47,0) -> 0 | I47: =ROUND(G47*H47,0) -> 0 | L47: =ROUND(J47*K47,0) -> 0 | O47: =ROUND(M47*N47,0) -> 0 | R47: =ROUND(P47*Q47,0) -> 0 | U47: =ROUND(S47*T47,0) -> 0 | W47: =F47+I47+L47+O47+R47+U47 -> 0
...

Sheet O-V
A1: Cost Proposal - Option
A2: Prime Offeror Name:
A3: Subcontractor Name:
E4: (NOTE 2) | H4: (NOTE 2) | K4: (NOTE 2) | N4: (NOTE 2) | Q4: (NOTE 2) | T4: (NOTE 2)
E5: CY/FY 11 or 12 | H5: CY/FY 12 or 13 | K5: CY/FY 13 or 14 | N5: CY/FY 14 or 15 | Q5: CY/FY 15 or 16 | T5: CY/FY 16 or 17 | V5: Total
A6: Direct Labor (DL) (Note 1) | E6: MM/YR to MM/YR | H6: MM/YR to MM/YR | K6: MM/YR to MM/YR | N6: MM/YR to MM/YR | Q6: MM/YR to MM/YR | T6: MM/YR to MM/YR | V6: (NOTE 3) | W6: X-Months
B7: Offeror's Labor Category (NOTE 1) | C7: Name (Last, First) | D7: Base/Hours | E7: Rate | F7: Extended $ | G7: Base/Hours | H7: Rate | I7: Extended $ | J7: Base/Hours | K7: Rate | L7: Extended $ | M7: Base/Hours | N7: Rate | O7: Extended $ | P7: Base/Hours | Q7: Rate | R7: Extended $ | S7: Base/Hours | T7: Rate | U7: Extended $ | V7: Base/Hours | W7: Extended $
F8: =ROUND(D8*E8,0) -> 0 | I8: =ROUND(G8*H8,0) -> 0 | L8: =ROUND(J8*K8,0) -> 0 | O8: =ROUND(M8*N8,0) -> 0 | R8: =ROUND(P8*Q8,0) -> 0 | U8: =ROUND(S8*T8,0) -> 0 | V8: =D8+G8+J8+M8+P8+S8 -> 0 | W8: =F8+I8+L8+O8+R8+U8 -> 0
F9: =ROUND(D9*E9,0) -> 0 | I9: =ROUND(G9*H9,0) -> 0 | L9: =ROUND(J9*K9,0) -> 0 | O9: =ROUND(M9*N9,0) -> 0 | R9: =ROUND(P9*Q9,0) -> 0 | U9: =ROUND(S9*T9,0) -> 0 | V9: =D9+G9+J9+M9+P9+S9 -> 0 | W9: =F9+I9+L9+O9+R9+U9 -> 0
F10: =ROUND(D10*E10,0) -> 0 | I10: =ROUND(G10*H10,0) -> 0 | L10: =ROUND(J10*K10,0) -> 0 | O10: =ROUND(M10*N10,0) -> 0 | R10: =ROUND(P10*Q10,0) -> 0 | U10: =ROUND(S10*T10,0) -> 0 | V10: =D10+G10+J10+M10+P10+S10 -> 0 | W10: =F10+I10+L10+O10+R10+U10 -> 0
F11: =ROUND(D11*E11,0) -> 0 | I11: =ROUND(G11*H11,0) -> 0 | L11: =ROUND(J11*K11,0) -> 0 | O11: =ROUND(M11*N11,0) -> 0 | R11: =ROUND(P11*Q11,0) -> 0 | U11: =ROUND(S11*T11,0) -> 0 | V11: =D11+G11+J11+M11+P11+S11 -> 0 | W11: =F11+I11+L11+O11+R11+U11 -> 0
F12: =ROUND(D12*E12,0) -> 0 | I12: =ROUND(G12*H12,0) -> 0 | L12: =ROUND(J12*K12,0) -> 0 | O12: =ROUND(M12*N12,0) -> 0 | R12: =ROUND(P12*Q12,0) -> 0 | U12: =ROUND(S12*T12,0) -> 0 | V12: =D12+G12+J12+M12+P12+S12 -> 0 | W12: =F12+I12+L12+O12+R12+U12 -> 0
F13: =ROUND(D13*E13,0) -> 0 | I13: =ROUND(G13*H13,0) -> 0 | L13: =ROUND(J13*K13,0) -> 0 | O13: =ROUND(M13*N13,0) -> 0 | R13: =ROUND(P13*Q13,0) -> 0 | U13: =ROUND(S13*T13,0) -> 0 | V13: =D13+G13+J13+M13+P13+S13 -> 0 | W13: =F13+I13+L13+O13+R13+U13 -> 0
F14: =ROUND(D14*E14,0) -> 0 | I14: =ROUND(G14*H14,0) -> 0 | L14: =ROUND(J14*K14,0) -> 0 | O14: =ROUND(M14*N14,0) -> 0 | R14: =ROUND(P14*Q14,0) -> 0 | U14: =ROUND(S14*T14,0) -> 0 | V14: =D14+G14+J14+M14+P14+S14 -> 0 | W14: =F14+I14+L14+O14+R14+U14 -> 0
F15: =ROUND(D15*E15,0) -> 0 | I15: =ROUND(G15*H15,0) -> 0 | L15: =ROUND(J15*K15,0) -> 0 | O15: =ROUND(M15*N15,0) -> 0 | R15: =ROUND(P15*Q15,0) -> 0 | U15: =ROUND(S15*T15,0) -> 0 | V15: =D15+G15+J15+M15+P15+S15 -> 0 | W15: =F15+I15+L15+O15+R15+U15 -> 0
F16: =ROUND(D16*E16,0) -> 0 | I16: =ROUND(G16*H16,0) -> 0 | L16: =ROUND(J16*K16,0) -> 0 | O16: =ROUND(M16*N16,0) -> 0 | R16: =ROUND(P16*Q16,0) -> 0 | U16: =ROUND(S16*T16,0) -> 0 | V16: =D16+G16+J16+M16+P16+S16 -> 0 | W16: =F16+I16+L16+O16+R16+U16 -> 0
F17: =ROUND(D17*E17,0) -> 0 | I17: =ROUND(G17*H17,0) -> 0 | L17: =ROUND(J17*K17,0) -> 0 | O17: =ROUND(M17*N17,0) -> 0 | R17: =ROUND(P17*Q17,0) -> 0 | U17: =ROUND(S17*T17,0) -> 0 | V17: =D17+G17+J17+M17+P17+S17 -> 0 | W17: =F17+I17+L17+O17+R17+U17 -> 0
