Workbook
Name Capacity1: 'Grant Activities Outline'!$B$19
Name Capacity10: 'Grant Activities Outline'!$B$460
Name Capacity2: 'Grant Activities Outline'!$B$68
Name Capacity3: 'Grant Activities Outline'!$B$117
Name Capacity4: 'Grant Activities Outline'!$B$166
Name Capacity5: 'Grant Activities Outline'!$B$215
Name Capacity6: 'Grant Activities Outline'!$B$264
Name Capacity7: 'Grant Activities Outline'!$B$313
Name Capacity8: 'Grant Activities Outline'!$B$362
Name Capacity9: 'Grant Activities Outline'!$B$411
Name EMFs: 'Drop Down List Text'!$I$2:$I$14
Name GapA1: 'Grant Activities Outline'!$B$10
Name GapA10: 'Grant Activities Outline'!$B$451
Name GapA2: 'Grant Activities Outline'!$B$59
Name GapA3: 'Grant Activities Outline'!$B$108
Name GapA4: 'Grant Activities Outline'!$B$157
Name GapA5: 'Grant Activities Outline'!$B$206
Name GapA6: 'Grant Activities Outline'!$B$255
Name GapA7: 'Grant Activities Outline'!$B$304
Name GapA8: 'Grant Activities Outline'!$B$353
Name GapA9: 'Grant Activities Outline'!$B$402
Name Mitigation: 'Drop Down List Text'!$C$3:$C$9
Name Name1: 'Grant Activities Outline'!$B$4
Name Name10: 'Grant Activities Outline'!$B$445
Name Name2: 'Grant Activities Outline'!$B$53
Name Name3: 'Grant Activities Outline'!$B$102
Name Name4: 'Grant Activities Outline'!$B$151
Name Name5: 'Grant Activities Outline'!$B$200
Name Name6: 'Grant Activities Outline'!$B$249
Name Name7: 'Grant Activities Outline'!$B$298
Name Name8: 'Grant Activities Outline'!$B$347
Name Name9: 'Grant Activities Outline'!$B$396
Name National_Priorities: 'Drop Down List Text'!$G$2:$G$12
Name Objective1: 'Grant Activities Outline'!$B$13
Name Objective10: 'Grant Activities Outline'!$B$454
Name Objective2: 'Grant Activities Outline'!$B$62
Name Objective3: 'Grant Activities Outline'!$B$111
Name Objective4: 'Grant Activities Outline'!$B$160
Name Objective5: 'Grant Activities Outline'!$B$209
Name Objective6: 'Grant Activities Outline'!$B$258
Name Objective7: 'Grant Activities Outline'!$B$307
Name Objective8: 'Grant Activities Outline'!$B$356
Name Objective9: 'Grant Activities Outline'!$B$405
Name POETE_Categories: 'Drop Down List Text'!$F$2:$F$6
Name Prevention: 'Drop Down List Text'!$A$3:$A$9
Name Protection: 'Drop Down List Text'!$B$3:$B$12
Name Recovery: 'Drop Down List Text'!$E$3:$E$10
Name Response: 'Drop Down List Text'!$D$3:$D$17
Name State_Regional_Priorities: 'Drop Down List Text'!$H$2:$H$43

Sheet Cover Page
A1: EMPG Work Plan Template
A4: Region:
A5: State/Territory:
A6: Grant Number:
A7: Agency/Organization:
A8: Page | C8: Description
A9: Definitions and Guidance | C9: This page contains supplemental guidance and instructions for completing the Grant Investment Strategy, Grant Activities Outline, Project Activities Outline, and Personnel Data Table. This sheet cannot be edited.
A10: Grant Investment Strategy | C10: This worksheet requires the applicant to provide an overview of the state/territory's preparedness investment strategy. It should serve as the foundation for completing the remainder of the Work Plan.
A11: Budget Overview | C11: This worksheet will pull a summary of the information from the detailed budget. This sheet cannot be edited.
A12: Grant Activities Outline | C12: This worksheet is used to capture the proposed EMPG-funded projects and link them to the agreed-upon/RA approved priorities.
A13: Project Activities Outline | C13: This worksheet requires outlining key project activities associated with each project identified in the Grant Activities Outline along with temporal details associated with planning and managing each project.
A14: Personnel Data Table | C14: Complete the tables for the personnel associated with the EMPG program.
A15: Training Data Table | C15: Complete the table for the training associated with the EMPG program.
A16: Exercise Data Table | C16: Complete the table for the exercises associated with the EMPG program.
A17: Detailed Budget | C17: Fill in this sheet to account for each expenditure on the grant in columns A - G and I - J. Assign each line item to its relevant project. Associating the line item with the project will allow the information in mission areas, core capabilities, priorities, and POETE categories to populate accordingly. NOTE: Project numbers listed in the detailed budget must exactly match those listed in the Project Activity Outlines to allow the sheet to populate data correctly.

Sheet Definitions and Guidance
A1: Grant Investment Strategy
A2: Purpose: The intent of this worksheet is to provide an overview of the state/territory's preparedness investment strategy. It includes separate sections to explain the most recent THIRA/SPR results; significant risks and capability gaps that currently exist based on THIRA/SPR outputs and other information sources; resulting preparedness priorities; the goals associated with each priority area; and, the anticipated impact of the proposed EMPG-funded investments relative to the priorities, performance goals, and/or core capabilities supported. Instructions: For the Priorities and Goals section, identify the 3-5 priorities that were mutually agreed to and approved by the Regional Administrator. At least one performance goal should be identified for each priority area. Each goal must be: specific; measurable; achievable within the period of performance; relevant to the priority area; and have a target date for completion (i.e. SMART goal). It should describe how achieving each goal or objective will impact the priority area it supports by the end of the period of performance.
A10: Grant Activities Outline
A11: Purpose: The Grant Activities Outline is used to capture the proposed EMPG-funded projects and link them to the identified priorities, performance goals, and gaps or needs. Coupled with the Project Activities Outline, the Grant Activities Outline supports identification and tracking of EMPG-funded project outcomes, which will enable better understanding of the impacts of those investments relative to the performance goals and the associated core capabilities. The worksheet includes sections that allow the applicant to identify the performance goals that are supported by each project and the milestones that are critical to accomplishing each goal. Additional guidance on performance goals and milestones, including specific examples of each, are provided below. The worksheet also requires the applicant to explain the objective and anticipated impact of each project relative to the associated priorities, goals, and related core capabilities. The "Project Objective" should explain what the project will accomplish; specifically, how the project will address the identified gap or need and how it supports one or more of the identified Performance Goals. The "Anticipated Project Impact" should explain the expected project outcome relative to the associated priorities and performance goals. The impact statement should include a quantitative estimate of the degree to which the project will contribute to achieving the identified performance goal (see hierarchy example below). Effective completion of the Grant Activities Outline requires an understanding of the established planning hierarchy. Priorities are at the top of the hierarchy, followed by performance goals that define a clear outcome or end-state and provide the basis for addressing each priority. Based on the identified performance goals, project proposals are identified. High-priority capability gaps or needs identified through the THIRA/SPR process and other assessments are also used to inform project selection and to identify specific project objectives. Project objectives, and accompanying impact statements, should complement the performance goals by including similar outcome-focused metrics, as explained above. Lastly, project activities are identified. Project activities are key components and/or milestones that are critical to successful completion of the project. An example of this hierarchy is provided below: All EMPG-funded investments must be accounted for in the Grant Activities Outline. However, recognizing that some sustainment activities, such as funding of emergency manager salaries, may not align to a specific priority or performance goal, applicants are not required to identify priorities and performance goals for such investments. However, all other portions of the Grant Activities Outline must be completed as a means to justify the applicable sustainment costs. Instructions: The template allows entering up to ten projects. Ensure that the number assigned to the project title is entered consistently throughout the Template to enable the "auto-populate" features used throughout this spreadsheet. Enter the requested information or select a choice from the drop-down menu as applicable to your award.
A13: Performance Goals
A14: Term | B14: Definition/Guidance
A15: Performance Goal | B15: From 2 C.F.R.: Performance goal means a target level of performance expressed as a tangible, measurable objective, against which actual achievement can be compared, including a goal expressed as a quantitative standard, value, or rate. In some instances (e.g., discretionary research awards), this may be limited to the requirement to submit technical performance reports (to be evaluated in accordance with agency policy). Each goal must be: specific; measurable; achievable within the period of performance; relevant to the priority area; and have a target date for completion (i.e. SMART goals). Each goal must include an estimate quantifying the extent to which the supporting investments will close capability gaps. The standardized targets included in the Core Capability Development Sheets should be used for developing performance goals, as these standardized targets meet all of the SMART goal requirements. The standardized targets also serve as the basis for setting preparedness goals, identifying capability gaps and approaches for closing those gaps, and tracking efforts to build and sustain capability gaps each year in the state/territory's THIRA/SPR. By using the same goals as those identified in the THIRA/SPR, this enables better understanding and tracking of how EMPG-funded investments contribute to building and sustaining capabilities each year, thus yielding a better understanding of investment outcomes and impacts.
A16: Milestones | B16: Milestones will identify key project activities and other deliverables or outputs that are critical to accomplishing the identified performance goal and can be tracked to demonstrate progress toward achieving the goal.
A17: Core Capability Development Sheets
A18: Examples
A19: Performance Goal | D19: Milestones
A20: Increase the number of people who can find and secure long-term housing within 1 year of an incident by 10%. | D20: *Update State Housing Strategy Template by June 30, 2021 *Conduct two Housing tabletop exercises; one by Sept 30, 2021, the other by Sept 30, 2022 *Prepare AAR and update State Disaster Housing Plan within 60 days of exercise completion based on lessons-learned identified in the AAR
A21: Within 24 hours of an incident, identify and mobilize life-sustaining commodities, resources, and services to 10,000 people requiring shelter and 100,000 people requiring food and water. Maintain distribution system for at least 30 days. | D21: *Conduct tabletop exercise focusing on Logistics and Supply Chain Management by June 30, 2021 *Prepare AAR and update Distribution Management Plan within 60 days of exercise completion based on lessons-learned identified in the AAR *Procure inventory management system by Sept 30, 2021
A24: Project Activities Outline
A25: Purpose: This worksheet is used to capture key project activities to include BOTH the EMPG-funded activities that are critical to accomplishing the project objectives as identified in the Grant Activities Outline, as well as activities that are essential to effective project management. Thus, this product can be used as a basic project management tool -- to plan and track the progress of key project activities. Key project activities should generally correlate with the "Milestones" identified for each project included in the Grant Activities Outline. The basic details for each project included in the Grant Activities Outline will auto-populate into the corresponding tables/fields included in the Project Activities Outline. This includes: the Project Number; Project Name; Gap or Need Addressed; Project Objective; and Build or Sustain fields. A separate "Planned Activities" table should be completed for each project. Instructions: In the planned activity table, identify each key activity and its associated information in the appropriate line based on year and quarter. The Activity Steps identified below should be used to help identify and guide the project management-related activities associated with each project.
A26: Activity Steps
A27: Step | B27: Description | D27: Process
A28: Initiate | B28: The authorization to begin work or resume work on any particular activity. | D28: Involves preparing for, assembling resources, and getting work started. May apply to any level, e.g., program, project, phase, activity, task.
A29: Plan | B29: The purposes of establishing, at an early date, the parameters of the project that is going to be worked on as well as to try to delineate any specific and/or any peculiarities to the project as a whole and/or any specific phases of the project. | D29: Involves working out and extending the theoretical, practical, and/or useful application of an idea, concept, or preliminary design. This also involves a plan for moving a project concept to a viable project.
A30: Execute | B30: The period within the project lifecycle during which the actual work of creating the project's deliverables is carried out. | D30: Involves directing, accomplishing, managing, and completing all phases and aspects of work for a given project.
A31: Control | B31: A mechanism which reacts to the current project status in order to ensure accomplishment of project objectives. This involves planning, measuring, monitoring, and taking corrective action based on the results of the monitoring. | D31: Involves exercising corrective action as necessary to yield a required outcome consequent upon monitoring performance. Or, the process of comparing actual performance with planned performance, analyzing variances, evaluating possible alternatives, and taking appropriate corrective action as needed.
A32: Close Out | B32: The completion of all work on a project. Can also refer to completion of a phase of the project. | D32: Involves formally terminating and concluding all tasks, activities, and component parts of a particular project, or phase of a project.
A35: Personnel Data Table
A36: Data Requested | D36: Definitions
A37: EMPG funds (federal AND match) allocated towards state/territory emergency management personnel | D37: The total of all EMPG funds (federal and match) allocated for state/territory emergency management personnel. This should exclude local and tribal personnel.
A38: EMPG funds (federal AND match) allocated towards NON-STATE/TERRITORY emergency management personnel | D38: All EMPG funds (federal and match) allocated towards non-state/territory emergency management personnel (i.e. local, tribal personnel). This excludes state/territory personnel.
A39: Total number of all emergency management full time equivalent (FTE) personnel. | D39: Total number of state emergency management FTE personnel (including those supported and not supported by the EMPG). This should include only funded positions. Vacant positions should be excluded.
A40: Number of state/territory emergency management FTE personnel supported (fully or partially) by EMPG | D40: Number of state/territory emergency management FTE personnel supported by the EMPG. This excludes local and tribal personnel.
A41: Total number of SLTT emergency management personnel supported (fully or partially) by EMPG | D41: Total number of state/territory, local, and tribal emergency management personnel funded (fully or partially) by the EMPG. This number provides the "Universe" number for the training and exercise templates.

Sheet Grant Investment Strategy
A1: Investment Strategy
A2: Provide a narrative overview of the state/territory's preparedness investment strategy by addressing each of the sections below.
A4: Provide an overview of your state or territory's Risk Profile based on the most recent THIRA/SPR results.
A7: Describe the gaps or areas of need as identified through the THIRA/SPR process and other relevant assessments.
A10: Identify the 3-5 priority areas that serve as the focus for EMPG-funded investments and the performance goals associated with each priority.
A13: Provide a BRIEF overview of the state or territory's investment strategy by identifying proposed EMPG-funded investments; briefly explaining how they support the identified priorities and performance goals, along with the state/territory's risks, gaps, and needs identified above; and providing the anticipated impact of the investments relative to the priorities, performance goals, and/or core capabilities supported.
A16: Provide a description of the cost share for EMPG and matching funds.

Sheet Budget Overview
A1: REMINDER: This sheet automatically populates with data from the Detailed Budget tab and cannot be edited. To change any information as it is found in this tab, make edits to the line items within the Detailed Budget.
A3: Budget | F3: Mission Area (Primary Only) | G3: Federal | H3: Non-Federal | I3: Total
A4: Total Project Amount | B4: =D19 -> 0 | F4: Prevention | G4: =SUMIF('Detailed Budget'!$M$10:$M$1048576, "Prevention", 'Detailed Budget'!$C$10:$C$1048576) -> 0 | H4: =SUMIF('Detailed Budget'!$M$10:$M$1048576, "Prevention", 'Detailed Budget'!$D$10:$D$1048576) -> 0 | I4: =SUMIF('Detailed Budget'!$M$10:$M$1048576, "Prevention", 'Detailed Budget'!$K$10:$K$1048576) -> 0
A5: Federal Project Amount | B5: =B19 -> 0 | F5: Protection | G5: =SUMIF('Detailed Budget'!$M$10:$M$1048576, "Protection", 'Detailed Budget'!$C$10:$C$1048576) -> 0 | H5: =SUMIF('Detailed Budget'!$M$10:$M$1048576, "Protection", 'Detailed Budget'!$D$10:$D$1048576) -> 0 | I5: =SUMIF('Detailed Budget'!$M$10:$M$1048576, "Protection", 'Detailed Budget'!$K$10:$K$1048576) -> 0
A6: Non-Federal Project Amount | B6: =C19 -> 0 | F6: Mitigation | G6: =SUMIF('Detailed Budget'!$M$10:$M$1048576, "Mitigation", 'Detailed Budget'!$C$10:$C$1048576) -> 0 | H6: =SUMIF('Detailed Budget'!$M$10:$M$1048576, "Mitigation", 'Detailed Budget'!$D$10:$D$1048576) -> 0 | I6: =SUMIF('Detailed Budget'!$M$10:$M$1048576, "Mitigation", 'Detailed Budget'!$K$10:$K$1048576) -> 0
F7: Response | G7: =SUMIF('Detailed Budget'!$M$10:$M$1048576, "Response", 'Detailed Budget'!$C$10:$C$1048576) -> 0 | H7: =SUMIF('Detailed Budget'!$M$10:$M$1048576, "Response", 'Detailed Budget'!$D$10:$D$1048576) -> 0 | I7: =SUMIF('Detailed Budget'!$M$10:$M$1048576, "Response", 'Detailed Budget'!$K$10:$K$1048576) -> 0
B8: Federal | C8: Non-Federal | D8: Total | F8: Recovery | G8: =SUMIF('Detailed Budget'!$M$10:$M$1048576, "Recovery", 'Detailed Budget'!$C$10:$C$1048576) -> 0 | H8: =SUMIF('Detailed Budget'!$M$10:$M$1048576, "Recovery", 'Detailed Budget'!$D$10:$D$1048576) -> 0 | I8: =SUMIF('Detailed Budget'!$M$10:$M$1048576, "Recovery", 'Detailed Budget'!$K$10:$K$1048576) -> 0
A9: Personnel | B9: =SUMIF('Detailed Budget'!$A$10:$A$1048576, "Personnel", 'Detailed Budget'!$C$10:$C$1048576) -> 0 | C9: =SUMIF('Detailed Budget'!$A$10:$A$1048576, "Personnel", 'Detailed Budget'!$D$10:$D$1048576) -> 0 | D9: =SUMIF('Detailed Budget'!$A$10:$A$1048576, "Personnel", 'Detailed Budget'!$K$10:$K$1048576) -> 0 | F9: Core Capability (Primary Only)
A10: Fringes | B10: =SUMIF('Detailed Budget'!$A$10:$A$1048576, "Fringes", 'Detailed Budget'!$C$10:$C$1048576) -> 0 | C10: =SUMIF('Detailed Budget'!$A$10:$A$1048576, "Fringes", 'Detailed Budget'!$D$10:$D$1048576) -> 0 | D10: =SUMIF('Detailed Budget'!$A$10:$A$1048576, "Fringes", 'Detailed Budget'!$K$10:$K$1048576) -> 0 | F10: Planning | G10: =SUMIF('Detailed Budget'!$P$10:$P$1048576, "Planning", 'Detailed Budget'!$C$10:$C$1048576) -> 0 | H10: =SUMIF('Detailed Budget'!$P$10:$P$1048576, "Planning", 'Detailed Budget'!$D$10:$D$1048576) -> 0 | I10: =SUMIF('Detailed Budget'!$P$10:$P$1048576, "Planning", 'Detailed Budget'!$K$10:$K$1048576) -> 0
A11: Travel | B11: =SUMIF('Detailed Budget'!$A$10:$A$1048576, "Travel", 'Detailed Budget'!$C$10:$C$1048576) -> 0 | C11: =SUMIF('Detailed Budget'!$A$10:$A$1048576, "Travel", 'Detailed Budget'!$D$10:$D$1048576) -> 0 | D11: =SUMIF('Detailed Budget'!$A$10:$A$1048576, "Travel", 'Detailed Budget'!$K$10:$K$1048576) -> 0 | F11: Public Information and Warning | G11: =SUMIF('Detailed Budget'!$P$10:$P$1048576, "Public Information and Warning", 'Detailed Budget'!$C$10:$C$1048576) -> 0 | H11: =SUMIF('Detailed Budget'!$P$10:$P$1048576, "Public Information and Warning", 'Detailed Budget'!$D$10:$D$1048576) -> 0 | I11: =SUMIF('Detailed Budget'!$P$10:$P$1048576, "Public Information and Warning", 'Detailed Budget'!$K$10:$K$1048576) -> 0
A12: Equipment | B12: =SUMIF('Detailed Budget'!$A$10:$A$1048576, "Equipment", 'Detailed Budget'!$C$10:$C$1048576) -> 0 | C12: =SUMIF('Detailed Budget'!$A$10:$A$1048576, "Equipment", 'Detailed Budget'!$D$10:$D$1048576) -> 0 | D12: =SUMIF('Detailed Budget'!$A$10:$A$1048576, "Equipment", 'Detailed Budget'!$K$10:$K$1048576) -> 0 | F12: Operational Coordination | G12: =SUMIF('Detailed Budget'!$P$10:$P$1048576, "Operational Coordination", 'Detailed Budget'!$C$10:$C$1048576) -> 0 | H12: =SUMIF('Detailed Budget'!$P$10:$P$1048576, "Operational Coordination", 'Detailed Budget'!$D$10:$D$1048576) -> 0 | I12: =SUMIF('Detailed Budget'!$P$10:$P$1048576, "Operational Coordination", 'Detailed Budget'!$K$10:$K$1048576) -> 0
A13: Supplies | B13: =SUMIF('Detailed Budget'!$A$10:$A$1048576, "Supplies", 'Detailed Budget'!$C$10:$C$1048576) -> 0 | C13: =SUMIF('Detailed Budget'!$A$10:$A$1048576, "Supplies", 'Detailed Budget'!$D$10:$D$1048576) -> 0 | D13: =SUMIF('Detailed Budget'!$A$10:$A$1048576, "Supplies", 'Detailed Budget'!$K$10:$K$1048576) -> 0 | F13: Forensics and Attribution | G13: =SUMIF('Detailed Budget'!$P$10:$P$1048576, "Forensics and Attribution", 'Detailed Budget'!$C$10:$C$1048576) -> 0 | H13: =SUMIF('Detailed Budget'!$P$10:$P$1048576, "Forensics and Attribution", 'Detailed Budget'!$D$10:$D$1048576) -> 0 | I13: =SUMIF('Detailed Budget'!$P$10:$P$1048576, "Forensics and Attribution", 'Detailed Budget'!$K$10:$K$1048576) -> 0
A14: Contractual | B14: =SUMIF('Detailed Budget'!$A$10:$A$1048576, "Consultants/Contracts", 'Detailed Budget'!$C$10:$C$1048576) -> 0 | C14: =SUMIF('Detailed Budget'!$A$10:$A$1048576, "Consultants/Contracts", 'Detailed Budget'!$D$10:$D$1048576) -> 0 | D14: =SUMIF('Detailed Budget'!$A$10:$A$1048576, "Consultants/Contracts", 'Detailed Budget'!$K$10:$K$1048576) -> 0 | F14: Intelligence and Information Sharing | G14: =SUMIF('Detailed Budget'!$P$10:$P$1048576, "Intelligence and Information Sharing", 'Detailed Budget'!$C$10:$C$1048576) -> 0 | H14: =SUMIF('Detailed Budget'!$P$10:$P$1048576, "Intelligence and Information Sharing", 'Detailed Budget'!$D$10:$D$1048576) -> 0 | I14: =SUMIF('Detailed Budget'!$P$10:$P$1048576, "Intelligence and Information Sharing", 'Detailed Budget'!$K$10:$K$1048576) -> 0
A15: Other | B15: =SUMIF('Detailed Budget'!$A$10:$A$1048576, "Other", 'Detailed Budget'!$C$10:$C$1048576) -> 0 | C15: =SUMIF('Detailed Budget'!$A$10:$A$1048576, "Other", 'Detailed Budget'!$D$10:$D$1048576) -> 0 | D15: =SUMIF('Detailed Budget'!$A$10:$A$1048576, "Other", 'Detailed Budget'!$K$10:$K$1048576) -> 0 | F15: Interdiction and Disruption | G15: =SUMIF('Detailed Budget'!$P$10:$P$1048576, "Interdiction and Disruption", 'Detailed Budget'!$C$10:$C$1048576) -> 0 | H15: =SUMIF('Detailed Budget'!$P$10:$P$1048576, "Interdiction and Disruption", 'Detailed Budget'!$D$10:$D$1048576) -> 0 | I15: =SUMIF('Detailed Budget'!$P$10:$P$1048576, "Interdiction and Disruption", 'Detailed Budget'!$K$10:$K$1048576) -> 0
A16: Construction | B16: =SUMIF('Detailed Budget'!$A$10:$A$1048576, "Construction", 'Detailed Budget'!$C$10:$C$1048576) -> 0 | C16: =SUMIF('Detailed Budget'!$A$10:$A$1048576, "Construction", 'Detailed Budget'!$D$10:$D$1048576) -> 0 | D16: =SUMIF('Detailed Budget'!$A$10:$A$1048576, "Construction", 'Detailed Budget'!$K$10:$K$1048576) -> 0 | F16: Screening, Search, and Detection | G16: =SUMIF('Detailed Budget'!$P$10:$P$1048576, "Screening, Search, and Detection", 'Detailed Budget'!$C$10:$C$1048576) -> 0 | H16: =SUMIF('Detailed Budget'!$P$10:$P$1048576, "Screening, Search, and Detection", 'Detailed Budget'!$D$10:$D$1048576) -> 0 | I16: =SUMIF('Detailed Budget'!$P$10:$P$1048576, "Screening, Search, and Detection", 'Detailed Budget'!$K$10:$K$1048576) -> 0
A17: Indirect | B17: =SUMIF('Detailed Budget'!$A$10:$A$1048576, "Indirect", 'Detailed Budget'!$C$10:$C$1048576) -> 0 | C17: =SUMIF('Detailed Budget'!$A$10:$A$1048576, "Indirect", 'Detailed Budget'!$D$10:$D$1048576) -> 0 | D17: =SUMIF('Detailed Budget'!$A$10:$A$1048576, "Indirect", 'Detailed Budget'!$K$10:$K$1048576) -> 0 | F17: Access Control and Identity Verification | G17: =SUMIF('Detailed Budget'!$P$10:$P$1048576, "Access Control and Identity Verification", 'Detailed Budget'!$C$10:$C$1048576) -> 0 | H17: =SUMIF('Detailed Budget'!$P$10:$P$1048576, "Access Control and Identity Verification", 'Detailed Budget'!$D$10:$D$1048576) -> 0 | I17: =SUMIF('Detailed Budget'!$P$10:$P$1048576, "Access Control and Identity Verification", 'Detailed Budget'!$K$10:$K$1048576) -> 0
F18: Physical Protective Measures | G18: =SUMIF('Detailed Budget'!$P$10:$P$1048576, "Physical Protective Measures", 'Detailed Budget'!$C$10:$C$1048576) -> 0 | H18: =SUMIF('Detailed Budget'!$P$10:$P$1048576, "Physical Protective Measures", 'Detailed Budget'!$D$10:$D$1048576) -> 0 | I18: =SUMIF('Detailed Budget'!$P$10:$P$1048576, "Physical Protective Measures", 'Detailed Budget'!$K$10:$K$1048576) -> 0
A19: Totals | B19: =SUM('Detailed Budget'!C10:C1048576) -> 0 | C19: =SUM('Detailed Budget'!D10:D1048576) -> 0 | D19: =SUM('Detailed Budget'!K10:K153) -> 0 | F19: Cybersecurity | G19: =SUMIF('Detailed Budget'!$P$10:$P$1048576, "Cybersecurity", 'Detailed Budget'!$C$10:$C$1048576) -> 0 | H19: =SUMIF('Detailed Budget'!$P$10:$P$1048576, "Cybersecurity", 'Detailed Budget'!$D$10:$D$1048576) -> 0 | I19: =SUMIF('Detailed Budget'!$P$10:$P$1048576, "Cybersecurity", 'Detailed Budget'!$K$10:$K$1048576) -> 0
F20: Supply Chain Integrity and Security | G20: =SUMIF('Detailed Budget'!$P$10:$P$1048576, "Supply Chain Integrity and Security", 'Detailed Budget'!$C$10:$C$1048576) -> 0 | H20: =SUMIF('Detailed Budget'!$P$10:$P$1048576, "Supply Chain Integrity and Security", 'Detailed Budget'!$D$10:$D$1048576) -> 0 | I20: =SUMIF('Detailed Budget'!$P$10:$P$1048576, "Supply Chain Integrity and Security", 'Detailed Budget'!$K$10:$K$1048576) -> 0
F21: Risk Management for Protection Programs and Activities | G21: =SUMIF('Detailed Budget'!$P$10:$P$1048576, "Risk Management for Protection Programs and Activities", 'Detailed Budget'!$C$10:$C$1048576) -> 0 | H21: =SUMIF('Detailed Budget'!$P$10:$P$1048576, "Risk Management for Protection Programs and Activities", 'Detailed Budget'!$D$10:$D$1048576) -> 0 | I21: =SUMIF('Detailed Budget'!$P$10:$P$1048576, "Risk Management for Protection Programs and Activities", 'Detailed Budget'!$K$10:$K$1048576) -> 0
F22: Risk and Disaster Resilience Assessment | G22: =SUMIF('Detailed Budget'!$P$10:$P$1048576, "Risk and Disaster Resilience Assessment", 'Detailed Budget'!$C$10:$C$1048576) -> 0 | H22: =SUMIF('Detailed Budget'!$P$10:$P$1048576, "Risk and Disaster Resilience Assessment", 'Detailed Budget'!$D$10:$D$1048576) -> 0 | I22: =SUMIF('Detailed Budget'!$P$10:$P$1048576, "Risk and Disaster Resilience Assessment", 'Detailed Budget'!$K$10:$K$1048576) -> 0
F23: Community Resilience | G23: =SUMIF('Detailed Budget'!$P$10:$P$1048576, "Community Resilience", 'Detailed Budget'!$C$10:$C$1048576) -> 0 | H23: =SUMIF('Detailed Budget'!$P$10:$P$1048576, "Community Resilience", 'Detailed Budget'!$D$10:$D$1048576) -> 0 | I23: =SUMIF('Detailed Budget'!$P$10:$P$1048576, "Community Resilience", 'Detailed Budget'!$K$10:$K$1048576) -> 0
F24: Long-term Vulnerability Reduction | G24: =SUMIF('Detailed Budget'!$P$10:$P$1048576, "Long-term Vulnerability Reduction", 'Detailed Budget'!$C$10:$C$1048576) -> 0 | H24: =SUMIF('Detailed Budget'!$P$10:$P$1048576, "Long-term Vulnerability Reduction", 'Detailed Budget'!$D$10:$D$1048576) -> 0 | I24: =SUMIF('Detailed Budget'!$P$10:$P$1048576, "Long-term Vulnerability Reduction", 'Detailed Budget'!$K$10:$K$1048576) -> 0
F25: Threats and Hazards Identification | G25: =SUMIF('Detailed Budget'!$P$10:$P$1048576, "Threats and Hazards Identification", 'Detailed Budget'!$C$10:$C$1048576) -> 0 | H25: =SUMIF('Detailed Budget'!$P$10:$P$1048576, "Threats and Hazards Identification", 'Detailed Budget'!$D$10:$D$1048576) -> 0 | I25: =SUMIF('Detailed Budget'!$P$10:$P$1048576, "Threats and Hazards Identification", 'Detailed Budget'!$K$10:$K$1048576) -> 0
F26: Environmental Response/Health and Safety | G26: =SUMIF('Detailed Budget'!$P$10:$P$1048576, "Environmental Response/Health and Safety", 'Detailed Budget'!$C$10:$C$1048576) -> 0 | H26: =SUMIF('Detailed Budget'!$P$10:$P$1048576, "Environmental Response/Health and Safety", 'Detailed Budget'!$D$10:$D$1048576) -> 0 | I26: =SUMIF('Detailed Budget'!$P$10:$P$1048576, "Environmental Response/Health and Safety", 'Detailed Budget'!$K$10:$K$1048576) -> 0
F27: Critical Transportation | G27: =SUMIF('Detailed Budget'!$P$10:$P$1048576, "Critical Transportation", 'Detailed Budget'!$C$10:$C$1048576) -> 0 | H27: =SUMIF('Detailed Budget'!$P$10:$P$1048576, "Critical Transportation", 'Detailed Budget'!$D$10:$D$1048576) -> 0 | I27: =SUMIF('Detailed Budget'!$P$10:$P$1048576, "Critical Transportation", 'Detailed Budget'!$K$10:$K$1048576) -> 0
F28: Situational Assessment | G28: =SUMIF('Detailed Budget'!$P$10:$P$1048576, "Situational Assessment", 'Detailed Budget'!$C$10:$C$1048576) -> 0 | H28: =SUMIF('Detailed Budget'!$P$10:$P$1048576, "Situational Assessment", 'Detailed Budget'!$D$10:$D$1048576) -> 0 | I28: =SUMIF('Detailed Budget'!$P$10:$P$1048576, "Situational Assessment", 'Detailed Budget'!$K$10:$K$1048576) -> 0
F29: Fatality Management Services | G29: =SUMIF('Detailed Budget'!$P$10:$P$1048576, "Fatality Management Services", 'Detailed Budget'!$C$10:$C$1048576) -> 0 | H29: =SUMIF('Detailed Budget'!$P$10:$P$1048576, "Fatality Management Services", 'Detailed Budget'!$D$10:$D$1048576) -> 0 | I29: =SUMIF('Detailed Budget'!$P$10:$P$1048576, "Fatality Management Services", 'Detailed Budget'!$K$10:$K$1048576) -> 0
F30: Fire Management and Suppression | G30: =SUMIF('Detailed Budget'!$P$10:$P$1048576, "Fire Management and Suppression", 'Detailed Budget'!$C$10:$C$1048576) -> 0 | H30: =SUMIF('Detailed Budget'!$P$10:$P$1048576, "Fire Management and Suppression", 'Detailed Budget'!$D$10:$D$1048576) -> 0 | I30: =SUMIF('Detailed Budget'!$P$10:$P$1048576, "Fire Management and Suppression", 'Detailed Budget'!$K$10:$K$1048576) -> 0
F31: Infrastructure Systems | G31: =SUMIF('Detailed Budget'!$P$10:$P$1048576, "Infrastructure Systems", 'Detailed Budget'!$C$10:$C$1048576) -> 0 | H31: =SUMIF('Detailed Budget'!$P$10:$P$1048576, "Infrastructure Systems", 'Detailed Budget'!$D$10:$D$1048576) -> 0 | I31: =SUMIF('Detailed Budget'!$P$10:$P$1048576, "Infrastructure Systems", 'Detailed Budget'!$K$10:$K$1048576) -> 0
F32: Logistics and Supply Chain Management | G32: =SUMIF('Detailed Budget'!$P$10:$P$1048576, "Logistics and Supply Chain Management", 'Detailed Budget'!$C$10:$C$1048576) -> 0 | H32: =SUMIF('Detailed Budget'!$P$10:$P$1048576, "Logistics and Supply Chain Management", 'Detailed Budget'!$D$10:$D$1048576) -> 0 | I32: =SUMIF('Detailed Budget'!$P$10:$P$1048576, "Logistics and Supply Chain Management", 'Detailed Budget'!$K$10:$K$1048576) -> 0
F33: Mass Care Services | G33: =SUMIF('Detailed Budget'!$P$10:$P$1048576, "Mass Care Services", 'Detailed Budget'!$C$10:$C$1048576) -> 0 | H33: =SUMIF('Detailed Budget'!$P$10:$P$1048576, "Mass Care Services", 'Detailed Budget'!$D$10:$D$1048576) -> 0 | I33: =SUMIF('Detailed Budget'!$P$10:$P$1048576, "Mass Care Services", 'Detailed Budget'!$K$10:$K$1048576) -> 0
F34: Mass Search and Rescue Operations | G34: =SUMIF('Detailed Budget'!$P$10:$P$1048576, "Mass Search and Rescue Operations", 'Detailed Budget'!$C$10:$C$1048576) -> 0 | H34: =SUMIF('Detailed Budget'!$P$10:$P$1048576, "Mass Search and Rescue Operations", 'Detailed Budget'!$D$10:$D$1048576) -> 0 | I34: =SUMIF('Detailed Budget'!$P$10:$P$1048576, "Mass Search and Rescue Operations", 'Detailed Budget'!$K$10:$K$1048576) -> 0
F35: On-Scene Security, Protection, and Law Enforcement | G35: =SUMIF('Detailed Budget'!$P$10:$P$1048576, "On-Scene Security, Protection, and Law Enforcement", 'Detailed Budget'!$C$10:$C$1048576) -> 0 | H35: =SUMIF('Detailed Budget'!$P$10:$P$1048576, "On-Scene Security, Protection, and Law Enforcement", 'Detailed Budget'!$D$10:$D$1048576) -> 0 | I35: =SUMIF('Detailed Budget'!$P$10:$P$1048576, "On-Scene Security, Protection, and Law Enforcement", 'Detailed Budget'!$K$10:$K$1048576) -> 0
F36: Operational Communications | G36: =SUMIF('Detailed Budget'!$P$10:$P$1048576, "Operational Communications", 'Detailed Budget'!$C$10:$C$1048576) -> 0 | H36: =SUMIF('Detailed Budget'!$P$10:$P$1048576, "Operational Communications", 'Detailed Budget'!$D$10:$D$1048576) -> 0 | I36: =SUMIF('Detailed Budget'!$P$10:$P$1048576, "Operational Communications", 'Detailed Budget'!$K$10:$K$1048576) -> 0
F37: Public Health, Healthcare, and Emergency Medical Services | G37: =SUMIF('Detailed Budget'!$P$10:$P$1048576, "Public Health, Healthcare, and Emergency Medical Services", 'Detailed Budget'!$C$10:$C$1048576) -> 0 | H37: =SUMIF('Detailed Budget'!$P$10:$P$1048576, "Public Health, Healthcare, and Emergency Medical Services", 'Detailed Budget'!$D$10:$D$1048576) -> 0 | I37: =SUMIF('Detailed Budget'!$P$10:$P$1048576, "Public Health, Healthcare, and Emergency Medical Services", 'Detailed Budget'!$K$10:$K$1048576) -> 0
F38: Health and Social Services | G38: =SUMIF('Detailed Budget'!$P$10:$P$1048576, "Health and Social Services", 'Detailed Budget'!$C$10:$C$1048576) -> 0 | H38: =SUMIF('Detailed Budget'!$P$10:$P$1048576, "Health and Social Services", 'Detailed Budget'!$D$10:$D$1048576) -> 0 | I38: =SUMIF('Detailed Budget'!$P$10:$P$1048576, "Health and Social Services", 'Detailed Budget'!$K$10:$K$1048576) -> 0
F39: Economic Recovery | G39: =SUMIF('Detailed Budget'!$P$10:$P$1048576, "Economic Recovery", 'Detailed Budget'!$C$10:$C$1048576) -> 0 | H39: =SUMIF('Detailed Budget'!$P$10:$P$1048576, "Economic Recovery", 'Detailed Budget'!$D$10:$D$1048576) -> 0 | I39: =SUMIF('Detailed Budget'!$P$10:$P$1048576, "Economic Recovery", 'Detailed Budget'!$K$10:$K$1048576) -> 0
F40: Natural and Cultural Resources | G40: =SUMIF('Detailed Budget'!$P$10:$P$1048576, "Natural and Cultural Resources", 'Detailed Budget'!$C$10:$C$1048576) -> 0 | H40: =SUMIF('Detailed Budget'!$P$10:$P$1048576, "Natural and Cultural Resources", 'Detailed Budget'!$D$10:$D$1048576) -> 0 | I40: =SUMIF('Detailed Budget'!$P$10:$P$1048576, "Natural and Cultural Resources", 'Detailed Budget'!$K$10:$K$1048576) -> 0
F41: Housing | G41: =SUMIF('Detailed Budget'!$P$10:$P$1048576, "Housing", 'Detailed Budget'!$C$10:$C$1048576) -> 0 | H41: =SUMIF('Detailed Budget'!$P$10:$P$1048576, "Housing", 'Detailed Budget'!$D$10:$D$1048576) -> 0 | I41: =SUMIF('Detailed Budget'!$P$10:$P$1048576, "Housing", 'Detailed Budget'!$K$10:$K$1048576) -> 0

Sheet Grant Activities Outline
A1: Project Count | B1: =COUNTA(B4,B53,B102,B151,B200,B249,B298,B347,B396,B445) -> 0
A3: Project Number | B3: 1
A4: Project Name
A7: Brief Description of Project
A10: Gap or Need Addressed | F10: Reference for Identified Gap or Need
A13: Project Objective
A16: Anticipated Project Impact
A19: Build or Sustain?
A21: RA Agreed Upon Priority Area | E21: Mission Area
E22: Primary
A23: POETE Category | E23: Secondary
A24: Primary | E24: Tertiary
A25: Secondary
A26: Tertiary | E26: Core Capabilities
E27: 1
A28: Emergency Management Functions | E28: 2
A29: Function 1 | E29: 3
A30: Function 2 | E30: 4
A31: Function 3 | E31: 5
A33: Performance Goals
A34: Goals should be based on the capability targets identified in the Core Capability Development Sheets.
A35: For additional guidance on Performance Goals and Measures, please click here.
A36: Performance Goals | D36: Current Capability Metrics | F36: Milestones
A37: Example: Within three years, the (state/territory) will have the capability to identify and mobilize life-sustaining commodities, resources, and services to 10,000 people requiring shelter and 100,000 people requiring food and water, within 24-hours of an incident, and to maintain the distribution system for at least 30 days. | D37: Example: - Sheltering for 6,000 people - Food & water for 60,000 people | F37: Example: - Coordinate with key stakeholders to update the State Distribution Management Plan annually by September 30th. - Conduct a tabletop exercise with state and local emergency management officials and other key stakeholders to test logistics and supply chain management capabilities during a major disaster by May 31, 2022. - Identify and procure critical emergency supplies needed to support a major disaster and develop a five-year viable inventory management plan by June 30, 2021. - Procure an inventory management system by June 30, 2021. - Identify suitable and available facilities for stockpiling of critical emergency supplies and enter into lease agreements by June 30, 2022.
A52: Project Number | B52: 2
A53: Project Name
A56: Brief Description of Project
A59: Gap or Need Addressed | F59: Reference for Identified Gap or Need
A62: Project Objective
A65: Anticipated Project Impact
A68: Build or Sustain?
A70: RA Agreed Upon Priority Area | E70: Mission Area
E71: Primary
A72: POETE Category | E72: Secondary
A73: Primary | E73: Tertiary
A74: Secondary
A75: Tertiary | E75: Core Capabilities
E76: 1
A77: Emergency Management Functions | E77: 2
A78: Function 1 | E78: 3
...

Sheet Project Activities Outline
A1: Project Number | B1: 1
A2: Project Name | B2: =Name1 -> 0
A5: Gap or Need Addressed | B5: =GapA1 -> 0
A8: Project Objective | B8: =Objective1 -> 0
A11: Build or Sustain? | B11: =Capacity1 -> 0
A16: Planned Activities
A17: Year | B17: Quarter | C17: Key Activity | D17: Step | E17: Estimated Start Date | F17: Actual Start Date | G17: Estimated Completion Date | H17: Actual Completion Date | I17: Challenges/Risks
A18: 1 | B18: 1
B23: 2
B28: 3
B33: 4
A38: 2 | B38: 5
B43: 6
B48: 7
B53: 8
A58: 3 | B58: 9
B63: 10
B68: 11
B73: 12
A81: Project Number | B81: 2
A82: Name of Project | B82: =Name2 -> 0
A85: Gap or Need Addressed | B85: =GapA2 -> 0
A88: Project Objective | B88: =Objective2 -> 0
A91: Build or Sustain? | B91: =Capacity2 -> 0
A96: Planned Activities
A97: Year | B97: Quarter | C97: Key Activity | D97: Step | E97: Estimated Start Date | F97: Actual Start Date | G97: Estimated Completion Date | H97: Actual Completion Date | I97: Challenges/Risks
A98: 1 | B98: 1
B103: 2
B108: 3
B113: 4
A118: 2 | B118: 5
B123: 6
B128: 7
B133: 8
A138: 3 | B138: 9
B143: 10
B148: 11
B153: 12
A161: Project Number | B161: 3
A162: Name of Project | B162: =Name3 -> 0
...

Sheet Personnel Data Table
A1: Emergency Management Personnel Statistics | I1: Definitions
A2: EMPG funds (federal AND match) allocated towards STATE/TERRITORY emergency management personnel
A3: EMPG funds (federal AND match) allocated towards NON-STATE/TERRITORY emergency management personnel (e.g., local, tribal)
A4: Total number state/territory emergency management full time equivalent (FTE) personnel (including those supported and not supported by EMPG)
A5: Number state/territory emergency management FTE personnel supported (fully or partially) by EMPG
A6: Total number of SLTT emergency management personnel supported (fully or partially) by EMPG
A8: EMPG Funded Personnel Data
A9: Name | B9: Title | C9: Agency | D9: State Employee? (Y/N) | E9: Amount paid by EMPG | F9: Federal Share | G9: Match

Sheet Project Reference
A1: Project Name | B1: Project Number | C1: Primary Mission Area | D1: Secondary Mission Area | E1: Tertiary Mission Area | F1: Core Capability 1 | G1: Core Capability 2 | H1: Core Capability 3 | I1: Core Capability 4 | J1: Core Capability 5 | K1: State/Regional Priority | L1: EMF1 | M1: EMF2 | N1: EMF3 | O1: POETE 1 | P1: POETE 2 | Q1: POETE 3 | T1: Project Number | U1: Project Name
A2: =Name1 -> 0 | B2: 1 | C2: {=IF($A2=Name1,'Grant Activities Outline'!$F$22,ERROR)} -> 0 | D2: {=IF($A2=Name1,'Grant Activities Outline'!$F$23,ERROR)} -> 0 | E2: {=IF($A2=Name1,'Grant Activities Outline'!$F$24,ERROR)} -> 0 | F2: {=IF($A2=Name1,'Grant Activities Outline'!$F27,ERROR)} -> 0 | G2: {=IF($A2=Name1,'Grant Activities Outline'!$F28,ERROR)} -> 0 | H2: {=IF($A2=Name1,'Grant Activities Outline'!$F29,ERROR)} -> 0 | I2: {=IF($A2=Name1,'Grant Activities Outline'!$F$30,ERROR)} -> 0 | J2: {=IF($A2=Name1,'Grant Activities Outline'!$F$31,ERROR)} -> 0 | K2: {=IF($A2=Name1,'Grant Activities Outline'!$C$21,ERROR)} -> 0 | L2: {=IF($A2=Name1,'Grant Activities Outline'!$B29,ERROR)} -> 0 | M2: {=IF($A2=Name1,'Grant Activities Outline'!$B30,ERROR)} -> 0 | N2: {=IF($A2=Name1,'Grant Activities Outline'!$B31,ERROR)} -> 0 | O2: {=IF($A2=Name1,'Grant Activities Outline'!$B24,ERROR)} -> 0 | P2: {=IF($A2=Name1,'Grant Activities Outline'!$B25,ERROR)} -> 0 | Q2: {=IF($A2=Name1,'Grant Activities Outline'!$B26,ERROR)} -> 0 | T2: 1 | U2: =Name1 -> 0
A3: =Name2 -> 0 | B3: 2 | C3: =IF($A3=Name2,'Grant Activities Outline'!$F$71) -> 0 | D3: =IF($A3=Name2,'Grant Activities Outline'!$F$72) -> 0 | E3: =IF($A3=Name2,'Grant Activities Outline'!$F$73) -> 0 | F3: {=IF($A3=Name2,'Grant Activities Outline'!$F76,ERROR)} -> 0 | G3: {=IF($A3=Name2,'Grant Activities Outline'!$F77,ERROR)} -> 0 | H3: {=IF($A3=Name2,'Grant Activities Outline'!$F78,ERROR)} -> 0 | I3: {=IF($A3=Name2,'Grant Activities Outline'!$F$79,ERROR)} -> 0 | J3: {=IF($A3=Name2,'Grant Activities Outline'!$F$80,ERROR)} -> 0 | K3: {=IF($A3=Name2,'Grant Activities Outline'!$C$70,ERROR)} -> 0 | L3: {=IF($A3=Name2,'Grant Activities Outline'!$B78,ERROR)} -> 0 | M3: {=IF($A3=Name2,'Grant Activities Outline'!$B79,ERROR)} -> 0 | N3: {=IF($A3=Name2,'Grant Activities Outline'!$B80,ERROR)} -> 0 | O3: {=IF($A3=Name2,'Grant Activities Outline'!$B73,ERROR)} -> 0 | P3: {=IF($A3=Name2,'Grant Activities Outline'!$B74,ERROR)} -> 0 | Q3: {=IF($A3=Name2,'Grant Activities Outline'!$B75,ERROR)} -> 0 | T3: 2 | U3: =Name2 -> 0
A4: =Name3 -> 0 | B4: 3 | C4: =IF($A4=Name3,'Grant Activities Outline'!$F$120,"ERROR") -> 0 | D4: =IF($A4=Name3,'Grant Activities Outline'!$F$121,"ERROR") -> 0 | E4: =IF($A4=Name3,'Grant Activities Outline'!$F$122,"ERROR") -> 0 | F4: {=IF($A4=Name3,'Grant Activities Outline'!$F125,ERROR)} -> 0 | G4: {=IF($A4=Name3,'Grant Activities Outline'!$F126,ERROR)} -> 0 | H4: {=IF($A4=Name3,'Grant Activities Outline'!$F127,ERROR)} -> 0 | I4: {=IF($A4=Name3,'Grant Activities Outline'!$F$128,ERROR)} -> 0 | J4: {=IF($A4=Name3,'Grant Activities Outline'!$F$129,ERROR)} -> 0 | K4: {=IF($A4=Name3,'Grant Activities Outline'!$C$119,ERROR)} -> 0 | L4: {=IF($A4=Name3,'Grant Activities Outline'!$B127,ERROR)} -> 0 | M4: {=IF($A4=Name3,'Grant Activities Outline'!$B128,ERROR)} -> 0 | N4: {=IF($A4=Name3,'Grant Activities Outline'!$B129,ERROR)} -> 0 | O4: {=IF($A4=Name3,'Grant Activities Outline'!$B122,ERROR)} -> 0 | P4: {=IF($A4=Name3,'Grant Activities Outline'!$B123,ERROR)} -> 0 | Q4: {=IF($A4=Name3,'Grant Activities Outline'!$B124,ERROR)} -> 0 | T4: 3 | U4: =Name3 -> 0
A5: =Name4 -> 0 | B5: 4 | C5: =IF($A5=Name4,'Grant Activities Outline'!$F$169,"ERROR") -> 0 | D5: =IF($A5=Name4,'Grant Activities Outline'!$F$170,"ERROR") -> 0 | E5: =IF($A5=Name4,'Grant Activities Outline'!$F$171,"ERROR") -> 0 | F5: {=IF($A5=Name4,'Grant Activities Outline'!$F174,ERROR)} -> 0 | G5: {=IF($A5=Name4,'Grant Activities Outline'!$F175,ERROR)} -> 0 | H5: {=IF($A5=Name4,'Grant Activities Outline'!$F176,ERROR)} -> 0 | I5: {=IF($A5=Name4,'Grant Activities Outline'!$F$177,ERROR)} -> 0 | J5: {=IF($A5=Name4,'Grant Activities Outline'!$F$178,ERROR)} -> 0 | K5: {=IF($A5=Name4,'Grant Activities Outline'!$C$168,ERROR)} -> 0 | L5: {=IF($A5=Name4,'Grant Activities Outline'!$B176,ERROR)} -> 0 | M5: {=IF($A5=Name4,'Grant Activities Outline'!$B177,ERROR)} -> 0 | N5: {=IF($A5=Name4,'Grant Activities Outline'!$B178,ERROR)} -> 0 | O5: {=IF($A5=Name4,'Grant Activities Outline'!$B171,ERROR)} -> 0 | P5: {=IF($A5=Name4,'Grant Activities Outline'!$B172,ERROR)} -> 0 | Q5: {=IF($A5=Name4,'Grant Activities Outline'!$B173,ERROR)} -> 0 | T5: 4 | U5: =Name4 -> 0
A6: =Name5 -> 0 | B6: 5 | C6: =IF($A6=Name5,'Grant Activities Outline'!$F$218,"ERROR") -> 0 | D6: =IF($A6=Name5,'Grant Activities Outline'!$F$219,"ERROR") -> 0 | E6: =IF($A6=Name5,'Grant Activities Outline'!$F$220,"ERROR") -> 0 | F6: {=IF($A6=Name5,'Grant Activities Outline'!$F223,ERROR)} -> 0 | G6: {=IF($A6=Name5,'Grant Activities Outline'!$F224,ERROR)} -> 0 | H6: {=IF($A6=Name5,'Grant Activities Outline'!$F225,ERROR)} -> 0 | I6: {=IF($A6=Name5,'Grant Activities Outline'!$F$226,ERROR)} -> 0 | J6: {=IF($A6=Name5,'Grant Activities Outline'!$F$227,ERROR)} -> 0 | K6: {=IF($A6=Name5,'Grant Activities Outline'!$C$217,ERROR)} -> 0 | L6: {=IF($A6=Name5,'Grant Activities Outline'!$B225,ERROR)} -> 0 | M6: {=IF($A6=Name5,'Grant Activities Outline'!$B226,ERROR)} -> 0 | N6: {=IF($A6=Name5,'Grant Activities Outline'!$B227,ERROR)} -> 0 | O6: {=IF($A6=Name5,'Grant Activities Outline'!$B220,ERROR)} -> 0 | P6: {=IF($A6=Name5,'Grant Activities Outline'!$B221,ERROR)} -> 0 | Q6: {=IF($A6=Name5,'Grant Activities Outline'!$B222,ERROR)} -> 0 | T6: 5 | U6: =Name5 -> 0
A7: =Name6 -> 0 | B7: 6 | C7: =IF($A7=Name6,'Grant Activities Outline'!$F$267,"ERROR") -> 0 | D7: =IF($A7=Name6,'Grant Activities Outline'!$F$268,"ERROR") -> 0 | E7: =IF($A7=Name6,'Grant Activities Outline'!$F$269,"ERROR") -> 0 | F7: {=IF($A7=Name6,'Grant Activities Outline'!$F272,ERROR)} -> 0 | G7: {=IF($A7=Name6,'Grant Activities Outline'!$F273,ERROR)} -> 0 | H7: {=IF($A7=Name6,'Grant Activities Outline'!$F274,ERROR)} -> 0 | I7: {=IF($A7=Name6,'Grant Activities Outline'!$F$275,ERROR)} -> 0 | J7: {=IF($A7=Name6,'Grant Activities Outline'!$F$276,ERROR)} -> 0 | K7: {=IF($A7=Name6,'Grant Activities Outline'!$C$266,ERROR)} -> 0 | L7: {=IF($A7=Name6,'Grant Activities Outline'!$B274,ERROR)} -> 0 | M7: {=IF($A7=Name6,'Grant Activities Outline'!$B275,ERROR)} -> 0 | N7: {=IF($A7=Name6,'Grant Activities Outline'!$B276,ERROR)} -> 0 | O7: {=IF($A7=Name6,'Grant Activities Outline'!$B269,ERROR)} -> 0 | P7: {=IF($A7=Name6,'Grant Activities Outline'!$B270,ERROR)} -> 0 | Q7: {=IF($A7=Name6,'Grant Activities Outline'!$B271,ERROR)} -> 0 | T7: 6 | U7: =Name6 -> 0
A8: =Name7 -> 0 | B8: 7 | C8: =IF($A8=Name7,'Grant Activities Outline'!$F$316,"ERROR") -> 0 | D8: =IF($A8=Name7,'Grant Activities Outline'!$F$317,"ERROR") -> 0 | E8: =IF($A8=Name7,'Grant Activities Outline'!$F$318,"ERROR") -> 0 | F8: {=IF($A8=Name7,'Grant Activities Outline'!$F321,ERROR)} -> 0 | G8: {=IF($A8=Name7,'Grant Activities Outline'!$F322,ERROR)} -> 0 | H8: {=IF($A8=Name7,'Grant Activities Outline'!$F323,ERROR)} -> 0 | I8: {=IF($A8=Name7,'Grant Activities Outline'!$F$324,ERROR)} -> 0 | J8: {=IF($A8=Name7,'Grant Activities Outline'!$F$325,ERROR)} -> 0 | K8: {=IF($A8=Name7,'Grant Activities Outline'!$C$315,ERROR)} -> 0 | L8: {=IF($A8=Name7,'Grant Activities Outline'!$B323,ERROR)} -> 0 | M8: {=IF($A8=Name7,'Grant Activities Outline'!$B324,ERROR)} -> 0 | N8: {=IF($A8=Name7,'Grant Activities Outline'!$B325,ERROR)} -> 0 | O8: {=IF($A8=Name7,'Grant Activities Outline'!$B318,ERROR)} -> 0 | P8: {=IF($A8=Name7,'Grant Activities Outline'!$B319,ERROR)} -> 0 | Q8: {=IF($A8=Name7,'Grant Activities Outline'!$B320,ERROR)} -> 0 | T8: 7 | U8: =Name7 -> 0
A9: =Name8 -> 0 | B9: 8 | C9: =IF($A9=Name8,'Grant Activities Outline'!$F$365,"ERROR") -> 0 | D9: =IF($A9=Name8,'Grant Activities Outline'!$F$366,"ERROR") -> 0 | E9: =IF($A9=Name8,'Grant Activities Outline'!$F$367,"ERROR") -> 0 | F9: {=IF($A9=Name8,'Grant Activities Outline'!$F370,ERROR)} -> 0 | G9: {=IF($A9=Name8,'Grant Activities Outline'!$F371,ERROR)} -> 0 | H9: {=IF($A9=Name8,'Grant Activities Outline'!$F372,ERROR)} -> 0 | I9: {=IF($A9=Name8,'Grant Activities Outline'!$F$373,ERROR)} -> 0 | J9: {=IF($A9=Name8,'Grant Activities Outline'!$F$374,ERROR)} -> 0 | K9: {=IF($A9=Name8,'Grant Activities Outline'!$C$364,ERROR)} -> 0 | L9: {=IF($A9=Name8,'Grant Activities Outline'!$B372,ERROR)} -> 0 | M9: {=IF($A9=Name8,'Grant Activities Outline'!$B373,ERROR)} -> 0 | N9: {=IF($A9=Name8,'Grant Activities Outline'!$B374,ERROR)} -> 0 | O9: {=IF($A9=Name8,'Grant Activities Outline'!$B367,ERROR)} -> 0 | P9: {=IF($A9=Name8,'Grant Activities Outline'!$B368,ERROR)} -> 0 | Q9: {=IF($A9=Name8,'Grant Activities Outline'!$B369,ERROR)} -> 0 | T9: 8 | U9: =Name8 -> 0
A10: =Name9 -> 0 | B10: 9 | C10: =IF($A10=Name9,'Grant Activities Outline'!$F$414,"ERROR") -> 0 | D10: =IF($A10=Name9,'Grant Activities Outline'!$F$415,"ERROR") -> 0 | E10: =IF($A10=Name9,'Grant Activities Outline'!$F$416,"ERROR") -> 0 | F10: {=IF($A10=Name9,'Grant Activities Outline'!$F419,ERROR)} -> 0 | G10: {=IF($A10=Name9,'Grant Activities Outline'!$F420,ERROR)} -> 0 | H10: {=IF($A10=Name9,'Grant Activities Outline'!$F421,ERROR)} -> 0 | I10: {=IF($A10=Name9,'Grant Activities Outline'!$F$422,ERROR)} -> 0 | J10: {=IF($A10=Name9,'Grant Activities Outline'!$F$423,ERROR)} -> 0 | K10: {=IF($A10=Name9,'Grant Activities Outline'!$C$413,ERROR)} -> 0 | L10: {=IF($A10=Name9,'Grant Activities Outline'!$B421,ERROR)} -> 0 | M10: {=IF($A10=Name9,'Grant Activities Outline'!$B422,ERROR)} -> 0 | N10: {=IF($A10=Name9,'Grant Activities Outline'!$B423,ERROR)} -> 0 | O10: {=IF($A10=Name9,'Grant Activities Outline'!$B416,ERROR)} -> 0 | P10: {=IF($A10=Name9,'Grant Activities Outline'!$B417,ERROR)} -> 0 | Q10: {=IF($A10=Name9,'Grant Activities Outline'!$B418,ERROR)} -> 0 | T10: 9 | U10: =Name9 -> 0
A11: =Name10 -> 0 | B11: 10 | C11: =IF($A11=Name10,'Grant Activities Outline'!$F$463,"ERROR") -> 0 | D11: =IF($A11=Name10,'Grant Activities Outline'!$F$464,"ERROR") -> 0 | E11: =IF($A11=Name10,'Grant Activities Outline'!$F$465,"ERROR") -> 0 | F11: {=IF($A11=Name10,'Grant Activities Outline'!$F468,ERROR)} -> 0 | G11: {=IF($A11=Name10,'Grant Activities Outline'!$F469,ERROR)} -> 0 | H11: {=IF($A11=Name10,'Grant Activities Outline'!$F470,ERROR)} -> 0 | I11: {=IF($A11=Name10,'Grant Activities Outline'!$F$471,ERROR)} -> 0 | J11: {=IF($A11=Name10,'Grant Activities Outline'!$F$472,ERROR)} -> 0 | K11: {=IF($A11=Name10,'Grant Activities Outline'!$C$462,ERROR)} -> 0 | L11: {=IF($A11=Name10,'Grant Activities Outline'!$B470,ERROR)} -> 0 | M11: {=IF($A11=Name10,'Grant Activities Outline'!$B471,ERROR)} -> 0 | N11: {=IF($A11=Name10,'Grant Activities Outline'!$B472,ERROR)} -> 0 | O11: {=IF($A11=Name10,'Grant Activities Outline'!$B465,ERROR)} -> 0 | P11: {=IF($A11=Name10,'Grant Activities Outline'!$B466,ERROR)} -> 0 | Q11: {=IF($A11=Name10,'Grant Activities Outline'!$B467,ERROR)} -> 0 | T11: 10 | U11: =Name10 -> 0

Sheet Drop Down List Text
A1: Core Capabilities | F1: POETE Categories | G1: National Priorities | H1: Core Capabilities as State or Regional Priorities: | I1: EMFs | J1: Budget Category | K1: Mission Areas
A2: Prevention | B2: Protection | C2: Mitigation | D2: Response | E2: Recovery | F2: Planning | G2: Body Recovery/Storage | H2: Access Control and Identity Verification | I2: EMF 1. Laws and Authorities | J2: Personnel | K2: Prevention
A3: Planning | B3: Planning | C3: Planning | D3: Planning | E3: Planning | F3: Organization | G3: Catastrophic Disaster Housing | H3: Body Recovery/Storage | I3: EMF 2. Hazard Identification & Risk Assessment | J3: Fringes | K3: Protection
A4: Public Information and Warning | B4: Public Information and Warning | C4: Public Information and Warning | D4: Public Information and Warning | E4: Public Information and Warning | F4: Equipment | G4: Community Sheltering | H4: Catastrophic Disaster Housing | I4: EMF 3. Hazard Mitigation | J4: Travel | K4: Mitigation
A5: Operational Coordination | B5: Operational Coordination | C5: Operational Coordination | D5: Operational Coordination | E5: Operational Coordination | F5: Training | G5: Cybersecurity | H5: Community Resilience | I5: EMF 4. Resource Management | J5: Equipment | K5: Response
A6: Forensics and Attribution | B6: Intelligence and Information Sharing | C6: Community Resilience | D6: Critical Transportation | E6: Infrastructure Systems | F6: Exercises | G6: Disaster Financial Management | H6: Community Sheltering | I6: EMF 5. Planning | J6: Supplies | K6: Recovery
A7: Intelligence and Information Sharing | B7: Interdiction and Disruption | C7: Long-Term Vulnerability Reduction | D7: Environmental Response/Health and Safety | E7: Economic Recovery | G7: Evacuation Plan/Annex | H7: Critical Transportation | I7: EMF 6. Direction, Control & Coordination | J7: Consultants/Contracts
A8: Interdiction and Disruption | B8: Screening, Search, and Detection | C8: Risk and Disaster Resilience Assessment | D8: Fatality Management Services | E8: Health and Social Services | G8: Life-Sustaining Goods Delivery | H8: Cybersecurity | I8: EMF 7. Communication & Warning | J8: Other
A9: Screening, Search, and Detection | B9: Access Control and Identity Verification | C9: Threats and Hazards Identification | D9: Fire Management and Suppression | E9: Housing | G9: Logistics – Distribution Management Planning | H9: Disaster Financial Management | I9: EMF 8. Operations & Procedures | J9: Indirect
B10: Cybersecurity | D10: Infrastructure Systems | E10: Natural and Cultural Resources | G10: Long-term Housing | H10: Economic Recovery | I10: EMF 9. Logistics & Facilities | J10: Construction
B11: Supply Chain Integrity and Security | D11: Situational Assessment | G11: Relocation Assistance | H11: Environmental Response/Health and Safety | I11: EMF 10. Training | J11: MISSING
B12: Risk Management for Protection Programs and Activities | D12: Logistics and Supply Chain Management | G12: Resilient Communications | H12: Evacuation Plan/Annex | I12: EMF 11. Exercises, Evaluations & Corrective Actions
D13: Mass Care Services | H13: Fatality Management Services | I13: EMF 12. Public Education & Information
D14: Mass Search and Rescue Operations | H14: Fire Management and Suppression | I14: EMF 13. Finance & Administration
D15: On-Scene Security, Protection, and Law Enforcement | H15: Forensics and Attribution
D16: Operational Communication | H16: Health and Social Services
D17: Public Health, Healthcare, and Emergency Medical Services | H17: Housing
H18: Infrastructure Systems
H19: Intelligence and Information Sharing
H20: Interdiction and Disruption
H21: Life-Sustaining Goods Delivery
H22: Logistics – Distribution Management Planning
H23: Logistics and Supply Chain Management
H24: Long-term Housing
H25: Long-term Vulnerability Reduction
H26: Mass Care Services
H27: Mass Search and Rescue Operations
H28: Natural and Cultural Resources
H29: On-Scene Security, Protection, and Law Enforcement
... H43: Threats and Hazards Identification

Sheet Training Data Table
A1: Please fill in the information below. Be sure to copy the Project Name EXACTLY as it exists in the Grant Activities Outline tab. This will allow Columns K-T to automatically populate the correct information. | K1: This table automatically populates information based on the Project Name. It cannot be edited, but necessary changes can be made within the Grant Activities Outline tab.
A3: Training Data Table | K3: Associated Mission, Priorities, Capabilities, and Functional Areas
A4: Project Name | B4: Project Number (from Grant Activities Outline tab) | C4: Name of Training | D4: EMPG Required Training | E4: Number of Personnel Trained | F4: Total Number of SLTT EMPG Funded Personnel | G4: Total Number of SLTT EMPG Funded Personnel that Completed the Course | H4: NIMS Training Course Number (if applicable) | I4: Training Identified in the IPP (Y/N) | K4: Primary Mission Area | L4: Secondary Mission Area | M4: Tertiary Mission Area | N4: Core Capability 1 | O4: Core Capability 2 | P4: Core Capability 3 | Q4: Core Capability 4 | R4: Core Capability 5 | S4: RA Agreed Upon Priority Area | T4: EMF #1 | U4: EMF #2 | V4: EMF #3 | W4: Primary POETE Category | X4: Secondary POETE Category | Y4: Tertiary POETE Category
K5: =VLOOKUP($A5,'Project Reference'!$A$2:$C$11,3) -> 0 | L5: =VLOOKUP($A5,'Project Reference'!$A$2:$D$11,4) -> 0 | M5: =VLOOKUP($A5,'Project Reference'!$A$2:$E$11,5) -> 0 | N5: =VLOOKUP($A5,'Project Reference'!$A$2:$F$11,6) -> 0 | O5: =VLOOKUP($A5,'Project Reference'!$A$2:$G$11,7) -> 0 | P5: =VLOOKUP($A5,'Project Reference'!$A$2:$H$11,8) -> 0 | Q5: =VLOOKUP($A5,'Project Reference'!$A$2:$I$11,9) -> 0 | R5: =VLOOKUP($A5,'Project Reference'!$A$2:$J$11,10) -> 0 | S5: =VLOOKUP($A5,'Project Reference'!$A$2:$K$11,11) -> 0 | T5: =VLOOKUP($A5,'Project Reference'!$A$2:$L$11,12) -> 0 | U5: =VLOOKUP($A5,'Project Reference'!$A$2:$M$11,13) -> 0 | V5: =VLOOKUP($A5,'Project Reference'!$A$2:$N$11,14) -> 0 | W5: =VLOOKUP($A5,'Project Reference'!$A$2:$O$11,15) -> 0 | X5: =VLOOKUP($A5,'Project Reference'!$A$2:$P$11,16) -> 0 | Y5: =VLOOKUP($A5,'Project Reference'!$A$2:$Q$11,17) -> 0
K6: =VLOOKUP($A6,'Project Reference'!$A$2:$C$11,3) -> 0 | L6: =VLOOKUP($A6,'Project Reference'!$A$2:$D$11,4) -> 0 | M6: =VLOOKUP($A6,'Project Reference'!$A$2:$E$11,5) -> 0 | N6: =VLOOKUP($A6,'Project Reference'!$A$2:$F$11,6) -> 0 | O6: =VLOOKUP($A6,'Project Reference'!$A$2:$G$11,7) -> 0 | P6: =VLOOKUP($A6,'Project Reference'!$A$2:$H$11,8) -> 0 | Q6: =VLOOKUP($A6,'Project Reference'!$A$2:$I$11,9) -> 0 | R6: =VLOOKUP($A6,'Project Reference'!$A$2:$J$11,10) -> 0 | S6: =VLOOKUP($A6,'Project Reference'!$A$2:$K$11,11) -> 0 | T6: =VLOOKUP($A6,'Project Reference'!$A$2:$L$11,12) -> 0 | U6: =VLOOKUP($A6,'Project Reference'!$A$2:$M$11,13) -> 0 | V6: =VLOOKUP($A6,'Project Reference'!$A$2:$N$11,14) -> 0 | W6: =VLOOKUP($A6,'Project Reference'!$A$2:$O$11,15) -> 0 | X6: =VLOOKUP($A6,'Project Reference'!$A$2:$P$11,16) -> 0 | Y6: =VLOOKUP($A6,'Project Reference'!$A$2:$Q$11,17) -> 0
K7: =VLOOKUP($A7,'Project Reference'!$A$2:$C$11,3) -> 0 | L7: =VLOOKUP($A7,'Project Reference'!$A$2:$D$11,4) -> 0 | M7: =VLOOKUP($A7,'Project Reference'!$A$2:$E$11,5) -> 0 | N7: =VLOOKUP($A7,'Project Reference'!$A$2:$F$11,6) -> 0 | O7: =VLOOKUP($A7,'Project Reference'!$A$2:$G$11,7) -> 0 | P7: =VLOOKUP($A7,'Project Reference'!$A$2:$H$11,8) -> 0 | Q7: =VLOOKUP($A7,'Project Reference'!$A$2:$I$11,9) -> 0 | R7: =VLOOKUP($A7,'Project Reference'!$A$2:$J$11,10) -> 0 | S7: =VLOOKUP($A7,'Project Reference'!$A$2:$K$11,11) -> 0 | T7: =VLOOKUP($A7,'Project Reference'!$A$2:$L$11,12) -> 0 | U7: =VLOOKUP($A7,'Project Reference'!$A$2:$M$11,13) -> 0 | V7: =VLOOKUP($A7,'Project Reference'!$A$2:$N$11,14) -> 0 | W7: =VLOOKUP($A7,'Project Reference'!$A$2:$O$11,15) -> 0 | X7: =VLOOKUP($A7,'Project Reference'!$A$2:$P$11,16) -> 0 | Y7: =VLOOKUP($A7,'Project Reference'!$A$2:$Q$11,17) -> 0
