Workbook

Sheet Rec Allocations-APP C
A1: FY 2018 - $35.18M Budget Spend Plan - DRAFT - 05/02/2018
E2: Final Budget Amount: | F2: 35180000
B3: Task Forces: | C3: =F28 -> 34234232 | E3: Direct Support: | F3: =#REF! -> #REF!
A4: Task Force Readiness Cooperative Agreements
A5: # | B5: ITEM | C5: UNIT COST | D5: QTY | E5: EXTENDED COST | F5: SUBTOTAL
A6: 1 | B6: Program Management | C6: 650000 | D6: 28 | E6: =SUM(C6:C12) -> 1147990.4 | F6: =SUM(D6*E6) -> 32143732
A7: =A6+1 -> 2 | B7: Staff & Other Travel - TAVs | C7: 50000
A8: =A7+1 -> 3 | B8: Support & Mtg. Travel or as directed by US&R Branch | C8: 60000
A9: =A8+1 -> 4 | B9: Readiness Assessment Program Participation | C9: 5000
A10: =A9+1 -> 5 | B10: Support & Trvl - Nat'l & Local Trng/Exer/Canine Evals | C10: 82500
A11: =A10+1 -> 6 | B11: Equip. & Vehicle Lifecycle Mngmnt, Acq. & Shipping | C11: 150490.42
A12: =A11+1 -> 7 | B12: Storage/Maintenance | C12: 150000
A13: # | B13: ITEM | C13: SPECIFIC TFs | D13: QTY | E13: UNIT COST | F13: SUBTOTAL
A14: =A12+1 -> 8 | B14: IST Cache | C14: See: Spend Plan TF Details | D14: 1 | E14: ='[1]FY18 Spend Pln TF Details '!F8 -> 289500 | F14: =SUM(D14*E14) -> 289500
A15: =A14+1 -> 9 | B15: HEPP Cache | C15: See: Spend Plan TF Details | D15: 1 | E15: ='[1]FY18 Spend Pln TF Details '!F11 -> 322000 | F15: =SUM(D15*E15) -> 322000
A16: =A15+1 -> 10 | B16: Nat'l Level Training Delivery Hosting | C16: See: Spend Plan TF Details | D16: 1 | E16: ='[1]FY18 Spend Pln TF Details '!F24 -> 585000 | F16: =SUM(D16*E16) -> 585000
A17: =A16+1 -> 11 | B17: Nat'l Level Training Initiatives | C17: See: Spend Plan TF Details | D17: 1 | E17: ='[1]FY18 Spend Pln TF Details '!F28 -> 60000 | F17: =SUM(D17*E17) -> 60000
A18: =A17+1 -> 12 | B18: Divisional Multi-Task Force Field Exercises | C18: None budgeted this FY | D18: 0 | E18: 0 | F18: =SUM(D18*E18) -> 0
A19: =A18+1 -> 13 | B19: Divisional Multi-Task Force Table Top Exercises | C19: CA-TF6, AZ-TF1, VA-TF2 | D19: 3 | E19: 10000 | F19: =SUM(D19*E19) -> 30000
A20: =A19+1 -> 14 | B20: IST CE Wkshp & New Mem. Orntation Hosting - CY19 | C20: UT-TF1 | D20: 1 | E20: 47000 | F20: =SUM(D20*E20) -> 47000
A21: =A20+1 -> 15 | B21: IST S-420 Course Hosting - CY20 | C21: None budgeted this FY | D21: 0 | E21: 90000 | F21: =SUM(D21*E21) -> 0
A22: =A21+1 -> 16 | B22: Public Affairs IMAX Film Support | C22: NY-TF1 | D22: 1 | E22: 8000 | F22: =SUM(D22*E22) -> 8000
A23: =A22+1 -> 17 | B23: Field Operations Guide Reproduction | C23: TX-TF1 | D23: 1 | E23: 60000 | F23: =SUM(D23*E23) -> 60000
A24: =A23+1 -> 18 | B24: IST Support | C24: See: Spend Plan TF Details | D24: 1 | E24: ='[1]FY18 Spend Pln TF Details '!F35 -> 133000 | F24: =SUM(D24*E24) -> 133000
A25: =A24+1 -> 19 | B25: Annual Meetings Hosting | C25: See: Spend Plan TF Details | D25: 1 | E25: ='[1]FY18 Spend Pln TF Details '!F42 -> 93000 | F25: =SUM(D25*E25) -> 93000
A26: =A25+1 -> 20 | B26: Annual Advisory Organization Stipends | C26: See: Spend Plan TF Details | D26: 1 | E26: ='[1]FY18 Spend Pln TF Details '!F55 -> 333000 | F26: =SUM(D26*E26) -> 333000
A27: =A26+1 -> 21 | B27: Canine Search Specialist Certification Process | C27: See: Spend Plan TF Details | D27: 1 | E27: ='[1]FY18 Spend Pln TF Details '!F57 -> 130000 | F27: =SUM(D27*E27) -> 130000
A28: =A27+1 -> 22 | D28: TF Readiness Cooperative Agreements Subtotal: | F28: =SUM(F6,F14:F27) -> 34234232
A29: =A28+1 -> 23 | B29: TF Readiness CA Supplemental Funding - End of Year US&R Funding:
A30: =A29+1 -> 24 | B30: TF Readiness CA Supplemental Funding - End of Year PDO Funding:

Sheet TF Allocations-APP D
A1: Sponsoring Agency/Cooperative Agreement Recipients | M1: Base Funding Amount | N1: Administrative Costs | O1: Special Cache Costs | P1: Total Cooperative Agreement Amount
A2: 1 | G2: City of Phoenix Fire Department (AZ-TF1) | M2: 1147990.4 | N2: ='Admin Budget-APP E'!I2 -> 42500 | O2: ='Special Caches-Budget - APP F'!E2 -> 0 | P2: =SUM(M2:O5) -> 1190490.4
G3: Attn: Scott Krushak (Scott.A.Krushak@phoenix.gov)
G4: 2430 S. 2nd Avenue
G5: Phoenix, AZ 85009 (602) 256-3149
A6: 2 | G6: City of Los Angeles Fire Department (CA-TF1) | M6: 1147990.4 | N6: ='Admin Budget-APP E'!I6 -> 44000 | O6: ='Special Caches-Budget - APP F'!E7 -> 0 | P6: =SUM(M6:O9) -> 1191990.4
G7: Attn: Jeff Dapper (Jeffrey.Dapper@lacity.org)
G8: 5021 N. Sepulveda Blvd.
G9: Sherman Oaks, CA 91403 | J9: (818) 756-9678
A10: 3 | G10: Los Angeles County Fire Department (CA-TF2) | M10: 1147990.4 | N10: ='Admin Budget-APP E'!I10 -> 94000 | O10: ='Special Caches-Budget - APP F'!E11 -> 0 | P10: =SUM(M10:O13) -> 1241990.4
G11: Attn: Robert Harris (robert.harris@fire.lacounty.gov)
G12: 12605 Osborne Street
G13: Pacoima, CA 91331 (818) 890-5700
A14: 4 | G14: Menlo Park Fire Protection District (CA TF3) | M14: 1147990.4 | N14: ='Admin Budget-APP E'!I14 -> 0 | O14: ='Special Caches-Budget - APP F'!E15 -> 0 | P14: =SUM(M14:O17) -> 1147990.4
G15: Attn: Ben Marra (benm@MenloFire.org)
G16: 170 Middlefield Road
G17: Menlo Park, CA 94025 650-688-8405
A18: 5 | G18: City of Oakland Fire Services Agency (CA TF4) | M18: 1147990.4 | N18: ='Admin Budget-APP E'!I18 -> 90000 | O18: ='Special Caches-Budget - APP F'!E19 -> 0 | P18: =SUM(M18:O21) -> 1237990.4
G19: Attn: Mark Hoffman/Robert Lipp (rlipp@oaklandnet.com)
G20: 150 Frank H. Ogawa Plaza, Suite 3354
G21: Oakland , CA 94612-2007 (510) 615-5872
A22: 6 | G22: Orange County Fire Authority (CA-TF5) | M22: 1147990.4 | N22: ='Admin Budget-APP E'!I22 -> 57000 | O22: ='Special Caches-Budget - APP F'!E24 -> 0 | P22: =SUM(M22:O25) -> 1204990.4
G23: Attn: Jeff Adams (jeffadams@ocfa.org)
G24: 19811 Pauling Avenue
G25: Lake Forest, CA 92610 (949) 389-0055
A26: 7 | G26: City of Riverside Fire Department (CA-TF6) | M26: 1147990.4 | N26: ='Admin Budget-APP E'!I29 -> 60000 | O26: ='Special Caches-Budget - APP F'!E28 -> 96500 | P26: =SUM(M26:O29) -> 1304490.4
G27: Attn: Steve McKinster (smckinster@riversideca.gov)
G28: 3085 St. Lawrence Street
G29: Riverside, CA 92504 (951) 351-6292
A30: 8 | G30: City of Sacramento (CA-TF7) | M30: 1147990.4 | N30: ='Admin Budget-APP E'!I33 -> 0 | O30: ='Special Caches-Budget - APP F'!E32 -> 46000 | P30: =SUM(M30:O33) -> 1193990.4
G31: Attn: Chris Costamagna (costamagna@sfd.cityofsacramento.org)
G32: 5770 Freeport Blvd. #200
G33: Sacramento, CA 95822 (916) 808-1604
A34: 9 | G34: City of San Diego Fire-Rescue Department (CA-TF8) | M34: 1147990.4 | N34: ='Admin Budget-APP E'!I37 -> 58000 | O34: ='Special Caches-Budget - APP F'!E37 -> 0 | P34: =SUM(M34:O38) -> 1205990.4
G35: City of San Diego
G36: Attn: John Wood (jowood@sandiego.gov)
G37: 1010 Second Ave., Suite 400
G38: San Diego, CA 92101 (619) 572-5690
A39: 10 | G39: West Metro Fire Protection District (CO-TF1) | M39: 1147990.4 | N39: ='Admin Budget-APP E'!I41 -> 33000 | O39: ='Special Caches-Budget - APP F'!E42 -> 46000 | P39: =SUM(M39:O43) -> 1226990.4
G40: Attn: Rodney Tyus (rtyus@westmetrofire.org)
...

Sheet Admin Budget-APP E
A1: Sponsoring Agency/Cooperative Agreement Recipients | B1: Task Force | C1: Strategic Group, Advisory Group Leadership (Attachment G) & National Meeting Name/ Purpose of Financial Facilitation | D1: SAC/National/ Divisional Rep/Advisory Group Member/Financial Facilitation $$ | E1: TFR Meetings/Advisory Group/SG Meeting/SAC Meeting Host $$ | F1: Canine Search Spec. Certification $$ | G1: National Training Hosting - Course Name | H1: National Training Host $$ | I1: Total Amount Per Task Force
A2: City of Phoenix Fire Department | B2: AZ-TF1 | I2: =SUM(D2:H5) -> 42500
C3: Line 21: Canine Search Specialist Cert Eval | F3: 32500
C4: L13: Multi-TF Div. Table Top Exercise | G4: Multi-TF Div. | H4: 10000
A6: City of Los Angeles Fire Department | B6: CA-TF1 | C6: L10: National Training: TSS | G6: TSS | H6: 40000 | I6: =SUM(D6:H9) -> 44000
C7: Unit Ldr - Exercise | D7: 4000
A10: Los Angeles County Fire Department | B10: CA-TF2 | C10: Subgroup Ldr - Communications | D10: 4000 | I10: =SUM(D10:H13) -> 94000
C11: L10: National Training: Comm Spec. (FY19 Del) | G11: Comm Spec. (FY19 Del) | H11: 90000
A14: Menlo Park Fire Protection District | B14: CA-TF3 | I14: =SUM(D14:H17) -> 0
A18: Oakland Fire Department | B18: CA-TF4 | C18: L10: National Training: MTT (FY19) | G18: MTT | H18: 90000 | I18: =SUM(D18:H21) -> 90000
A22: Orange County Fire Authority | B22: CA-TF5 | C22: L20: SACR-D | D22: 10000 | I22: =SUM(D22:H28) -> 57000
C23: L18: ISTL Stipend - White IST | D23: 6000
C24: L18: ISTL Stipend - Blue IST | D24: 6000
C25: L20: IST Rep | D25: 15000
C26: Dep. Functional Grp Ldr - Ops | D26: 4000
C27: IST Group Adv - Ops | D27: 4000
C28: Functional Grp Ldr - Log | D28: 12000
A29: City of Riverside Fire Department | B29: CA-TF6 | C29: L20: TFR-D | D29: 15000 | I29: =SUM(D29:H32) -> 60000
C30: L13: Multi-TF Div. Table Top Exercise | G30: Multi-TF Div. | H30: 10000
C31: L10: National Trainining Hosting: CSS | G31: CSS | H31: 35000
A33: City of Sacramento Fire Department | B33: CA-TF7 | I33: =SUM(D33:H36) -> 0
A37: City of San Diego Fire-Rescue Department | B37: CA-TF8 | C37: Subgroup Ldr - Training | D37: 4000 | I37: =SUM(D37:H40) -> 58000
C38: Unit Ldr - Safety | D38: 4000
C39: L10: National Training: SOFR | G39: SOFR | H39: 35000
C40: Line 11: SDA Workshop | G40: SDA Workshop | H40: 15000
A41: West Metro Fire Protection District | B41: CO-TF1 | C41: L11: RAP Mentoring - Wkshp | G41: RAP Mentoring Wkshp | H41: 5000 | I41: =SUM(D41:H45) -> 33000
C42: L 20: SACR-D | D42: 10000
C43: L20: TFR-D | D43: 15000
C44: L19: Hosting Adv Grp Mtg (FY19) | E44: 1000
C45: L19: Hosting Strat Grp Mtg , 2 Mtgs - (FY19) | E45: 2000
A46: Miami-Dade County Fire Department | B46: FL-TF1 | C46: L20: SACR-D | D46: 10000 | I46: =SUM(D46:H49) -> 50000
C47: L10: National Trainining Hosting: PTT | G47: PTT | H47: 40000
A50: City of Miami Fire and Rescue | B50: FL-TF2 | I50: =SUM(D50:H53) -> 80000
C51: L10: National Training: Log | G51: Log | H51: 40000
C52: L19: CY19 Advisory Org Mtg | E52: 40000
A54: City of Indianapolis - DPS | B54: IN-TF1 | I54: =SUM(D54:H57) -> 34000
C55: L20: Advisory Group Chair | D55: 30000
C56: Subgroup Ldr - Transportation | D56: 4000
A58: City of Beverly EMA | B58: MA-TF1 | C58: L10: National Training: Comm N. WKshp | G58: Comm N. Workshop | H58: 35000 | I58: =SUM(D58:H61) -> 35000
A62: Montgomery County Fire and Rescue Service | B62: MD-TF1 | C62: Line 11: SDA Workshop | G62: SDA Workshop | H62: 15000 | I62: =SUM(D62:H65) -> 15000
...

Sheet Special Caches-Budget - APP F
A1: Sponsoring Organization/Cooperative Agreement Recipients | B1: Task Force | C1: HEPP Cache Maintenance & Recapitalization (PAPR Year 1 of 3) - Line 9 | D1: IST Cache Maintenance & Recapitalization - Line 8 | E1: Total Amount Per Task Force
A2: City of Phoenix Fire Department | B2: AZ-TF1 | E2: =SUM(C2:D6) -> 0
A7: City of Los Angeles Fire Department | B7: CA-TF1 | E7: =SUM(C7:D10) -> 0
A11: Los Angeles County Fire Department | B11: CA-TF2 | E11: =SUM(C11:D14) -> 0
A15: Menlo Park Fire Protection District | B15: CA-TF3 | E15: =SUM(C15:D18) -> 0
A19: Oakland Fire Department | B19: CA-TF4 | E19: =SUM(C19:D23) -> 0
A24: Orange County Fire Authority | B24: CA-TF5 | E24: =SUM(C24:D27) -> 0
A28: City of Riverside Fire Department | B28: CA-TF6 | D28: 96500 | E28: =SUM(C28:D31) -> 96500
A32: City of Sacramento Fire Department | B32: CA-TF7 | C32: 46000 | E32: =SUM(C32:D36) -> 46000
A37: City of San Diego Fire-RescueDepartment | B37: CA-TF8 | E37: =SUM(C37:D41) -> 0
A42: West Metro Fire Protection District | B42: CO-TF1 | C42: 46000 | E42: =SUM(C42:D46) -> 46000
A47: Miami-Dade County Fire Department | B47: FL-TF1 | E47: =SUM(C47:D51) -> 0
A52: City of Miami Fire and Rescue | B52: FL-TF2 | C52: 46000 | E52: =SUM(C52:D55) -> 46000
A56: City of Indianapolis - DPS | B56: IN-TF1 | C56: 46000 | E56: =SUM(C56:D60) -> 46000
A61: City of Beverly EMA | B61: MA-TF1 | E61: =SUM(C61:D64) -> 0
A65: Montgomery County Fire and Rescue Service | B65: MD-TF1 | C65: 46000 | E65: =SUM(C65:D69) -> 46000
A70: Boone County Fire Protection District | B70: MO-TF1 | E70: =SUM(C70:D73) -> 0
A74: Lincoln Fire & Rescue | B74: NE-TF1 | E74: =SUM(C74:D77) -> 0
A78: NJ State Police | B78: NJ-TF1 | E78: =SUM(C78:D83) -> 0
A84: Clark County Fire Department | B84: NV-TF1 | C84: 46000 | E84: =SUM(C84:D87) -> 46000
A88: NYC Office of Emergency Management | B88: NY-TF1 | E88: =SUM(C88:D91) -> 0
A92: Miami Valley Fire/EMS Alliance | B92: OH-TF1 | E92: =SUM(C92:D95) -> 0
A96: Philadelphia Fire Department | B96: PA-TF1 | E96: =SUM(C96:D99) -> 0
A100: City of Memphis Fire Service | B100: TN-TF1 | E100: =SUM(C100:D104) -> 0
A105: Texas Engineering Extension Service | B105: TX-TF1 | C105: 46000 | D105: 96500 | E105: =SUM(C105:D108) -> 142500
A109: Salt Lake Urban Search & Rescue | B109: UT-TF1 | E109: =SUM(C109:D112) -> 0
A113: Fairfax County Fire and Rescue Dept. | B113: VA-TF1 | E113: =SUM(C113:D116) -> 0
A117: Virginia Beach Fire Department | B117: VA-TF2 | D117: 96500 | E117: =SUM(C117:D121) -> 96500
A122: Pierce County Dept. of Emerg. Mgmt/US&R | B122: WA-TF1 | E122: =SUM(C122:D126) -> 0
A127: Totals: | C127: =SUM(C2:C126) -> 322000 | D127: =SUM(D2:D126) -> 289500 | E127: =SUM(E2:E126) -> 611500

Sheet Advisory Org - APP G
A1: National Urban Search & Rescue Response System List of Advisory Organization Members May 2018 - April 2019 - Appendix G
A2: Advisory Organization Members | F2: Total Stipend Per TF
A3: Unit Ldr - Exercise | B3: Jarvis Willis | C3: jarvis.willis@lacity.org | D3: 4000 | E3: CA-TF1 | F3: 4000
A4: Subgrp Ldr - Communications | B4: Rich Atwood | C4: Richard.Atwood@fire.lacounty.gov | D4: 4000 | E4: CA-TF2 | F4: 4000
A5: IST Representative | B5: Mike Boyle | C5: Hazmtr@gmail.com | D5: 15000 | E5: CA-TF5 | F5: =SUM(D5:D9) -> 45000
A6: Dep Func Grp Ldr - Operations | B6: Rob Patterson | C6: BlueISTLdr@gmail.com | D6: 4000 | E6: CA-TF5
A7: IST Group Adv - Operations | B7: Kevin Fetterman | C7: kevinfetterman@ocfa.org | D7: 4000 | E7: CA-TF5
A8: Func Grp Ldr - Logistics | B8: Richard Ventura | C8: richardventura@ocfa.org | D8: 12000 | E8: CA-TF5
A9: SAC - WEST Division | B9: Brian Fennessy | C9: brianfennessy@ocfa.org | D9: 10000 | E9: CA-TF5
A10: TFR – WEST Division | B10: Steve McKinster | C10: smckinster@riversideca.gov | D10: 15000 | E10: CA-TF6 | F10: =SUM(D10) -> 15000
A11: TFR — NATIONAL | B11: Rick Bartee | C11: rick.d.bartee@phoenix.gov | D11: 20000 | E11: CA-TF7 | F11: =SUM(D11) -> 20000
A12: Subgrp Ldr - Training | B12: Harry Muns | C12: hmuns@chulavistaca.gov | D12: 4000 | E12: CA-TF8 | F12: =SUM(D12:D13) -> 8000
A13: Unit Ldr - Safety | B13: Jim Colston | C13: colston.jim@gmail.com | D13: 4000 | E13: CA-TF8
A14: SAC - CENTRAL Division | B14: Don Lombardi | C14: Dlombardi@westmetrofire.org | D14: 10000 | E14: CO-TF1 | F14: =SUM(D14:D15) -> 25000
A15: TFR - CENTRAL Division | B15: Rod Tyus | C15: Rtyus@WestMetroFire.org | D15: 15000 | E15: CO-TF1
A16: SAC - EAST Division | B16: Dave Downey | C16: david.downey@miamidade.gov | D16: 10000 | E16: FL-TF1 | F16: =SUM(D16) -> 10000
A17: ADVISORY GROUP CHAIR | B17: William Brown | C17: dtbb@sbcglobal.net | D17: 30000 | E17: IN-TF1 | F17: =SUM(D17:D18) -> 34000
A18: Subgrp Ldr - Transportation | B18: Mark Rapp | C18: mark.rapp2@indy.gov | D18: 4000 | E18: IN-TF1
A19: Subgrp Ldr - Management | B19: Erik Sandstrom | C19: esandstrom@me.com | D19: 4000 | E19: NE-TF1 | F19: =SUM(D19:D23) -> 28000
A20: Dep Func Grp Ldr - Planning | B20: Brad Thavenet | C20: wthavenet@lincoln.ne.gov | D20: 4000 | E20: NE-TF1
A21: Func Grp Ldr - Finance/Admin | B21: Brad Thavenet | C21: wthavenet@lincoln.ne.gov | D21: 12000 | E21: NE-TF1
A22: Dep Func Grp Ldr - Fin/Admin | B22: NE-TF1 to Fund | C22: wthavenet@lincoln.ne.gov | D22: 4000 | E22: NE-TF1
A23: IST Group Adv - Fin/Admin | B23: NE-TF1 to Fund | C23: wthavenet@lincoln.ne.gov | D23: 4000 | E23: NE-TF1
A24: Exer Unit Support | B24: NE-TF1 to Fund | C24: wthavenet@lincoln.ne.gov | D24: 15000 | E24: NE-TF1
A25: Subgrp Ldr - Public Affairs | B25: Karl Lee | C25: kel@co.clark.nv.us | D25: 4000 | E25: NV-TF1 | F25: 4000
A26: TFR – EAST Division | B26: Joe Downey | C26: downeyj@fdny.nyc.gov | D26: 15000 | E26: NY-TF1 | F26: =SUM(D26:D27) -> 19000
A27: Subgrp Ldr - Canine | B27: Scott Mateyaschuk | C27: scott.mateyaschuk@nypd.org | D27: 4000 | E27: NY-TF1
A28: Subgrp Ldr - Rescue | B28: Steve Shupert | C28: steveshupert@gmail.com | D28: 4000 | E28: OH-TF1 | F28: =SUM(D27:D28) -> 8000
A29: Func Grp Ldr - Planning | B29: Mike Cayse | C29: mcayse@ohtf1.com | D29: 12000 | E29: OH-TF1
A30: Subgrp Ldr - Medical | B30: Mike Kurtz | C30: kurtzmp@patf1.org | D30: 4000 | E30: PA-TF1 | F30: =SUM(D29:D30) -> 16000
A31: IST Group Adv - Planning | B31: Martyn Nevil | C31: nevilmr@patf1.org | D31: 4000 | E31: PA-TF1
A32: Func Grp Ldr - Operations | B32: Jeff Saunders | C32: jeff.saunders@teexmail.tamu.edu | D32: 12000 | E32: TX-TF1 | F32: =SUM(D32:D35) -> 24000
A33: IST Group Adv - Logistics | B33: Ken Wright | C33: kenneth.wright@houstontx.gov | D33: 4000 | E33: TX-TF1
A34: Subgrp Ldr - Structures | B34: Pete Keating | C34: p-keating@tamu.edu | D34: 4000 | E34: TX-TF1
A35: Subgrp Ldr - Equipment | B35: Keith Brown | C35: kbrownl1b@yahoo.com | D35: 4000 | E35: TX-TF1
A36: Legal Representative | B36: Brian Roberts | C36: brian.roberts@slcgov.com | D36: 9000 | E36: UT-TF1 | F36: =SUM(D36:D38) -> 38000
A37: Advisory Grp Chair - Deputy | B37: Keith Bevan | C37: kbevan@ufa-slco.org | D37: 24000 | E37: UT-TF1
A38: IT Support | B38: UT-TF1 | C38: kbevan@ufa-slco.org | D38: 5000 | E38: UT-TF1
A39: Subgrp Ldr - Search | B39: Jim Ingledue | C39: jingledu@vbgov.com | D39: 4000 | E39: VA-TF2 | F39: =SUM(D39:D42) -> 16000
A40: Subgrp Ldr - Hazmat | B40: Mark Hundley | C40: mhundley@vbgov.com | D40: 4000 | E40: VA-TF2
...

Sheet Deliverables Summary - APP H
A1: FY 2018 COOPERATIVE AGREEMENT STATEMENT OF WORK -- SUMMARY OF DELIVERABLES APPENDIX H
A3: YEARLY REPORTING REQUIREMENTS
B4: Deliverable | C4: Due Date(s) | D4: Method(s) of Submittal | E4: Point(s) of Contact | F4: Additional Information
A5: 1 | B5: Grant Application | C5: 43329 | D5: Submit initially through through Grants.gov (www.grants.gov). Once determined eligible, submit complete package through NDGrants System | E5: Wanda Casey/Rayna Bal/Shu-Ahn Li - US&R Branch | F5: Use current template (FEMA Form 089-0-10)
A6: =A5+1 -> 2 | B6: Task Force Self-Evaluation | C6: As directed via US&R Program Directive | D6: Email | E6: Buddy Ey | F6: National US&R Reponse System Task Force Self-Evaluation Scoresheet (FEMA Form 089-0-14)
A7: 3 | B7: Equipment Database | C7: January 31st | D7: Submit via email or password-protected thumb drive via postal mail | E7: Dallas Slemp | F7: If mailing a thumb drive, please use express courier to avoid damage through postal system
A8: 4 | B8: Inventory of Federally Owned Equipment (2nd Cache, HEPP & IST, where applicable); Current copy of 18-4 | C8: January 31st
A9: 5 | B9: Time-Phase Force Deployment Data (TPFDD)/"Aircraft Loading Data" form (FEMA Form 089-0-15) | C9: January 31st
A10: 6 | B10: HEPP Maintenance Annual Cost Estimates | C10: October 30th | D10: Submit via email | E10: Andy Hubert | F10: This cost estimate shall be based on actual expenses incurred from the previous year and any additional costs anticipated for the following year.
A11: 7 | B11: Semi-Annual Performance Report (FEMA Form 089-0-11) | C11: January 30th | D11: Submit through NDGrant System | E11: Wanda Casey/Rayna Bal - US&R Branch | F11: FEMA Form 089-0-11
C12: July 30th
A13: 8 | B13: Quarterly Financial Report (SF-425) | C13: October 30th | D13: Submit SF425 through the Payment and Reporting System (PARS) | E13: Tawana Mack - Grant Programs Directorate | F13: Must be submitted in PARS to continue to draw down funds
C14: January 30th
C15: April 30th
C17: July 30th
A18: 9 | B18: Notification of Mobilization or Full-Scale Exercise | C18: No later than 60 days before the exercise begins | D18: Email | E18: Dean Scott/Brian Smith | F18: Notification should be brief, but include dates, scope of exercise, number of participants, and other agencies involved. (not take the place of, and should not be confused with sanction request letters to obtain FEMA approval of TF sponsored training and exercises)
A19: 10 | B19: Exercise After Action Report | C19: Within 90 days of the completion of a mobilization or full-scale exercise, or a training activity with duration of more than 24 consecutive hours. | D19: Postal or Email | E19: Dean Scott/Brian Smith | F19: AAR should be written in a format where lessons learned may be shared with other task forces in the National US&R Response System.
A21: CLOSEOUT REPORTING REQUIREMENTS - Due 90 days after end of the Cooperative Agreement Period of Performance
B22: Deliverable | D22: Method(s) of Submittal | E22: Point(s) of Contact | F22: Additional Information
B23: USE CURRENT CLOSEOUT PACKAGE TEMPLATE (CONTAINS THE FOLLOWING ITEMS with exception of the SF-425): | D23: Email entire package to FEMA-USR-GRANTS@fema.dhs.gov cc: Tawana.Mack@fema.dhs.gov | E23: Tawana Mack - Grant Programs Directorate and Rayna Bal (FEMA-USR-Grants@fema.dhs.gov), US&R Branch
A24: 1 | B24: Final Performance Report (should show actual expenditures, by budget category) | D24: Email as a Microsoft Word or .PDF file | F24: Consolidates and summarizes all prior performance reports
A25: 2 | B25: Final Financial Status Report (SF-425) | D25: Submit through the Payment and Reporting System (PARS) and Email that submission as .pdf file with closeout package
A26: 3 | B26: Financial Payment and Unexpended Funds (if applicable) | D26: Discuss specific method of repayment with Grants Officer at time of closeout | F26: Payment of all unliquidated obligations for FEMA and report unexpended funds to Assistance Officer
A27: 4 | B27: Equipment Inventory | D27: Email | F27: Inventory should include items purchased with Federal grant funds, where current fair market value is equal to or greater than $5,000 per item
A28: 5 | B28: Inventory of unused or residual supplies (if applicable) and Tangible Personal Property Report | D28: Email | F28: Inventory should include items purchased with Federal grant funds, which the aggregate exceeds $5,000 or provide written statement (in cover letter) that such supplies (if any) do not exceed $5,000. If not applicable, state so in Cover Letter
A29: 6 | B29: Cover Letter, including statement of intent for future use of equipment | D29: Email | F29: Include in cover letter stating the equipment/supplies will be used for their intended purpose of the grant over the life cycle of the equipment/supplies.
B31: POC NAME | C31: EMAIL | D31: Phone | E31: ADDRESS
B32: US&R BRANCH CONTACTS
B33: GROUP EMAIL ACCOUNT | C33: FEMA-USR-GRANTS@fema.dhs.gov | D33: N/A | E33: U.S. Department of Homeland Security
B34: Wanda Casey | C34: Wanda.Casey@fema.dhs.gov | D34: 202-646-4013 | E34: Federal Emergency Management Agency
B35: Dean Scott | C35: Dean.Scott@fema.dhs.gov | D35: 202-646-4530 | E35: US&R Branch, ORR-RS-OP-UB
B36: Elwood Ey | C36: elwood.ey-iii@fema.dhs.gov | D36: 202-212-3799 | E36: Attn: (Appropriate name here)
B37: Rayna Bal | C37: Rayna.Bal@fema.dhs.gov | D37: 202-646-7933 | E37: 500 C Street, SW
B38: Andy Hubert | C38: Andrew.Hubert@fema.dhs.gov | D38: 202-212-4896 | E38: Washington, DC 20472
B39: Brian Smith | C39: briand.smith@fema.dhs.gov | D39: 202-212-4316
B42: US&R WAREHOUSE CONTACT - EQUIPMENT INVENTORY ITEMS | E42: Federal Emergency Management Agency US&R Warehouse
B43: Dallas Slemp | C43: Dallas.Slemp@fema.dhs.gov | D43: 540-203-9718 | E43: 13990 Park Center Road
E44: Building 9
E45: Herndon, VA 20171-3222
B47: GRANT PROGRAMS DIRECTORATE CONTACT | E47: U.S. Department of Homeland Security
...

Sheet Sheet1
