Workbook

Sheet Template Instructions
A1: PLEASE READ - Instructions for Completing the Budget Template Worksheets:
A3: Row 1: Enter the Applicant Name, Grant #, & PI Name. (Note: You will NOT enter a Grant # for the first budget year)
A5: Row 3: Enter the title of the Activity. (Note: Once you enter the Activity title on row 3, it will automatically populate to the "TOTAL ALL ACTIVITIES" summary worksheet)
A7: Row 4: Enter the Budget Period start and ending dates for which you are requesting funds (Note: the dates have already been entered for the 1st budget period). On the Contract tab, you would enter the Contractor Name and Contract Period of Performance on this row.
A9: Rows 7 - 25: Enter the names, titles, salaries, etc., of proposed staff that will be working on the activity. Formulas have been entered in column F (to calculate Requested Salary based on the Annual Salary divided by 12 months times the # of mths entered in column C times the % of effort entered for that project), column H (to calculate Fringe based on the Fringe % entered times the Requested Salary amount), and column I (to total the Salary & Fringe amounts from columns F & H). Staff that will be working on (or whose salary should be spread across) multiple activities should be listed on the worksheet for each of those activities, with the % of effort for each person totaling no more than 100%.
A11: Rows 27 - 29: Enter Consultant costs. A formula has been entered in I29 to total the dollar amounts entered in B28-29 and G27-29.
A13: Rows 30 - 34: Itemize Equipment costs. A formula has been entered in I34 to total the dollar amounts entered in B31-34 and G30-34.
A15: Rows 35 - 43: Itemize Supply costs. A formula has been entered in I43 to total the dollar amounts entered in B36-43 and G35-43. It is ok to summarize supply costs in the budget worksheets (e.g., office supplies, lab supplies, etc.) since the detailed expenses will be included in the detailed budget narrative/justification.
A17: Rows 44 - 52: Itemize Travel costs. A formula has been entered in I52 to total the dollar amounts entered in B45-52 and G44-52. It is not necessary to include detailed travel expenses (such as airfare, per diem, hotel, etc.) in the budget worksheets since this information will be included in the detailed budget narrative/justification.
A19: Rows 53 - 60: Itemize Other costs. A formula has been entered in I60 to total the dollar amounts entered in B54-60 and G53-60.
A21: Rows 61 - 66: List each Contractor and the TOTAL amount of each contract on rows 62 - 66. The itemized costs for each Contractor listed should be entered on a separate Contract worksheet (two Contractor worksheets have been created for each activity - you can hide or delete contract worksheets if not needed by right clicking the worksheet tab and selecting 'hide' or 'delete'). The amounts entered in G62-66 should match the amounts in block I75 of the Contract worksheet(s). A formula has been entered in I66 to total the dollar amounts entered in G62-66.
A23: Rows 67 - 69: No entry is needed. A formula has been entered in I69 to total the Direct Cost amounts reflected in blocks I26, I29, I34, I43, I52, I60, and I66.
... A37: ALL OF THE WORKSHEETS ARE LOCKED TO PROTECT THE INTEGRITY OF THE FORMULAS AND FORMATTING. IF YOU NEED ADDITIONAL ACTIVITY TABS OR ROWS ADDED, HAVE ISSUES WITH FORMULAS TOTALING CORRECTLY, OR ANY OTHER ISSUES WITH THE TEMPLATE, PLEASE EMAIL THE BUDGET TEMPLATE FILE TO RAINY HENRY (ROA3@CDC.GOV) AND INDICATE THE ISSUE YOU NEED ASSISTANCE WITH.

Sheet Budget Instructions
A1: Instructions for How to Submit the EIP Activity Budgets:
A3: A separate worksheet/budget should be completed for each proposed activity listed below:
A5: • | B5: Infrastructure and Data Modernization
A6: • | B6: Surveillance and Reporting 1
A7: • | B7: Surveillance and Reporting 2
A8: • | B8: Influenza (FluSurv-NET) - include all surveillance and special studies
A9: • | B9: Respiratory Syncytial Virus (RSV-NET) - include all surveillance and special studies
A10: • | B10: COVID-19 (COVID-NET)
A11: • | B11: Active Bacterial Core surveillance (ABCs) - include all surveillance and special studies, except Pertussis. A separate budget should be completed for Pertussis.
A12: • | B12: Pertussis
A13: • | B13: Foodborne Diseases Active Surveillance Network (FoodNet) - include all surveillance and special studies
A14: • | B14: Heathcare-Associated Infections - Community Interface (HAIC) - include all surveillance and special studies, except Candidemia and Mold Surveillance. Separate worksheets/budgets should be completed for the Candidemia and/or Mold projects, if proposed. Details for each project under the HAIC umbrella should be broken out in the narrative justification.
A15: • | B15: Candidemia Surveillance
A16: • | B16: Mold Surveillance
... A22: • | B22: Other- emerging or site specific activities that aren't listed above and aren't part of one of the core activities

Sheet TOTAL ALL ACTIVITIES
A1: Applicant: | C1: PI: | F1: Grant #:
A3: Emerging Infections Programs (EIP) Cooperative Agreement
A4: FY 2024 Budget Request
A5: BUDGET PERIOD: January 1, 2024 - December 31, 2024
B7: TOTAL FUNDING REQUEST: | D7: =SUM(Activity1!H74, Activity2!H74:I75, Activity3!H74:I75, Activity4!H74:I75, Activity5!H74, Activity6!H74, Activity7!H74, Activity8!H74, Activity9!H74, Activity10!H74, Activity11!H74, Activity12!H74, Activity13!H74, Activity14!H74, Activity15!H74, Activity16!H74, Activity17!H74, Activity18!H74, Activity19!H74, Activity20!H74) -> 0
A10: ACCOUNTING CLASS:
A11: Personnel | C11: =SUM(Activity1!F26, Activity2!F26, Activity3!F26, Activity4!F26, Activity5!F26, Activity6!F26, Activity7!F26, Activity8!F26, Activity9!F26, Activity10!F26, Activity11!F26, Activity12!F26, Activity13!F26, Activity14!F26, Activity15!F26,Activity16!F26, Activity17!F26, Activity18!F26, Activity19!F26, Activity20!F26) -> 0
A12: Fringe | C12: =SUM(Activity1!H26, Activity2!H26, Activity3!H26, Activity4!H26, Activity5!H26, Activity6!H26, Activity7!H26, Activity8!H26, Activity9!H26, Activity10!H26, Activity11!H26, Activity12!H26, Activity13!H26, Activity14!H26, Activity15!H26, Activity16!H26, Activity17!H26, Activity18!H26, Activity19!H26, Activity20!H26) -> 0
A13: Consultant | C13: =SUM(Activity1!I29, Activity2!I29, Activity3!I29, Activity4!I29, Activity5!I29, Activity6!I29, Activity7!I29, Activity8!I29, Activity9!I29, Activity10!I29, Activity11!I29, Activity12!I29, Activity13!I29, Activity14!I29, Activity15!I29, Activity16!I29,Activity17!I29, Activity18!I29, Activity19!I29, Activity20!I29) -> 0
A14: Equipment | C14: =SUM(Activity1!I34, Activity2!I34, Activity3!I34, Activity4!I34, Activity5!I34, Activity6!I34, Activity7!I34, Activity8!I34, Activity9!I34, Activity10!I34, Activity11!I34, Activity12!I34, Activity13!I34, Activity14!I34, Activity15!I34, Activity16!I34, Activity17!I34, Activity18!I34, Activity19!I34, Activity20!I34) -> 0
A15: Supplies | C15: =SUM(Activity1!I43, Activity2!I43, Activity3!I43,Activity4!I43, Activity5!I43, Activity6!I43, Activity7!I43, Activity8!I43, Activity9!I43, Activity10!I43, Activity11!I43, Activity12!I43, Activity13!I43, Activity14!I43, Activity15!I43, Activity16!I43, Activity17!I43, Activity18!I43, Activity19!I43, Activity20!I43) -> 0
A16: Travel | C16: =SUM(Activity1!I52, Activity2!I52, Activity3!I52, Activity4!I52, Activity5!I52, Activity6!I52, Activity7!I52, Activity8!I52, Activity9!I52, Activity10!I52, Activity11!I52, Activity12!I52, Activity13!I52, Activity14!I52, Activity15!I52, Activity16!I52, Activity17!I52, Activity18!I52, Activity19!I52, Activity20!I52) -> 0
A17: Other | C17: =SUM(Activity1!I60, Activity2!I60, Activity3!I60, Activity4!I60, Activity5!I60, Activity6!I60, Activity7!I60, Activity8!I60, Activity9!I60, Activity10!I60, Activity11!I60, Activity12!I60, Activity13!I60, Activity14!I60, Activity15!I60, Activity16!I60, Activity17!I60,Activity18!I60, Activity19!I60, Activity20!I60) -> 0
A18: Contractual | C18: =SUM(Activity1!I66, Activity2!I66, Activity3!I66, Activity4!I66, Activity5!I66, Activity6!I66, Activity7!I66, Activity8!I66, Activity9!I66, Activity10!I66, Activity11!I66, Activity12!I66, Activity13!I66, Activity14!I66, Activity15!I66, Activity16!I66, Activity17!I66, Activity18!I66, Activity19!I66, Activity20!I66) -> 0
A19: Direct Costs | C19: =SUM(Activity1!H68, Activity2!H68:I69, Activity3!H68:I69, Activity4!H68:I69, Activity5!H68, Activity6!H68, Activity7!H68, Activity8!H68, Activity9!H68, Activity10!H68, Activity11!H68, Activity12!H68, Activity13!H68, Activity14!H68, Activity15!H68, Activity16!H68, Activity17!H68, Activity18!H68, Activity19!H68, Activity20!H68) -> 0
A20: Indirect Costs | C20: =SUM(Activity1!I72, Activity2!I72, Activity3!I72, Activity4!I72, Activity5!I72, Activity6!I72, Activity7!I72, Activity8!I72, Activity9!I72, Activity10!I72, Activity11!I72, Activity12!I72, Activity13!I72, Activity14!I72, Activity15!I72, Activity16!I72, Activity17!I72, Activity18!I72, Activity19!I72, Activity20!I72) -> 0
A21: Total | C21: =SUM(C19:C20) -> 0
A26: ACTIVITY:
A27: =Activity1!A3 -> 0 | C27: =Activity1!H74 -> 0
A28: =Activity2!A3:F3 -> 0 | C28: =SUM(Activity2!H74:I75) -> 0
A29: =Activity3!A3:F3 -> 0 | C29: =SUM(Activity3!H74:I75) -> 0
A30: =Activity4!A3:F3 -> 0 | C30: =SUM(Activity4!H74:I75) -> 0
A31: =Activity5!A3 -> 0 | C31: =Activity5!H74 -> 0
A32: =Activity6!A3 -> 0 | C32: =Activity6!H74 -> 0
A33: =Activity7!A3 -> 0 | C33: =Activity7!H74 -> 0
A34: =Activity8!A3 -> 0 | C34: =Activity8!H74 -> 0
A35: =Activity9!A3 -> 0 | C35: =Activity9!H74 -> 0
A36: =Activity10!A3 -> 0 | C36: =Activity10!H74 -> 0
A37: =Activity11!A3 -> 0 | C37: =Activity11!H74 -> 0
A38: =Activity12!A3 -> 0 | C38: =Activity12!H74 -> 0
A39: =Activity13!A3 -> 0 | C39: =Activity13!H74 -> 0
A40: =Activity14!A3 -> 0 | C40: =Activity14!H74 -> 0
A41: =Activity15!A3 -> 0 | C41: =Activity15!H74 -> 0
A42: =Activity16!A3 -> 0 | C42: =Activity16!H74 -> 0
A43: =Activity17!A3 -> 0 | C43: =Activity17!H74 -> 0
A44: =Activity18!A3 -> 0 | C44: =Activity18!H74 -> 0
A45: =Activity19!A3 -> 0 | C45: =Activity19!H74 -> 0
A46: =Activity20!A3 -> 0 | C46: =Activity20!H74 -> 0

Sheet Activity1
A1: Applicant: | C1: PI: | F1: Grant Number:
A4: Budget Period: January 1, 2024 - December 31, 2024
A5: PERSONNEL & FRINGE (Applicant organization only) | E5: AMOUNT REQUESTED (ROUND to even dollars)
A6: NAME | B6: TITLE/ROLE | C6: # OF MTHS | D6: ANNUAL SALARY | E6: % OF TIME | F6: SALARY REQUEST (for this project) | G6: FRINGE % | H6: FRINGE & BENEFITS | I6: TOTALS
D7: 0 | F7: =ROUND(SUM(D7/12)*C7*E7,0) -> 0 | H7: =ROUND(F7*G7,0) -> 0 | I7: =SUM(F7, H7) -> 0
D8: 0 | F8: =ROUND(SUM(D8/12)*C8*E8,0) -> 0 | H8: =ROUND(F8*G8,0) -> 0 | I8: =SUM(F8, H8) -> 0
D9: 0 | F9: =ROUND(SUM(D9/12)*C9*E9,0) -> 0 | H9: =ROUND(F9*G9,0) -> 0 | I9: =SUM(F9, H9) -> 0
D10: 0 | F10: =ROUND(SUM(D10/12)*C10*E10,0) -> 0 | H10: =ROUND(F10*G10,0) -> 0 | I10: =SUM(F10, H10) -> 0
D11: 0 | F11: =ROUND(SUM(D11/12)*C11*E11,0) -> 0 | H11: =ROUND(F11*G11,0) -> 0 | I11: =SUM(F11, H11) -> 0
D12: 0 | F12: =ROUND(SUM(D12/12)*C12*E12,0) -> 0 | H12: =ROUND(F12*G12,0) -> 0 | I12: =SUM(F12, H12) -> 0
D13: 0 | F13: =ROUND(SUM(D13/12)*C13*E13,0) -> 0 | H13: =ROUND(F13*G13,0) -> 0 | I13: =SUM(F13, H13) -> 0
D14: 0 | F14: =ROUND(SUM(D14/12)*C14*E14,0) -> 0 | H14: =ROUND(F14*G14,0) -> 0 | I14: =SUM(F14, H14) -> 0
D15: 0 | F15: =ROUND(SUM(D15/12)*C15*E15,0) -> 0 | H15: =ROUND(F15*G15,0) -> 0 | I15: =SUM(F15, H15) -> 0
D16: 0 | F16: =ROUND(SUM(D16/12)*C16*E16,0) -> 0 | H16: =ROUND(F16*G16,0) -> 0 | I16: =SUM(F16, H16) -> 0
D17: 0 | F17: =ROUND(SUM(D17/12)*C17*E17,0) -> 0 | H17: =ROUND(F17*G17,0) -> 0 | I17: =SUM(F17, H17) -> 0
D18: 0 | F18: =ROUND(SUM(D18/12)*C18*E18,0) -> 0 | H18: =ROUND(F18*G18,0) -> 0 | I18: =SUM(F18, H18) -> 0
... D25: 0 | F25: =ROUND(SUM(D25/12)*C25*E25,0) -> 0 | H25: =ROUND(F25*G25,0) -> 0 | I25: =SUM(F25, H25) -> 0
F26: =SUM(F7:F25) -> 0 | H26: =SUM(H7:H25) -> 0 | I26: =SUM(I7:I25) -> 0
A27: CONSULTANT COSTS | E27: 0
B28: 0 | E28: 0
B29: 0 | E29: 0 | I29: =SUM(B28:B29, E27:G29) -> 0
A30: EQUIPMENT (Itemize) | E30: 0
B31: 0 | E31: 0
B32: 0 | E32: 0
B33: 0 | E33: 0
B34: 0 | E34: 0 | I34: =SUM(B31:B34, E30:G34) -> 0
A35: SUPPLIES (Itemize) | E35: 0
B36: 0 | E36: 0
B37: 0 | E37: 0
B38: 0 | E38: 0
B39: 0 | E39: 0
B40: 0 | E40: 0
B41: 0 | E41: 0
B42: 0 | E42: 0
B43: 0 | E43: 0 | I43: =SUM(B36:B43, E35:G43) -> 0
A44: TRAVEL | E44: 0
B45: 0 | E45: 0
B46: 0 | E46: 0
B47: 0 | E47: 0
B48: 0 | E48: 0
...

Sheet Activity1 Contract1
A1: Applicant: | C1: PI: | F1: Grant Number:
G3: CONTRACTUAL
A4: Contract Period of Performance: January 1, 2024 - December 31, 2024 | E4: Contractor:
A5: PERSONNEL & FRINGE (Applicant organization only) | E5: AMOUNT REQUESTED (ROUND to even dollars)
A6: NAME | B6: TITLE/ROLE | C6: # OF MTHS | D6: ANNUAL SALARY | E6: % OF TIME | F6: SALARY REQUEST (for this project) | G6: FRINGE % | H6: FRINGE BENEFITS | I6: TOTALS
D7: 0 | F7: =ROUND(SUM(D7/12)*C7*E7,0) -> 0 | H7: =ROUND(F7*G7,0) -> 0 | I7: =SUM(F7, H7) -> 0
D8: 0 | F8: =ROUND(SUM(D8/12)*C8*E8,0) -> 0 | H8: =ROUND(F8*G8,0) -> 0 | I8: =SUM(F8, H8) -> 0
D9: 0 | F9: =ROUND(SUM(D9/12)*C9*E9,0) -> 0 | H9: =ROUND(F9*G9,0) -> 0 | I9: =SUM(F9, H9) -> 0
D10: 0 | F10: =ROUND(SUM(D10/12)*C10*E10,0) -> 0 | H10: =ROUND(F10*G10,0) -> 0 | I10: =SUM(F10, H10) -> 0
D11: 0 | F11: =ROUND(SUM(D11/12)*C11*E11,0) -> 0 | H11: =ROUND(F11*G11,0) -> 0 | I11: =SUM(F11, H11) -> 0
D12: 0 | F12: =ROUND(SUM(D12/12)*C12*E12,0) -> 0 | H12: =ROUND(F12*G12,0) -> 0 | I12: =SUM(F12, H12) -> 0
D13: 0 | F13: =ROUND(SUM(D13/12)*C13*E13,0) -> 0 | H13: =ROUND(F13*G13,0) -> 0 | I13: =SUM(F13, H13) -> 0
D14: 0 | F14: =ROUND(SUM(D14/12)*C14*E14,0) -> 0 | H14: =ROUND(F14*G14,0) -> 0 | I14: =SUM(F14, H14) -> 0
D15: 0 | F15: =ROUND(SUM(D15/12)*C15*E15,0) -> 0 | H15: =ROUND(F15*G15,0) -> 0 | I15: =SUM(F15, H15) -> 0
D16: 0 | F16: =ROUND(SUM(D16/12)*C16*E16,0) -> 0 | H16: =ROUND(F16*G16,0) -> 0 | I16: =SUM(F16, H16) -> 0
D17: 0 | F17: =ROUND(SUM(D17/12)*C17*E17,0) -> 0 | H17: =ROUND(F17*G17,0) -> 0 | I17: =SUM(F17, H17) -> 0
D18: 0 | F18: =ROUND(SUM(D18/12)*C18*E18,0) -> 0 | H18: =ROUND(F18*G18,0) -> 0 | I18: =SUM(F18, H18) -> 0
... D25: 0 | F25: =ROUND(SUM(D25/12)*C25*E25,0) -> 0 | H25: =ROUND(F25*G25,0) -> 0 | I25: =SUM(F25, H25) -> 0
F26: =SUM(F7:F25) -> 0 | H26: =SUM(H7:H25) -> 0 | I26: =SUM(I7:I25) -> 0
A27: CONSULTANT COSTS | E27: 0
B28: 0 | E28: 0
B29: 0 | E29: 0 | I29: =SUM(B28:B29, E27:G29) -> 0
A30: EQUIPMENT (Itemize) | E30: 0
B31: 0 | E31: 0
B32: 0 | E32: 0
B33: 0 | E33: 0
B34: 0 | E34: 0 | I34: =SUM(B31:B34, E30:G34) -> 0
A35: SUPPLIES (Itemize) | E35: 0
B36: 0 | E36: 0
B37: 0 | E37: 0
B38: 0 | E38: 0
B39: 0 | E39: 0
B40: 0 | E40: 0
B41: 0 | E41: 0
B42: 0 | E42: 0
B43: 0 | E43: 0 | I43: =SUM(B36:B43, E35:G43) -> 0
A44: TRAVEL | E44: 0
B45: 0 | E45: 0
B46: 0 | E46: 0
B47: 0 | E47: 0
...

Sheet Activity1 Contract2
A1: Applicant: | C1: PI: | F1: Grant Number:
G3: CONTRACTUAL
A4: Contract Period of Performance: January 1, 2024 - December 31, 2024 | E4: Contractor:
A5: PERSONNEL & FRINGE (Applicant organization only) | E5: AMOUNT REQUESTED (ROUND to even dollars)
A6: NAME | B6: TITLE/ROLE | C6: # OF MTHS | D6: ANNUAL SALARY | E6: % OF TIME | F6: SALARY REQUEST (for this project) | G6: FRINGE % | H6: FRINGE BENEFITS | I6: TOTALS
D7: 0 | F7: =ROUND(SUM(D7/12)*C7*E7,0) -> 0 | H7: =ROUND(F7*G7,0) -> 0 | I7: =SUM(F7, H7) -> 0
D8: 0 | F8: =ROUND(SUM(D8/12)*C8*E8,0) -> 0 | H8: =ROUND(F8*G8,0) -> 0 | I8: =SUM(F8, H8) -> 0
D9: 0 | F9: =ROUND(SUM(D9/12)*C9*E9,0) -> 0 | H9: =ROUND(F9*G9,0) -> 0 | I9: =SUM(F9, H9) -> 0
D10: 0 | F10: =ROUND(SUM(D10/12)*C10*E10,0) -> 0 | H10: =ROUND(F10*G10,0) -> 0 | I10: =SUM(F10, H10) -> 0
D11: 0 | F11: =ROUND(SUM(D11/12)*C11*E11,0) -> 0 | H11: =ROUND(F11*G11,0) -> 0 | I11: =SUM(F11, H11) -> 0
D12: 0 | F12: =ROUND(SUM(D12/12)*C12*E12,0) -> 0 | H12: =ROUND(F12*G12,0) -> 0 | I12: =SUM(F12, H12) -> 0
D13: 0 | F13: =ROUND(SUM(D13/12)*C13*E13,0) -> 0 | H13: =ROUND(F13*G13,0) -> 0 | I13: =SUM(F13, H13) -> 0
D14: 0 | F14: =ROUND(SUM(D14/12)*C14*E14,0) -> 0 | H14: =ROUND(F14*G14,0) -> 0 | I14: =SUM(F14, H14) -> 0
D15: 0 | F15: =ROUND(SUM(D15/12)*C15*E15,0) -> 0 | H15: =ROUND(F15*G15,0) -> 0 | I15: =SUM(F15, H15) -> 0
D16: 0 | F16: =ROUND(SUM(D16/12)*C16*E16,0) -> 0 | H16: =ROUND(F16*G16,0) -> 0 | I16: =SUM(F16, H16) -> 0
D17: 0 | F17: =ROUND(SUM(D17/12)*C17*E17,0) -> 0 | H17: =ROUND(F17*G17,0) -> 0 | I17: =SUM(F17, H17) -> 0
D18: 0 | F18: =ROUND(SUM(D18/12)*C18*E18,0) -> 0 | H18: =ROUND(F18*G18,0) -> 0 | I18: =SUM(F18, H18) -> 0
... D25: 0 | F25: =ROUND(SUM(D25/12)*C25*E25,0) -> 0 | H25: =ROUND(F25*G25,0) -> 0 | I25: =SUM(F25, H25) -> 0
F26: =SUM(F7:F25) -> 0 | H26: =SUM(H7:H25) -> 0 | I26: =SUM(I7:I25) -> 0
A27: CONSULTANT COSTS | E27: 0
B28: 0 | E28: 0
B29: 0 | E29: 0 | I29: =SUM(B28:B29, E27:G29) -> 0
A30: EQUIPMENT (Itemize) | E30: 0
B31: 0 | E31: 0
B32: 0 | E32: 0
B33: 0 | E33: 0
B34: 0 | E34: 0 | I34: =SUM(B31:B34, E30:G34) -> 0
A35: SUPPLIES (Itemize) | E35: 0
B36: 0 | E36: 0
B37: 0 | E37: 0
B38: 0 | E38: 0
B39: 0 | E39: 0
B40: 0 | E40: 0
B41: 0 | E41: 0
B42: 0 | E42: 0
B43: 0 | E43: 0 | I43: =SUM(B36:B43, E35:G43) -> 0
A44: TRAVEL | E44: 0
B45: 0 | E45: 0
B46: 0 | E46: 0
B47: 0 | E47: 0
...

Sheet Activity2
A1: Applicant: | C1: PI: | F1: Grant Number:
A4: Budget Period: January 1, 2024 - December 31, 2024
A5: PERSONNEL & FRINGE (Applicant organization only) | E5: AMOUNT REQUESTED (ROUND to even dollars)
A6: NAME | B6: TITLE/ROLE | C6: # OF MTHS | D6: ANNUAL SALARY | E6: % OF TIME | F6: SALARY REQUEST (for this project) | G6: FRINGE % | H6: FRINGE BENEFITS | I6: TOTALS
D7: 0 | F7: =ROUND(SUM(D7/12)*C7*E7,0) -> 0 | H7: =ROUND(F7*G7,0) -> 0 | I7: =SUM(F7, H7) -> 0
D8: 0 | F8: =ROUND(SUM(D8/12)*C8*E8,0) -> 0 | H8: =ROUND(F8*G8,0) -> 0 | I8: =SUM(F8, H8) -> 0
D9: 0 | F9: =ROUND(SUM(D9/12)*C9*E9,0) -> 0 | H9: =ROUND(F9*G9,0) -> 0 | I9: =SUM(F9, H9) -> 0
D10: 0 | F10: =ROUND(SUM(D10/12)*C10*E10,0) -> 0 | H10: =ROUND(F10*G10,0) -> 0 | I10: =SUM(F10, H10) -> 0
D11: 0 | F11: =ROUND(SUM(D11/12)*C11*E11,0) -> 0 | H11: =ROUND(F11*G11,0) -> 0 | I11: =SUM(F11, H11) -> 0
D12: 0 | F12: =ROUND(SUM(D12/12)*C12*E12,0) -> 0 | H12: =ROUND(F12*G12,0) -> 0 | I12: =SUM(F12, H12) -> 0
D13: 0 | F13: =ROUND(SUM(D13/12)*C13*E13,0) -> 0 | H13: =ROUND(F13*G13,0) -> 0 | I13: =SUM(F13, H13) -> 0
D14: 0 | F14: =ROUND(SUM(D14/12)*C14*E14,0) -> 0 | H14: =ROUND(F14*G14,0) -> 0 | I14: =SUM(F14, H14) -> 0
D15: 0 | F15: =ROUND(SUM(D15/12)*C15*E15,0) -> 0 | H15: =ROUND(F15*G15,0) -> 0 | I15: =SUM(F15, H15) -> 0
D16: 0 | F16: =ROUND(SUM(D16/12)*C16*E16,0) -> 0 | H16: =ROUND(F16*G16,0) -> 0 | I16: =SUM(F16, H16) -> 0
D17: 0 | F17: =ROUND(SUM(D17/12)*C17*E17,0) -> 0 | H17: =ROUND(F17*G17,0) -> 0 | I17: =SUM(F17, H17) -> 0
D18: 0 | F18: =ROUND(SUM(D18/12)*C18*E18,0) -> 0 | H18: =ROUND(F18*G18,0) -> 0 | I18: =SUM(F18, H18) -> 0
... D25: 0 | F25: =ROUND(SUM(D25/12)*C25*E25,0) -> 0 | H25: =ROUND(F25*G25,0) -> 0 | I25: =SUM(F25, H25) -> 0
F26: =SUM(F7:F25) -> 0 | H26: =SUM(H7:H25) -> 0 | I26: =SUM(I7:I25) -> 0
A27: CONSULTANT COSTS | E27: 0
B28: 0 | E28: 0
B29: 0 | E29: 0 | I29: =SUM(B28:B29, E27:G29) -> 0
A30: EQUIPMENT (Itemize) | E30: 0
B31: 0 | E31: 0
B32: 0 | E32: 0
B33: 0 | E33: 0
B34: 0 | E34: 0 | I34: =SUM(B31:B34, E30:G34) -> 0
A35: SUPPLIES (Itemize) | E35: 0
B36: 0 | E36: 0
B37: 0 | E37: 0
B38: 0 | E38: 0
B39: 0 | E39: 0
B40: 0 | E40: 0
B41: 0 | E41: 0
B42: 0 | E42: 0
B43: 0 | E43: 0 | I43: =SUM(B36:B43, E35:G43) -> 0
A44: TRAVEL | E44: 0
B45: 0 | E45: 0
B46: 0 | E46: 0
B47: 0 | E47: 0
B48: 0 | E48: 0
...

Sheet Activity2 Contract1
A1: Applicant: | C1: PI: | F1: Grant Number:
G3: CONTRACTUAL
A4: Contract Period of Performance: January 1, 2024 - December 31, 2024 | E4: Contractor:
A5: PERSONNEL & FRINGE (Applicant organization only) | E5: AMOUNT REQUESTED (ROUND to even dollars)
A6: NAME | B6: TITLE/ROLE | C6: # OF MTHS | D6: ANNUAL SALARY | E6: % OF TIME | F6: SALARY REQUEST (for this project) | G6: FRINGE % | H6: FRINGE BENEFITS | I6: TOTALS
D7: 0 | F7: =ROUND(SUM(D7/12)*C7*E7,0) -> 0 | H7: =ROUND(F7*G7,0) -> 0 | I7: =SUM(F7, H7) -> 0
D8: 0 | F8: =ROUND(SUM(D8/12)*C8*E8,0) -> 0 | H8: =ROUND(F8*G8,0) -> 0 | I8: =SUM(F8, H8) -> 0
D9: 0 | F9: =ROUND(SUM(D9/12)*C9*E9,0) -> 0 | H9: =ROUND(F9*G9,0) -> 0 | I9: =SUM(F9, H9) -> 0
D10: 0 | F10: =ROUND(SUM(D10/12)*C10*E10,0) -> 0 | H10: =ROUND(F10*G10,0) -> 0 | I10: =SUM(F10, H10) -> 0
D11: 0 | F11: =ROUND(SUM(D11/12)*C11*E11,0) -> 0 | H11: =ROUND(F11*G11,0) -> 0 | I11: =SUM(F11, H11) -> 0
D12: 0 | F12: =ROUND(SUM(D12/12)*C12*E12,0) -> 0 | H12: =ROUND(F12*G12,0) -> 0 | I12: =SUM(F12, H12) -> 0
D13: 0 | F13: =ROUND(SUM(D13/12)*C13*E13,0) -> 0 | H13: =ROUND(F13*G13,0) -> 0 | I13: =SUM(F13, H13) -> 0
D14: 0 | F14: =ROUND(SUM(D14/12)*C14*E14,0) -> 0 | H14: =ROUND(F14*G14,0) -> 0 | I14: =SUM(F14, H14) -> 0
D15: 0 | F15: =ROUND(SUM(D15/12)*C15*E15,0) -> 0 | H15: =ROUND(F15*G15,0) -> 0 | I15: =SUM(F15, H15) -> 0
D16: 0 | F16: =ROUND(SUM(D16/12)*C16*E16,0) -> 0 | H16: =ROUND(F16*G16,0) -> 0 | I16: =SUM(F16, H16) -> 0
D17: 0 | F17: =ROUND(SUM(D17/12)*C17*E17,0) -> 0 | H17: =ROUND(F17*G17,0) -> 0 | I17: =SUM(F17, H17) -> 0
D18: 0 | F18: =ROUND(SUM(D18/12)*C18*E18,0) -> 0 | H18: =ROUND(F18*G18,0) -> 0 | I18: =SUM(F18, H18) -> 0
... D25: 0 | F25: =ROUND(SUM(D25/12)*C25*E25,0) -> 0 | H25: =ROUND(F25*G25,0) -> 0 | I25: =SUM(F25, H25) -> 0
F26: =SUM(F7:F25) -> 0 | H26: =SUM(H7:H25) -> 0 | I26: =SUM(I7:I25) -> 0
A27: CONSULTANT COSTS | E27: 0
B28: 0 | E28: 0
B29: 0 | E29: 0 | I29: =SUM(B28:B29, E27:G29) -> 0
A30: EQUIPMENT (Itemize) | E30: 0
B31: 0 | E31: 0
B32: 0 | E32: 0
B33: 0 | E33: 0
B34: 0 | E34: 0 | I34: =SUM(B31:B34, E30:G34) -> 0
A35: SUPPLIES (Itemize) | E35: 0
B36: 0 | E36: 0
B37: 0 | E37: 0
B38: 0 | E38: 0
B39: 0 | E39: 0
B40: 0 | E40: 0
B41: 0 | E41: 0
B42: 0 | E42: 0
B43: 0 | E43: 0 | I43: =SUM(B36:B43, E35:G43) -> 0
A44: TRAVEL | E44: 0
B45: 0 | E45: 0
B46: 0 | E46: 0
B47: 0 | E47: 0
...

Sheet Activity2 Contract2
A1: Applicant: | C1: PI: | F1: Grant Number:
G3: CONTRACTUAL
A4: Contract Period of Performance: January 1, 2024 - December 31, 2024 | E4: Contractor:
A5: PERSONNEL & FRINGE (Applicant organization only) | E5: AMOUNT REQUESTED (ROUND to even dollars)
A6: NAME | B6: TITLE/ROLE | C6: # OF MTHS | D6: ANNUAL SALARY | E6: % OF TIME | F6: SALARY REQUEST (for this project) | G6: FRINGE % | H6: FRINGE BENEFITS | I6: TOTALS
D7: 0 | F7: =ROUND(SUM(D7/12)*C7*E7,0) -> 0 | H7: =ROUND(F7*G7,0) -> 0 | I7: =SUM(F7, H7) -> 0
D8: 0 | F8: =ROUND(SUM(D8/12)*C8*E8,0) -> 0 | H8: =ROUND(F8*G8,0) -> 0 | I8: =SUM(F8, H8) -> 0
D9: 0 | F9: =ROUND(SUM(D9/12)*C9*E9,0) -> 0 | H9: =ROUND(F9*G9,0) -> 0 | I9: =SUM(F9, H9) -> 0
D10: 0 | F10: =ROUND(SUM(D10/12)*C10*E10,0) -> 0 | H10: =ROUND(F10*G10,0) -> 0 | I10: =SUM(F10, H10) -> 0
D11: 0 | F11: =ROUND(SUM(D11/12)*C11*E11,0) -> 0 | H11: =ROUND(F11*G11,0) -> 0 | I11: =SUM(F11, H11) -> 0
D12: 0 | F12: =ROUND(SUM(D12/12)*C12*E12,0) -> 0 | H12: =ROUND(F12*G12,0) -> 0 | I12: =SUM(F12, H12) -> 0
D13: 0 | F13: =ROUND(SUM(D13/12)*C13*E13,0) -> 0 | H13: =ROUND(F13*G13,0) -> 0 | I13: =SUM(F13, H13) -> 0
D14: 0 | F14: =ROUND(SUM(D14/12)*C14*E14,0) -> 0 | H14: =ROUND(F14*G14,0) -> 0 | I14: =SUM(F14, H14) -> 0
D15: 0 | F15: =ROUND(SUM(D15/12)*C15*E15,0) -> 0 | H15: =ROUND(F15*G15,0) -> 0 | I15: =SUM(F15, H15) -> 0
D16: 0 | F16: =ROUND(SUM(D16/12)*C16*E16,0) -> 0 | H16: =ROUND(F16*G16,0) -> 0 | I16: =SUM(F16, H16) -> 0
D17: 0 | F17: =ROUND(SUM(D17/12)*C17*E17,0) -> 0 | H17: =ROUND(F17*G17,0) -> 0 | I17: =SUM(F17, H17) -> 0
D18: 0 | F18: =ROUND(SUM(D18/12)*C18*E18,0) -> 0 | H18: =ROUND(F18*G18,0) -> 0 | I18: =SUM(F18, H18) -> 0
... D25: 0 | F25: =ROUND(SUM(D25/12)*C25*E25,0) -> 0 | H25: =ROUND(F25*G25,0) -> 0 | I25: =SUM(F25, H25) -> 0
F26: =SUM(F7:F25) -> 0 | H26: =SUM(H7:H25) -> 0 | I26: =SUM(I7:I25) -> 0
A27: CONSULTANT COSTS | E27: 0
B28: 0 | E28: 0
B29: 0 | E29: 0 | I29: =SUM(B28:B29, E27:G29) -> 0
A30: EQUIPMENT (Itemize) | E30: 0
B31: 0 | E31: 0
B32: 0 | E32: 0
B33: 0 | E33: 0
B34: 0 | E34: 0 | I34: =SUM(B31:B34, E30:G34) -> 0
A35: SUPPLIES (Itemize) | E35: 0
B36: 0 | E36: 0
B37: 0 | E37: 0
B38: 0 | E38: 0
B39: 0 | E39: 0
B40: 0 | E40: 0
B41: 0 | E41: 0
B42: 0 | E42: 0
B43: 0 | E43: 0 | I43: =SUM(B36:B43, E35:G43) -> 0
A44: TRAVEL | E44: 0
B45: 0 | E45: 0
B46: 0 | E46: 0
B47: 0 | E47: 0
...

Sheet Activity3
A1: Applicant: | C1: PI: | F1: Grant Number:
A4: Budget Period: January 1, 2024 - December 31, 2024
A5: PERSONNEL & FRINGE (Applicant organization only) | E5: AMOUNT REQUESTED (ROUND to even dollars)
A6: NAME | B6: TITLE/ROLE | C6: # OF MTHS | D6: ANNUAL SALARY | E6: % OF TIME | F6: SALARY REQUEST (for this project) | G6: FRINGE % | H6: FRINGE BENEFITS | I6: TOTALS
D7: 0 | F7: =ROUND(SUM(D7/12)*C7*E7,0) -> 0 | H7: =ROUND(F7*G7,0) -> 0 | I7: =SUM(F7, H7) -> 0
D8: 0 | F8: =ROUND(SUM(D8/12)*C8*E8,0) -> 0 | H8: =ROUND(F8*G8,0) -> 0 | I8: =SUM(F8, H8) -> 0
D9: 0 | F9: =ROUND(SUM(D9/12)*C9*E9,0) -> 0 | H9: =ROUND(F9*G9,0) -> 0 | I9: =SUM(F9, H9) -> 0
D10: 0 | F10: =ROUND(SUM(D10/12)*C10*E10,0) -> 0 | H10: =ROUND(F10*G10,0) -> 0 | I10: =SUM(F10, H10) -> 0
D11: 0 | F11: =ROUND(SUM(D11/12)*C11*E11,0) -> 0 | H11: =ROUND(F11*G11,0) -> 0 | I11: =SUM(F11, H11) -> 0
D12: 0 | F12: =ROUND(SUM(D12/12)*C12*E12,0) -> 0 | H12: =ROUND(F12*G12,0) -> 0 | I12: =SUM(F12, H12) -> 0
D13: 0 | F13: =ROUND(SUM(D13/12)*C13*E13,0) -> 0 | H13: =ROUND(F13*G13,0) -> 0 | I13: =SUM(F13, H13) -> 0
D14: 0 | F14: =ROUND(SUM(D14/12)*C14*E14,0) -> 0 | H14: =ROUND(F14*G14,0) -> 0 | I14: =SUM(F14, H14) -> 0
D15: 0 | F15: =ROUND(SUM(D15/12)*C15*E15,0) -> 0 | H15: =ROUND(F15*G15,0) -> 0 | I15: =SUM(F15, H15) -> 0
D16: 0 | F16: =ROUND(SUM(D16/12)*C16*E16,0) -> 0 | H16: =ROUND(F16*G16,0) -> 0 | I16: =SUM(F16, H16) -> 0
D17: 0 | F17: =ROUND(SUM(D17/12)*C17*E17,0) -> 0 | H17: =ROUND(F17*G17,0) -> 0 | I17: =SUM(F17, H17) -> 0
D18: 0 | F18: =ROUND(SUM(D18/12)*C18*E18,0) -> 0 | H18: =ROUND(F18*G18,0) -> 0 | I18: =SUM(F18, H18) -> 0
... D25: 0 | F25: =ROUND(SUM(D25/12)*C25*E25,0) -> 0 | H25: =ROUND(F25*G25,0) -> 0 | I25: =SUM(F25, H25) -> 0
F26: =SUM(F7:F25) -> 0 | H26: =SUM(H7:H25) -> 0 | I26: =SUM(I7:I25) -> 0
A27: CONSULTANT COSTS | E27: 0
B28: 0 | E28: 0
B29: 0 | E29: 0 | I29: =SUM(B28:B29, E27:G29) -> 0
A30: EQUIPMENT (Itemize) | E30: 0
B31: 0 | E31: 0
B32: 0 | E32: 0
B33: 0 | E33: 0
B34: 0 | E34: 0 | I34: =SUM(B31:B34, E30:G34) -> 0
A35: SUPPLIES (Itemize) | E35: 0
B36: 0 | E36: 0
B37: 0 | E37: 0
B38: 0 | E38: 0
B39: 0 | E39: 0
B40: 0 | E40: 0
B41: 0 | E41: 0
B42: 0 | E42: 0
B43: 0 | E43: 0 | I43: =SUM(B36:B43, E35:G43) -> 0
A44: TRAVEL | E44: 0
B45: 0 | E45: 0
B46: 0 | E46: 0
B47: 0 | E47: 0
B48: 0 | E48: 0
...

Sheet Activity3 Contract1
A1: Applicant: | C1: PI: | F1: Grant Number:
G3: CONTRACTUAL
A4: Contract Period of Performance: January 1, 2024 - December 31, 2024 | E4: Contractor:
A5: PERSONNEL & FRINGE (Applicant organization only) | E5: AMOUNT REQUESTED (ROUND to even dollars)
A6: NAME | B6: TITLE/ROLE | C6: # OF MTHS | D6: ANNUAL SALARY | E6: % OF TIME | F6: SALARY REQUEST (for this project) | G6: FRINGE % | H6: FRINGE BENEFITS | I6: TOTALS
D7: 0 | F7: =ROUND(SUM(D7/12)*C7*E7,0) -> 0 | H7: =ROUND(F7*G7,0) -> 0 | I7: =SUM(F7, H7) -> 0
D8: 0 | F8: =ROUND(SUM(D8/12)*C8*E8,0) -> 0 | H8: =ROUND(F8*G8,0) -> 0 | I8: =SUM(F8, H8) -> 0
D9: 0 | F9: =ROUND(SUM(D9/12)*C9*E9,0) -> 0 | H9: =ROUND(F9*G9,0) -> 0 | I9: =SUM(F9, H9) -> 0
D10: 0 | F10: =ROUND(SUM(D10/12)*C10*E10,0) -> 0 | H10: =ROUND(F10*G10,0) -> 0 | I10: =SUM(F10, H10) -> 0
D11: 0 | F11: =ROUND(SUM(D11/12)*C11*E11,0) -> 0 | H11: =ROUND(F11*G11,0) -> 0 | I11: =SUM(F11, H11) -> 0
D12: 0 | F12: =ROUND(SUM(D12/12)*C12*E12,0) -> 0 | H12: =ROUND(F12*G12,0) -> 0 | I12: =SUM(F12, H12) -> 0
D13: 0 | F13: =ROUND(SUM(D13/12)*C13*E13,0) -> 0 | H13: =ROUND(F13*G13,0) -> 0 | I13: =SUM(F13, H13) -> 0
D14: 0 | F14: =ROUND(SUM(D14/12)*C14*E14,0) -> 0 | H14: =ROUND(F14*G14,0) -> 0 | I14: =SUM(F14, H14) -> 0
D15: 0 | F15: =ROUND(SUM(D15/12)*C15*E15,0) -> 0 | H15: =ROUND(F15*G15,0) -> 0 | I15: =SUM(F15, H15) -> 0
D16: 0 | F16: =ROUND(SUM(D16/12)*C16*E16,0) -> 0 | H16: =ROUND(F16*G16,0) -> 0 | I16: =SUM(F16, H16) -> 0
D17: 0 | F17: =ROUND(SUM(D17/12)*C17*E17,0) -> 0 | H17: =ROUND(F17*G17,0) -> 0 | I17: =SUM(F17, H17) -> 0
D18: 0 | F18: =ROUND(SUM(D18/12)*C18*E18,0) -> 0 | H18: =ROUND(F18*G18,0) -> 0 | I18: =SUM(F18, H18) -> 0
... D25: 0 | F25: =ROUND(SUM(D25/12)*C25*E25,0) -> 0 | H25: =ROUND(F25*G25,0) -> 0 | I25: =SUM(F25, H25) -> 0
F26: =SUM(F7:F25) -> 0 | H26: =SUM(H7:H25) -> 0 | I26: =SUM(I7:I25) -> 0
A27: CONSULTANT COSTS | E27: 0
B28: 0 | E28: 0
B29: 0 | E29: 0 | I29: =SUM(B28:B29, E27:G29) -> 0
A30: EQUIPMENT (Itemize) | E30: 0
B31: 0 | E31: 0
B32: 0 | E32: 0
B33: 0 | E33: 0
B34: 0 | E34: 0 | I34: =SUM(B31:B34, E30:G34) -> 0
A35: SUPPLIES (Itemize) | E35: 0
B36: 0 | E36: 0
B37: 0 | E37: 0
B38: 0 | E38: 0
B39: 0 | E39: 0
B40: 0 | E40: 0
B41: 0 | E41: 0
B42: 0 | E42: 0
B43: 0 | E43: 0 | I43: =SUM(B36:B43, E35:G43) -> 0
A44: TRAVEL | E44: 0
B45: 0 | E45: 0
B46: 0 | E46: 0
B47: 0 | E47: 0
...

Sheet Activity3 Contract2
A1: Applicant: | C1: PI: | F1: Grant Number:
G3: CONTRACTUAL
A4: Contract Period of Performance: January 1, 2024 - December 31, 2024 | E4: Contractor:
A5: PERSONNEL & FRINGE (Applicant organization only) | E5: AMOUNT REQUESTED (ROUND to even dollars)
A6: NAME | B6: TITLE/ROLE | C6: # OF MTHS | D6: ANNUAL SALARY | E6: % OF TIME | F6: SALARY REQUEST (for this project) | G6: FRINGE % | H6: FRINGE BENEFITS | I6: TOTALS
D7: 0 | F7: =ROUND(SUM(D7/12)*C7*E7,0) -> 0 | H7: =ROUND(F7*G7,0) -> 0 | I7: =SUM(F7, H7) -> 0
D8: 0 | F8: =ROUND(SUM(D8/12)*C8*E8,0) -> 0 | H8: =ROUND(F8*G8,0) -> 0 | I8: =SUM(F8, H8) -> 0
D9: 0 | F9: =ROUND(SUM(D9/12)*C9*E9,0) -> 0 | H9: =ROUND(F9*G9,0) -> 0 | I9: =SUM(F9, H9) -> 0
D10: 0 | F10: =ROUND(SUM(D10/12)*C10*E10,0) -> 0 | H10: =ROUND(F10*G10,0) -> 0 | I10: =SUM(F10, H10) -> 0
D11: 0 | F11: =ROUND(SUM(D11/12)*C11*E11,0) -> 0 | H11: =ROUND(F11*G11,0) -> 0 | I11: =SUM(F11, H11) -> 0
D12: 0 | F12: =ROUND(SUM(D12/12)*C12*E12,0) -> 0 | H12: =ROUND(F12*G12,0) -> 0 | I12: =SUM(F12, H12) -> 0
D13: 0 | F13: =ROUND(SUM(D13/12)*C13*E13,0) -> 0 | H13: =ROUND(F13*G13,0) -> 0 | I13: =SUM(F13, H13) -> 0
D14: 0 | F14: =ROUND(SUM(D14/12)*C14*E14,0) -> 0 | H14: =ROUND(F14*G14,0) -> 0 | I14: =SUM(F14, H14) -> 0
D15: 0 | F15: =ROUND(SUM(D15/12)*C15*E15,0) -> 0 | H15: =ROUND(F15*G15,0) -> 0 | I15: =SUM(F15, H15) -> 0
D16: 0 | F16: =ROUND(SUM(D16/12)*C16*E16,0) -> 0 | H16: =ROUND(F16*G16,0) -> 0 | I16: =SUM(F16, H16) -> 0
D17: 0 | F17: =ROUND(SUM(D17/12)*C17*E17,0) -> 0 | H17: =ROUND(F17*G17,0) -> 0 | I17: =SUM(F17, H17) -> 0
D18: 0 | F18: =ROUND(SUM(D18/12)*C18*E18,0) -> 0 | H18: =ROUND(F18*G18,0) -> 0 | I18: =SUM(F18, H18) -> 0
... D25: 0 | F25: =ROUND(SUM(D25/12)*C25*E25,0) -> 0 | H25: =ROUND(F25*G25,0) -> 0 | I25: =SUM(F25, H25) -> 0
F26: =SUM(F7:F25) -> 0 | H26: =SUM(H7:H25) -> 0 | I26: =SUM(I7:I25) -> 0
A27: CONSULTANT COSTS | E27: 0
B28: 0 | E28: 0
B29: 0 | E29: 0 | I29: =SUM(B28:B29, E27:G29) -> 0
A30: EQUIPMENT (Itemize) | E30: 0
B31: 0 | E31: 0
B32: 0 | E32: 0
B33: 0 | E33: 0
B34: 0 | E34: 0 | I34: =SUM(B31:B34, E30:G34) -> 0
A35: SUPPLIES (Itemize) | E35: 0
B36: 0 | E36: 0
B37: 0 | E37: 0
B38: 0 | E38: 0
B39: 0 | E39: 0
B40: 0 | E40: 0
B41: 0 | E41: 0
B42: 0 | E42: 0
B43: 0 | E43: 0 | I43: =SUM(B36:B43, E35:G43) -> 0
A44: TRAVEL | E44: 0
B45: 0 | E45: 0
B46: 0 | E46: 0
B47: 0 | E47: 0
...

Sheet Activity4
A1: Applicant: | C1: PI: | F1: Grant Number:
A4: Budget Period: January 1, 2024 - December 31, 2024
A5: PERSONNEL & FRINGE (Applicant organization only) | E5: AMOUNT REQUESTED (ROUND to even dollars)
A6: NAME | B6: TITLE/ROLE | C6: # OF MTHS | D6: ANNUAL SALARY | E6: % OF TIME | F6: SALARY REQUEST (for this project) | G6: FRINGE % | H6: FRINGE BENEFITS | I6: TOTALS
D7: 0 | F7: =ROUND(SUM(D7/12)*C7*E7,0) -> 0 | H7: =ROUND(F7*G7,0) -> 0 | I7: =SUM(F7, H7) -> 0
D8: 0 | F8: =ROUND(SUM(D8/12)*C8*E8,0) -> 0 | H8: =ROUND(F8*G8,0) -> 0 | I8: =SUM(F8, H8) -> 0
D9: 0 | F9: =ROUND(SUM(D9/12)*C9*E9,0) -> 0 | H9: =ROUND(F9*G9,0) -> 0 | I9: =SUM(F9, H9) -> 0
D10: 0 | F10: =ROUND(SUM(D10/12)*C10*E10,0) -> 0 | H10: =ROUND(F10*G10,0) -> 0 | I10: =SUM(F10, H10) -> 0
D11: 0 | F11: =ROUND(SUM(D11/12)*C11*E11,0) -> 0 | H11: =ROUND(F11*G11,0) -> 0 | I11: =SUM(F11, H11) -> 0
D12: 0 | F12: =ROUND(SUM(D12/12)*C12*E12,0) -> 0 | H12: =ROUND(F12*G12,0) -> 0 | I12: =SUM(F12, H12) -> 0
D13: 0 | F13: =ROUND(SUM(D13/12)*C13*E13,0) -> 0 | H13: =ROUND(F13*G13,0) -> 0 | I13: =SUM(F13, H13) -> 0
D14: 0 | F14: =ROUND(SUM(D14/12)*C14*E14,0) -> 0 | H14: =ROUND(F14*G14,0) -> 0 | I14: =SUM(F14, H14) -> 0
D15: 0 | F15: =ROUND(SUM(D15/12)*C15*E15,0) -> 0 | H15: =ROUND(F15*G15,0) -> 0 | I15: =SUM(F15, H15) -> 0
D16: 0 | F16: =ROUND(SUM(D16/12)*C16*E16,0) -> 0 | H16: =ROUND(F16*G16,0) -> 0 | I16: =SUM(F16, H16) -> 0
D17: 0 | F17: =ROUND(SUM(D17/12)*C17*E17,0) -> 0 | H17: =ROUND(F17*G17,0) -> 0 | I17: =SUM(F17, H17) -> 0
D18: 0 | F18: =ROUND(SUM(D18/12)*C18*E18,0) -> 0 | H18: =ROUND(F18*G18,0) -> 0 | I18: =SUM(F18, H18) -> 0
... D25: 0 | F25: =ROUND(SUM(D25/12)*C25*E25,0) -> 0 | H25: =ROUND(F25*G25,0) -> 0 | I25: =SUM(F25, H25) -> 0
F26: =SUM(F7:F25) -> 0 | H26: =SUM(H7:H25) -> 0 | I26: =SUM(I7:I25) -> 0
A27: CONSULTANT COSTS | E27: 0
B28: 0 | E28: 0
B29: 0 | E29: 0 | I29: =SUM(B28:B29, E27:G29) -> 0
A30: EQUIPMENT (Itemize) | E30: 0
B31: 0 | E31: 0
B32: 0 | E32: 0
B33: 0 | E33: 0
B34: 0 | E34: 0 | I34: =SUM(B31:B34, E30:G34) -> 0
A35: SUPPLIES (Itemize) | E35: 0
B36: 0 | E36: 0
B37: 0 | E37: 0
B38: 0 | E38: 0
B39: 0 | E39: 0
B40: 0 | E40: 0
B41: 0 | E41: 0
B42: 0 | E42: 0
B43: 0 | E43: 0 | I43: =SUM(B36:B43, E35:G43) -> 0
A44: TRAVEL | E44: 0
B45: 0 | E45: 0
B46: 0 | E46: 0
B47: 0 | E47: 0
B48: 0 | E48: 0
...

Sheet Activity4 Contract1
A1: Applicant: | C1: PI: | F1: Grant Number:
G3: CONTRACTUAL
A4: Contract Period of Performance: January 1, 2024 - December 31, 2024 | E4: Contractor:
A5: PERSONNEL & FRINGE (Applicant organization only) | E5: AMOUNT REQUESTED (ROUND to even dollars)
A6: NAME | B6: TITLE/ROLE | C6: # OF MTHS | D6: ANNUAL SALARY | E6: % OF TIME | F6: SALARY REQUEST (for this project) | G6: FRINGE % | H6: FRINGE BENEFITS | I6: TOTALS
D7: 0 | F7: =ROUND(SUM(D7/12)*C7*E7,0) -> 0 | H7: =ROUND(F7*G7,0) -> 0 | I7: =SUM(F7, H7) -> 0
D8: 0 | F8: =ROUND(SUM(D8/12)*C8*E8,0) -> 0 | H8: =ROUND(F8*G8,0) -> 0 | I8: =SUM(F8, H8) -> 0
D9: 0 | F9: =ROUND(SUM(D9/12)*C9*E9,0) -> 0 | H9: =ROUND(F9*G9,0) -> 0 | I9: =SUM(F9, H9) -> 0
D10: 0 | F10: =ROUND(SUM(D10/12)*C10*E10,0) -> 0 | H10: =ROUND(F10*G10,0) -> 0 | I10: =SUM(F10, H10) -> 0
D11: 0 | F11: =ROUND(SUM(D11/12)*C11*E11,0) -> 0 | H11: =ROUND(F11*G11,0) -> 0 | I11: =SUM(F11, H11) -> 0
D12: 0 | F12: =ROUND(SUM(D12/12)*C12*E12,0) -> 0 | H12: =ROUND(F12*G12,0) -> 0 | I12: =SUM(F12, H12) -> 0
D13: 0 | F13: =ROUND(SUM(D13/12)*C13*E13,0) -> 0 | H13: =ROUND(F13*G13,0) -> 0 | I13: =SUM(F13, H13) -> 0
D14: 0 | F14: =ROUND(SUM(D14/12)*C14*E14,0) -> 0 | H14: =ROUND(F14*G14,0) -> 0 | I14: =SUM(F14, H14) -> 0
D15: 0 | F15: =ROUND(SUM(D15/12)*C15*E15,0) -> 0 | H15: =ROUND(F15*G15,0) -> 0 | I15: =SUM(F15, H15) -> 0
D16: 0 | F16: =ROUND(SUM(D16/12)*C16*E16,0) -> 0 | H16: =ROUND(F16*G16,0) -> 0 | I16: =SUM(F16, H16) -> 0
D17: 0 | F17: =ROUND(SUM(D17/12)*C17*E17,0) -> 0 | H17: =ROUND(F17*G17,0) -> 0 | I17: =SUM(F17, H17) -> 0
D18: 0 | F18: =ROUND(SUM(D18/12)*C18*E18,0) -> 0 | H18: =ROUND(F18*G18,0) -> 0 | I18: =SUM(F18, H18) -> 0
... D25: 0 | F25: =ROUND(SUM(D25/12)*C25*E25,0) -> 0 | H25: =ROUND(F25*G25,0) -> 0 | I25: =SUM(F25, H25) -> 0
F26: =SUM(F7:F25) -> 0 | H26: =SUM(H7:H25) -> 0 | I26: =SUM(I7:I25) -> 0
A27: CONSULTANT COSTS | E27: 0
B28: 0 | E28: 0
B29: 0 | E29: 0 | I29: =SUM(B28:B29, E27:G29) -> 0
A30: EQUIPMENT (Itemize) | E30: 0
B31: 0 | E31: 0
B32: 0 | E32: 0
B33: 0 | E33: 0
B34: 0 | E34: 0 | I34: =SUM(B31:B34, E30:G34) -> 0
A35: SUPPLIES (Itemize) | E35: 0
B36: 0 | E36: 0
B37: 0 | E37: 0
B38: 0 | E38: 0
B39: 0 | E39: 0
B40: 0 | E40: 0
B41: 0 | E41: 0
B42: 0 | E42: 0
B43: 0 | E43: 0 | I43: =SUM(B36:B43, E35:G43) -> 0
A44: TRAVEL | E44: 0
B45: 0 | E45: 0
B46: 0 | E46: 0
B47: 0 | E47: 0
...

Sheet Activity4 Contract2
A1: Applicant: | C1: PI: | F1: Grant Number:
G3: CONTRACTUAL
A4: Contract Period of Performance: January 1, 2024 - December 31, 2024 | E4: Contractor:
A5: PERSONNEL & FRINGE (Applicant organization only) | E5: AMOUNT REQUESTED (ROUND to even dollars)
A6: NAME | B6: TITLE/ROLE | C6: # OF MTHS | D6: ANNUAL SALARY | E6: % OF TIME | F6: SALARY REQUEST (for this project) | G6: FRINGE % | H6: FRINGE BENEFITS | I6: TOTALS
D7: 0 | F7: =ROUND(SUM(D7/12)*C7*E7,0) -> 0 | H7: =ROUND(F7*G7,0) -> 0 | I7: =SUM(F7, H7) -> 0
D8: 0 | F8: =ROUND(SUM(D8/12)*C8*E8,0) -> 0 | H8: =ROUND(F8*G8,0) -> 0 | I8: =SUM(F8, H8) -> 0
D9: 0 | F9: =ROUND(SUM(D9/12)*C9*E9,0) -> 0 | H9: =ROUND(F9*G9,0) -> 0 | I9: =SUM(F9, H9) -> 0
D10: 0 | F10: =ROUND(SUM(D10/12)*C10*E10,0) -> 0 | H10: =ROUND(F10*G10,0) -> 0 | I10: =SUM(F10, H10) -> 0
D11: 0 | F11: =ROUND(SUM(D11/12)*C11*E11,0) -> 0 | H11: =ROUND(F11*G11,0) -> 0 | I11: =SUM(F11, H11) -> 0
D12: 0 | F12: =ROUND(SUM(D12/12)*C12*E12,0) -> 0 | H12: =ROUND(F12*G12,0) -> 0 | I12: =SUM(F12, H12) -> 0
D13: 0 | F13: =ROUND(SUM(D13/12)*C13*E13,0) -> 0 | H13: =ROUND(F13*G13,0) -> 0 | I13: =SUM(F13, H13) -> 0
D14: 0 | F14: =ROUND(SUM(D14/12)*C14*E14,0) -> 0 | H14: =ROUND(F14*G14,0) -> 0 | I14: =SUM(F14, H14) -> 0
D15: 0 | F15: =ROUND(SUM(D15/12)*C15*E15,0) -> 0 | H15: =ROUND(F15*G15,0) -> 0 | I15: =SUM(F15, H15) -> 0
D16: 0 | F16: =ROUND(SUM(D16/12)*C16*E16,0) -> 0 | H16: =ROUND(F16*G16,0) -> 0 | I16: =SUM(F16, H16) -> 0
D17: 0 | F17: =ROUND(SUM(D17/12)*C17*E17,0) -> 0 | H17: =ROUND(F17*G17,0) -> 0 | I17: =SUM(F17, H17) -> 0
D18: 0 | F18: =ROUND(SUM(D18/12)*C18*E18,0) -> 0 | H18: =ROUND(F18*G18,0) -> 0 | I18: =SUM(F18, H18) -> 0
... D25: 0 | F25: =ROUND(SUM(D25/12)*C25*E25,0) -> 0 | H25: =ROUND(F25*G25,0) -> 0 | I25: =SUM(F25, H25) -> 0
F26: =SUM(F7:F25) -> 0 | H26: =SUM(H7:H25) -> 0 | I26: =SUM(I7:I25) -> 0
A27: CONSULTANT COSTS | E27: 0
B28: 0 | E28: 0
B29: 0 | E29: 0 | I29: =SUM(B28:B29, E27:G29) -> 0
A30: EQUIPMENT (Itemize) | E30: 0
B31: 0 | E31: 0
B32: 0 | E32: 0
B33: 0 | E33: 0
B34: 0 | E34: 0 | I34: =SUM(B31:B34, E30:G34) -> 0
A35: SUPPLIES (Itemize) | E35: 0
B36: 0 | E36: 0
B37: 0 | E37: 0
B38: 0 | E38: 0
B39: 0 | E39: 0
B40: 0 | E40: 0
B41: 0 | E41: 0
B42: 0 | E42: 0
B43: 0 | E43: 0 | I43: =SUM(B36:B43, E35:G43) -> 0
A44: TRAVEL | E44: 0
B45: 0 | E45: 0
B46: 0 | E46: 0
B47: 0 | E47: 0
...

Sheet Activity5
A1: Applicant: | C1: PI: | F1: Grant Number:
A4: Budget Period: January 1, 2024 - December 31, 2024
A5: PERSONNEL & FRINGE (Applicant organization only) | E5: AMOUNT REQUESTED (ROUND to even dollars)
A6: NAME | B6: TITLE/ROLE | C6: # OF MTHS | D6: ANNUAL SALARY | E6: % OF TIME | F6: SALARY REQUEST (for this project) | G6: FRINGE % | H6: FRINGE BENEFITS | I6: TOTALS
D7: 0 | F7: =ROUND(SUM(D7/12)*C7*E7,0) -> 0 | H7: =ROUND(F7*G7,0) -> 0 | I7: =SUM(F7, H7) -> 0
D8: 0 | F8: =ROUND(SUM(D8/12)*C8*E8,0) -> 0 | H8: =ROUND(F8*G8,0) -> 0 | I8: =SUM(F8, H8) -> 0
D9: 0 | F9: =ROUND(SUM(D9/12)*C9*E9,0) -> 0 | H9: =ROUND(F9*G9,0) -> 0 | I9: =SUM(F9, H9) -> 0
D10: 0 | F10: =ROUND(SUM(D10/12)*C10*E10,0) -> 0 | H10: =ROUND(F10*G10,0) -> 0 | I10: =SUM(F10, H10) -> 0
D11: 0 | F11: =ROUND(SUM(D11/12)*C11*E11,0) -> 0 | H11: =ROUND(F11*G11,0) -> 0 | I11: =SUM(F11, H11) -> 0
D12: 0 | F12: =ROUND(SUM(D12/12)*C12*E12,0) -> 0 | H12: =ROUND(F12*G12,0) -> 0 | I12: =SUM(F12, H12) -> 0
D13: 0 | F13: =ROUND(SUM(D13/12)*C13*E13,0) -> 0 | H13: =ROUND(F13*G13,0) -> 0 | I13: =SUM(F13, H13) -> 0
D14: 0 | F14: =ROUND(SUM(D14/12)*C14*E14,0) -> 0 | H14: =ROUND(F14*G14,0) -> 0 | I14: =SUM(F14, H14) -> 0
D15: 0 | F15: =ROUND(SUM(D15/12)*C15*E15,0) -> 0 | H15: =ROUND(F15*G15,0) -> 0 | I15: =SUM(F15, H15) -> 0
D16: 0 | F16: =ROUND(SUM(D16/12)*C16*E16,0) -> 0 | H16: =ROUND(F16*G16,0) -> 0 | I16: =SUM(F16, H16) -> 0
D17: 0 | F17: =ROUND(SUM(D17/12)*C17*E17,0) -> 0 | H17: =ROUND(F17*G17,0) -> 0 | I17: =SUM(F17, H17) -> 0
D18: 0 | F18: =ROUND(SUM(D18/12)*C18*E18,0) -> 0 | H18: =ROUND(F18*G18,0) -> 0 | I18: =SUM(F18, H18) -> 0
... D25: 0 | F25: =ROUND(SUM(D25/12)*C25*E25,0) -> 0 | H25: =ROUND(F25*G25,0) -> 0 | I25: =SUM(F25, H25) -> 0
F26: =SUM(F7:F25) -> 0 | H26: =SUM(H7:H25) -> 0 | I26: =SUM(I7:I25) -> 0
A27: CONSULTANT COSTS | E27: 0
B28: 0 | E28: 0
B29: 0 | E29: 0 | I29: =SUM(B28:B29, E27:G29) -> 0
A30: EQUIPMENT (Itemize) | E30: 0
B31: 0 | E31: 0
B32: 0 | E32: 0
B33: 0 | E33: 0
B34: 0 | E34: 0 | I34: =SUM(B31:B34, E30:G34) -> 0
A35: SUPPLIES (Itemize) | E35: 0
B36: 0 | E36: 0
B37: 0 | E37: 0
B38: 0 | E38: 0
B39: 0 | E39: 0
B40: 0 | E40: 0
B41: 0 | E41: 0
B42: 0 | E42: 0
B43: 0 | E43: 0 | I43: =SUM(B36:B43, E35:G43) -> 0
A44: TRAVEL | E44: 0
B45: 0 | E45: 0
B46: 0 | E46: 0
B47: 0 | E47: 0
B48: 0 | E48: 0
...

Sheet Activity5 Contract1
A1: Applicant: | C1: PI: | F1: Grant Number:
G3: CONTRACTUAL
A4: Contract Period of Performance: January 1, 2024 - December 31, 2024 | E4: Contractor:
A5: PERSONNEL & FRINGE (Applicant organization only) | E5: AMOUNT REQUESTED (ROUND to even dollars)
A6: NAME | B6: TITLE/ROLE | C6: # OF MTHS | D6: ANNUAL SALARY | E6: % OF TIME | F6: SALARY REQUEST (for this project) | G6: FRINGE % | H6: FRINGE BENEFITS | I6: TOTALS
D7: 0 | F7: =ROUND(SUM(D7/12)*C7*E7,0) -> 0 | H7: =ROUND(F7*G7,0) -> 0 | I7: =SUM(F7, H7) -> 0
D8: 0 | F8: =ROUND(SUM(D8/12)*C8*E8,0) -> 0 | H8: =ROUND(F8*G8,0) -> 0 | I8: =SUM(F8, H8) -> 0
D9: 0 | F9: =ROUND(SUM(D9/12)*C9*E9,0) -> 0 | H9: =ROUND(F9*G9,0) -> 0 | I9: =SUM(F9, H9) -> 0
D10: 0 | F10: =ROUND(SUM(D10/12)*C10*E10,0) -> 0 | H10: =ROUND(F10*G10,0) -> 0 | I10: =SUM(F10, H10) -> 0
D11: 0 | F11: =ROUND(SUM(D11/12)*C11*E11,0) -> 0 | H11: =ROUND(F11*G11,0) -> 0 | I11: =SUM(F11, H11) -> 0
D12: 0 | F12: =ROUND(SUM(D12/12)*C12*E12,0) -> 0 | H12: =ROUND(F12*G12,0) -> 0 | I12: =SUM(F12, H12) -> 0
D13: 0 | F13: =ROUND(SUM(D13/12)*C13*E13,0) -> 0 | H13: =ROUND(F13*G13,0) -> 0 | I13: =SUM(F13, H13) -> 0
D14: 0 | F14: =ROUND(SUM(D14/12)*C14*E14,0) -> 0 | H14: =ROUND(F14*G14,0) -> 0 | I14: =SUM(F14, H14) -> 0
D15: 0 | F15: =ROUND(SUM(D15/12)*C15*E15,0) -> 0 | H15: =ROUND(F15*G15,0) -> 0 | I15: =SUM(F15, H15) -> 0
D16: 0 | F16: =ROUND(SUM(D16/12)*C16*E16,0) -> 0 | H16: =ROUND(F16*G16,0) -> 0 | I16: =SUM(F16, H16) -> 0
D17: 0 | F17: =ROUND(SUM(D17/12)*C17*E17,0) -> 0 | H17: =ROUND(F17*G17,0) -> 0 | I17: =SUM(F17, H17) -> 0
D18: 0 | F18: =ROUND(SUM(D18/12)*C18*E18,0) -> 0 | H18: =ROUND(F18*G18,0) -> 0 | I18: =SUM(F18, H18) -> 0
... D25: 0 | F25: =ROUND(SUM(D25/12)*C25*E25,0) -> 0 | H25: =ROUND(F25*G25,0) -> 0 | I25: =SUM(F25, H25) -> 0
F26: =SUM(F7:F25) -> 0 | H26: =SUM(H7:H25) -> 0 | I26: =SUM(I7:I25) -> 0
A27: CONSULTANT COSTS | E27: 0
B28: 0 | E28: 0
B29: 0 | E29: 0 | I29: =SUM(B28:B29, E27:G29) -> 0
A30: EQUIPMENT (Itemize) | E30: 0
B31: 0 | E31: 0
B32: 0 | E32: 0
B33: 0 | E33: 0
B34: 0 | E34: 0 | I34: =SUM(B31:B34, E30:G34) -> 0
A35: SUPPLIES (Itemize) | E35: 0
B36: 0 | E36: 0
B37: 0 | E37: 0
B38: 0 | E38: 0
B39: 0 | E39: 0
B40: 0 | E40: 0
B41: 0 | E41: 0
B42: 0 | E42: 0
B43: 0 | E43: 0 | I43: =SUM(B36:B43, E35:G43) -> 0
A44: TRAVEL | E44: 0
B45: 0 | E45: 0
B46: 0 | E46: 0
B47: 0 | E47: 0
...

Sheet Activity5 Contract2
A1: Applicant: | C1: PI: | F1: Grant Number:
G3: CONTRACTUAL
A4: Contract Period of Performance: January 1, 2024 - December 31, 2024 | E4: Contractor:
A5: PERSONNEL & FRINGE (Applicant organization only) | E5: AMOUNT REQUESTED (ROUND to even dollars)
A6: NAME | B6: TITLE/ROLE | C6: # OF MTHS | D6: ANNUAL SALARY | E6: % OF TIME | F6: SALARY REQUEST (for this project) | G6: FRINGE % | H6: FRINGE BENEFITS | I6: TOTALS
D7: 0 | F7: =ROUND(SUM(D7/12)*C7*E7,0) -> 0 | H7: =ROUND(F7*G7,0) -> 0 | I7: =SUM(F7, H7) -> 0
D8: 0 | F8: =ROUND(SUM(D8/12)*C8*E8,0) -> 0 | H8: =ROUND(F8*G8,0) -> 0 | I8: =SUM(F8, H8) -> 0
D9: 0 | F9: =ROUND(SUM(D9/12)*C9*E9,0) -> 0 | H9: =ROUND(F9*G9,0) -> 0 | I9: =SUM(F9, H9) -> 0
D10: 0 | F10: =ROUND(SUM(D10/12)*C10*E10,0) -> 0 | H10: =ROUND(F10*G10,0) -> 0 | I10: =SUM(F10, H10) -> 0
D11: 0 | F11: =ROUND(SUM(D11/12)*C11*E11,0) -> 0 | H11: =ROUND(F11*G11,0) -> 0 | I11: =SUM(F11, H11) -> 0
D12: 0 | F12: =ROUND(SUM(D12/12)*C12*E12,0) -> 0 | H12: =ROUND(F12*G12,0) -> 0 | I12: =SUM(F12, H12) -> 0
D13: 0 | F13: =ROUND(SUM(D13/12)*C13*E13,0) -> 0 | H13: =ROUND(F13*G13,0) -> 0 | I13: =SUM(F13, H13) -> 0
D14: 0 | F14: =ROUND(SUM(D14/12)*C14*E14,0) -> 0 | H14: =ROUND(F14*G14,0) -> 0 | I14: =SUM(F14, H14) -> 0
D15: 0 | F15: =ROUND(SUM(D15/12)*C15*E15,0) -> 0 | H15: =ROUND(F15*G15,0) -> 0 | I15: =SUM(F15, H15) -> 0
D16: 0 | F16: =ROUND(SUM(D16/12)*C16*E16,0) -> 0 | H16: =ROUND(F16*G16,0) -> 0 | I16: =SUM(F16, H16) -> 0
D17: 0 | F17: =ROUND(SUM(D17/12)*C17*E17,0) -> 0 | H17: =ROUND(F17*G17,0) -> 0 | I17: =SUM(F17, H17) -> 0
D18: 0 | F18: =ROUND(SUM(D18/12)*C18*E18,0) -> 0 | H18: =ROUND(F18*G18,0) -> 0 | I18: =SUM(F18, H18) -> 0
... D25: 0 | F25: =ROUND(SUM(D25/12)*C25*E25,0) -> 0 | H25: =ROUND(F25*G25,0) -> 0 | I25: =SUM(F25, H25) -> 0
F26: =SUM(F7:F25) -> 0 | H26: =SUM(H7:H25) -> 0 | I26: =SUM(I7:I25) -> 0
A27: CONSULTANT COSTS | E27: 0
B28: 0 | E28: 0
B29: 0 | E29: 0 | I29: =SUM(B28:B29, E27:G29) -> 0
A30: EQUIPMENT (Itemize) | E30: 0
B31: 0 | E31: 0
B32: 0 | E32: 0
B33: 0 | E33: 0
B34: 0 | E34: 0 | I34: =SUM(B31:B34, E30:G34) -> 0
A35: SUPPLIES (Itemize) | E35: 0
B36: 0 | E36: 0
B37: 0 | E37: 0
B38: 0 | E38: 0
B39: 0 | E39: 0
B40: 0 | E40: 0
B41: 0 | E41: 0
B42: 0 | E42: 0
B43: 0 | E43: 0 | I43: =SUM(B36:B43, E35:G43) -> 0
A44: TRAVEL | E44: 0
B45: 0 | E45: 0
B46: 0 | E46: 0
B47: 0 | E47: 0
...

Sheet Activity6
A1: Applicant: | C1: PI: | F1: Grant Number:
A4: Budget Period: January 1, 2024 - December 31, 2024
A5: PERSONNEL & FRINGE (Applicant organization only) | E5: AMOUNT REQUESTED (ROUND to even dollars)
A6: NAME | B6: TITLE/ROLE | C6: # OF MTHS | D6: ANNUAL SALARY | E6: % OF TIME | F6: SALARY REQUEST (for this project) | G6: FRINGE % | H6: FRINGE BENEFITS | I6: TOTALS
D7: 0 | F7: =ROUND(SUM(D7/12)*C7*E7,0) -> 0 | H7: =ROUND(F7*G7,0) -> 0 | I7: =SUM(F7, H7) -> 0
D8: 0 | F8: =ROUND(SUM(D8/12)*C8*E8,0) -> 0 | H8: =ROUND(F8*G8,0) -> 0 | I8: =SUM(F8, H8) -> 0
D9: 0 | F9: =ROUND(SUM(D9/12)*C9*E9,0) -> 0 | H9: =ROUND(F9*G9,0) -> 0 | I9: =SUM(F9, H9) -> 0
D10: 0 | F10: =ROUND(SUM(D10/12)*C10*E10,0) -> 0 | H10: =ROUND(F10*G10,0) -> 0 | I10: =SUM(F10, H10) -> 0
D11: 0 | F11: =ROUND(SUM(D11/12)*C11*E11,0) -> 0 | H11: =ROUND(F11*G11,0) -> 0 | I11: =SUM(F11, H11) -> 0
D12: 0 | F12: =ROUND(SUM(D12/12)*C12*E12,0) -> 0 | H12: =ROUND(F12*G12,0) -> 0 | I12: =SUM(F12, H12) -> 0
D13: 0 | F13: =ROUND(SUM(D13/12)*C13*E13,0) -> 0 | H13: =ROUND(F13*G13,0) -> 0 | I13: =SUM(F13, H13) -> 0
D14: 0 | F14: =ROUND(SUM(D14/12)*C14*E14,0) -> 0 | H14: =ROUND(F14*G14,0) -> 0 | I14: =SUM(F14, H14) -> 0
D15: 0 | F15: =ROUND(SUM(D15/12)*C15*E15,0) -> 0 | H15: =ROUND(F15*G15,0) -> 0 | I15: =SUM(F15, H15) -> 0
D16: 0 | F16: =ROUND(SUM(D16/12)*C16*E16,0) -> 0 | H16: =ROUND(F16*G16,0) -> 0 | I16: =SUM(F16, H16) -> 0
D17: 0 | F17: =ROUND(SUM(D17/12)*C17*E17,0) -> 0 | H17: =ROUND(F17*G17,0) -> 0 | I17: =SUM(F17, H17) -> 0
D18: 0 | F18: =ROUND(SUM(D18/12)*C18*E18,0) -> 0 | H18: =ROUND(F18*G18,0) -> 0 | I18: =SUM(F18, H18) -> 0
... D25: 0 | F25: =ROUND(SUM(D25/12)*C25*E25,0) -> 0 | H25: =ROUND(F25*G25,0) -> 0 | I25: =SUM(F25, H25) -> 0
F26: =SUM(F7:F25) -> 0 | H26: =SUM(H7:H25) -> 0 | I26: =SUM(I7:I25) -> 0
A27: CONSULTANT COSTS | E27: 0
B28: 0 | E28: 0
B29: 0 | E29: 0 | I29: =SUM(B28:B29, E27:G29) -> 0
A30: EQUIPMENT (Itemize) | E30: 0
B31: 0 | E31: 0
B32: 0 | E32: 0
B33: 0 | E33: 0
B34: 0 | E34: 0 | I34: =SUM(B31:B34, E30:G34) -> 0
A35: SUPPLIES (Itemize) | E35: 0
B36: 0 | E36: 0
B37: 0 | E37: 0
B38: 0 | E38: 0
B39: 0 | E39: 0
B40: 0 | E40: 0
B41: 0 | E41: 0
B42: 0 | E42: 0
B43: 0 | E43: 0 | I43: =SUM(B36:B43, E35:G43) -> 0
A44: TRAVEL | E44: 0
B45: 0 | E45: 0
B46: 0 | E46: 0
B47: 0 | E47: 0
B48: 0 | E48: 0
...

Sheet Activity6 Contract1
A1: Applicant: | C1: PI: | F1: Grant Number:
G3: CONTRACTUAL
A4: Contract Period of Performance: January 1, 2024 - December 31, 2024 | E4: Contractor:
A5: PERSONNEL & FRINGE (Applicant organization only) | E5: AMOUNT REQUESTED (ROUND to even dollars)
A6: NAME | B6: TITLE/ROLE | C6: # OF MTHS | D6: ANNUAL SALARY | E6: % OF TIME | F6: SALARY REQUEST (for this project) | G6: FRINGE % | H6: FRINGE BENEFITS | I6: TOTALS
D7: 0 | F7: =ROUND(SUM(D7/12)*C7*E7,0) -> 0 | H7: =ROUND(F7*G7,0) -> 0 | I7: =SUM(F7, H7) -> 0
D8: 0 | F8: =ROUND(SUM(D8/12)*C8*E8,0) -> 0 | H8: =ROUND(F8*G8,0) -> 0 | I8: =SUM(F8, H8) -> 0
D9: 0 | F9: =ROUND(SUM(D9/12)*C9*E9,0) -> 0 | H9: =ROUND(F9*G9,0) -> 0 | I9: =SUM(F9, H9) -> 0
D10: 0 | F10: =ROUND(SUM(D10/12)*C10*E10,0) -> 0 | H10: =ROUND(F10*G10,0) -> 0 | I10: =SUM(F10, H10) -> 0
D11: 0 | F11: =ROUND(SUM(D11/12)*C11*E11,0) -> 0 | H11: =ROUND(F11*G11,0) -> 0 | I11: =SUM(F11, H11) -> 0
D12: 0 | F12: =ROUND(SUM(D12/12)*C12*E12,0) -> 0 | H12: =ROUND(F12*G12,0) -> 0 | I12: =SUM(F12, H12) -> 0
D13: 0 | F13: =ROUND(SUM(D13/12)*C13*E13,0) -> 0 | H13: =ROUND(F13*G13,0) -> 0 | I13: =SUM(F13, H13) -> 0
D14: 0 | F14: =ROUND(SUM(D14/12)*C14*E14,0) -> 0 | H14: =ROUND(F14*G14,0) -> 0 | I14: =SUM(F14, H14) -> 0
D15: 0 | F15: =ROUND(SUM(D15/12)*C15*E15,0) -> 0 | H15: =ROUND(F15*G15,0) -> 0 | I15: =SUM(F15, H15) -> 0
D16: 0 | F16: =ROUND(SUM(D16/12)*C16*E16,0) -> 0 | H16: =ROUND(F16*G16,0) -> 0 | I16: =SUM(F16, H16) -> 0
D17: 0 | F17: =ROUND(SUM(D17/12)*C17*E17,0) -> 0 | H17: =ROUND(F17*G17,0) -> 0 | I17: =SUM(F17, H17) -> 0
D18: 0 | F18: =ROUND(SUM(D18/12)*C18*E18,0) -> 0 | H18: =ROUND(F18*G18,0) -> 0 | I18: =SUM(F18, H18) -> 0
... D25: 0 | F25: =ROUND(SUM(D25/12)*C25*E25,0) -> 0 | H25: =ROUND(F25*G25,0) -> 0 | I25: =SUM(F25, H25) -> 0
F26: =SUM(F7:F25) -> 0 | H26: =SUM(H7:H25) -> 0 | I26: =SUM(I7:I25) -> 0
A27: CONSULTANT COSTS | E27: 0
B28: 0 | E28: 0
B29: 0 | E29: 0 | I29: =SUM(B28:B29, E27:G29) -> 0
A30: EQUIPMENT (Itemize) | E30: 0
B31: 0 | E31: 0
B32: 0 | E32: 0
B33: 0 | E33: 0
B34: 0 | E34: 0 | I34: =SUM(B31:B34, E30:G34) -> 0
A35: SUPPLIES (Itemize) | E35: 0
B36: 0 | E36: 0
B37: 0 | E37: 0
B38: 0 | E38: 0
B39: 0 | E39: 0
B40: 0 | E40: 0
B41: 0 | E41: 0
B42: 0 | E42: 0
B43: 0 | E43: 0 | I43: =SUM(B36:B43, E35:G43) -> 0
A44: TRAVEL | E44: 0
B45: 0 | E45: 0
B46: 0 | E46: 0
B47: 0 | E47: 0
...

Sheet Activity6 Contract2
A1: Applicant: | C1: PI: | F1: Grant Number:
G3: CONTRACTUAL
A4: Contract Period of Performance: January 1, 2024 - December 31, 2024 | E4: Contractor:
A5: PERSONNEL & FRINGE (Applicant organization only) | E5: AMOUNT REQUESTED (ROUND to even dollars)
A6: NAME | B6: TITLE/ROLE | C6: # OF MTHS | D6: ANNUAL SALARY | E6: % OF TIME | F6: SALARY REQUEST (for this project) | G6: FRINGE % | H6: FRINGE BENEFITS | I6: TOTALS
D7: 0 | F7: =ROUND(SUM(D7/12)*C7*E7,0) -> 0 | H7: =ROUND(F7*G7,0) -> 0 | I7: =SUM(F7, H7) -> 0
D8: 0 | F8: =ROUND(SUM(D8/12)*C8*E8,0) -> 0 | H8: =ROUND(F8*G8,0) -> 0 | I8: =SUM(F8, H8) -> 0
D9: 0 | F9: =ROUND(SUM(D9/12)*C9*E9,0) -> 0 | H9: =ROUND(F9*G9,0) -> 0 | I9: =SUM(F9, H9) -> 0
D10: 0 | F10: =ROUND(SUM(D10/12)*C10*E10,0) -> 0 | H10: =ROUND(F10*G10,0) -> 0 | I10: =SUM(F10, H10) -> 0
D11: 0 | F11: =ROUND(SUM(D11/12)*C11*E11,0) -> 0 | H11: =ROUND(F11*G11,0) -> 0 | I11: =SUM(F11, H11) -> 0
D12: 0 | F12: =ROUND(SUM(D12/12)*C12*E12,0) -> 0 | H12: =ROUND(F12*G12,0) -> 0 | I12: =SUM(F12, H12) -> 0
D13: 0 | F13: =ROUND(SUM(D13/12)*C13*E13,0) -> 0 | H13: =ROUND(F13*G13,0) -> 0 | I13: =SUM(F13, H13) -> 0
D14: 0 | F14: =ROUND(SUM(D14/12)*C14*E14,0) -> 0 | H14: =ROUND(F14*G14,0) -> 0 | I14: =SUM(F14, H14) -> 0
D15: 0 | F15: =ROUND(SUM(D15/12)*C15*E15,0) -> 0 | H15: =ROUND(F15*G15,0) -> 0 | I15: =SUM(F15, H15) -> 0
D16: 0 | F16: =ROUND(SUM(D16/12)*C16*E16,0) -> 0 | H16: =ROUND(F16*G16,0) -> 0 | I16: =SUM(F16, H16) -> 0
D17: 0 | F17: =ROUND(SUM(D17/12)*C17*E17,0) -> 0 | H17: =ROUND(F17*G17,0) -> 0 | I17: =SUM(F17, H17) -> 0
D18: 0 | F18: =ROUND(SUM(D18/12)*C18*E18,0) -> 0 | H18: =ROUND(F18*G18,0) -> 0 | I18: =SUM(F18, H18) -> 0
... D25: 0 | F25: =ROUND(SUM(D25/12)*C25*E25,0) -> 0 | H25: =ROUND(F25*G25,0) -> 0 | I25: =SUM(F25, H25) -> 0
F26: =SUM(F7:F25) -> 0 | H26: =SUM(H7:H25) -> 0 | I26: =SUM(I7:I25) -> 0
A27: CONSULTANT COSTS | E27: 0
B28: 0 | E28: 0
B29: 0 | E29: 0 | I29: =SUM(B28:B29, E27:G29) -> 0
A30: EQUIPMENT (Itemize) | E30: 0
B31: 0 | E31: 0
B32: 0 | E32: 0
B33: 0 | E33: 0
B34: 0 | E34: 0 | I34: =SUM(B31:B34, E30:G34) -> 0
A35: SUPPLIES (Itemize) | E35: 0
B36: 0 | E36: 0
B37: 0 | E37: 0
B38: 0 | E38: 0
B39: 0 | E39: 0
B40: 0 | E40: 0
B41: 0 | E41: 0
B42: 0 | E42: 0
B43: 0 | E43: 0 | I43: =SUM(B36:B43, E35:G43) -> 0
A44: TRAVEL | E44: 0
B45: 0 | E45: 0
B46: 0 | E46: 0
B47: 0 | E47: 0
...

Sheet Activity7
A1: Applicant: | C1: PI: | F1: Grant Number:
A4: Budget Period: January 1, 2024 - December 31, 2024
A5: PERSONNEL & FRINGE (Applicant organization only) | E5: AMOUNT REQUESTED (ROUND to even dollars)
A6: NAME | B6: TITLE/ROLE | C6: # OF MTHS | D6: ANNUAL SALARY | E6: % OF TIME | F6: SALARY REQUEST (for this project) | G6: FRINGE % | H6: FRINGE BENEFITS | I6: TOTALS
D7: 0 | F7: =ROUND(SUM(D7/12)*C7*E7,0) -> 0 | H7: =ROUND(F7*G7,0) -> 0 | I7: =SUM(F7, H7) -> 0
D8: 0 | F8: =ROUND(SUM(D8/12)*C8*E8,0) -> 0 | H8: =ROUND(F8*G8,0) -> 0 | I8: =SUM(F8, H8) -> 0
D9: 0 | F9: =ROUND(SUM(D9/12)*C9*E9,0) -> 0 | H9: =ROUND(F9*G9,0) -> 0 | I9: =SUM(F9, H9) -> 0
D10: 0 | F10: =ROUND(SUM(D10/12)*C10*E10,0) -> 0 | H10: =ROUND(F10*G10,0) -> 0 | I10: =SUM(F10, H10) -> 0
D11: 0 | F11: =ROUND(SUM(D11/12)*C11*E11,0) -> 0 | H11: =ROUND(F11*G11,0) -> 0 | I11: =SUM(F11, H11) -> 0
D12: 0 | F12: =ROUND(SUM(D12/12)*C12*E12,0) -> 0 | H12: =ROUND(F12*G12,0) -> 0 | I12: =SUM(F12, H12) -> 0
D13: 0 | F13: =ROUND(SUM(D13/12)*C13*E13,0) -> 0 | H13: =ROUND(F13*G13,0) -> 0 | I13: =SUM(F13, H13) -> 0
D14: 0 | F14: =ROUND(SUM(D14/12)*C14*E14,0) -> 0 | H14: =ROUND(F14*G14,0) -> 0 | I14: =SUM(F14, H14) -> 0
D15: 0 | F15: =ROUND(SUM(D15/12)*C15*E15,0) -> 0 | H15: =ROUND(F15*G15,0) -> 0 | I15: =SUM(F15, H15) -> 0
D16: 0 | F16: =ROUND(SUM(D16/12)*C16*E16,0) -> 0 | H16: =ROUND(F16*G16,0) -> 0 | I16: =SUM(F16, H16) -> 0
D17: 0 | F17: =ROUND(SUM(D17/12)*C17*E17,0) -> 0 | H17: =ROUND(F17*G17,0) -> 0 | I17: =SUM(F17, H17) -> 0
D18: 0 | F18: =ROUND(SUM(D18/12)*C18*E18,0) -> 0 | H18: =ROUND(F18*G18,0) -> 0 | I18: =SUM(F18, H18) -> 0
... D25: 0 | F25: =ROUND(SUM(D25/12)*C25*E25,0) -> 0 | H25: =ROUND(F25*G25,0) -> 0 | I25: =SUM(F25, H25) -> 0
F26: =SUM(F7:F25) -> 0 | H26: =SUM(H7:H25) -> 0 | I26: =SUM(I7:I25) -> 0
A27: CONSULTANT COSTS | E27: 0
B28: 0 | E28: 0
B29: 0 | E29: 0 | I29: =SUM(B28:B29, E27:G29) -> 0
A30: EQUIPMENT (Itemize) | E30: 0
B31: 0 | E31: 0
B32: 0 | E32: 0
B33: 0 | E33: 0
B34: 0 | E34: 0 | I34: =SUM(B31:B34, E30:G34) -> 0
A35: SUPPLIES (Itemize) | E35: 0
B36: 0 | E36: 0
B37: 0 | E37: 0
B38: 0 | E38: 0
B39: 0 | E39: 0
B40: 0 | E40: 0
B41: 0 | E41: 0
B42: 0 | E42: 0
B43: 0 | E43: 0 | I43: =SUM(B36:B43, E35:G43) -> 0
A44: TRAVEL | E44: 0
B45: 0 | E45: 0
B46: 0 | E46: 0
B47: 0 | E47: 0
B48: 0 | E48: 0
...

Sheet Activity7 Contract1
A1: Applicant: | C1: PI: | F1: Grant Number:
G3: CONTRACTUAL
A4: Contract Period of Performance: January 1, 2024 - December 31, 2024 | E4: Contractor:
A5: PERSONNEL & FRINGE (Applicant organization only) | E5: AMOUNT REQUESTED (ROUND to even dollars)
A6: NAME | B6: TITLE/ROLE | C6: # OF MTHS | D6: ANNUAL SALARY | E6: % OF TIME | F6: SALARY REQUEST (for this project) | G6: FRINGE % | H6: FRINGE BENEFITS | I6: TOTALS
D7: 0 | F7: =ROUND(SUM(D7/12)*C7*E7,0) -> 0 | H7: =ROUND(F7*G7,0) -> 0 | I7: =SUM(F7, H7) -> 0
D8: 0 | F8: =ROUND(SUM(D8/12)*C8*E8,0) -> 0 | H8: =ROUND(F8*G8,0) -> 0 | I8: =SUM(F8, H8) -> 0
D9: 0 | F9: =ROUND(SUM(D9/12)*C9*E9,0) -> 0 | H9: =ROUND(F9*G9,0) -> 0 | I9: =SUM(F9, H9) -> 0
D10: 0 | F10: =ROUND(SUM(D10/12)*C10*E10,0) -> 0 | H10: =ROUND(F10*G10,0) -> 0 | I10: =SUM(F10, H10) -> 0
D11: 0 | F11: =ROUND(SUM(D11/12)*C11*E11,0) -> 0 | H11: =ROUND(F11*G11,0) -> 0 | I11: =SUM(F11, H11) -> 0
D12: 0 | F12: =ROUND(SUM(D12/12)*C12*E12,0) -> 0 | H12: =ROUND(F12*G12,0) -> 0 | I12: =SUM(F12, H12) -> 0
D13: 0 | F13: =ROUND(SUM(D13/12)*C13*E13,0) -> 0 | H13: =ROUND(F13*G13,0) -> 0 | I13: =SUM(F13, H13) -> 0
D14: 0 | F14: =ROUND(SUM(D14/12)*C14*E14,0) -> 0 | H14: =ROUND(F14*G14,0) -> 0 | I14: =SUM(F14, H14) -> 0
D15: 0 | F15: =ROUND(SUM(D15/12)*C15*E15,0) -> 0 | H15: =ROUND(F15*G15,0) -> 0 | I15: =SUM(F15, H15) -> 0
D16: 0 | F16: =ROUND(SUM(D16/12)*C16*E16,0) -> 0 | H16: =ROUND(F16*G16,0) -> 0 | I16: =SUM(F16, H16) -> 0
D17: 0 | F17: =ROUND(SUM(D17/12)*C17*E17,0) -> 0 | H17: =ROUND(F17*G17,0) -> 0 | I17: =SUM(F17, H17) -> 0
D18: 0 | F18: =ROUND(SUM(D18/12)*C18*E18,0) -> 0 | H18: =ROUND(F18*G18,0) -> 0 | I18: =SUM(F18, H18) -> 0
... D25: 0 | F25: =ROUND(SUM(D25/12)*C25*E25,0) -> 0 | H25: =ROUND(F25*G25,0) -> 0 | I25: =SUM(F25, H25) -> 0
F26: =SUM(F7:F25) -> 0 | H26: =SUM(H7:H25) -> 0 | I26: =SUM(I7:I25) -> 0
A27: CONSULTANT COSTS | E27: 0
B28: 0 | E28: 0
B29: 0 | E29: 0 | I29: =SUM(B28:B29, E27:G29) -> 0
A30: EQUIPMENT (Itemize) | E30: 0
B31: 0 | E31: 0
B32: 0 | E32: 0
B33: 0 | E33: 0
B34: 0 | E34: 0 | I34: =SUM(B31:B34, E30:G34) -> 0
A35: SUPPLIES (Itemize) | E35: 0
B36: 0 | E36: 0
B37: 0 | E37: 0
B38: 0 | E38: 0
B39: 0 | E39: 0
B40: 0 | E40: 0
B41: 0 | E41: 0
B42: 0 | E42: 0
B43: 0 | E43: 0 | I43: =SUM(B36:B43, E35:G43) -> 0
A44: TRAVEL | E44: 0
B45: 0 | E45: 0
B46: 0 | E46: 0
B47: 0 | E47: 0
...

Sheet Activity7 Contract2
A1: Applicant: | C1: PI: | F1: Grant Number:
G3: CONTRACTUAL
A4: Contract Period of Performance: January 1, 2024 - December 31, 2024 | E4: Contractor:
A5: PERSONNEL & FRINGE (Applicant organization only) | E5: AMOUNT REQUESTED (ROUND to even dollars)
A6: NAME | B6: TITLE/ROLE | C6: # OF MTHS | D6: ANNUAL SALARY | E6: % OF TIME | F6: SALARY REQUEST (for this project) | G6: FRINGE % | H6: FRINGE BENEFITS | I6: TOTALS
D7: 0 | F7: =ROUND(SUM(D7/12)*C7*E7,0) -> 0 | H7: =ROUND(F7*G7,0) -> 0 | I7: =SUM(F7, H7) -> 0
D8: 0 | F8: =ROUND(SUM(D8/12)*C8*E8,0) -> 0 | H8: =ROUND(F8*G8,0) -> 0 | I8: =SUM(F8, H8) -> 0
D9: 0 | F9: =ROUND(SUM(D9/12)*C9*E9,0) -> 0 | H9: =ROUND(F9*G9,0) -> 0 | I9: =SUM(F9, H9) -> 0
D10: 0 | F10: =ROUND(SUM(D10/12)*C10*E10,0) -> 0 | H10: =ROUND(F10*G10,0) -> 0 | I10: =SUM(F10, H10) -> 0
D11: 0 | F11: =ROUND(SUM(D11/12)*C11*E11,0) -> 0 | H11: =ROUND(F11*G11,0) -> 0 | I11: =SUM(F11, H11) -> 0
D12: 0 | F12: =ROUND(SUM(D12/12)*C12*E12,0) -> 0 | H12: =ROUND(F12*G12,0) -> 0 | I12: =SUM(F12, H12) -> 0
D13: 0 | F13: =ROUND(SUM(D13/12)*C13*E13,0) -> 0 | H13: =ROUND(F13*G13,0) -> 0 | I13: =SUM(F13, H13) -> 0
D14: 0 | F14: =ROUND(SUM(D14/12)*C14*E14,0) -> 0 | H14: =ROUND(F14*G14,0) -> 0 | I14: =SUM(F14, H14) -> 0
D15: 0 | F15: =ROUND(SUM(D15/12)*C15*E15,0) -> 0 | H15: =ROUND(F15*G15,0) -> 0 | I15: =SUM(F15, H15) -> 0
D16: 0 | F16: =ROUND(SUM(D16/12)*C16*E16,0) -> 0 | H16: =ROUND(F16*G16,0) -> 0 | I16: =SUM(F16, H16) -> 0
D17: 0 | F17: =ROUND(SUM(D17/12)*C17*E17,0) -> 0 | H17: =ROUND(F17*G17,0) -> 0 | I17: =SUM(F17, H17) -> 0
D18: 0 | F18: =ROUND(SUM(D18/12)*C18*E18,0) -> 0 | H18: =ROUND(F18*G18,0) -> 0 | I18: =SUM(F18, H18) -> 0
... D25: 0 | F25: =ROUND(SUM(D25/12)*C25*E25,0) -> 0 | H25: =ROUND(F25*G25,0) -> 0 | I25: =SUM(F25, H25) -> 0
F26: =SUM(F7:F25) -> 0 | H26: =SUM(H7:H25) -> 0 | I26: =SUM(I7:I25) -> 0
A27: CONSULTANT COSTS | E27: 0
B28: 0 | E28: 0
B29: 0 | E29: 0 | I29: =SUM(B28:B29, E27:G29) -> 0
A30: EQUIPMENT (Itemize) | E30: 0
B31: 0 | E31: 0
B32: 0 | E32: 0
B33: 0 | E33: 0
B34: 0 | E34: 0 | I34: =SUM(B31:B34, E30:G34) -> 0
A35: SUPPLIES (Itemize) | E35: 0
B36: 0 | E36: 0
B37: 0 | E37: 0
B38: 0 | E38: 0
B39: 0 | E39: 0
B40: 0 | E40: 0
B41: 0 | E41: 0
B42: 0 | E42: 0
B43: 0 | E43: 0 | I43: =SUM(B36:B43, E35:G43) -> 0
A44: TRAVEL | E44: 0
B45: 0 | E45: 0
B46: 0 | E46: 0
B47: 0 | E47: 0
...

Sheet Activity8
A1: Applicant: | C1: PI: | F1: Grant Number:
A4: Budget Period: January 1, 2024 - December 31, 2024
A5: PERSONNEL & FRINGE (Applicant organization only) | E5: AMOUNT REQUESTED (ROUND to even dollars)
A6: NAME | B6: TITLE/ROLE | C6: # OF MTHS | D6: ANNUAL SALARY | E6: % OF TIME | F6: SALARY REQUEST (for this project) | G6: FRINGE % | H6: FRINGE BENEFITS | I6: TOTALS
