Workbook
Name Category: [1]Sheet2!$B$1:$B$10
Name Contact_List: [2]!CenterList[#All]
Name DropDowns: [3]DropDowns!#REF!
Name DropDowns: [4]DropDowns!#REF!
Name DropDowns: DropDowns!#REF!
Name EDMISSum: '[2]Reporting Status'!$AG$12
Name FinSum: '[2]Reporting Status'!$AG$14
Name GrantManager: '[5]Drop Downs'!$D$1:$D$2
Name GrantType: [6]Dropdowns!$D$1:$D$3
Name GrantType: [7]Dropdowns!$D$1:$D$3
Name NarrativeSum: '[2]Reporting Status'!$AG$13
Name NCESubSum: '[2]Reporting Status'!$AG$15
Name NCESum: '[2]Reporting Status'!$Y$6
Name Personnel: [3]DropDowns!#REF!
Name Personnel: [4]DropDowns!#REF!
Name Personnel: DropDowns!#REF!
Name Program: [1]Sheet2!$C$1:$C$2
Name ProgramManager: '[5]Drop Downs'!$C$1:$C$6
Name Rate: [6]Dropdowns!$A$1:$A$4
Name Rate: [8]Dropdowns!$A$1:$A$4
Name Rate: [8]Dropdowns!$A$1:$A$4
Name Rate: [7]Dropdowns!$A$1:$A$4
Name Region1Times: '[9]Report Confirmation'!#REF!
Name Regions: '[5]Drop Downs'!$E$1:$E$10
Name Staff: [3]DropDowns!$A$1:$A$4
Name Staff: [8]Dropdowns!$B$1:$B$9
Name Staff: [8]Dropdowns!$B$1:$B$9
Name Staff: [4]DropDowns!$A$1:$A$4
Name Staff: DropDowns!$A$1:$A$4
Name StaffName: [3]DropDowns!$B$1:$B$34
Name StaffName: [4]DropDowns!$B$1:$B$34
Name StaffName: DropDowns!$B$1:$B$34
Name States: [4]States!$A$1:$A$51
Name Status: '[5]Drop Downs'!$G$1:$G$5
Name SubmissionStatusPage: [2]!ReportStatus2225[#All]
Name Travel: [3]DropDowns!$C$1:$C$6
Name Travel: [4]DropDowns!$C$1:$C$6
Name Travel: DropDowns!$C$1:$C$6
Name TravelCategory: [6]Dropdowns!$C$1:$C$6
Name TravelCategory: [8]Dropdowns!$C$1:$C$6
Name TravelCategory: [8]Dropdowns!$C$1:$C$6
Name TravelCategory: [7]Dropdowns!$C$1:$C$6
Name WBCName: '[5]Drop Downs'!$F$1:$F$140
Name WBCRoles: '[5]Drop Downs'!$A$1:$A$6
Name WBCs: [1]Sheet2!$A$1:$A$116
Name YesNo: '[5]Drop Downs'!$B$1:$B$2

Sheet DropDowns
A1: Hourly | C1: Lodging
A2: Weekly | C2: Meals
A3: Monthly | C3: Mileage
A4: Yearly | C4: Transportation
C5: Local Travel
C6: Other

Sheet Budget Flat
A1: Federal_Personnel | B1: Non-Federal_Personnel | C1: In-kind_Personnel | D1: ProgramIncome_Personnel | E1: Total_Personnel | F1: Federal_Fringe | G1: Non-Federal_Fringe | H1: In-kind_Fringe | I1: ProgramIncome_Fringe | J1: Total_Fringe | K1: Federal_travel | L1: Non-Federal_travel | M1: In-kind_travel | N1: ProgramIncome_travel | O1: Total_travel | P1: Federal_equipment | Q1: Non-Federal_equipment | R1: In-kind_equipment | S1: ProgramIncome_equipment | T1: Total_equipment | U1: Federal_supplies | V1: Non-Federal_supplies | W1: In-kind_supplies | X1: ProgramIncome_supplies | Y1: Total_supplies | Z1: Federal_contractual | AA1: Non-Federal_contractual | AB1: In-kind_contractual | AC1: ProgramIncome_contractual | AD1: Total_contractual | AE1: Federal_ODC | AF1: Non-Federal_ODC | AG1: In-kind_ODC | AH1: ProgramIncome_ODC | AI1: Total_ODC | AJ1: Total_Federal_Direct | AK1: Total_NonFederal_Direct | AL1: Total_InKind_Direct | AM1: Total_ProgramIncome_Direct | AN1: Total Request | AO1: ICR | AP1: Federal_IDC | AQ1: Non-Federal_IDC | AR1: In-kind_IDC | AS1: ProgramIncome_IDC | AT1: Total_IDC | AU1: Federal_Total | AV1: Non-Federal_Total | AW1: In-kind_Total | AX1: ProgramIncome_Total | AY1: Total
A2: ='Detailed Expenditures Summary'!B15 -> 0 | B2: ='Detailed Expenditures Summary'!C15 -> 0 | C2: ='Detailed Expenditures Summary'!D15 -> 0 | D2: ='Detailed Expenditures Summary'!E15 -> 0 | E2: =SUM(A2:D2) -> 0 | F2: ='Detailed Expenditures Summary'!B16 -> 0 | G2: ='Detailed Expenditures Summary'!C16 -> 0 | H2: ='Detailed Expenditures Summary'!D16 -> 0 | I2: ='Detailed Expenditures Summary'!E16 -> 0 | J2: =SUM(F2:I2) -> 0 | K2: ='Detailed Expenditures Summary'!B17 -> 0 | L2: ='Detailed Expenditures Summary'!C17 -> 0 | M2: ='Detailed Expenditures Summary'!D17 -> 0 | N2: ='Detailed Expenditures Summary'!E17 -> 0 | O2: =SUM(K2:N2) -> 0 | P2: ='Detailed Expenditures Summary'!B18 -> 0 | Q2: ='Detailed Expenditures Summary'!C18 -> 0 | R2: ='Detailed Expenditures Summary'!D18 -> 0 | S2: ='Detailed Expenditures Summary'!E18 -> 0 | T2: =SUM(P2:S2) -> 0 | U2: ='Detailed Expenditures Summary'!B19 -> 0 | V2: ='Detailed Expenditures Summary'!C19 -> 0 | W2: ='Detailed Expenditures Summary'!D19 -> 0 | X2: ='Detailed Expenditures Summary'!E19 -> 0 | Y2: =SUM(U2:X2) -> 0 | Z2: ='Detailed Expenditures Summary'!B20 -> 0 | AA2: ='Detailed Expenditures Summary'!C20 -> 0 | AB2: ='Detailed Expenditures Summary'!D20 -> 0 | AC2: ='Detailed Expenditures Summary'!E20 -> 0 | AD2: =SUM(Z2:AC2) -> 0 | AE2: ='Detailed Expenditures Summary'!B21 -> 0 | AF2: ='Detailed Expenditures Summary'!C21 -> 0 | AG2: ='Detailed Expenditures Summary'!D21 -> 0 | AH2: ='Detailed Expenditures Summary'!E21 -> 0 | AI2: =SUM(AE2:AH2) -> 0 | AJ2: ='Detailed Expenditures Summary'!B22 -> 0 | AK2: ='Detailed Expenditures Summary'!C22 -> 0 | AL2: ='Detailed Expenditures Summary'!D22 -> 0 | AM2: ='Detailed Expenditures Summary'!E22 -> 0 | AN2: =SUM(AJ2:AM2) -> 0 | AO2: ='Detailed Expenditures Summary'!F25 -> 0 | AP2: ='Detailed Expenditures Summary'!B24 -> 0 | AQ2: ='Detailed Expenditures Summary'!C24 -> 0 | AR2: ='Detailed Expenditures Summary'!D24 -> 0 | AS2: ='Detailed Expenditures Summary'!E24 -> 0 | AT2: =SUM(AP2:AS2) -> 0 | AU2: ='Detailed Expenditures Summary'!B26 -> 0 | AV2: ='Detailed Expenditures Summary'!C26 -> 0 | AW2: ='Detailed Expenditures Summary'!D26 -> 0 | AX2: ='Detailed Expenditures Summary'!E26 -> 0 | AY2: =SUM(AU2:AX2) -> 0 | AZ2: =SUM(AU2:AX2) -> 0

Sheet Instructions
A1: WBC Budget Workbook OMB Approval NO.: 1121-0329 Expires 11/30/2020
A2: Workbook Instructions
A3: Purpose:
A4: The Budget Detail Worksheet is provided for your use in the preparation of the budget and budget narrative. All required information (including the budget narrative) must be provided. Any category of expense not applicable to your budget may be left blank. Indicate any non-federal (match) amount in the appropriate category, if applicable.
A5: How to use this Workbook:
A6: The workbook includes several different worksheets. The first worksheet (this one) is an instruction sheet; the next worksheet includes the budget detail worksheet and narrative for year 1. Step by Step Usage: 1. Please read and print this instruction page. It can be used as a reference while completing the rest of the document. 2. The 'Definitions' tab explains terms used in the instructions for the various budget categories. 3. Record Retention: In accordance with the requirements set forth in 2 CFR Part 200.333, all financial records, supporting documents, statistical records, and all other records pertinent to the award shall be retained by each organization for at least three years following the closure of the audit report covering the grant period. 4. The information disclosed in this form is subject to the Freedom of Information Act under U.S.C. 55.2.
A8: Recipient Organization Name:
A9: WBC Project Name:
A10: POC Name:
A11: POC Title:
A12: POC Email:
A13: POC Phone:
A14: Project Period | F14: Start: | I14: End:
A15: Budget Category Descriptions:
A16: Personnel | B16: List each position by title and name of employee, if available. Show the annual salary rate and the percentage of time to be devoted to the project. Compensation paid for employees engaged in grant activities must be consistent with that paid for similar work within the applicant organization. In the budget narrative, include a description of the responsibilities and duties of each position in relationship to fulfilling the project goals and objectives. All requested information must be included in the budget detail worksheet and budget narrative.
A17: Fringe Benefits | B17: Fringe benefits should be based on actual known costs or an approved negotiated rate by a Federal agency. If not based on an approved negotiated rate, list the composition of the fringe benefit package. Fringe benefits are for the personnel listed in the budget category (A) and only for the percentage of time devoted to the project. All requested information must be included in the budget detail worksheet and budget narrative.
A18: Travel | B18: Itemize travel expenses of staff personnel (e.g. staff to training, field interviews, advisory group meeting, etc.). Describe the purpose of each travel expenditure in reference to the project objectives. Show the basis of computation (e.g., six people to 3-day training at $X airfare, $X lodging, $X subsistence). In training projects, travel and meals for trainees should be listed separately. Show the number of trainees and the unit costs involved. Identify the location of travel, if known; or if unknown, indicate "location to be determined." Indicate whether applicant's formal written travel policy or the Federal Travel Regulations are followed. Note: Travel expenses for consultants should be included in the “Consultant Travel” data fields under the “Subawards (Subgrants)/Procurement Contracts” category.
A19: Equipment | B19: List non-expendable items that are to be purchased (Note: Organization's own capitalization policy for classification of equipment should be used). Expendable items should be included in the "Supplies" category. Applicants should analyze the cost benefits of purchasing versus leasing equipment, especially high cost items and those subject to rapid technological advances. Rented or leased equipment costs should be listed in the “Contracts” data fields under the “Subawards (Subgrants)/Procurement Contracts" category. In the budget narrative, explain how the equipment is necessary for the success of the project, and describe the procurement method to be used. All requested information must be included in the budget detail worksheet and budget narrative.
A20: Supplies | B20: List items by type (office supplies, postage, training materials, copy paper, and expendable equipment items costing less than $5,000, such as books, hand held tape recorders) and show the basis for computation. Generally, supplies include any materials that are expendable or consumed during the course of the project. All requested information must be included in the budget detail worksheet and budget narrative.
A21: Procurement Contracts, & Consultant Fees | B21: Procurement contracts (see “Contract” definition at 2 CFR 200.22): Provide a description of the product or service to be procured by contract and an estimate of the cost. Indicate whether the applicant’s formal, written Procurement Policy or the Federal Acquisition Regulation is followed. Applicants are encouraged to promote free and open competition in awarding procurement contracts. A separate justification must be provided for sole source procurements in excess of the Simplified Acquisition Threshold set in accordance with 41 U.S.C. 1908 (currently set at $150,000). For each consultant enter the name, if known, service to be provided, hourly or daily fee (8-hour day), and estimated time on the project. All requested information must be included in the budget detail worksheet and budget narrative.
A22: Other Costs | B22: List items (e.g., rent, reproduction, telephone, janitorial or security services, and investigative or confidential funds) by type and the basis of the computation. For example, provide the square footage and the cost per square foot for rent, or provide a monthly rental cost and how many months to rent. All requested information must be included in the budget detail worksheet and budget narrative.
A23: Indirect Costs | B23: Indirect costs are allowed only if: a) the applicant has a current, federally approved indirect cost rate; or b) the applicant is eligible to use and elects to use the “de minimis” indirect cost rate described in 2 C.F.R. 200.414(f). (See paragraph D.1.b. in Appendix VII to Part 200—States and Local Government and Indian Tribe Indirect Cost Proposals for a description of entities that may not elect to use the “de minimis” rate.) An applicant with a current, federally approved indirect cost rate must attach a copy of the rate approval, (a fully-executed, negotiated agreement. If the applicant does not have an approved rate, one can be requested by contacting the applicant’s cognizant Federal agency, which will review all documentation and approve a rate for the applicant organization, or if the applicant’s accounting system permits, costs may be allocated in the direct costs categories. (Applicant Indian tribal governments, in particular, should review Appendix VII to Part 200—States and Local Government and Indian Tribe Indirect Cost Proposals regarding submission and documentation of indirect cost proposals.) Narrative for any indirect costs should clearly state which direct costs the indirect cost agreement is being applied to. All requested information must be included in the budget detail worksheet and budget narrative. In order to use the “de minimis” indirect rate an applicant would need to attach written documentation to the application that advises SBA of both the applicant’s eligibility (to use the “de minimis” rate) and its election. If the applicant elects the de minimis method, costs must be consistently charged as either indirect or direct costs, but may not be double charged or inconsistently charged as both. In addition, if this method is chosen then it must be used consistently for all federal awards until such time as the applicant entity chooses to negotiate a federally approved indirect cost rate.

Sheet Detailed Expenditures Summary
A5: ANNUAL BUDGET SUMMARY
A6: DETAILED EXPENDITURES WORKSHEET
A9: Period Covered: | B9: =Instructions!H14 -> 0 | C9: through | D9: =Instructions!K14 -> 0
A11: SUBMIT WITH SF-424 and SF-424A
A12: AWARD RECIPIENTS MAY NOT INCUR COSTS IN A NON-APPROVED COST CATEGORY.
A13: Direct Cost
A14: Category | B14: Federal | C14: Non-Federal | D14: In-Kind | E14: Program Income | F14: Unrecovered Indirect | G14: Total Request | H14: Total Request | I14: Total Request | J14: Total Request
A15: A. Personnel Services | B15: ='Detailed Expenditure Worksheet'!H18 -> 0 | C15: ='Detailed Expenditure Worksheet'!I18 -> 0 | D15: ='Detailed Expenditure Worksheet'!J18 -> 0 | E15: ='Detailed Expenditure Worksheet'!K18 -> 0 | F15: ='Detailed Expenditure Worksheet'!L18 -> 0 | G15: ='Detailed Expenditure Worksheet'!M18 -> 0 | H15: ='Detailed Expenditure Worksheet'!N18 -> 0 | I15: ='Detailed Expenditure Worksheet'!O18 -> 0 | J15: ='Detailed Expenditure Worksheet'!P18 -> 0
A16: B. Fringe Benefits | B16: ='Detailed Expenditure Worksheet'!H38 -> 0 | C16: ='Detailed Expenditure Worksheet'!I38 -> 0 | D16: ='Detailed Expenditure Worksheet'!J38 -> 0 | E16: ='Detailed Expenditure Worksheet'!K38 -> 0 | F16: ='Detailed Expenditure Worksheet'!L38 -> 0 | G16: ='Detailed Expenditure Worksheet'!M38 -> 0 | H16: ='Detailed Expenditure Worksheet'!N38 -> 0 | I16: ='Detailed Expenditure Worksheet'!O38 -> 0 | J16: ='Detailed Expenditure Worksheet'!P38 -> 0
A17: C. Travel | B17: ='Detailed Expenditure Worksheet'!H69 -> 0 | C17: ='Detailed Expenditure Worksheet'!I69 -> 0 | D17: ='Detailed Expenditure Worksheet'!J69 -> 0 | E17: ='Detailed Expenditure Worksheet'!K69 -> 0 | F17: ='Detailed Expenditure Worksheet'!L69 -> 0 | G17: ='Detailed Expenditure Worksheet'!M69 -> 0 | H17: ='Detailed Expenditure Worksheet'!N69 -> 0 | I17: ='Detailed Expenditure Worksheet'!O69 -> 0 | J17: ='Detailed Expenditure Worksheet'!P69 -> 0
A18: D. Equipment | B18: ='Detailed Expenditure Worksheet'!H84 -> 0 | C18: ='Detailed Expenditure Worksheet'!I84 -> 0 | D18: ='Detailed Expenditure Worksheet'!J84 -> 0 | E18: ='Detailed Expenditure Worksheet'!K84 -> 0 | F18: ='Detailed Expenditure Worksheet'!L84 -> 0 | G18: ='Detailed Expenditure Worksheet'!M84 -> 0 | H18: ='Detailed Expenditure Worksheet'!N84 -> 0 | I18: ='Detailed Expenditure Worksheet'!O84 -> 0 | J18: ='Detailed Expenditure Worksheet'!P84 -> 0
A19: E. Supplies | B19: ='Detailed Expenditure Worksheet'!H108 -> 0 | C19: ='Detailed Expenditure Worksheet'!I108 -> 0 | D19: ='Detailed Expenditure Worksheet'!J108 -> 0 | E19: ='Detailed Expenditure Worksheet'!K108 -> 0 | F19: ='Detailed Expenditure Worksheet'!L108 -> 0 | G19: ='Detailed Expenditure Worksheet'!M108 -> 0 | H19: ='Detailed Expenditure Worksheet'!N108 -> 0 | I19: ='Detailed Expenditure Worksheet'!O108 -> 0 | J19: ='Detailed Expenditure Worksheet'!P108 -> 0
A20: F. Contractual | B20: ='Detailed Expenditure Worksheet'!H127 -> 0 | C20: ='Detailed Expenditure Worksheet'!I127 -> 0 | D20: ='Detailed Expenditure Worksheet'!J127 -> 0 | E20: ='Detailed Expenditure Worksheet'!K127 -> 0 | F20: ='Detailed Expenditure Worksheet'!L127 -> 0 | G20: ='Detailed Expenditure Worksheet'!M127 -> 0 | H20: ='Detailed Expenditure Worksheet'!N127 -> 0 | I20: ='Detailed Expenditure Worksheet'!O127 -> 0 | J20: ='Detailed Expenditure Worksheet'!P127 -> 0
A21: G. Other Direct Costs | B21: ='Detailed Expenditure Worksheet'!H148 -> 0 | C21: ='Detailed Expenditure Worksheet'!I148 -> 0 | D21: ='Detailed Expenditure Worksheet'!J148 -> 0 | E21: ='Detailed Expenditure Worksheet'!K148 -> 0 | F21: ='Detailed Expenditure Worksheet'!L148 -> 0 | G21: ='Detailed Expenditure Worksheet'!M148 -> 0 | H21: ='Detailed Expenditure Worksheet'!N148 -> 0 | I21: ='Detailed Expenditure Worksheet'!O148 -> 0 | J21: ='Detailed Expenditure Worksheet'!P148 -> 0
A22: Total Direct Costs | B22: =SUM(B15:B21) -> 0 | C22: =SUM(C15:C21) -> 0 | D22: =SUM(D15:D21) -> 0 | E22: =SUM(E15:E21) -> 0 | F22: =SUM(F15:F21) -> 0 | G22: =SUM(G15:G21) -> 0 | H22: =SUM(H15:H21) -> 0 | I22: =SUM(I15:I21) -> 0 | J22: =SUM(J15:J21) -> 0
A23: Indirect Cost
A24: H. Indirect Costs | B24: ='Detailed Expenditure Worksheet'!H158 -> 0 | C24: ='Detailed Expenditure Worksheet'!I158 -> 0 | G24: =SUM(C24:F24) -> 0 | H24: =SUM(D24:G24) -> 0 | I24: =SUM(E24:H24) -> 0 | J24: =SUM(B24:C24) -> 0
B25: Rate | F25: ='Detailed Expenditure Worksheet'!F158 -> 0 | G25: ='Detailed Expenditure Worksheet'!G158 -> 0 | H25: ='Detailed Expenditure Worksheet'!H158 -> 0 | I25: ='Detailed Expenditure Worksheet'!I158 -> 0
A26: Total Expenditures | B26: =B22+B24 -> 0 | C26: =C22+C24 -> 0 | D26: =D22+D24 -> 0 | E26: =E22+E24 -> 0 | F26: =F22+F24 -> 0 | G26: =G22+G24 -> 0 | H26: =H22+H24 -> 0 | I26: =I22+I24 -> 0 | J26: =J22+J24 -> 0

Sheet Detailed Expenditure Worksheet
A1: Budget Detail Worksheet
B3: A. Personnel Services | C3: B. Fringe Benefits | D3: C. Travel | E3: D. Equipment | F3: E. Supplies | G3: F. Contractual | H3: G. Other Direct Costs | I3: H. Indirect
A6: A. Personnel
A7: Name | B7: Position | C7: Salary | D7: Rate | E7: Hours | F7: Percentage of Time | G7: Total Cost | H7: Federal Request | I7: Non-Federal | J7: In-Kind | K7: Program Income | L7: Unrecovered Indirect | M7: Total Request
G8: =IF(D8="Monthly",(C8*12)*F8,IF(D8="Weekly",(C8*52)*F8,IF(D8="Yearly",(C8*1)*F8,IF(D8="Hourly",(C8*E8)*F8,"")))) | H8: 0 | I8: 0 | J8: 0 | K8: 0 | L8: =IF(C8=0,"",SUM(H8:K8)) | M8: =IF(D8=0,"",SUM(I8:L8))
G9: =IF(D9="Monthly",(C9*12)*F9,IF(D9="Weekly",(C9*52)*F9,IF(D9="Yearly",(C9*1)*F9,IF(D9="Hourly",(C9*E9)*F9,"")))) | H9: 0 | I9: 0 | J9: 0 | K9: 0 | L9: =IF(C9=0,"",SUM(H9:K9)) | M9: =IF(D9=0,"",SUM(I9:L9))
G10: =IF(D10="Monthly",(C10*12)*F10,IF(D10="Weekly",(C10*52)*F10,IF(D10="Yearly",(C10*1)*F10,IF(D10="Hourly",(C10*E10)*F10,"")))) | H10: 0 | I10: 0 | J10: 0 | K10: 0 | L10: =IF(C10=0,"",SUM(H10:K10)) | M10: =IF(D10=0,"",SUM(I10:L10))
G11: =IF(D11="Monthly",(C11*12)*F11,IF(D11="Weekly",(C11*52)*F11,IF(D11="Yearly",(C11*1)*F11,IF(D11="Hourly",(C11*E11)*F11,"")))) | H11: 0 | I11: 0 | J11: 0 | K11: 0 | L11: =IF(C11=0,"",SUM(H11:K11)) | M11: =IF(D11=0,"",SUM(I11:L11))
G12: =IF(D12="Monthly",(C12*12)*F12,IF(D12="Weekly",(C12*52)*F12,IF(D12="Yearly",(C12*1)*F12,IF(D12="Hourly",(C12*E12)*F12,"")))) | H12: 0 | I12: 0 | J12: 0 | K12: 0 | L12: =IF(C12=0,"",SUM(H12:K12)) | M12: =IF(D12=0,"",SUM(I12:L12))
G13: =IF(D13="Monthly",(C13*12)*F13,IF(D13="Weekly",(C13*52)*F13,IF(D13="Yearly",(C13*1)*F13,IF(D13="Hourly",(C13*E13)*F13,"")))) | H13: 0 | I13: 0 | J13: 0 | K13: 0 | L13: =IF(C13=0,"",SUM(H13:K13)) | M13: =IF(D13=0,"",SUM(I13:L13))
G14: =IF(D14="Monthly",(C14*12)*F14,IF(D14="Weekly",(C14*52)*F14,IF(D14="Yearly",(C14*1)*F14,IF(D14="Hourly",(C14*E14)*F14,"")))) | H14: 0 | I14: 0 | J14: 0 | K14: 0 | L14: =IF(C14=0,"",SUM(H14:K14)) | M14: =IF(D14=0,"",SUM(I14:L14))
G15: =IF(D15="Monthly",(C15*12)*F15,IF(D15="Weekly",(C15*52)*F15,IF(D15="Yearly",(C15*1)*F15,IF(D15="Hourly",(C15*E15)*F15,"")))) | H15: 0 | I15: 0 | J15: 0 | K15: 0 | L15: =IF(C15=0,"",SUM(H15:K15)) | M15: =IF(D15=0,"",SUM(I15:L15))
G16: =IF(D16="Monthly",(C16*12)*F16,IF(D16="Weekly",(C16*52)*F16,IF(D16="Yearly",(C16*1)*F16,IF(D16="Hourly",(C16*E16)*F16,"")))) | H16: 0 | I16: 0 | J16: 0 | K16: 0 | L16: =IF(C16=0,"",SUM(H16:K16)) | M16: =IF(D16=0,"",SUM(I16:L16))
G17: =IF(D17="Monthly",(C17*12)*F17,IF(D17="Weekly",(C17*52)*F17,IF(D17="Yearly",(C17*1)*F17,IF(D17="Hourly",(C17*E17)*F17,"")))) | H17: 0 | I17: 0 | J17: 0 | K17: 0 | L17: =IF(C17=0,"",SUM(H17:K17)) | M17: =IF(D17=0,"",SUM(I17:L17))
A18: Totals | G18: =SUM(G8:G17) -> 0 | H18: =SUM(H8:H17) -> 0 | I18: =SUM(I8:I17) -> 0 | J18: =SUM(J8:J17) -> 0 | K18: =SUM(K8:K17) -> 0 | L18: =SUM(L8:L17) -> 0 | M18: =SUM(M8:M17) -> 0
A19: Narrative
A26: B. Fringe Benefits
A27: Name | D27: Base | F27: Rate | G27: Total Cost | H27: Federal Request | I27: Non-Federal | J27: In-Kind | K27: Program Income | L27: Unrecovered Indirect | M27: Total Request
G28: 23325 | L28: =SUM(H28:K28) -> 0 | M28: =SUM(I28:L28) -> 0
G29: =D29*F29 -> 0 | H29: 0 | I29: 0 | J29: 0 | K29: 0 | L29: =SUM(H29:K29) -> 0 | M29: =SUM(I29:L29) -> 0
G30: =D30*F30 -> 0 | H30: 0 | I30: 0 | J30: 0 | K30: 0 | L30: =SUM(H30:K30) -> 0 | M30: =SUM(I30:L30) -> 0
G31: =D31*F31 -> 0 | H31: 0 | I31: 0 | J31: 0 | K31: 0 | L31: =SUM(H31:K31) -> 0 | M31: =SUM(I31:L31) -> 0
G32: =D32*F32 -> 0 | H32: 0 | I32: 0 | J32: 0 | K32: 0 | L32: =SUM(H32:K32) -> 0 | M32: =SUM(I32:L32) -> 0
G33: =D33*F33 -> 0 | H33: 0 | I33: 0 | J33: 0 | K33: 0 | L33: =SUM(H33:K33) -> 0 | M33: =SUM(I33:L33) -> 0
G34: =D34*F34 -> 0 | H34: 0 | I34: 0 | J34: 0 | K34: 0 | L34: =SUM(H34:K34) -> 0 | M34: =SUM(I34:L34) -> 0
G35: =D35*F35 -> 0 | H35: 0 | I35: 0 | J35: 0 | K35: 0 | L35: =SUM(H35:K35) -> 0 | M35: =SUM(I35:L35) -> 0
G36: =D36*F36 -> 0 | H36: 0 | I36: 0 | J36: 0 | K36: 0 | L36: =SUM(H36:K36) -> 0 | M36: =SUM(I36:L36) -> 0
G37: =D37*F37 -> 0 | H37: 0 | I37: 0 | J37: 0 | K37: 0 | L37: =SUM(H37:K37) -> 0 | M37: =SUM(I37:L37) -> 0
A38: Totals | G38: =SUM(G28:G37) -> 23325 | H38: =SUM(H28:H37) -> 0 | I38: =SUM(I28:I37) -> 0 | J38: =SUM(J28:J37) -> 0 | K38: =SUM(K28:K37) -> 0 | L38: =SUM(L28:L37) -> 0 | M38: =SUM(M28:M37) -> 0
A39: Narrative
A46: C. Travel
A47: Purpose of Travel and Location (Indicate the purpose of the trip and the travel destination) | B47: Type of Expense (Lodging, meals, etc.) | C47: Cost | D47: Quanity | E47: # of Staff | F47: # of Trips | G47: Total Cost | H47: Federal Request | I47: Non-Federal | J47: In-Kind | K47: Program Income | L47: Unrecovered Indirect | M47: Total Request
G48: =(C48*D48*E48)*F48 -> 0 | H48: 0 | I48: 0 | L48: =SUM(H48:K48) -> 0 | M48: =SUM(I48:L48) -> 0
G49: =(C49*D49*E49)*F49 -> 0 | H49: 0 | I49: 0 | L49: =SUM(H49:K49) -> 0 | M49: =SUM(I49:L49) -> 0
G50: =(C50*D50*E50)*F50 -> 0 | H50: 0 | I50: 0 | L50: =SUM(H50:K50) -> 0 | M50: =SUM(I50:L50) -> 0
G51: =(C51*D51*E51)*F51 -> 0 | H51: 0 | I51: 0 | J51: 0 | K51: 0 | L51: =SUM(H51:K51) -> 0 | M51: =SUM(I51:L51) -> 0
G52: =(C52*D52*E52)*F52 -> 0 | H52: 0 | I52: 0 | J52: 0 | K52: 0 | L52: =SUM(H52:K52) -> 0 | M52: =SUM(I52:L52) -> 0
G53: =(C53*D53*E53)*F53 -> 0 | H53: 0 | I53: 0 | J53: 0 | K53: 0 | L53: =SUM(H53:K53) -> 0 | M53: =SUM(I53:L53) -> 0
G54: =(C54*D54*E54)*F54 -> 0 | H54: 0 | I54: 0 | J54: 0 | K54: 0 | L54: =SUM(H54:K54) -> 0 | M54: =SUM(I54:L54) -> 0
G55: =(C55*D55*E55)*F55 -> 0 | H55: 0 | I55: 0 | J55: 0 | K55: 0 | L55: =SUM(H55:K55) -> 0 | M55: =SUM(I55:L55) -> 0
...

Sheet Detailed Expenditure Worksh Y2
A1: Budget Detail Worksheet
B3: A. Personnel Services | C3: B. Fringe Benefits | D3: C. Travel | E3: D. Equipment | F3: E. Supplies | G3: F. Contractual | H3: G. Other Direct Costs | I3: H. Indirect
A6: A. Personnel
A7: Name | B7: Position | C7: Salary | D7: Rate | E7: Hours | F7: Percentage of Time | G7: Total Cost | H7: Federal Request | I7: Non-Federal | J7: In-Kind | K7: Program Income | L7: Unrecovered Indirect | M7: Total Request
G8: =IF(D8="Monthly",(C8*12)*F8,IF(D8="Weekly",(C8*52)*F8,IF(D8="Yearly",(C8*1)*F8,IF(D8="Hourly",(C8*E8)*F8,"")))) | H8: 0 | I8: 0 | J8: 0 | K8: 0 | L8: =IF(C8=0,"",SUM(H8:K8)) | M8: =IF(D8=0,"",SUM(I8:L8))
G9: =IF(D9="Monthly",(C9*12)*F9,IF(D9="Weekly",(C9*52)*F9,IF(D9="Yearly",(C9*1)*F9,IF(D9="Hourly",(C9*E9)*F9,"")))) | H9: 0 | I9: 0 | J9: 0 | K9: 0 | L9: =IF(C9=0,"",SUM(H9:K9)) | M9: =IF(D9=0,"",SUM(I9:L9))
G10: =IF(D10="Monthly",(C10*12)*F10,IF(D10="Weekly",(C10*52)*F10,IF(D10="Yearly",(C10*1)*F10,IF(D10="Hourly",(C10*E10)*F10,"")))) | H10: 0 | I10: 0 | J10: 0 | K10: 0 | L10: =IF(C10=0,"",SUM(H10:K10)) | M10: =IF(D10=0,"",SUM(I10:L10))
G11: =IF(D11="Monthly",(C11*12)*F11,IF(D11="Weekly",(C11*52)*F11,IF(D11="Yearly",(C11*1)*F11,IF(D11="Hourly",(C11*E11)*F11,"")))) | H11: 0 | I11: 0 | J11: 0 | K11: 0 | L11: =IF(C11=0,"",SUM(H11:K11)) | M11: =IF(D11=0,"",SUM(I11:L11))
G12: =IF(D12="Monthly",(C12*12)*F12,IF(D12="Weekly",(C12*52)*F12,IF(D12="Yearly",(C12*1)*F12,IF(D12="Hourly",(C12*E12)*F12,"")))) | H12: 0 | I12: 0 | J12: 0 | K12: 0 | L12: =IF(C12=0,"",SUM(H12:K12)) | M12: =IF(D12=0,"",SUM(I12:L12))
G13: =IF(D13="Monthly",(C13*12)*F13,IF(D13="Weekly",(C13*52)*F13,IF(D13="Yearly",(C13*1)*F13,IF(D13="Hourly",(C13*E13)*F13,"")))) | H13: 0 | I13: 0 | J13: 0 | K13: 0 | L13: =IF(C13=0,"",SUM(H13:K13)) | M13: =IF(D13=0,"",SUM(I13:L13))
G14: =IF(D14="Monthly",(C14*12)*F14,IF(D14="Weekly",(C14*52)*F14,IF(D14="Yearly",(C14*1)*F14,IF(D14="Hourly",(C14*E14)*F14,"")))) | H14: 0 | I14: 0 | J14: 0 | K14: 0 | L14: =IF(C14=0,"",SUM(H14:K14)) | M14: =IF(D14=0,"",SUM(I14:L14))
G15: =IF(D15="Monthly",(C15*12)*F15,IF(D15="Weekly",(C15*52)*F15,IF(D15="Yearly",(C15*1)*F15,IF(D15="Hourly",(C15*E15)*F15,"")))) | H15: 0 | I15: 0 | J15: 0 | K15: 0 | L15: =IF(C15=0,"",SUM(H15:K15)) | M15: =IF(D15=0,"",SUM(I15:L15))
G16: =IF(D16="Monthly",(C16*12)*F16,IF(D16="Weekly",(C16*52)*F16,IF(D16="Yearly",(C16*1)*F16,IF(D16="Hourly",(C16*E16)*F16,"")))) | H16: 0 | I16: 0 | J16: 0 | K16: 0 | L16: =IF(C16=0,"",SUM(H16:K16)) | M16: =IF(D16=0,"",SUM(I16:L16))
G17: =IF(D17="Monthly",(C17*12)*F17,IF(D17="Weekly",(C17*52)*F17,IF(D17="Yearly",(C17*1)*F17,IF(D17="Hourly",(C17*E17)*F17,"")))) | H17: 0 | I17: 0 | J17: 0 | K17: 0 | L17: =IF(C17=0,"",SUM(H17:K17)) | M17: =IF(D17=0,"",SUM(I17:L17))
A18: Totals | G18: =SUM(G8:G17) -> 0 | H18: =SUM(H8:H17) -> 0 | I18: =SUM(I8:I17) -> 0 | J18: =SUM(J8:J17) -> 0 | K18: =SUM(K8:K17) -> 0 | L18: =SUM(L8:L17) -> 0 | M18: =SUM(M8:M17) -> 0
A19: Narrative
A26: B. Fringe Benefits
A27: Name | D27: Base | F27: Rate | G27: Total Cost | H27: Federal Request | I27: Non-Federal | J27: In-Kind | K27: Program Income | L27: Unrecovered Indirect | M27: Total Request
G28: 23325 | L28: =SUM(H28:K28) -> 0 | M28: =SUM(I28:L28) -> 0
G29: =D29*F29 -> 0 | H29: 0 | I29: 0 | J29: 0 | K29: 0 | L29: =SUM(H29:K29) -> 0 | M29: =SUM(I29:L29) -> 0
G30: =D30*F30 -> 0 | H30: 0 | I30: 0 | J30: 0 | K30: 0 | L30: =SUM(H30:K30) -> 0 | M30: =SUM(I30:L30) -> 0
G31: =D31*F31 -> 0 | H31: 0 | I31: 0 | J31: 0 | K31: 0 | L31: =SUM(H31:K31) -> 0 | M31: =SUM(I31:L31) -> 0
G32: =D32*F32 -> 0 | H32: 0 | I32: 0 | J32: 0 | K32: 0 | L32: =SUM(H32:K32) -> 0 | M32: =SUM(I32:L32) -> 0
G33: =D33*F33 -> 0 | H33: 0 | I33: 0 | J33: 0 | K33: 0 | L33: =SUM(H33:K33) -> 0 | M33: =SUM(I33:L33) -> 0
G34: =D34*F34 -> 0 | H34: 0 | I34: 0 | J34: 0 | K34: 0 | L34: =SUM(H34:K34) -> 0 | M34: =SUM(I34:L34) -> 0
G35: =D35*F35 -> 0 | H35: 0 | I35: 0 | J35: 0 | K35: 0 | L35: =SUM(H35:K35) -> 0 | M35: =SUM(I35:L35) -> 0
G36: =D36*F36 -> 0 | H36: 0 | I36: 0 | J36: 0 | K36: 0 | L36: =SUM(H36:K36) -> 0 | M36: =SUM(I36:L36) -> 0
G37: =D37*F37 -> 0 | H37: 0 | I37: 0 | J37: 0 | K37: 0 | L37: =SUM(H37:K37) -> 0 | M37: =SUM(I37:L37) -> 0
A38: Totals | G38: =SUM(G28:G37) -> 23325 | H38: =SUM(H28:H37) -> 0 | I38: =SUM(I28:I37) -> 0 | J38: =SUM(J28:J37) -> 0 | K38: =SUM(K28:K37) -> 0 | L38: =SUM(L28:L37) -> 0 | M38: =SUM(M28:M37) -> 0
A39: Narrative
A46: C. Travel
A47: Purpose of Travel and Location (Indicate the purpose of the trip and the travel destination) | B47: Type of Expense (Lodging, meals, etc.) | C47: Cost | D47: Quanity | E47: # of Staff | F47: # of Trips | G47: Total Cost | H47: Federal Request | I47: Non-Federal | J47: In-Kind | K47: Program Income | L47: Unrecovered Indirect | M47: Total Request
G48: =(C48*D48*E48)*F48 -> 0 | H48: 0 | I48: 0 | L48: =SUM(H48:K48) -> 0 | M48: =SUM(I48:L48) -> 0
G49: =(C49*D49*E49)*F49 -> 0 | H49: 0 | I49: 0 | L49: =SUM(H49:K49) -> 0 | M49: =SUM(I49:L49) -> 0
G50: =(C50*D50*E50)*F50 -> 0 | H50: 0 | I50: 0 | L50: =SUM(H50:K50) -> 0 | M50: =SUM(I50:L50) -> 0
G51: =(C51*D51*E51)*F51 -> 0 | H51: 0 | I51: 0 | J51: 0 | K51: 0 | L51: =SUM(H51:K51) -> 0 | M51: =SUM(I51:L51) -> 0
G52: =(C52*D52*E52)*F52 -> 0 | H52: 0 | I52: 0 | J52: 0 | K52: 0 | L52: =SUM(H52:K52) -> 0 | M52: =SUM(I52:L52) -> 0
G53: =(C53*D53*E53)*F53 -> 0 | H53: 0 | I53: 0 | J53: 0 | K53: 0 | L53: =SUM(H53:K53) -> 0 | M53: =SUM(I53:L53) -> 0
G54: =(C54*D54*E54)*F54 -> 0 | H54: 0 | I54: 0 | J54: 0 | K54: 0 | L54: =SUM(H54:K54) -> 0 | M54: =SUM(I54:L54) -> 0
G55: =(C55*D55*E55)*F55 -> 0 | H55: 0 | I55: 0 | J55: 0 | K55: 0 | L55: =SUM(H55:K55) -> 0 | M55: =SUM(I55:L55) -> 0
...

Sheet Detailed Expenditure Worksh Y3
A1: Budget Detail Worksheet
B3: A. Personnel Services | C3: B. Fringe Benefits | D3: C. Travel | E3: D. Equipment | F3: E. Supplies | G3: F. Contractual | H3: G. Other Direct Costs | I3: H. Indirect
A6: A. Personnel
A7: Name | B7: Position | C7: Salary | D7: Rate | E7: Hours | F7: Percentage of Time | G7: Total Cost | H7: Federal Request | I7: Non-Federal | J7: In-Kind | K7: Program Income | L7: Unrecovered Indirect | M7: Total Request
G8: =IF(D8="Monthly",(C8*12)*F8,IF(D8="Weekly",(C8*52)*F8,IF(D8="Yearly",(C8*1)*F8,IF(D8="Hourly",(C8*E8)*F8,"")))) | H8: 0 | I8: 0 | J8: 0 | K8: 0 | L8: =IF(C8=0,"",SUM(H8:K8)) | M8: =IF(D8=0,"",SUM(I8:L8))
G9: =IF(D9="Monthly",(C9*12)*F9,IF(D9="Weekly",(C9*52)*F9,IF(D9="Yearly",(C9*1)*F9,IF(D9="Hourly",(C9*E9)*F9,"")))) | H9: 0 | I9: 0 | J9: 0 | K9: 0 | L9: =IF(C9=0,"",SUM(H9:K9)) | M9: =IF(D9=0,"",SUM(I9:L9))
G10: =IF(D10="Monthly",(C10*12)*F10,IF(D10="Weekly",(C10*52)*F10,IF(D10="Yearly",(C10*1)*F10,IF(D10="Hourly",(C10*E10)*F10,"")))) | H10: 0 | I10: 0 | J10: 0 | K10: 0 | L10: =IF(C10=0,"",SUM(H10:K10)) | M10: =IF(D10=0,"",SUM(I10:L10))
G11: =IF(D11="Monthly",(C11*12)*F11,IF(D11="Weekly",(C11*52)*F11,IF(D11="Yearly",(C11*1)*F11,IF(D11="Hourly",(C11*E11)*F11,"")))) | H11: 0 | I11: 0 | J11: 0 | K11: 0 | L11: =IF(C11=0,"",SUM(H11:K11)) | M11: =IF(D11=0,"",SUM(I11:L11))
G12: =IF(D12="Monthly",(C12*12)*F12,IF(D12="Weekly",(C12*52)*F12,IF(D12="Yearly",(C12*1)*F12,IF(D12="Hourly",(C12*E12)*F12,"")))) | H12: 0 | I12: 0 | J12: 0 | K12: 0 | L12: =IF(C12=0,"",SUM(H12:K12)) | M12: =IF(D12=0,"",SUM(I12:L12))
G13: =IF(D13="Monthly",(C13*12)*F13,IF(D13="Weekly",(C13*52)*F13,IF(D13="Yearly",(C13*1)*F13,IF(D13="Hourly",(C13*E13)*F13,"")))) | H13: 0 | I13: 0 | J13: 0 | K13: 0 | L13: =IF(C13=0,"",SUM(H13:K13)) | M13: =IF(D13=0,"",SUM(I13:L13))
G14: =IF(D14="Monthly",(C14*12)*F14,IF(D14="Weekly",(C14*52)*F14,IF(D14="Yearly",(C14*1)*F14,IF(D14="Hourly",(C14*E14)*F14,"")))) | H14: 0 | I14: 0 | J14: 0 | K14: 0 | L14: =IF(C14=0,"",SUM(H14:K14)) | M14: =IF(D14=0,"",SUM(I14:L14))
G15: =IF(D15="Monthly",(C15*12)*F15,IF(D15="Weekly",(C15*52)*F15,IF(D15="Yearly",(C15*1)*F15,IF(D15="Hourly",(C15*E15)*F15,"")))) | H15: 0 | I15: 0 | J15: 0 | K15: 0 | L15: =IF(C15=0,"",SUM(H15:K15)) | M15: =IF(D15=0,"",SUM(I15:L15))
G16: =IF(D16="Monthly",(C16*12)*F16,IF(D16="Weekly",(C16*52)*F16,IF(D16="Yearly",(C16*1)*F16,IF(D16="Hourly",(C16*E16)*F16,"")))) | H16: 0 | I16: 0 | J16: 0 | K16: 0 | L16: =IF(C16=0,"",SUM(H16:K16)) | M16: =IF(D16=0,"",SUM(I16:L16))
G17: =IF(D17="Monthly",(C17*12)*F17,IF(D17="Weekly",(C17*52)*F17,IF(D17="Yearly",(C17*1)*F17,IF(D17="Hourly",(C17*E17)*F17,"")))) | H17: 0 | I17: 0 | J17: 0 | K17: 0 | L17: =IF(C17=0,"",SUM(H17:K17)) | M17: =IF(D17=0,"",SUM(I17:L17))
A18: Totals | G18: =SUM(G8:G17) -> 0 | H18: =SUM(H8:H17) -> 0 | I18: =SUM(I8:I17) -> 0 | J18: =SUM(J8:J17) -> 0 | K18: =SUM(K8:K17) -> 0 | L18: =SUM(L8:L17) -> 0 | M18: =SUM(M8:M17) -> 0
A19: Narrative
A26: B. Fringe Benefits
A27: Name | D27: Base | F27: Rate | G27: Total Cost | H27: Federal Request | I27: Non-Federal | J27: In-Kind | K27: Program Income | L27: Unrecovered Indirect | M27: Total Request
G28: 23325 | L28: =SUM(H28:K28) -> 0 | M28: =SUM(I28:L28) -> 0
G29: =D29*F29 -> 0 | H29: 0 | I29: 0 | J29: 0 | K29: 0 | L29: =SUM(H29:K29) -> 0 | M29: =SUM(I29:L29) -> 0
G30: =D30*F30 -> 0 | H30: 0 | I30: 0 | J30: 0 | K30: 0 | L30: =SUM(H30:K30) -> 0 | M30: =SUM(I30:L30) -> 0
G31: =D31*F31 -> 0 | H31: 0 | I31: 0 | J31: 0 | K31: 0 | L31: =SUM(H31:K31) -> 0 | M31: =SUM(I31:L31) -> 0
G32: =D32*F32 -> 0 | H32: 0 | I32: 0 | J32: 0 | K32: 0 | L32: =SUM(H32:K32) -> 0 | M32: =SUM(I32:L32) -> 0
G33: =D33*F33 -> 0 | H33: 0 | I33: 0 | J33: 0 | K33: 0 | L33: =SUM(H33:K33) -> 0 | M33: =SUM(I33:L33) -> 0
G34: =D34*F34 -> 0 | H34: 0 | I34: 0 | J34: 0 | K34: 0 | L34: =SUM(H34:K34) -> 0 | M34: =SUM(I34:L34) -> 0
G35: =D35*F35 -> 0 | H35: 0 | I35: 0 | J35: 0 | K35: 0 | L35: =SUM(H35:K35) -> 0 | M35: =SUM(I35:L35) -> 0
G36: =D36*F36 -> 0 | H36: 0 | I36: 0 | J36: 0 | K36: 0 | L36: =SUM(H36:K36) -> 0 | M36: =SUM(I36:L36) -> 0
G37: =D37*F37 -> 0 | H37: 0 | I37: 0 | J37: 0 | K37: 0 | L37: =SUM(H37:K37) -> 0 | M37: =SUM(I37:L37) -> 0
A38: Totals | G38: =SUM(G28:G37) -> 23325 | H38: =SUM(H28:H37) -> 0 | I38: =SUM(I28:I37) -> 0 | J38: =SUM(J28:J37) -> 0 | K38: =SUM(K28:K37) -> 0 | L38: =SUM(L28:L37) -> 0 | M38: =SUM(M28:M37) -> 0
A39: Narrative
A46: C. Travel
A47: Purpose of Travel and Location (Indicate the purpose of the trip and the travel destination) | B47: Type of Expense (Lodging, meals, etc.) | C47: Cost | D47: Quanity | E47: # of Staff | F47: # of Trips | G47: Total Cost | H47: Federal Request | I47: Non-Federal | J47: In-Kind | K47: Program Income | L47: Unrecovered Indirect | M47: Total Request
G48: =(C48*D48*E48)*F48 -> 0 | H48: 0 | I48: 0 | L48: =SUM(H48:K48) -> 0 | M48: =SUM(I48:L48) -> 0
G49: =(C49*D49*E49)*F49 -> 0 | H49: 0 | I49: 0 | L49: =SUM(H49:K49) -> 0 | M49: =SUM(I49:L49) -> 0
G50: =(C50*D50*E50)*F50 -> 0 | H50: 0 | I50: 0 | L50: =SUM(H50:K50) -> 0 | M50: =SUM(I50:L50) -> 0
G51: =(C51*D51*E51)*F51 -> 0 | H51: 0 | I51: 0 | J51: 0 | K51: 0 | L51: =SUM(H51:K51) -> 0 | M51: =SUM(I51:L51) -> 0
G52: =(C52*D52*E52)*F52 -> 0 | H52: 0 | I52: 0 | J52: 0 | K52: 0 | L52: =SUM(H52:K52) -> 0 | M52: =SUM(I52:L52) -> 0
G53: =(C53*D53*E53)*F53 -> 0 | H53: 0 | I53: 0 | J53: 0 | K53: 0 | L53: =SUM(H53:K53) -> 0 | M53: =SUM(I53:L53) -> 0
G54: =(C54*D54*E54)*F54 -> 0 | H54: 0 | I54: 0 | J54: 0 | K54: 0 | L54: =SUM(H54:K54) -> 0 | M54: =SUM(I54:L54) -> 0
G55: =(C55*D55*E55)*F55 -> 0 | H55: 0 | I55: 0 | J55: 0 | K55: 0 | L55: =SUM(H55:K55) -> 0 | M55: =SUM(I55:L55) -> 0
...

Sheet Detailed Expenditure Worksh Y4
A1: Budget Detail Worksheet
B3: A. Personnel Services | C3: B. Fringe Benefits | D3: C. Travel | E3: D. Equipment | F3: E. Supplies | G3: F. Contractual | H3: G. Other Direct Costs | I3: H. Indirect
A6: A. Personnel
A7: Name | B7: Position | C7: Salary | D7: Rate | E7: Hours | F7: Percentage of Time | G7: Total Cost | H7: Federal Request | I7: Non-Federal | J7: In-Kind | K7: Program Income | L7: Unrecovered Indirect | M7: Total Request
G8: =IF(D8="Monthly",(C8*12)*F8,IF(D8="Weekly",(C8*52)*F8,IF(D8="Yearly",(C8*1)*F8,IF(D8="Hourly",(C8*E8)*F8,"")))) | H8: 0 | I8: 0 | J8: 0 | K8: 0 | L8: =IF(C8=0,"",SUM(H8:K8)) | M8: =IF(D8=0,"",SUM(I8:L8))
G9: =IF(D9="Monthly",(C9*12)*F9,IF(D9="Weekly",(C9*52)*F9,IF(D9="Yearly",(C9*1)*F9,IF(D9="Hourly",(C9*E9)*F9,"")))) | H9: 0 | I9: 0 | J9: 0 | K9: 0 | L9: =IF(C9=0,"",SUM(H9:K9)) | M9: =IF(D9=0,"",SUM(I9:L9))
G10: =IF(D10="Monthly",(C10*12)*F10,IF(D10="Weekly",(C10*52)*F10,IF(D10="Yearly",(C10*1)*F10,IF(D10="Hourly",(C10*E10)*F10,"")))) | H10: 0 | I10: 0 | J10: 0 | K10: 0 | L10: =IF(C10=0,"",SUM(H10:K10)) | M10: =IF(D10=0,"",SUM(I10:L10))
G11: =IF(D11="Monthly",(C11*12)*F11,IF(D11="Weekly",(C11*52)*F11,IF(D11="Yearly",(C11*1)*F11,IF(D11="Hourly",(C11*E11)*F11,"")))) | H11: 0 | I11: 0 | J11: 0 | K11: 0 | L11: =IF(C11=0,"",SUM(H11:K11)) | M11: =IF(D11=0,"",SUM(I11:L11))
G12: =IF(D12="Monthly",(C12*12)*F12,IF(D12="Weekly",(C12*52)*F12,IF(D12="Yearly",(C12*1)*F12,IF(D12="Hourly",(C12*E12)*F12,"")))) | H12: 0 | I12: 0 | J12: 0 | K12: 0 | L12: =IF(C12=0,"",SUM(H12:K12)) | M12: =IF(D12=0,"",SUM(I12:L12))
G13: =IF(D13="Monthly",(C13*12)*F13,IF(D13="Weekly",(C13*52)*F13,IF(D13="Yearly",(C13*1)*F13,IF(D13="Hourly",(C13*E13)*F13,"")))) | H13: 0 | I13: 0 | J13: 0 | K13: 0 | L13: =IF(C13=0,"",SUM(H13:K13)) | M13: =IF(D13=0,"",SUM(I13:L13))
G14: =IF(D14="Monthly",(C14*12)*F14,IF(D14="Weekly",(C14*52)*F14,IF(D14="Yearly",(C14*1)*F14,IF(D14="Hourly",(C14*E14)*F14,"")))) | H14: 0 | I14: 0 | J14: 0 | K14: 0 | L14: =IF(C14=0,"",SUM(H14:K14)) | M14: =IF(D14=0,"",SUM(I14:L14))
G15: =IF(D15="Monthly",(C15*12)*F15,IF(D15="Weekly",(C15*52)*F15,IF(D15="Yearly",(C15*1)*F15,IF(D15="Hourly",(C15*E15)*F15,"")))) | H15: 0 | I15: 0 | J15: 0 | K15: 0 | L15: =IF(C15=0,"",SUM(H15:K15)) | M15: =IF(D15=0,"",SUM(I15:L15))
G16: =IF(D16="Monthly",(C16*12)*F16,IF(D16="Weekly",(C16*52)*F16,IF(D16="Yearly",(C16*1)*F16,IF(D16="Hourly",(C16*E16)*F16,"")))) | H16: 0 | I16: 0 | J16: 0 | K16: 0 | L16: =IF(C16=0,"",SUM(H16:K16)) | M16: =IF(D16=0,"",SUM(I16:L16))
G17: =IF(D17="Monthly",(C17*12)*F17,IF(D17="Weekly",(C17*52)*F17,IF(D17="Yearly",(C17*1)*F17,IF(D17="Hourly",(C17*E17)*F17,"")))) | H17: 0 | I17: 0 | J17: 0 | K17: 0 | L17: =IF(C17=0,"",SUM(H17:K17)) | M17: =IF(D17=0,"",SUM(I17:L17))
A18: Totals | G18: =SUM(G8:G17) -> 0 | H18: =SUM(H8:H17) -> 0 | I18: =SUM(I8:I17) -> 0 | J18: =SUM(J8:J17) -> 0 | K18: =SUM(K8:K17) -> 0 | L18: =SUM(L8:L17) -> 0 | M18: =SUM(M8:M17) -> 0
A19: Narrative
A26: B. Fringe Benefits
A27: Name | D27: Base | F27: Rate | G27: Total Cost | H27: Federal Request | I27: Non-Federal | J27: In-Kind | K27: Program Income | L27: Unrecovered Indirect | M27: Total Request
G28: 23325 | L28: =SUM(H28:K28) -> 0 | M28: =SUM(I28:L28) -> 0
G29: =D29*F29 -> 0 | H29: 0 | I29: 0 | J29: 0 | K29: 0 | L29: =SUM(H29:K29) -> 0 | M29: =SUM(I29:L29) -> 0
G30: =D30*F30 -> 0 | H30: 0 | I30: 0 | J30: 0 | K30: 0 | L30: =SUM(H30:K30) -> 0 | M30: =SUM(I30:L30) -> 0
G31: =D31*F31 -> 0 | H31: 0 | I31: 0 | J31: 0 | K31: 0 | L31: =SUM(H31:K31) -> 0 | M31: =SUM(I31:L31) -> 0
G32: =D32*F32 -> 0 | H32: 0 | I32: 0 | J32: 0 | K32: 0 | L32: =SUM(H32:K32) -> 0 | M32: =SUM(I32:L32) -> 0
G33: =D33*F33 -> 0 | H33: 0 | I33: 0 | J33: 0 | K33: 0 | L33: =SUM(H33:K33) -> 0 | M33: =SUM(I33:L33) -> 0
G34: =D34*F34 -> 0 | H34: 0 | I34: 0 | J34: 0 | K34: 0 | L34: =SUM(H34:K34) -> 0 | M34: =SUM(I34:L34) -> 0
G35: =D35*F35 -> 0 | H35: 0 | I35: 0 | J35: 0 | K35: 0 | L35: =SUM(H35:K35) -> 0 | M35: =SUM(I35:L35) -> 0
G36: =D36*F36 -> 0 | H36: 0 | I36: 0 | J36: 0 | K36: 0 | L36: =SUM(H36:K36) -> 0 | M36: =SUM(I36:L36) -> 0
G37: =D37*F37 -> 0 | H37: 0 | I37: 0 | J37: 0 | K37: 0 | L37: =SUM(H37:K37) -> 0 | M37: =SUM(I37:L37) -> 0
A38: Totals | G38: =SUM(G28:G37) -> 23325 | H38: =SUM(H28:H37) -> 0 | I38: =SUM(I28:I37) -> 0 | J38: =SUM(J28:J37) -> 0 | K38: =SUM(K28:K37) -> 0 | L38: =SUM(L28:L37) -> 0 | M38: =SUM(M28:M37) -> 0
A39: Narrative
A46: C. Travel
A47: Purpose of Travel and Location (Indicate the purpose of the trip and the travel destination) | B47: Type of Expense (Lodging, meals, etc.) | C47: Cost | D47: Quanity | E47: # of Staff | F47: # of Trips | G47: Total Cost | H47: Federal Request | I47: Non-Federal | J47: In-Kind | K47: Program Income | L47: Unrecovered Indirect | M47: Total Request
G48: =(C48*D48*E48)*F48 -> 0 | H48: 0 | I48: 0 | L48: =SUM(H48:K48) -> 0 | M48: =SUM(I48:L48) -> 0
G49: =(C49*D49*E49)*F49 -> 0 | H49: 0 | I49: 0 | L49: =SUM(H49:K49) -> 0 | M49: =SUM(I49:L49) -> 0
G50: =(C50*D50*E50)*F50 -> 0 | H50: 0 | I50: 0 | L50: =SUM(H50:K50) -> 0 | M50: =SUM(I50:L50) -> 0
G51: =(C51*D51*E51)*F51 -> 0 | H51: 0 | I51: 0 | J51: 0 | K51: 0 | L51: =SUM(H51:K51) -> 0 | M51: =SUM(I51:L51) -> 0
G52: =(C52*D52*E52)*F52 -> 0 | H52: 0 | I52: 0 | J52: 0 | K52: 0 | L52: =SUM(H52:K52) -> 0 | M52: =SUM(I52:L52) -> 0
G53: =(C53*D53*E53)*F53 -> 0 | H53: 0 | I53: 0 | J53: 0 | K53: 0 | L53: =SUM(H53:K53) -> 0 | M53: =SUM(I53:L53) -> 0
G54: =(C54*D54*E54)*F54 -> 0 | H54: 0 | I54: 0 | J54: 0 | K54: 0 | L54: =SUM(H54:K54) -> 0 | M54: =SUM(I54:L54) -> 0
G55: =(C55*D55*E55)*F55 -> 0 | H55: 0 | I55: 0 | J55: 0 | K55: 0 | L55: =SUM(H55:K55) -> 0 | M55: =SUM(I55:L55) -> 0
...

Sheet Detailed Expenditure Worksh Y5
A1: Budget Detail Worksheet
B3: A. Personnel Services | C3: B. Fringe Benefits | D3: C. Travel | E3: D. Equipment | F3: E. Supplies | G3: F. Contractual | H3: G. Other Direct Costs | I3: H. Indirect
A6: A. Personnel
A7: Name | B7: Position | C7: Salary | D7: Rate | E7: Hours | F7: Percentage of Time | G7: Total Cost | H7: Federal Request | I7: Non-Federal | J7: In-Kind | K7: Program Income | L7: Unrecovered Indirect | M7: Total Request
G8: =IF(D8="Monthly",(C8*12)*F8,IF(D8="Weekly",(C8*52)*F8,IF(D8="Yearly",(C8*1)*F8,IF(D8="Hourly",(C8*E8)*F8,"")))) | H8: 0 | I8: 0 | J8: 0 | K8: 0 | L8: =IF(C8=0,"",SUM(H8:K8)) | M8: =IF(D8=0,"",SUM(I8:L8))
G9: =IF(D9="Monthly",(C9*12)*F9,IF(D9="Weekly",(C9*52)*F9,IF(D9="Yearly",(C9*1)*F9,IF(D9="Hourly",(C9*E9)*F9,"")))) | H9: 0 | I9: 0 | J9: 0 | K9: 0 | L9: =IF(C9=0,"",SUM(H9:K9)) | M9: =IF(D9=0,"",SUM(I9:L9))
G10: =IF(D10="Monthly",(C10*12)*F10,IF(D10="Weekly",(C10*52)*F10,IF(D10="Yearly",(C10*1)*F10,IF(D10="Hourly",(C10*E10)*F10,"")))) | H10: 0 | I10: 0 | J10: 0 | K10: 0 | L10: =IF(C10=0,"",SUM(H10:K10)) | M10: =IF(D10=0,"",SUM(I10:L10))
G11: =IF(D11="Monthly",(C11*12)*F11,IF(D11="Weekly",(C11*52)*F11,IF(D11="Yearly",(C11*1)*F11,IF(D11="Hourly",(C11*E11)*F11,"")))) | H11: 0 | I11: 0 | J11: 0 | K11: 0 | L11: =IF(C11=0,"",SUM(H11:K11)) | M11: =IF(D11=0,"",SUM(I11:L11))
G12: =IF(D12="Monthly",(C12*12)*F12,IF(D12="Weekly",(C12*52)*F12,IF(D12="Yearly",(C12*1)*F12,IF(D12="Hourly",(C12*E12)*F12,"")))) | H12: 0 | I12: 0 | J12: 0 | K12: 0 | L12: =IF(C12=0,"",SUM(H12:K12)) | M12: =IF(D12=0,"",SUM(I12:L12))
G13: =IF(D13="Monthly",(C13*12)*F13,IF(D13="Weekly",(C13*52)*F13,IF(D13="Yearly",(C13*1)*F13,IF(D13="Hourly",(C13*E13)*F13,"")))) | H13: 0 | I13: 0 | J13: 0 | K13: 0 | L13: =IF(C13=0,"",SUM(H13:K13)) | M13: =IF(D13=0,"",SUM(I13:L13))
G14: =IF(D14="Monthly",(C14*12)*F14,IF(D14="Weekly",(C14*52)*F14,IF(D14="Yearly",(C14*1)*F14,IF(D14="Hourly",(C14*E14)*F14,"")))) | H14: 0 | I14: 0 | J14: 0 | K14: 0 | L14: =IF(C14=0,"",SUM(H14:K14)) | M14: =IF(D14=0,"",SUM(I14:L14))
G15: =IF(D15="Monthly",(C15*12)*F15,IF(D15="Weekly",(C15*52)*F15,IF(D15="Yearly",(C15*1)*F15,IF(D15="Hourly",(C15*E15)*F15,"")))) | H15: 0 | I15: 0 | J15: 0 | K15: 0 | L15: =IF(C15=0,"",SUM(H15:K15)) | M15: =IF(D15=0,"",SUM(I15:L15))
G16: =IF(D16="Monthly",(C16*12)*F16,IF(D16="Weekly",(C16*52)*F16,IF(D16="Yearly",(C16*1)*F16,IF(D16="Hourly",(C16*E16)*F16,"")))) | H16: 0 | I16: 0 | J16: 0 | K16: 0 | L16: =IF(C16=0,"",SUM(H16:K16)) | M16: =IF(D16=0,"",SUM(I16:L16))
G17: =IF(D17="Monthly",(C17*12)*F17,IF(D17="Weekly",(C17*52)*F17,IF(D17="Yearly",(C17*1)*F17,IF(D17="Hourly",(C17*E17)*F17,"")))) | H17: 0 | I17: 0 | J17: 0 | K17: 0 | L17: =IF(C17=0,"",SUM(H17:K17)) | M17: =IF(D17=0,"",SUM(I17:L17))
A18: Totals | G18: =SUM(G8:G17) -> 0 | H18: =SUM(H8:H17) -> 0 | I18: =SUM(I8:I17) -> 0 | J18: =SUM(J8:J17) -> 0 | K18: =SUM(K8:K17) -> 0 | L18: =SUM(L8:L17) -> 0 | M18: =SUM(M8:M17) -> 0
A19: Narrative
A26: B. Fringe Benefits
A27: Name | D27: Base | F27: Rate | G27: Total Cost | H27: Federal Request | I27: Non-Federal | J27: In-Kind | K27: Program Income | L27: Unrecovered Indirect | M27: Total Request
G28: 23325 | L28: =SUM(H28:K28) -> 0 | M28: =SUM(I28:L28) -> 0
G29: =D29*F29 -> 0 | H29: 0 | I29: 0 | J29: 0 | K29: 0 | L29: =SUM(H29:K29) -> 0 | M29: =SUM(I29:L29) -> 0
G30: =D30*F30 -> 0 | H30: 0 | I30: 0 | J30: 0 | K30: 0 | L30: =SUM(H30:K30) -> 0 | M30: =SUM(I30:L30) -> 0
G31: =D31*F31 -> 0 | H31: 0 | I31: 0 | J31: 0 | K31: 0 | L31: =SUM(H31:K31) -> 0 | M31: =SUM(I31:L31) -> 0
G32: =D32*F32 -> 0 | H32: 0 | I32: 0 | J32: 0 | K32: 0 | L32: =SUM(H32:K32) -> 0 | M32: =SUM(I32:L32) -> 0
G33: =D33*F33 -> 0 | H33: 0 | I33: 0 | J33: 0 | K33: 0 | L33: =SUM(H33:K33) -> 0 | M33: =SUM(I33:L33) -> 0
G34: =D34*F34 -> 0 | H34: 0 | I34: 0 | J34: 0 | K34: 0 | L34: =SUM(H34:K34) -> 0 | M34: =SUM(I34:L34) -> 0
G35: =D35*F35 -> 0 | H35: 0 | I35: 0 | J35: 0 | K35: 0 | L35: =SUM(H35:K35) -> 0 | M35: =SUM(I35:L35) -> 0
G36: =D36*F36 -> 0 | H36: 0 | I36: 0 | J36: 0 | K36: 0 | L36: =SUM(H36:K36) -> 0 | M36: =SUM(I36:L36) -> 0
G37: =D37*F37 -> 0 | H37: 0 | I37: 0 | J37: 0 | K37: 0 | L37: =SUM(H37:K37) -> 0 | M37: =SUM(I37:L37) -> 0
A38: Totals | G38: =SUM(G28:G37) -> 23325 | H38: =SUM(H28:H37) -> 0 | I38: =SUM(I28:I37) -> 0 | J38: =SUM(J28:J37) -> 0 | K38: =SUM(K28:K37) -> 0 | L38: =SUM(L28:L37) -> 0 | M38: =SUM(M28:M37) -> 0
A39: Narrative
A46: C. Travel
A47: Purpose of Travel and Location (Indicate the purpose of the trip and the travel destination) | B47: Type of Expense (Lodging, meals, etc.) | C47: Cost | D47: Quanity | E47: # of Staff | F47: # of Trips | G47: Total Cost | H47: Federal Request | I47: Non-Federal | J47: In-Kind | K47: Program Income | L47: Unrecovered Indirect | M47: Total Request
G48: =(C48*D48*E48)*F48 -> 0 | H48: 0 | I48: 0 | L48: =SUM(H48:K48) -> 0 | M48: =SUM(I48:L48) -> 0
G49: =(C49*D49*E49)*F49 -> 0 | H49: 0 | I49: 0 | L49: =SUM(H49:K49) -> 0 | M49: =SUM(I49:L49) -> 0
G50: =(C50*D50*E50)*F50 -> 0 | H50: 0 | I50: 0 | L50: =SUM(H50:K50) -> 0 | M50: =SUM(I50:L50) -> 0
G51: =(C51*D51*E51)*F51 -> 0 | H51: 0 | I51: 0 | J51: 0 | K51: 0 | L51: =SUM(H51:K51) -> 0 | M51: =SUM(I51:L51) -> 0
G52: =(C52*D52*E52)*F52 -> 0 | H52: 0 | I52: 0 | J52: 0 | K52: 0 | L52: =SUM(H52:K52) -> 0 | M52: =SUM(I52:L52) -> 0
G53: =(C53*D53*E53)*F53 -> 0 | H53: 0 | I53: 0 | J53: 0 | K53: 0 | L53: =SUM(H53:K53) -> 0 | M53: =SUM(I53:L53) -> 0
G54: =(C54*D54*E54)*F54 -> 0 | H54: 0 | I54: 0 | J54: 0 | K54: 0 | L54: =SUM(H54:K54) -> 0 | M54: =SUM(I54:L54) -> 0
G55: =(C55*D55*E55)*F55 -> 0 | H55: 0 | I55: 0 | J55: 0 | K55: 0 | L55: =SUM(H55:K55) -> 0 | M55: =SUM(I55:L55) -> 0
...

Sheet Match & Program Income
A2: Cash Match and Program Income Detail
A3: Source | B3: Type | C3: Amount | D3: FY Generated | E3: Amount Expended on WBC | F3: Expended FY | G3: Expended Quarter

Sheet Match Pivot

Sheet DEW Example
A1: Budget Detail Worksheet
B3: A. Personnel Services | C3: B. Fringe Benefits | D3: C. Travel | E3: D. Equipment | F3: E. Supplies | G3: F. Contractual | H3: G. Other Direct Costs | I3: H. Indirect
A6: A. Personnel
A7: Name | B7: Position | C7: Salary | D7: Rate | E7: Hours | F7: Percentage of Time | G7: Total Cost | H7: Federal Request | I7: Non-Federal | J7: In-Kind | K7: Program Income | L7: Total Request
A8: Leanna Jenkins | B8: WBC Driector | C8: 80000 | D8: Yearly | F8: 1 | G8: =IF(D8="Monthly",(C8*12)*F8,IF(D8="Weekly",(C8*52)*F8,IF(D8="Yearly",(C8*1)*F8,IF(D8="Hourly",(C8*E8)*F8,"")))) -> 80000 | H8: 56000 | I8: 24000 | J8: 0 | K8: 0 | L8: =IF(C8=0,"",SUM(H8:K8)) -> 80000 | M8: =IF(L8<>G8,"Amounts must equal. Please adjust entries for columns H through K"," ")
A9: Kathleen Taylor | B9: Mktg/Program Coord. | C9: 50000 | D9: Yearly | F9: 1 | G9: =IF(D9="Monthly",(C9*12)*F9,IF(D9="Weekly",(C9*52)*F9,IF(D9="Yearly",(C9*1)*F9,IF(D9="Hourly",(C9*E9)*F9,"")))) -> 50000 | H9: 35000 | I9: 15000 | J9: 0 | K9: 0 | L9: =IF(C9=0,"",SUM(H9:K9)) -> 50000 | M9: =IF(L9<>G9,"Amounts must equal. Please adjust entries for columns H through K"," ")
A10: TBD | B10: Administrative Assistant | C10: 10 | D10: Hourly | E10: 750 | F10: 0.75 | G10: =IF(D10="Monthly",(C10*12)*F10,IF(D10="Weekly",(C10*52)*F10,IF(D10="Yearly",(C10*1)*F10,IF(D10="Hourly",(C10*E10)*F10,"")))) -> 5625 | H10: 3739.5 | I10: 1687.5 | J10: 0 | K10: 0 | L10: =IF(C10=0,"",SUM(H10:K10)) -> 5427 | M10: =IF(L10<>G10,"Amounts must equal. Please adjust entries for columns H through K"," ") -> Amounts must equal. Please adjust entries for columns H through K
G11: =IF(D11="Monthly",(C11*12)*F11,IF(D11="Weekly",(C11*52)*F11,IF(D11="Yearly",(C11*1)*F11,IF(D11="Hourly",(C11*E11),"")))) | H11: 0 | I11: 0 | J11: 0 | K11: 0 | L11: =IF(C11=0,"",SUM(H11:K11)) | M11: =IF(L11<>G11,"Amounts must equal. Please adjust entries for columns H through K"," ")
G12: =IF(D12="Monthly",(C12*12)*F12,IF(D12="Weekly",(C12*52)*F12,IF(D12="Yearly",(C12*1)*F12,IF(D12="Hourly",(C12*E12)*F12,"")))) | H12: 0 | I12: 0 | J12: 0 | K12: 0 | L12: =IF(C12=0,"",SUM(H12:K12)) | M12: =IF(L12<>G12,"Amounts must equal. Please adjust entries for columns H through K"," ")
G13: =IF(D13="Monthly",(C13*12)*F13,IF(D13="Weekly",(C13*52)*F13,IF(D13="Yearly",(C13*1)*F13,IF(D13="Hourly",(C13*E13)*F13,"")))) | H13: 0 | I13: 0 | J13: 0 | K13: 0 | L13: =IF(C13=0,"",SUM(H13:K13)) | M13: =IF(L13<>G13,"Amounts must equal. Please adjust entries for columns H through K"," ")
G14: =IF(D14="Monthly",(C14*12)*F14,IF(D14="Weekly",(C14*52)*F14,IF(D14="Yearly",(C14*1)*F14,IF(D14="Hourly",(C14*E14)*F14,"")))) | H14: 0 | I14: 0 | J14: 0 | K14: 0 | L14: =IF(C14=0,"",SUM(H14:K14)) | M14: =IF(L14<>G14,"Amounts must equal. Please adjust entries for columns H through K"," ")
G15: =IF(D15="Monthly",(C15*12)*F15,IF(D15="Weekly",(C15*52)*F15,IF(D15="Yearly",(C15*1)*F15,IF(D15="Hourly",(C15*E15)*F15,"")))) | H15: 0 | I15: 0 | J15: 0 | K15: 0 | L15: =IF(C15=0,"",SUM(H15:K15)) | M15: =IF(L15<>G15,"Amounts must equal. Please adjust entries for columns H through K"," ")
G16: =IF(D16="Monthly",(C16*12)*F16,IF(D16="Weekly",(C16*52)*F16,IF(D16="Yearly",(C16*1)*F16,IF(D16="Hourly",(C16*E16)*F16,"")))) | H16: 0 | I16: 0 | J16: 0 | K16: 0 | L16: =IF(C16=0,"",SUM(H16:K16)) | M16: =IF(L16<>G16,"Amounts must equal. Please adjust entries for columns H through K"," ")
G17: =IF(D17="Monthly",(C17*12)*F17,IF(D17="Weekly",(C17*52)*F17,IF(D17="Yearly",(C17*1)*F17,IF(D17="Hourly",(C17*E17)*F17,"")))) | H17: 0 | I17: 0 | J17: 0 | K17: 0 | L17: =IF(C17=0,"",SUM(H17:K17)) | M17: =IF(L17<>G17,"Amounts must equal. Please adjust entries for columns H through K"," ")
A18: Totals | G18: =SUM(G8:G17) -> 135625 | H18: =SUM(H8:H17) -> 94739.5 | I18: =SUM(I8:I17) -> 40687.5 | J18: =SUM(J8:J17) -> 0 | K18: =SUM(K8:K17) -> 0 | L18: =SUM(L8:L17) -> 135427
A19: Narrative
A20: Leanna Jenkins, WBC Director, will manage the project, complete reports, and submit deliverables spending 100% of her time on the project. Kathleen Taylor, Program/Marketing Coordinator, will manage volunteers, deliver class instruction, market program, and submit deliverables spending 100% of her time on the project. TBD, Administrative Assistant, provides project specific administrative support. Spending 75% of their time on project support.
A26: B. Fringe Benefits
A27: Name | D27: Base | F27: Rate | G27: Total Cost | H27: Federal Request | I27: Non-Federal | J27: In-Kind | K27: Program Income | L27: Total Request
A28: John Doe- Executive Director | D28: 80000 | F28: 0.25 | G28: =D28*F28 -> 20000 | H28: 625 | I28: 625 | J28: 0 | K28: 0 | L28: =SUM(H28:K28) -> 1250 | M28: =IF(D28=""," ",IF(L28=G28," ","Amounts must equal. Please adjust entries for columns H through K")) -> Amounts must equal. Please adjust entries for columns H through K
A29: Janet Doe- WBC Director | D29: 50000 | F29: 0.25 | G29: =D29*F29 -> 12500 | H29: 7500 | I29: 7500 | J29: 0 | K29: 0 | L29: =SUM(H29:K29) -> 15000 | M29: =IF(D29=""," ",IF(L29=G29," ","Amounts must equal. Please adjust entries for columns H through K")) -> Amounts must equal. Please adjust entries for columns H through K
A30: Alex Doe- Business Counselor | D30: 22500 | F30: 0.25 | G30: =D30*F30 -> 5625 | H30: 2812.5 | I30: 2812.5 | J30: 0 | K30: 0 | L30: =SUM(H30:K30) -> 5625 | M30: =IF(D30=""," ",IF(L30=G30," ","Amounts must equal. Please adjust entries for columns H through K"))
G31: =D31*F31 -> 0 | L31: =SUM(H31:K31) -> 0 | M31: =IF(D31=""," ",IF(L31=G31," ","Amounts must equal. Please adjust entries for columns H through K"))
G32: =D32*F32 -> 0 | L32: =SUM(H32:K32) -> 0 | M32: =IF(D32=""," ",IF(L32=G32," ","Amounts must equal. Please adjust entries for columns H through K"))
G33: =D33*F33 -> 0 | L33: =SUM(H33:K33) -> 0 | M33: =IF(D33=""," ",IF(L33=G33," ","Amounts must equal. Please adjust entries for columns H through K"))
G34: =D34*F34 -> 0 | L34: =SUM(H34:K34) -> 0 | M34: =IF(D34=""," ",IF(L34=G34," ","Amounts must equal. Please adjust entries for columns H through K"))
G35: =D35*F35 -> 0 | L35: =SUM(H35:K35) -> 0 | M35: =IF(D35=""," ",IF(L35=G35," ","Amounts must equal. Please adjust entries for columns H through K"))
G36: =D36*F36 -> 0 | L36: =SUM(H36:K36) -> 0 | M36: =IF(D36=""," ",IF(L36=G36," ","Amounts must equal. Please adjust entries for columns H through K"))
G37: =D37*F37 -> 0 | L37: =SUM(H37:K37) -> 0 | M37: =IF(D37=""," ",IF(L37=G37," ","Amounts must equal. Please adjust entries for columns H through K"))
A38: Totals | G38: =SUM(G28:G37) -> 38125 | H38: =SUM(H28:H37) -> 10937.5 | I38: =SUM(I28:I37) -> 10937.5 | J38: =SUM(J28:J37) -> 0 | K38: =SUM(K28:K37) -> 0 | L38: =SUM(L28:L37) -> 21875
A39: Narrative
A40: Our fringe benefits rate is 25% and covers the following items: FICA (7.65%), Workers Comp (1.35%), Health Insurance (11%), Retirement (5%)
A46: C. Travel
A47: Purpose of Travel and Location (Indicate the purpose of the trip and the travel destination) | B47: Type of Expense (Lodging, meals, etc.) | C47: Cost | D47: Quanity | E47: # of Staff | F47: # of Trips | G47: Total Cost | H47: Federal Request | I47: Non-Federal | J47: In-Kind | K47: Program Income | L47: Total Request
A48: WBC Director Field Travel | B48: Mileage | C48: 0.51 | D48: 10 | E48: 1 | F48: 20 | G48: =(C48*D48*E48)*F48 -> 102 | H48: 51 | I48: 51 | J48: 0 | K48: 0 | L48: =SUM(H48:K48) -> 102 | M48: =IF(D48=""," ",IF(L48=G48," ","Amounts must equal. Please adjust entries for columns H through K"))
A49: Business Counselor Trainingg Travel | B49: Mileage | C49: 0.51 | D49: 20 | E49: 1 | F49: 20 | G49: =(C49*D49*E49)*F49 -> 204 | H49: 50 | I49: 50 | J49: 0 | K49: 104 | L49: =SUM(H49:K49) -> 204 | M49: =IF(D49=""," ",IF(L49=G49," ","Amounts must equal. Please adjust entries for columns H through K"))
A50: AWBC Training Conference | B50: Transportation | C50: 500 | D50: 1 | E50: 2 | F50: 1 | G50: =(C50*D50*E50)*F50 -> 1000 | H50: 500 | I50: 500 | J50: 0 | K50: 0 | L50: =SUM(H50:K50) -> 1000 | M50: =IF(D50=""," ",IF(L50=G50," ","Amounts must equal. Please adjust entries for columns H through K"))
A51: AWBC Training Conference | B51: Lodging | C51: 94 | D51: 5 | E51: 2 | F51: 1 | G51: =(C51*D51*E51)*F51 -> 940 | H51: =G51*0.5 -> 470 | I51: 470 | J51: 0 | K51: 0 | L51: =SUM(H51:K51) -> 940 | M51: =IF(D51=""," ",IF(L51=G51," ","Amounts must equal. Please adjust entries for columns H through K"))
G52: =(C52*D52*E52)*F52 -> 0 | L52: =SUM(H52:K52) -> 0 | M52: =IF(D52=""," ",IF(L52=G52," ","Amounts must equal. Please adjust entries for columns H through K"))
G53: =(C53*D53*E53)*F53 -> 0 | L53: =SUM(H53:K53) -> 0 | M53: =IF(D53=""," ",IF(L53=G53," ","Amounts must equal. Please adjust entries for columns H through K"))
...

Sheet Budget Category Definitions
A1: Budget Category Descriptions:
A2: Personnel | B2: List each position by title and name of employee, if available. Show the annual salary rate and the percentage of time to be devoted to the project. Compensation paid for employees engaged in grant activities must be consistent with that paid for similar work within the applicant organization. In the budget narrative, include a description of the responsibilities and duties of each position in relationship to fulfilling the project goals and objectives. All requested information must be included in the budget detail worksheet and budget narrative.
A3: Fringe Benefits | B3: Fringe benefits should be based on actual known costs or an approved negotiated rate by a Federal agency. If not based on an approved negotiated rate, list the composition of the fringe benefit package. Fringe benefits are for the personnel listed in the budget category (A) and only for the percentage of time devoted to the project. All requested information must be included in the budget detail worksheet and budget narrative.
A4: Travel | B4: Itemize travel expenses of staff personnel (e.g. staff to training, field interviews, advisory group meeting, etc.). Describe the purpose of each travel expenditure in reference to the project objectives. Show the basis of computation (e.g., six people to 3-day training at $X airfare, $X lodging, $X subsistence). In training projects, travel and meals for trainees should be listed separately. Show the number of trainees and the unit costs involved. Identify the location of travel, if known; or if unknown, indicate "location to be determined." Indicate whether applicant's formal written travel policy or the Federal Travel Regulations are followed.
A5: Equipment | B5: List non-expendable items that are to be purchased (Note: Organization's own capitalization policy for classification of equipment should be used). Expendable items should be included in the "Supplies" category. Applicants should analyze the cost benefits of purchasing versus leasing equipment, especially high cost items and those subject to rapid technological advances. Rented or leased equipment costs should be listed in the “Contracts” data fields under the “Subawards (Subgrants)/Procurement Contracts" category. In the budget narrative, explain how the equipment is necessary for the success of the project, and describe the procurement method to be used. All requested information must be included in the budget detail worksheet and budget narrative.
A6: Supplies | B6: List items by type (office supplies, postage, training materials, copy paper, and expendable equipment items costing less than $5,000, such as books, hand held tape recorders) and show the basis for computation. Generally, supplies include any materials that are expendable or consumed during the course of the project. All requested information must be included in the budget detail worksheet and budget narrative.
A7: Procurement Contracts, & Consultant Fees | B7: Procurement contracts (see “Contract” definition at 2 CFR 200.22): Provide a description of the product or service to be procured by contract and an estimate of the cost. Indicate whether the applicant’s formal, written Procurement Policy or the Federal Acquisition Regulation is followed. Applicants are encouraged to promote free and open competition in awarding procurement contracts. A separate justification must be provided for sole source procurements in excess of the Simplified Acquisition Threshold set in accordance with 41 U.S.C. 1908 (currently set at $150,000). For each consultant enter the name, if known, service to be provided, hourly or daily fee (8-hour day), and estimated time on the project. All requested information must be included in the budget detail worksheet and budget narrative.
A8: Other Costs | B8: List items (e.g., rent, reproduction, telephone, janitorial or security services, and investigative or confidential funds) by type and the basis of the computation. For example, provide the square footage and the cost per square foot for rent, or provide a monthly rental cost and how many months to rent. All requested information must be included in the budget detail worksheet and budget narrative.
