Workbook
Name _SPSassigned: '[1]Sections A&B'!$C$2
Name CostBreakouts: 'Cost Breakouts '!$A$1:$F$157
Name CostBreakouts: #REF!
Name equipment: '[2]Cost Breakouts'!$F$88
Name grantNo: '[3]Sections A&B'!$C$2
Name grantNo: '[1]Sections A&B'!$C$2
Name Organization: '[1]Sections A&B'!$H$2
Name other: '[2]Cost Breakouts'!$F$133
Name personnel: '[2]Cost Breakouts'!$F$20
Name subcon: '[2]Cost Breakouts'!$F$119
Name supplies: '[2]Cost Breakouts'!$F$110
Name TDC: '[2]Cost Breakouts'!#REF!
Name travel: '[2]Cost Breakouts'!$F$77

Sheet Program Budget Summary
A1: ORGANIZATION NAME:
A2: BUDGET SUMMARY
A3: Enter the totals for each category from the SF-424A to the spaces below
A6: OBJECT CLASS CATEGORIES | C6: FEDERAL REQUEST
A7: a. | B7: Personnel | C7: ='Cost Breakouts '!E17 -> 0
A8: b. | B8: Fringe Benefits | C8: ='Cost Breakouts '!F19 -> 0
A9: c. | B9: Travel | C9: ='Cost Breakouts '!E43 -> 0
A10: d. | B10: Equipment | C10: ='Cost Breakouts '!E49 -> 0
A11: e. | B11: Supplies | C11: ='Cost Breakouts '!E61 -> 0
A12: f. | B12: Contractual | C12: ='Cost Breakouts '!E68 -> 0
A13: g. | B13: Construction | C13: 0
A14: h. | B14: Other | C14: ='Cost Breakouts '!E87 -> 0
A15: i. | B15: Total Direct Charges (sum of a-h) | C15: =SUM(C7:C14) -> 0
A16: j. | B16: Indirect Charges | C16: ='Cost Breakouts '!F101 -> 0
A17: k. | B17: Total Federal Request (total of i and j) | C17: =SUM(C15+C16) -> 0
A18: Negotiated Indirect Cost Rate - Provide letter from cognizant agency as an attachment with application in GrantSolutions. If using De Minimis rate - calculation for contractors cannot exceed the maximum amount of 10% of $25k max for each contract.

Sheet Cost Breakouts 
A1: ='Program Budget Summary'!A1:B1 -> ORGANIZATION NAME: | F1: Reconcile | G1: Change from Budget Summary
A5: Personnel Breakdown
A7: NAME | B7: Position | C7: Annual Salary | D7: %time | E7: Total Requested
A8: Jane Smith | B8: Executive Director (sample) | D8: 1 | E8: =C8*D8 -> 0
A9: John Smith | B9: Project Director (sample) | D9: 1 | E9: =C9*D9 -> 0
D10: 1 | E10: =C10*D10 -> 0
D11: 1 | E11: =C11*D11 -> 0
D12: 1 | E12: =C12*D12 -> 0
D13: 1 | E13: =C13*D13 -> 0
D14: 1 | E14: =C14*D14 -> 0
D15: 1 | E15: =C15*D15 -> 0 | F15: Personnel
F16: ='Program Budget Summary'!C7 -> 0
A17: TOTAL SALARIES AND WAGES | E17: =SUM(E8:E15) -> 0 | F17: =(+F16-E17) -> 0 | G17: difference
F18: Fringe
F19: =(C8*D20) -> 0
A20: TOTAL FRINGE BENEFITS | C20: Enter percentage → | E20: 0 | F20: =(+F19-E20) -> 0 | G20: difference
A22: CATEGORICAL BREAKOUTS
A24: TRAVEL | B24: Unit Cost | C24: #trips/nights | D24: FTE | E24: Totals
A25: Travel Event
A26: Airfare
A27: Lodging
A28: Parking | E28: =B28*C28*D28 -> 0
A29: Per diem | E29: =B29*C29*D29 -> 0
A30: Meals | E30: =B30*C30*D30 -> 0
A31: Mileage | E31: =B31*C31*D31 -> 0
D32: Subtotal | E32: =SUM(E26:E30) -> 0
A34: Travel Event
A35: Airfare | E35: =B35*C35*D35 -> 0
A36: Lodging | E36: =B36*C36*D36 -> 0
A37: Parking | E37: =B37*C37*D37 -> 0
A38: Per diem | E38: =B38*C38*D38 -> 0
A39: Meals | E39: =B39*C39*D39 -> 0
A40: Mileage | E40: =B40*C40*D40 -> 0
D41: Subtotal | E41: =SUM(E35:E39) -> 0 | F41: Travel
F42: ='Program Budget Summary'!C9 -> 0
B43: TOTAL TRAVEL | E43: =E32+E41 -> 0 | F43: =(+F42-E43) -> 0 | G43: difference
A44: EQUIPMENT | B44: Location/description/purpose | C44: Unit Cost | D44: #
A45: Description
A46: Description | E46: =(C46*D46) -> 0
A47: Description | E47: =(C47*D47) -> 0 | F47: Equipment
A48: Incert additional rows as needed | F48: ='Program Budget Summary'!C10 -> 0
B49: TOTAL EQUIPMENT | E49: =SUM(E45:E47) -> 0 | F49: =(+F48-E49) -> 0 | G49: difference
A50: SUPPLIES | B50: Location/description/purpose | C50: Unit Cost | D50: Frequency
A51: Enter description here | E51: =B51*C51*D51 -> 0
A52: Enter description here
A53: Enter description here | E53: =B53*C53*D53 -> 0
A54: Enter description here | E54: =B54*C54*D54 -> 0
A55: Enter description here | E55: =B55*C55*D55 -> 0
A56: Enter description here | E56: =B56*C56*D56 -> 0
A57: Enter description here | E57: =B57*C57*D57 -> 0
A58: Enter description here | E58: =B58*C58*D58 -> 0
A59: Enter description here | E59: =B59*C59*D59 -> 0 | F59: Supplies
F60: ='Program Budget Summary'!C11 -> 0
B61: TOTAL SUPPLIES | E61: =SUM(E51:E59) -> 0 | F61: =(+F60-E61) -> 0 | G61: difference
B62: Contracts: Must Attach Full Contractual Budgets with all requisit budget categories - may add a worksheet)
A63: CONTRACTUAL | B63: Purpose | C63: Contractor Rate | D63: Frequency
A64: Contract/Contractor name
A65: Contract/Contractor name | E65: =C65*D65 -> 0
A66: Contract/Contractor name | E66: =C66*D66 -> 0 | F66: Contractual
F67: ='Program Budget Summary'!C12 -> 0
B68: TOTAL CONTRACTUAL | E68: =SUM(E64:E67) -> 0 | F68: =(+F67-E68) -> 0 | G68: difference
A70: OTHER | B70: Unit Cost | C70: Uniit Cost | D70: Quantity
A71: Description
A72: Description | E72: =B72*C72*D72 -> 0
A73: Description | E73: =B73*C73*D73 -> 0
A74: Description | E74: 0
A75: Description | E75: =B75*C75*D75 -> 0
A76: Description | E76: =B76*C76*D76 -> 0
A77: Description | E77: =B77*C77*D77 -> 0
A78: Description | E78: =B78*C78*D78 -> 0
A79: Description | E79: =B79*C79*D79 -> 0
A80: Description | E80: =B80*C80*D80 -> 0
A81: Description | E81: =B81*C81*D81 -> 0
A82: Description | E82: =B82*C82*D82 -> 0
A83: Description | E83: =B83*C83*D83 -> 0
A84: Description | E84: =B84*C84*D84 -> 0
A85: Description | E85: =B85*C85*D85 -> 0 | F85: Other
F86: ='Program Budget Summary'!C14 -> 0
B87: TOTAL OTHER | E87: =SUM(E71:E85) -> 0 | F87: =(+F86-E87) -> 0 | G87: difference
B90: SUMMARY
B91: =+A17 -> TOTAL SALARIES AND WAGES | E91: =E17 -> 0
B92: TOTAL FRINGE | E92: =E20 -> 0
B93: =+B43 -> TOTAL TRAVEL | E93: =E43 -> 0
B94: TOTAL EQUIPMENT | E94: =E49 -> 0
B95: TOTAL SUPPLIES | E95: =E61 -> 0
B96: TOTAL CONTRACTUAL | E96: =E68 -> 0
B97: =+A70 -> OTHER | E97: =E87 -> 0
F98: ='Program Budget Summary'!C15 -> 0
B99: TOTAL DIRECT COSTS | E99: =SUM(E91:E97) -> 0 | F99: =(+F98-E99) -> 0 | G99: difference
B100: INDIRECT COST RATE | F100: Percentage
B101: TOTAL INDIRECT COST
F102: ='Program Budget Summary'!C16 -> 0
F103: =(+F102-E101) -> 0 | G103: difference
F107: Total Federal Request
F108: ='Program Budget Summary'!C17 -> 0
B109: TOTAL AWARD | E109: =E99+E100 -> 0 | F109: =(+F108-E109) -> 0 | G109: difference

Sheet Fringe Benefits
A1: You may list benefits package here or in the Budget Narrative

Sheet Contract 1
A1: If you have a subawardee or contract you must include a full budget
