Workbook
Name _SPSassigned: '[1]Sections A&B'!$C$2
Name CostBreakouts: 'Cost Breakouts '!$A$1:$F$157
Name CostBreakouts: #REF!
Name equipment: '[2]Cost Breakouts'!$F$88
Name grantNo: '[3]Sections A&B'!$C$2
Name grantNo: '[1]Sections A&B'!$C$2
Name Organization: '[1]Sections A&B'!$H$2
Name other: '[2]Cost Breakouts'!$F$133
Name personnel: '[2]Cost Breakouts'!$F$20
Name subcon: '[2]Cost Breakouts'!$F$119
Name supplies: '[2]Cost Breakouts'!$F$110
Name TDC: '[2]Cost Breakouts'!#REF!
Name travel: '[2]Cost Breakouts'!$F$77

Sheet Program Budget Summary
A1: ORGANIZATION NAME:
A2: BUDGET SUMMARY
A3: Enter the totals for each category from the SF-424A to the spaces below
A6: OBJECT CLASS CATEGORIES | C6: FEDERAL REQUEST
A7: a. | B7: Personnel | C7: ='Cost Breakouts '!E17 -> 0
A8: b. | B8: Fringe Benefits | C8: ='Cost Breakouts '!F19 -> 0
A9: c. | B9: Travel | C9: ='Cost Breakouts '!E43 -> 0
A10: d. | B10: Equipment | C10: ='Cost Breakouts '!E49 -> 0
A11: e. | B11: Supplies | C11: ='Cost Breakouts '!E61 -> 0
A12: f. | B12: Contractual | C12: ='Cost Breakouts '!E68 -> 0
A13: g. | B13: Construction | C13: 0
A14: h. | B14: Other | C14: ='Cost Breakouts '!E87 -> 0
A15: i. | B15: Total Direct Charges (sum of a-h) | C15: =SUM(C7:C14) -> 0
A16: j. | B16: Indirect Charges | C16: ='Cost Breakouts '!F101 -> 0
A17: k. | B17: Total Federal Request (total of i and j) | C17: =SUM(C15+C16) -> 0
A18: Negotiated Indirect Cost Rate - Provide letter from cognizant agency as an attachment with application in GrantSolutions. If using De Minimis rate - calculation for contractors cannot exceed the maximum amount of 10% of $25k max for each contract.

Sheet Cost Breakouts 
A1: ='Program Budget Summary'!A1:B1 -> ORGANIZATION NAME: | F1: Reconcile | G1: Change from Budget Summary
A5: Personnel Breakdown
A7: NAME | B7: Position | C7: Annual Salary | D7: %time | E7: Total Requested
A8: Jane Smith | B8: Executive Director (sample) | D8: 1 | E8: =C8*D8 -> 0
A9: John Smith | B9: Project Director (sample) | D9: 1 | E9: =C9*D9 -> 0
D10: 1 | E10: =C10*D10 -> 0
D11: 1 | E11: =C11*D11 -> 0
D12: 1 | E12: =C12*D12 -> 0
D13: 1 | E13: =C13*D13 -> 0
D14: 1 | E14: =C14*D14 -> 0
D15: 1 | E15: =C15*D15 -> 0 | F15: Personnel
F16: ='Program Budget Summary'!C7 -> 0
A17: TOTAL SALARIES AND WAGES | E17: =SUM(E8:E15) -> 0 | F17: =(+F16-E17) -> 0 | G17: difference
F18: Fringe
F19: =(C8*D20) -> 0
A20: TOTAL FRINGE BENEFITS | C20: Enter percentage → | E20: 0 | F20: =(+F19-E20) -> 0 | G20: difference
A22: CATEGORICAL BREAKOUTS
A24: TRAVEL | B24: Unit Cost | C24: #trips/nights | D24: FTE | E24: Totals
A25: Travel Event
A26: Airfare
A27: Lodging
A28: Parking | E28: =B28*C28*D28 -> 0
A29: Per diem | E29: =B29*C29*D29 -> 0
A30: Meals | E30: =B30*C30*D30 -> 0
A31: Mileage | E31: =B31*C31*D31 -> 0
D32: Subtotal | E32: =SUM(E26:E30) -> 0
A34: Travel Event
A35: Airfare | E35: =B35*C35*D35 -> 0
A36: Lodging | E36: =B36*C36*D36 -> 0
A37: Parking | E37: =B37*C37*D37 -> 0
A38: Per diem | E38: =B38*C38*D38 -> 0
A39: Meals | E39: =B39*C39*D39 -> 0
A40: Mileage | E40: =B40*C40*D40 -> 0
D41: Subtotal | E41: =SUM(E35:E39) -> 0 | F41: Travel
F42: ='Program Budget Summary'!C9 -> 0
B43: TOTAL TRAVEL | E43: =E32+E41 -> 0 | F43: =(+F42-E43) -> 0 | G43: difference
A44: EQUIPMENT | B44: Location/description/purpose | C44: Unit Cost | D44: #
A45: Description
A46: Description | E46: =(C46*D46) -> 0
A47: Description | E47: =(C47*D47) -> 0 | F47: Equipment
...

Sheet Fringe Benefits
A1: You may list benefits package here or in the Budget Narrative

Sheet Contract 1
A1: If you have a subawardee or contract you must include a full budget
