Workbook
Name Text156: 'j. Cost Share'!#REF!
Name Text157: 'j. Cost Share'!#REF!
Name Text158: 'j. Cost Share'!#REF!

Sheet Instructions and Summary
C1: Budget Justification Workbook_Cost Share (Instructions) | I1: As Of_16June2021
A3: Application/Award Number: | D3: Date of Submission:
A4: Organization/Recipient Name : | D4: Form submitted by (Name):
A5: Sub-Recipient Name: | G5: Phone Number and E-Mail:
I6: (May be award recipient or sub-recipient)
A7: Please read the instructions on each worksheet tab!!!
A8: 1. When using this form for award application, negotiation, or budget revision, fill out the blank white cells in workbook tabs a. through j. with total project costs. 2. Colored cells contain instructions, headers, or summary calculations and should not be modified. Only blank white cells should be populated. 3. Enter detailed support for the project costs identified for each Category line item within each worksheet tab to autopopulate the summary tab. 4. The total budget presented on tabs a. through i. must include both Federal (DOD) and Non-Federal (cost share) portions. 5. All costs incurred by the preparer's sub-recipients, vendors, and Federal Research and Development Centers (FFRDCs), should be entered only in section f. Contractual. 6. Ensure all entered costs are allowable, allocable, and reasonable in accordance with 2 CFR 200, and the applicable cost principles for each entity type: FAR Part 31 for For-Profit entities; and 2 CFR Part 200 Subpart E - Cost Principles for all other non-federal entities and the DoD Research & Development General Terms and Conditions (March 2021). 7. Add rows as needed throughout tabs a. through j. If rows are added, formulas/calculations may need to be adjusted by the preparer. Do not add rows to the Instructions and Summary tab. 8. ALL budget period cost categories must be rounded to the nearest dollar.
A10: SUMMARY OF BUDGET CATEGORY COSTS PROPOSED The values in this summary table are from entries made in subsequent tabs.
A11: Section A - Budget Summary
C12: Federal | D12: Cost Share | G12: Total Costs | H12: Cost Share % | I12: Proposed Budget Period Dates
B13: Budget Period 1 | C13: =G13-D13 -> 0 | D13: ='j. Cost Share'!D17 -> 0 | G13: =B35 -> 0 | H13: =IF(G13>0,D13/G13,0) -> 0
B14: Budget Period 2 | C14: =G14-D14 -> 0 | D14: ='j. Cost Share'!E17 -> 0 | G14: =C35 -> 0 | H14: =IF(G14>0,D14/G14,0) -> 0
B15: Budget Period 3 | C15: =G15-D15 -> 0 | D15: ='j. Cost Share'!F17 -> 0 | G15: =D35 -> 0 | H15: =IF(G15>0,D15/G15,0) -> 0
B16: Budget Period 4 | C16: =G16-D16 -> 0 | D16: ='j. Cost Share'!G17 -> 0 | G16: =E35 -> 0 | H16: =IF(G16>0,D16/G16,0) -> 0
B17: Budget Period 5 | C17: =G17-D17 -> 0 | D17: ='j. Cost Share'!H17 -> 0 | G17: =F35 -> 0 | H17: =IF(G17>0,D17/G17,0) -> 0
B18: Total | C18: =SUM(C13:C17) -> 0 | D18: =SUM(D13:D17) -> 0 | G18: =SUM(G13:G17) -> 0 | H18: =IF(G18>0,D18/G18,0) -> 0
A19: Section B - Budget Categories
A20: CATEGORY | B20: Budget Period 1 | C20: Budget Period 2 | D20: Budget Period 3 | E20: Budget Period 4 | F20: Budget Period 5 | G20: Total Costs | H20: % of Project | I20: Comments (as needed)
A21: a. Personnel | B21: ='a. Personnel'!E34 -> 0 | C21: ='a. Personnel'!H34 -> 0 | D21: ='a. Personnel'!K34 -> 0 | E21: ='a. Personnel'!N34 -> 0 | F21: ='a. Personnel'!Q34 -> 0 | G21: =SUM(B21:F21) -> 0 | H21: =IF(G21>0,G21/G18,0) -> 0
A22: b. Fringe Benefits | B22: ='b. Fringe'!D13 -> 0 | C22: ='b. Fringe'!G13 -> 0 | D22: ='b. Fringe'!J13 -> 0 | E22: ='b. Fringe'!M13 -> 0 | F22: ='b. Fringe'!P13 -> 0 | G22: =SUM(B22:F22) -> 0 | H22: =IF(G22>0,G22/G18,0) -> 0
A23: c. Travel | B23: ='c. Travel'!L14 -> 0 | C23: ='c. Travel'!L22 -> 0 | D23: ='c. Travel'!L30 -> 0 | E23: ='c. Travel'!L38 -> 0 | F23: ='c. Travel'!L46 -> 0 | G23: =SUM(B23:F23) -> 0 | H23: =IF(G23>0,G23/G18,0) -> 0
A24: d. Equipment | B24: ='d. Equipment'!E14 -> 0 | C24: ='d. Equipment'!E22 -> 0 | D24: ='d. Equipment'!E30 -> 0 | E24: ='d. Equipment'!E38 -> 0 | F24: ='d. Equipment'!E46 -> 0 | G24: =SUM(B24:F24) -> 0 | H24: =IF(G24>0,G24/G18,0) -> 0
A25: e. Supplies | B25: ='e. Supplies'!E15 -> 0 | C25: ='e. Supplies'!E25 -> 0 | D25: ='e. Supplies'!E35 -> 0 | E25: ='e. Supplies'!E45 -> 0 | F25: ='e. Supplies'!E55 -> 0 | G25: =SUM(B25:F25) -> 0 | H25: =IF(G25>0,G25/G18,0) -> 0
A26: f. Contractual
A27: Sub-recipient | B27: ='f. Contractual'!D13 -> 0 | C27: ='f. Contractual'!E13 -> 0 | D27: ='f. Contractual'!F13 -> 0 | E27: ='f. Contractual'!G13 -> 0 | F27: ='f. Contractual'!H13 -> 0 | G27: =SUM(B27:F27) -> 0 | H27: =IF(G27>0,G27/G18,0) -> 0
A28: Vendor | B28: ='f. Contractual'!D22 -> 0 | C28: ='f. Contractual'!E22 -> 0 | D28: ='f. Contractual'!F22 -> 0 | E28: ='f. Contractual'!G22 -> 0 | F28: ='f. Contractual'!H22 -> 0 | G28: =SUM(B28:F28) -> 0 | H28: =IF(G28>0,G28/G18,0) -> 0
A29: FFRDC | B29: ='f. Contractual'!D27 -> 0 | C29: ='f. Contractual'!E27 -> 0 | D29: ='f. Contractual'!F27 -> 0 | E29: ='f. Contractual'!G27 -> 0 | F29: ='f. Contractual'!H27 -> 0 | G29: =SUM(B29:F29) -> 0 | H29: =IF(G29>0,G29/G18,0) -> 0
A30: Total Contractual | B30: =SUM(B27:B29) -> 0 | C30: =SUM(C27:C29) -> 0 | D30: =SUM(D27:D29) -> 0 | E30: =SUM(E27:E29) -> 0 | F30: =SUM(F27:F29) -> 0 | G30: =SUM(B30:F30) -> 0 | H30: =IF(G30>0,G30/G18,0) -> 0
A31: g. Construction | B31: ='g. Construction'!C15 -> 0 | C31: ='g. Construction'!C22 -> 0 | D31: ='g. Construction'!C29 -> 0 | E31: ='g. Construction'!C36 -> 0 | F31: ='g. Construction'!C43 -> 0 | G31: =SUM(B31:F31) -> 0 | H31: =IF(G31>0,G31/G18,0) -> 0
A32: h. Other Direct Costs | B32: ='h. Other'!C14 -> 0 | C32: ='h. Other'!C22 -> 0 | D32: ='h. Other'!C30 -> 0 | E32: ='h. Other'!C38 -> 0 | F32: ='h. Other'!C46 -> 0 | G32: =SUM(B32:F32) -> 0 | H32: =IF(G32>0,G32/G18,0) -> 0
A33: Total Direct Costs | B33: =B21+B22+B23+B24+B25+B30+B31+B32 -> 0 | C33: =C21+C22+C23+C24+C25+C30+C31+C32 -> 0 | D33: =D21+D22+D23+D24+D25+D30+D31+D32 -> 0 | E33: =E21+E22+E23+E24+E25+E30+E31+E32 -> 0 | F33: =F21+F22+F23+F24+F25+F30+F31+F32 -> 0 | G33: =G21+G22+G23+G24+G25+G30+G31+G32 -> 0 | H33: =IF(G33>0,G33/G18,0) -> 0
A34: i. Indirect Charges | B34: ='i. Indirect'!B16 -> 0 | C34: ='i. Indirect'!C16 -> 0 | D34: ='i. Indirect'!D16 -> 0 | E34: ='i. Indirect'!E16 -> 0 | F34: ='i. Indirect'!F16 -> 0 | G34: =SUM(B34:F34) -> 0 | H34: =IF(G34>0,G34/G18,0) -> 0
A35: Total Costs | B35: =B33+B34 -> 0 | C35: =C33+C34 -> 0 | D35: =D33+D34 -> 0 | E35: =E33+E34 -> 0 | F35: =F33+F34 -> 0 | G35: =G33+G34 -> 0 | H35: =H33+H34 -> 0
A37: Additional Explanation (as needed):

Sheet a. Personnel
A1: Budget Justification Workbook_AFRL/RVKE
A2: a. Personnel
A3: INSTRUCTIONS 1. List project costs solely for employees of the entity completing this form. 2. All personnel costs for subrecipients and vendors must be included under f. Contractual. 3. All Participant support costs as defined in 2 CFR 200 must be included under h. Other 4. All personnel should be identified by position title and/or employee name. Enter the amount of time (e.g., hours or % of time) and the base pay rate and the total direct personnel compensation will automatically calculate. Rate basis (e.g., actual salary, labor distribution report, state civil service rates, etc.) must also be identified. 3. If loaded labor rates are utilized, a description of the costs the loaded rate is comprised of must be included in the Additional Explanation section below. The Government must review all components of the loaded labor rate for reasonableness and unallowable costs (e.g. fee or profit). 4. If a position and hours are attributed to multiple employees (e.g. Technician working 4000 hours) the number of employees for that position title must be identified.
A6: SOW Task # | B6: Position Title | C6: Budget Period 1 | F6: Budget Period 2 | I6: Budget Period 3 | L6: Budget Period 4 | O6: Budget Period 5 | R6: Project Total Hours | S6: Project Total Dollars | T6: Rate Basis
C7: Time (Hrs) | D7: Pay Rate ($/Hr) | E7: Total Budget Period 1 | F7: Time (Hrs) | G7: Pay Rate ($/Hr) | H7: Total Budget Period 2 | I7: Time (Hrs) | J7: Pay Rate ($/Hr) | K7: Total Budget Period 3 | L7: Time (Hrs) | M7: Pay Rate ($/Hr) | N7: Total Budget Period 4 | O7: Time (Hrs) | P7: Pay Rate ($/Hr) | Q7: Total Budget Period 5
A8: 1 | B8: Sr. Engineer (EXAMPLE!!!) | C8: 2000 | D8: 85 | E8: =C8*D8 -> 170000 | F8: 200 | G8: 50 | H8: =F8*G8 -> 10000 | I8: 200 | J8: 50 | K8: =I8*J8 -> 10000 | L8: 200 | M8: 50 | N8: =L8*M8 -> 10000 | O8: 200 | P8: 50 | Q8: =O8*P8 -> 10000 | R8: =C8+F8+I8 -> 2400 | S8: =E8+H8+K8 -> 190000 | T8: Actual Salary
E9: =C9*D9 -> 0 | F9: 0 | G9: 0 | H9: =F9*G9 -> 0 | I9: 0 | J9: 0 | K9: =I9*J9 -> 0 | L9: 0 | M9: 0 | N9: =L9*M9 -> 0 | O9: 0 | P9: 0 | Q9: =O9*P9 -> 0 | R9: =C9+F9+I9 -> 0 | S9: =E9+H9+K9 -> 0
E10: =C10*D10 -> 0 | H10: =F10*G10 -> 0 | K10: =I10*J10 -> 0 | N10: =L10*M10 -> 0 | Q10: =O10*P10 -> 0 | R10: =SUM(C10+F10+I10+L10+O10) -> 0 | S10: =SUM(E10+H10+K10+N10+Q10) -> 0
E11: =C11*D11 -> 0 | H11: =F11*G11 -> 0 | K11: =I11*J11 -> 0 | N11: =L11*M11 -> 0 | Q11: =O11*P11 -> 0 | R11: =SUM(C11+F11+I11+L11+O11) -> 0 | S11: =SUM(E11+H11+K11+N11+Q11) -> 0
E12: =C12*D12 -> 0 | H12: =F12*G12 -> 0 | K12: =I12*J12 -> 0 | N12: =L12*M12 -> 0 | Q12: =O12*P12 -> 0 | R12: =SUM(C12+F12+I12+L12+O12) -> 0 | S12: =SUM(E12+H12+K12+N12+Q12) -> 0
E13: =C13*D13 -> 0 | H13: =F13*G13 -> 0 | K13: =I13*J13 -> 0 | N13: =L13*M13 -> 0 | Q13: =O13*P13 -> 0 | R13: =SUM(C13+F13+I13+L13+O13) -> 0 | S13: =SUM(E13+H13+K13+N13+Q13) -> 0
E14: =C14*D14 -> 0 | H14: =F14*G14 -> 0 | K14: =I14*J14 -> 0 | N14: =L14*M14 -> 0 | Q14: =O14*P14 -> 0 | R14: =SUM(C14+F14+I14+L14+O14) -> 0 | S14: =SUM(E14+H14+K14+N14+Q14) -> 0
E15: =C15*D15 -> 0 | H15: =F15*G15 -> 0 | K15: =I15*J15 -> 0 | N15: =L15*M15 -> 0 | Q15: =O15*P15 -> 0 | R15: =SUM(C15+F15+I15+L15+O15) -> 0 | S15: =SUM(E15+H15+K15+N15+Q15) -> 0
E16: =C16*D16 -> 0 | H16: =F16*G16 -> 0 | K16: =I16*J16 -> 0 | N16: =L16*M16 -> 0 | Q16: =O16*P16 -> 0 | R16: =SUM(C16+F16+I16+L16+O16) -> 0 | S16: =SUM(E16+H16+K16+N16+Q16) -> 0
E17: =C17*D17 -> 0 | H17: =F17*G17 -> 0 | K17: =I17*J17 -> 0 | N17: =L17*M17 -> 0 | Q17: =O17*P17 -> 0 | R17: =SUM(C17+F17+I17+L17+O17) -> 0 | S17: =SUM(E17+H17+K17+N17+Q17) -> 0
E18: =C18*D18 -> 0 | H18: =F18*G18 -> 0 | K18: =I18*J18 -> 0 | N18: =L18*M18 -> 0 | Q18: =O18*P18 -> 0 | R18: =SUM(C18+F18+I18+L18+O18) -> 0 | S18: =SUM(E18+H18+K18+N18+Q18) -> 0
E19: =C19*D19 -> 0 | H19: =F19*G19 -> 0 | K19: =I19*J19 -> 0 | N19: =L19*M19 -> 0 | Q19: =O19*P19 -> 0 | R19: =SUM(C19+F19+I19+L19+O19) -> 0 | S19: =SUM(E19+H19+K19+N19+Q19) -> 0
E20: =C20*D20 -> 0 | H20: =F20*G20 -> 0 | K20: =I20*J20 -> 0 | N20: =L20*M20 -> 0 | Q20: =O20*P20 -> 0 | R20: =SUM(C20+F20+I20+L20+O20) -> 0 | S20: =SUM(E20+H20+K20+N20+Q20) -> 0
E21: =C21*D21 -> 0 | H21: =F21*G21 -> 0 | K21: =I21*J21 -> 0 | N21: =L21*M21 -> 0 | Q21: =O21*P21 -> 0 | R21: =SUM(C21+F21+I21+L21+O21) -> 0 | S21: =SUM(E21+H21+K21+N21+Q21) -> 0
... E33: =C33*D33 -> 0 | H33: =F33*G33 -> 0 | K33: =I33*J33 -> 0 | N33: =L33*M33 -> 0 | Q33: =O33*P33 -> 0 | R33: =SUM(C33+F33+I33+L33+O33) -> 0 | S33: =SUM(E33+H33+K33+N33+Q33) -> 0
B34: Total Personnel Costs | C34: =SUM(C10:C33) -> 0 | E34: =SUM(E10:E33) -> 0 | F34: =SUM(F10:F33) -> 0 | H34: =SUM(H10:H33) -> 0 | I34: =SUM(I10:I33) -> 0 | K34: =SUM(K10:K33) -> 0 | L34: =SUM(L10:L33) -> 0 | N34: =SUM(N10:N33) -> 0 | O34: =SUM(O10:O33) -> 0 | Q34: =SUM(Q10:Q33) -> 0 | R34: =SUM(C34+F34+I34+L34+O34) -> 0 | S34: =E34 + H34+K34+N34+Q34 -> 0
A36: Additional Explanation (as necessary):

Sheet b. Fringe
A1: Budget Justification Workbook_AFRL/RVKE
A2: b. Fringe Benefits
A3: INSTRUCTIONS 1. Fill out the table below by position title. If all employees receive the same fringe benefits, you can show "Total Personnel" in the Labor Type column instead of listing out all position titles. 2. The rates and how they are applied should not be averaged to get one fringe cost percentage. Complex calculations should be described/provided in the Additional Explanation section below. 3. The fringe benefit rates should be applied to all positions, regardless of whether those funds will be supported by Federal Share or Recipient Cost Share.
A5: Labor Type | B5: Budget Period 1 | E5: Budget Period 2 | H5: Budget Period 3 | K5: Budget Period 4 | N5: Budget Period 5 | Q5: Total Project
B6: Personnel Costs | C6: Rate | D6: Total | E6: Personnel Costs | F6: Rate | G6: Total | H6: Personnel Costs | I6: Rate | J6: Total | K6: Personnel Costs | L6: Rate | M6: Total | N6: Personnel Costs | O6: Rate | P6: Total
A7: EXAMPLE!!! Sr. Engineer | B7: 170000 | C7: 0.2 | D7: =B7*C7 -> 34000 | E7: 10000 | F7: 0.2 | G7: =E7*F7 -> 2000 | H7: 10000 | I7: 0.2 | J7: =H7*I7 -> 2000 | K7: 10000 | L7: 0.2 | M7: =K7*L7 -> 2000 | N7: 10000 | O7: 0.2 | P7: =N7*O7 -> 2000 | Q7: =D7+G7+J7 -> 38000
D8: =C8*B8 -> 0 | G8: =E8*F8 -> 0 | J8: =H8*I8 -> 0 | M8: =K8*L8 -> 0 | P8: =N8*O8 -> 0 | Q8: =SUM(D8+G8+J8+M8+P8) -> 0
D9: =C9*B9 -> 0 | G9: =E9*F9 -> 0 | J9: =H9*I9 -> 0 | M9: =K9*L9 -> 0 | P9: =N9*O9 -> 0 | Q9: =SUM(D9+G9+J9+M9+P9) -> 0
D10: =C10*B10 -> 0 | G10: =E10*F10 -> 0 | J10: =H10*I10 -> 0 | M10: =K10*L10 -> 0 | P10: =N10*O10 -> 0 | Q10: =SUM(D10+G10+J10+M10+P10) -> 0
D11: =C11*B11 -> 0 | G11: =E11*F11 -> 0 | J11: =H11*I11 -> 0 | M11: =K11*L11 -> 0 | P11: =N11*O11 -> 0 | Q11: =SUM(D11+G11+J11+M11+P11) -> 0
D12: =C12*B12 -> 0 | G12: =E12*F12 -> 0 | J12: =H12*I12 -> 0 | M12: =K12*L12 -> 0 | P12: =N12*O12 -> 0 | Q12: =SUM(D12+G12+J12+M12+P12) -> 0
A13: Total: | B13: =SUM(B8:B12) -> 0 | D13: =SUM(D8:D12) -> 0 | E13: =SUM(E8:E12) -> 0 | G13: =SUM(G8:G12) -> 0 | H13: =SUM(H8:H12) -> 0 | J13: =SUM(J8:J12) -> 0 | K13: =SUM(K8:K12) -> 0 | M13: =SUM(M8:M12) -> 0 | N13: =SUM(N8:N12) -> 0 | P13: =SUM(P8:P12) -> 0 | Q13: =SUM(D13+G13+J13+M13+P13) -> 0
A15: A federally approved fringe benefit rate agreement, or a proposed rate supported and agreed upon by the Government for estimating purposes is required at the time of award negotiation if reimbursement for fringe benefits is requested. Please check (X) one of the options below and provide supporting information.
A16: ______ A fringe benefit rate has been negotiated with, or approved by, a federal government agency. A copy of the latest rate agreement is/was included with the project application.* ______ There is not a current federally approved rate agreement negotiated and available.** *Unless the organization has submitted an indirect rate proposal which encompasses the fringe pool of costs, please provide the organization’s benefit package and/or a list of the components/elements that comprise the fringe pool and the cost or percentage of each component/element allocated to the labor costs identified in the Budget Justification. **When this option is checked, the entity preparing this form shall submit an indirect rate proposal information and which will support the rates being proposed for use in the performance of the proposed project.
A21: Additional Explanation (as necessary):

Sheet c. Travel
A1: Budget Justification Workbook_AFRL/RVKE
A2: c. Travel
A3: INSTRUCTIONS 1. Identify Domestic and International Travel as separate items. Examples of Purpose of Travel are site visits, DOD meetings, project mgmt. meetings, etc. Examples of Basis for Estimating Costs are past trips, travel quotes, GSA rates, etc. 2. All listed travel must be necessary for performance of the Statement of Work. 3. Federal travel regulations are contained within the applicable cost principles for all entity types. Travel costs should remain consistent with travel costs incurred by an organization during normal business operations as a result of the organizations written travel policy. In absence of a written travel policy, organizations must follow the regulations prescribed by the General Services Administration.
A5: SOW Task # | B5: Purpose of Travel | C5: Depart From | D5: Destination | E5: No. of Days | F5: No. of Travelers | G5: Lodging per Traveler | H5: Flight per Traveler | I5: Vehicle per Traveler | J5: Per Diem Per Traveler | K5: Other Allowable Cost Per Traveler | L5: Cost per Trip | M5: Basis for Estimating Costs
B6: Domestic Travel | C6: Budget Period 1
A7: 1 | B7: EXAMPLE!!! Visit to AFRL | E7: 2 | F7: 2 | G7: 250 | H7: 500 | I7: 100 | J7: 160 | K7: 150 | L7: =SUM(G7:K7)*F7 -> 2320 | M7: Current GSA rates
L8: =SUM(G8:J8)*F8 -> 0
L9: =SUM(G9:J9)*F9 -> 0
L10: =SUM(G10:J10)*F10 -> 0
L11: =SUM(G11:J11)*F11 -> 0
B12: International Travel
L13: =SUM(G13:J13)*F13 -> 0
B14: Budget Period 1 Total | L14: =SUM(L8:L13) -> 0
B15: Domestic Travel | C15: Budget Period 2
L16: =SUM(G16:J16)*F16 -> 0
L17: =SUM(G17:J17)*F17 -> 0
L18: =SUM(G18:J18)*F18 -> 0
L19: =SUM(G19:J19)*F19 -> 0
B20: International Travel
L21: =SUM(G21:J21)*F21 -> 0
B22: Budget Period 2 Total | L22: =SUM(L16:L21) -> 0
B23: Domestic Travel | C23: Budget Period 3
L24: =SUM(G24:J24)*F24 -> 0
L25: =SUM(G25:J25)*F25 -> 0
L26: =SUM(G26:J26)*F26 -> 0
L27: =SUM(G27:J27)*F27 -> 0
B28: International Travel
L29: =SUM(G29:J29)*F29 -> 0
B30: Budget Period 3 Total | L30: =SUM(L24:L29) -> 0
B31: Domestic Travel | C31: Budget Period 4
L32: =SUM(G32:J32)*F32 -> 0
L33: =SUM(G33:J33)*F33 -> 0
L34: =SUM(G34:J34)*F34 -> 0
L35: =SUM(G35:J35)*F35 -> 0
B36: International Travel
L37: =SUM(G37:J37)*F37 -> 0
B38: Budget Period 4 Total | L38: =SUM(L32:L37) -> 0
B39: Domestic Travel | C39: Budget Period 5
L40: =SUM(G40:J40)*F40 -> 0
L41: =SUM(G41:J41)*F41 -> 0
...

Sheet d. Equipment
A1: Budget Justification Workbook_AFRL/RVKE
A2: d. Equipment
A3: INSTRUCTIONS 1. Equipment is generally defined as an item with an acquisition cost greater than $5,000 and a useful life expectancy of more than one year. Please refer to 2 CFR 200 equipment definitions and treatment. 2. List all equipment below, providing a basis of cost (e.g. vendor quotes, catalog prices, prior invoices, etc.). Briefly justify items as they apply to the Statement of Work. NOTE: During award negotiations, Recipients may be ask to provide a vendor quote for all equipment items over $50,000 in price. If the vendor quote is not an exact price match, provide an explanation in the additional explanation section below. If a vendor quote is not practical, such as for a piece of equipment that is purpose-built, first of its kind, or otherwise not available off the shelf, provide a detailed engineering estimate for how the cost estimate was derived.
A5: SOW Task # | B5: Equipment Item | C5: Qty | D5: Unit Cost | E5: Total Cost | F5: Basis of Cost | G5: Justification of need
A6: Budget Period 1
A7: 3,4,5 | B7: EXAMPLE!!! 3D Max Printer | C7: 2 | D7: 70000 | E7: =C7*D7 -> 140000 | F7: Vendor Quote - Attached | G7: Reliability testing of XYZ modules
E8: =C8*D8 -> 0
E9: =C9*D9 -> 0
E10: =C10*D10 -> 0
E11: =C11*D11 -> 0
E12: =C12*D12 -> 0
E13: =C13*D13 -> 0
B14: Budget Period 1 Total | E14: =SUM(E8:E13) -> 0
A15: Budget Period 2
E16: =C16*D16 -> 0
E17: =C17*D17 -> 0
E18: =C18*D18 -> 0
E19: =C19*D19 -> 0
E20: =C20*D20 -> 0
E21: =C21*D21 -> 0
B22: Budget Period 2 Total | E22: =SUM(E16:E21) -> 0
A23: Budget Period 3
E24: =C24*D24 -> 0
E25: =C25*D25 -> 0
E26: =C26*D26 -> 0
E27: =C27*D27 -> 0
E28: =C28*D28 -> 0
E29: =C29*D29 -> 0
B30: Budget Period 3 Total | E30: =SUM(E24:E29) -> 0
A31: Budget Period 4
E32: =C32*D32 -> 0
E33: =C33*D33 -> 0
E34: =C34*D34 -> 0
E35: =C35*D35 -> 0
E36: =C36*D36 -> 0
E37: =C37*D37 -> 0
B38: Budget Period 4 Total | E38: =SUM(E32:E37) -> 0
A39: Budget Period 5
E40: =C40*D40 -> 0
E41: =C41*D41 -> 0
...

Sheet e. Supplies
A1: Budget Justification Workbook_AFRL/RVKE
A2: e. Supplies
A3: INSTRUCTIONS 1. Supplies are generally defined as an item with an acquisition cost of $5,000 or less and a useful life expectancy of less than one year. Supplies are generally consumed during the project performance. Please refer to 2 CFR 200 for supplies definition and treatment. 2. List all proposed supplies below, providing a basis of costs (e.g. vendor quotes, catalog prices, prior invoices, etc.). Briefly justify the need for the Supplies as they apply to the Statement of Work. 3. Multiple supply items valued at $5,000 or less used to assemble an equipment item with a value greater than $5,000 with a useful life of more than one year should be included on the equipment tab. NOTE: Supply items must be direct costs to the project at this budget category, and not duplicative of supply costs included in the indirect pool that is the basis of the indirect rate applied for this project.
A5: SOW Task # | B5: General Category of Supplies | C5: Qty | D5: Unit Cost | E5: Total Cost | F5: Basis of Cost | G5: Justification of Need
A6: Budget Period 1
A7: 4,6 | B7: EXAMPLE!!! Wireless DAS components | C7: 10 | D7: 360 | E7: 3600 | F7: Catalog price | G7: For Alpha prototype - Task 2.4
E8: =C8*D8 -> 0
E9: =C9*D9 -> 0
E10: =C10*D10 -> 0
E11: =C11*D11 -> 0
E12: =C12*D12 -> 0
E13: =C13*D13 -> 0
E14: =C14*D14 -> 0
B15: Budget Period 1 Total | E15: =SUM(E8:E14) -> 0
A16: Budget Period 2
E17: =C17*D17 -> 0
E18: =C18*D18 -> 0
E19: =C19*D19 -> 0
E20: =C20*D20 -> 0
E21: =C21*D21 -> 0
E22: =C22*D22 -> 0
E23: =C23*D23 -> 0
E24: =C24*D24 -> 0
B25: Budget Period 2 Total | E25: =SUM(E17:E24) -> 0
A26: Budget Period 3
E27: =C27*D27 -> 0
E28: =C28*D28 -> 0
E29: =C29*D29 -> 0
E30: =C30*D30 -> 0
E31: =C31*D31 -> 0
E32: =C32*D32 -> 0
E33: =C33*D33 -> 0
E34: =C34*D34 -> 0
B35: Budget Period 3 Total | E35: =SUM(E27:E34) -> 0
A36: Budget Period 4
E37: =C37*D37 -> 0
E38: =C38*D38 -> 0
E39: =C39*D39 -> 0
E40: =C40*D40 -> 0
E41: =C41*D41 -> 0
...

Sheet f. Contractual
A1: Budget Justification Workbook_AFRL/RVKE
A2: f. Contractual
A3: INSTRUCTIONS 1. Provide all costs related to sub-recipients, sub-awardees, vendors, contractors, and FFRDC partners, etc. 2. Sub-recipients (partners, sub-awardees): Subrecipients shall submit a Budget Justification describing all project costs and calculations when their total proposed budget exceeds either (1) $250,000 of the total award costs. These sub-recipient forms may be completed by either the sub-recipients themselves or by the preparer of this form. The budget totals on the sub-recipient's forms must match the sub-recipient entries below. 3. Vendors (including contractors): List all vendors and contractors supplying commercial supplies or services used to support the project. For each Vendor cost with total project costs of $250,000 or more, a Vendor quote must be provided. 4. Federal Funded Research and Development Centers (FFRDCs): FFRDCs must submit a signed Field Work Proposal during award application. The award recipient may allow the FFRDC to provide this information directly to the Government, however project costs. NOTE: Please refer to 2 CFR 200 for sub-recipient and/or vendor definitions and treatment.
A5: SOW Task # | B5: Sub-Recipient/Sub-Awardee Name/Organization | C5: Purpose and Basis of Cost | D5: Budget Period 1 | E5: Budget Period 2 | F5: Budget Period 3 | G5: Budget Period 4 | H5: Budget Period 5 | I5: Project Total
A6: 2,4 | B6: EXAMPLE!!! XYZ Non-Profit | C6: Partner to Support XYZ training. Cost estimate based on personnel hours. | D6: 50000 | E6: 50000 | F6: 50000 | G6: 45000 | H6: 35000 | I6: =SUM(D6:H6) -> 230000
I7: =SUM(D7:H7) -> 0
I8: =SUM(D8:H8) -> 0
I9: =SUM(D9:H9) -> 0
I10: =SUM(D10:H10) -> 0
I11: =SUM(D11:H11) -> 0
I12: =SUM(D12:H12) -> 0
C13: Sub-total | D13: =SUM(D7:D12) -> 0 | E13: =SUM(E7:E12) -> 0 | F13: =SUM(F7:F12) -> 0 | G13: =SUM(G7:G12) -> 0 | H13: =SUM(H7:H12) -> 0 | I13: =SUM(I7:I12) -> 0
A15: SOW Task # | B15: Vendor/Contractors Name/Organization | C15: Purpose and Basis of Cost | D15: Budget Period 1 | E15: Budget Period 2 | F15: Budget Period 3 | G15: Budget Period 4 | H15: Budget Period 5 | I15: Project Total
A16: 6 | B16: EXAMPLE!!! ABC Corp. | C16: Vendor for XYZ training marketing. Estimate provided by vendor. | D16: 32000 | E16: 3000 | F16: 25000 | G16: 20000 | H16: 15000 | I16: =SUM(D16:H16) -> 95000
I17: =SUM(D17:H17) -> 0
I18: =SUM(D18:H18) -> 0
I19: =SUM(D19:H19) -> 0
I20: =SUM(D20:H20) -> 0
I21: =SUM(D21:H21) -> 0
C22: Sub-total | D22: =SUM(D17:D21) -> 0 | E22: =SUM(E17:E21) -> 0 | F22: =SUM(F17:F21) -> 0 | G22: =SUM(G17:G21) -> 0 | H22: =SUM(H17:H21) -> 0 | I22: =SUM(I17:I21) -> 0
A24: SOW Task # | B24: FFRDC Name/Organization | C24: Purpose and Basis of Cost | D24: Budget Period 1 | E24: Budget Period 2 | F24: Budget Period 3 | G24: Budget Period 4 | H24: Budget Period 5 | I24: Project Total
I25: =SUM(D25:H25) -> 0
I26: =SUM(D26:H26) -> 0
C27: Sub-total | D27: =SUM(D25:D26) -> 0 | E27: =SUM(E25:E26) -> 0 | F27: =SUM(F25:F26) -> 0 | G27: =SUM(G25:G26) -> 0 | H27: =SUM(H25:H26) -> 0 | I27: =SUM(D27:H27) -> 0
B29: Total Contractual | D29: =D13+D22+D27 -> 0 | E29: =E13+E22+E27 -> 0 | F29: =F13+F22+F27 -> 0 | G29: =G13+G22+G27 -> 0 | H29: =H13+H22+H27 -> 0 | I29: =I13+I22+I27 -> 0
A31: Additional Information (as necessary):

Sheet g. Construction
A1: Budget Justification Workbook_AFRL/RVKE
A2: g. Construction
A3: INSTRUCTIONS 1. Construction, for the purpose of budgeting, is defined as all types of work done on a particular building, including erecting, altering, or remodeling, and briefly justify its need as it applies to the Statement of Work. 2. Any construction cost, requires priro approval by the Grants and Agreements Officer. 4. Work that is performed by a vendor or subrecipient should be entered under f. Contractual.
A5: Description of construction activities:
A7: SOW Task # | B7: General Description | C7: Cost | D7: Basis of Cost | E7: Justification of need
A8: Budget Period 1
B9: Construction cost is not anticipated in the SOW
B15: Budget Period 1 Total | C15: =SUM(C10:C14) -> 0
A16: Budget Period 2
B22: Budget Period 2 Total | C22: =SUM(C17:C21) -> 0
A23: Budget Period 3
B29: Budget Period 3 Total | C29: =SUM(C24:C28) -> 0
A30: Budget Period 4
B36: Budget Period 4 Total | C36: =SUM(C31:C35) -> 0
A37: Budget Period 5
B43: Budget Period 5 Total | C43: =SUM(C38:C42) -> 0
B44: PROJECT TOTAL | C44: =(C15+C22+C29+C36+C43) -> 0
A46: Additional Explanation (as needed):

Sheet h. Other
A1: Budget Justification Workbook_AFRL/RVKE
A2: h. Other Direct Costs
A3: INSTRUCTIONS 1. Other direct costs are direct cost items required for the project which do not fit clearly into other categories. These direct costs must not be included in the indirect costs (for which the indirect rate is being applied for this project). Examples are: Participant Costs, printing costs, etc. which can be directly charged to the project and are not duplicated in indirect costs (overhead costs). 2. Basis of cost are items such as vendor quotes, prior purchases of similar or like items, published price list, etc.
A5: SOW Task # | B5: General Description and SOPO Task # | C5: Cost | D5: Basis of Cost | E5: Justification of need
A6: Budget Period 1
A7: 5 | B7: EXAMPLE!!! Participant Cost_Grad student tuition - Task 5. Sub-tasks 1-3 | C7: 16000 | D7: Established UCD costs for 5 Students | E7: Support of graduate students working on XYZ Program. Total Gradaute Students_5
B14: Budget Period 1 Total | C14: =SUM(C8:C13) -> 0
B15: Budget Period 2
B22: Budget Period 2 Total | C22: =SUM(C16:C21) -> 0
B23: Budget Period 3
B30: Budget Period 3 Total | C30: =SUM(C24:C29) -> 0
B31: Budget Period 4
B38: Budget Period 4 Total | C38: =SUM(C32:C37) -> 0
B39: Budget Period 5
B46: Budget Period 5 Total | C46: =SUM(C40:C45) -> 0
B47: PROJECT TOTAL | C47: =C30+C22+C14+C38+C46 -> 0
A49: Additional Explanation (as needed):

Sheet i. Indirect
A1: Budget Justification Workbook_AFRL/RVKE
A2: i. Indirect Costs
A3: INSTRUCTIONS 1. Please indicate how the Recipient indirect costs are calculated. If necessary, use the box below to provide additional explanation regarding indirect rate calculations. 2. The rates and how they are applied should not be averaged to get one indirect cost percentage. Complex calculations or rates that do not do not correspond to the below categories should be described/provided in the Additional Explanation section below. 3. The indirect rate should be applied to both the Federal Share and Recipient Cost Share.
B5: Budget Period 1 | C5: Budget Period 2 | D5: Budget Period 3 | E5: Budget Period 4 | F5: Budget Period 5 | G5: Total | H5: Explanation of BASE
A6: Provide ONLY Applicable Rates:
A7: Overhead Rate | B7: 0 | C7: 0 | D7: 0 | E7: 0 | F7: 0
A8: General & Administrative (G&A) | B8: 0 | C8: 0 | D8: 0 | E8: 0 | F8: 0
A9: FCCM Rate, if applicable | B9: 0 | C9: 0 | D9: 0 | E9: 0 | F9: 0
A10: OTHER Indirect Rate | B10: 0 | C10: 0 | D10: 0 | E10: 0 | F10: 0
A11: Indirect Costs (As Applicable):
A12: Overhead Costs | G12: =SUM(B12:F12) -> 0
A13: G&A Costs | G13: =SUM(B13:F13) -> 0
A14: FCCM Costs, if applicable | G14: =SUM(B14:F14) -> 0
A15: OTHER Indirect Costs | G15: =SUM(B15:F15) -> 0
A16: Total indirect costs requested: | B16: =SUM(B12:B15) -> 0 | C16: =SUM(C12:C15) -> 0 | D16: =SUM(D12:D15) -> 0 | E16: =SUM(E12:E15) -> 0 | F16: =SUM(F12:F15) -> 0 | G16: =SUM(B16:F16) -> 0
A18: A federally approved indirect rate agreement, or rate proposed (supported and agreed upon by the Government for estimating purposes) is required if reimbursement of indirect costs is requested. Please check (X) one of the options below and provide the requested information if it has not already been provided as requested, or has changed.
A19: ______ An indirect rate has been approved or negotiated with a federal government agency. A copy of the latest rate agreement is included with this application, and will be provided electronically to the Contracting Officer for this project. ______ There is not a current, federally approved rate agreement negotiated and available*. *When this option is checked, the entity preparing this form shall submit an indirect rate proposal information and which will support the rates being proposed for use in performance of the proposed project. Additionally, any non-Federal entity that has never received a negotiated indirect cost rate, except for those non-Federal entities described in Appendix VII to Part 200—States and Local Government and Indian Tribe Indirect Cost Proposals, paragraph D.1.b, may elect to charge a de minimis rate of 10% of modified total direct costs (MTDC) which may be used indefinitely, as described in 2 CFR 200.403.
A21: Additional Explanation (as needed):

Sheet j. Cost Share
A1: Detailed Budget Justification
A2: j. Cost Share
A3: INSTRUCTIONS 1. A detailed presentation of the cash or cash value of all cost share proposed must be provided. All items below must be identified within the applicable cost category tabs a. through i. In addition to the detailed presentation of the cash or cash value of all cost share proposed provided in the table below, please identify the source organization & amount of each cost share item proposed in the award. 2. Please reference to the FOA Appendix A, Appendix B, and 2 CFR 200 for definitions and information. 3. Funds from other Federal sources MAY NOT be counted as cost share. 4. Cost sharing commitment letters from subrecipients and third parties must be provided with the Recipients proposal or application. 5. NOTE: Vendors may not provide cost share. Any partial donation of goods or services is considered a discount and is not allowable.
A5: Organization/Source | B5: Type (Cash or In Kind) | C5: Cost Share Item | D5: Budget Period 1 | E5: Budget Period 2 | F5: Budget Period 3 | G5: Budget Period 4 | H5: Budget Period 5 | I5: Total Project Cost Share
A6: ABC Company EXAMPLE!!! | B6: Cash | C6: Project partner ABC Company will provide XYZ for XYZ123 development at the price of $680 per e- learning module. | D6: 13600 | I6: =SUM(D6:F6) -> 13600
I7: =SUM(D7:H7) -> 0
I8: =SUM(D8:H8) -> 0
I9: =SUM(D9:H9) -> 0
I10: =SUM(D10:H10) -> 0
I11: =SUM(D11:H11) -> 0
I12: =SUM(D12:H12) -> 0
I13: =SUM(D13:H13) -> 0
I14: =SUM(D14:H14) -> 0
I15: =SUM(D15:H15) -> 0
I16: =SUM(D16:H16) -> 0
C17: Totals | D17: =SUM(D7:D16) -> 0 | E17: =SUM(E7:E16) -> 0 | F17: =SUM(F7:F16) -> 0 | G17: =SUM(G7:G16) -> 0 | H17: =SUM(H7:H16) -> 0 | I17: =SUM(I7:I16) -> 0
A19: Total Project Cost: | C19: ='Instructions and Summary'!G35 -> 0 | D19: Cost Share Percent of Award: | I19: =IF(C19>0,I17/C19,0) -> 0
A21: Additional Explanation (as needed):

Sheet SF-424A
A1: Applicant Name: | E1: Award Number:
A2: Budget Information - Non Construction Programs
A3: OMB Approval No. 0348-0044
A4: Section A - Budget Summary
B5: Grant Program Function or Activity | C5: Catalog of Federal Domestic Assistance Number | D5: Estimated Unobligated Funds | F5: New or Revised Budget
D6: Federal | E6: Non-Federal | F6: Federal | G6: Non-Federal | H6: Total
B7: (a) | C7: (b) | D7: (c ) | E7: (d) | F7: (e) | G7: (f) | H7: (g)
A8: 1. | B8: Budget period 1 | F8: =D26-G8 -> 0 | G8: ='j. Cost Share'!D17 -> 0 | H8: =SUM(D8:G8) -> 0
A9: 2. | B9: Budget period 2 | F9: =E26-G9 -> 0 | G9: ='j. Cost Share'!E17 -> 0 | H9: =SUM(D9:G9) -> 0
A10: 3. | B10: Budget period 3 | F10: =F26-'j. Cost Share'!F17 -> 0 | G10: ='j. Cost Share'!F17 -> 0 | H10: =SUM(D10:G10) -> 0
A11: 4. | H11: =SUM(D11:G11) -> 0
A12: 5. | B12: Totals | D12: =SUM(D8:D11) -> 0 | E12: =SUM(E8:E11) -> 0 | F12: =SUM(F8:F11) -> 0 | G12: =SUM(G8:G11) -> 0 | H12: =SUM(H8:H11) -> 0
A13: Section B - Budget Categories
A14: 6. | B14: Object Class Categories | D14: Grant Program, Function or Activity | H14: Total (5)
D15: Budget period 1 | E15: Budget period 2 | F15: Budget period 3 | G15: (4)
B16: a. Personnel | D16: ='Instructions and Summary'!B21 -> 0 | E16: ='Instructions and Summary'!C21 -> 0 | F16: ='Instructions and Summary'!D21 -> 0 | H16: =SUM(D16:G16) -> 0
B17: b. Fringe Benefits | D17: ='Instructions and Summary'!B22 -> 0 | E17: ='Instructions and Summary'!C22 -> 0 | F17: ='Instructions and Summary'!D22 -> 0 | H17: =SUM(D17:G17) -> 0
B18: c. Travel | D18: ='Instructions and Summary'!B23 -> 0 | E18: ='Instructions and Summary'!C23 -> 0 | F18: ='Instructions and Summary'!D23 -> 0 | H18: =SUM(D18:G18) -> 0
B19: d. Equipment | D19: ='Instructions and Summary'!B24 -> 0 | E19: ='Instructions and Summary'!C24 -> 0 | F19: ='Instructions and Summary'!D24 -> 0 | H19: =SUM(D19:G19) -> 0
B20: e. Supplies | D20: ='Instructions and Summary'!B25 -> 0 | E20: ='Instructions and Summary'!C25 -> 0 | F20: ='Instructions and Summary'!D25 -> 0 | H20: =SUM(D20:G20) -> 0
B21: f. Contractual | D21: ='Instructions and Summary'!B30 -> 0 | E21: ='Instructions and Summary'!C30 -> 0 | F21: ='Instructions and Summary'!D30 -> 0 | H21: =SUM(D21:G21) -> 0
B22: g. Construction | D22: ='Instructions and Summary'!B31 -> 0 | E22: ='Instructions and Summary'!C31 -> 0 | F22: ='Instructions and Summary'!D31 -> 0 | H22: =SUM(D22:G22) -> 0
B23: h. Other | D23: ='Instructions and Summary'!B32 -> 0 | E23: ='Instructions and Summary'!C32 -> 0 | F23: ='Instructions and Summary'!D32 -> 0 | H23: =SUM(D23:G23) -> 0
B24: i. Total Direct Charges (sum of 6a-6h) | D24: =SUM(D16:D23) -> 0 | E24: =SUM(E16:E23) -> 0 | F24: =SUM(F16:F23) -> 0 | G24: =SUM(G16:G23) -> 0 | H24: =SUM(D24:G24) -> 0
B25: j. Indirect Charges | D25: ='Instructions and Summary'!B34 -> 0 | E25: ='Instructions and Summary'!C34 -> 0 | F25: ='Instructions and Summary'!D34 -> 0 | H25: =SUM(D25:G25) -> 0
B26: k. Totals (sum of 6i-6j) | D26: =SUM(D24:D25) -> 0 | E26: =SUM(E24:E25) -> 0 | F26: =SUM(F24:F25) -> 0 | G26: =SUM(G24:G25) -> 0 | H26: =SUM(H24:H25) -> 0
A28: 7. | B28: Program Income | H28: =SUM(D28:G28) -> 0
H30: SF-424A (Rev. 4-92)
A31: Previous Edition Usable | G31: Prescribed by OMB Circular A-102
A32: Authorized for Local Reproduction
A34: Section C - Non-Federal Resources
B35: (a) Grant Program | E35: (b) Applicant | F35: (c ) State | G35: (d) Other Sources | H35: (e) Totals
A36: 8. | B36: Budget period 1 | H36: =SUM(E36:G36) -> 0
A37: 9. | B37: Budget period 2 | H37: =SUM(E37:G37) -> 0
A38: 10. | B38: Budget period 3 | H38: =SUM(E38:G38) -> 0
A39: 11. | H39: =SUM(E39:G39) -> 0
A40: 12. | B40: Total (sum of lines 8 - 11) | E40: =SUM(E36:E39) -> 0 | F40: =SUM(F36:F39) -> 0 | G40: =SUM(G36:G39) -> 0 | H40: =SUM(H36:H39) -> 0
A41: Section D - Forecasted Cash Needs
D42: Total for 1st Year | E42: 1st Quarter | F42: 2nd Quarter | G42: 3rd Quarter | H42: 4th quarter
A43: 13. | B43: Federal | D43: =SUM(E43:H43) -> 0
...

Sheet SF-424A Cost Categories
A1: Applicant Name: | C1: ='Instructions and Summary'!B4 -> 0 | E1: Award Number: | F1: ='Instructions and Summary'!B3 -> 0
A2: Summary Budget Information
A4: Section A - Budget Summary
B5: Grant Program Function or Activity | C5: Catalog of Federal Domestic Assistance Number | D5: Estimated Unobligated Funds | F5: New or Revised Budget
D6: Federal | E6: Non-Federal | F6: Federal | G6: Non-Federal | I6: Total
B7: (a) | C7: (b) | D7: (c) | E7: (d) | F7: (e) | G7: (f) | I7: (g)
A8: 1. | B8: Budget Period 1 | F8: ='Instructions and Summary'!B35-G8 -> 0 | G8: ='j. Cost Share'!D17 -> 0 | I8: =ROUND(SUM(D8:G8),0) -> 0
A9: 2. | B9: Budget Period 2 | F9: ='Instructions and Summary'!C35-G9 -> 0 | G9: ='j. Cost Share'!E17 -> 0 | I9: =ROUND(SUM(D9:G9),0) -> 0
A10: 3. | B10: Budget Period 3 | F10: ='Instructions and Summary'!D35-G10 -> 0 | G10: ='j. Cost Share'!F17 -> 0 | I10: =ROUND(SUM(D10:G10),0) -> 0
A11: 4. | B11: Budget Period 4 | F11: ='Instructions and Summary'!E35-G11 -> 0 | G11: ='j. Cost Share'!G17 -> 0 | I11: =ROUND(SUM(D11:G11),0) -> 0
A12: 5. | B12: Budget Period 5 | F12: ='Instructions and Summary'!F35-G12 -> 0 | G12: ='j. Cost Share'!H17 -> 0 | I12: =ROUND(SUM(D12:G12),0) -> 0
A13: 6. | B13: Totals | F13: =ROUND(SUM(F8:F12),0) -> 0 | G13: =ROUND(SUM(G8:G12),0) -> 0 | I13: =ROUND(SUM(I8:I12),0) -> 0
A14: Section B - Budget Categories
A15: 6. | B15: Object Class Categories | D15: Grant Program, Function or Activity | I15: Total (5)
D16: Budget Period 1 | E16: Budget Period 2 | F16: Budget Period 3 | G16: Budget Period 4 | H16: Budget Period 5
B17: a. Personnel | D17: ='a. Personnel'!E34 -> 0 | E17: ='a. Personnel'!H34 -> 0 | F17: ='a. Personnel'!K34 -> 0 | G17: ='a. Personnel'!N34 -> 0 | H17: ='a. Personnel'!Q34 -> 0 | I17: =ROUND(SUM(D17:H17),0) -> 0
B18: b. Fringe Benefits | D18: ='b. Fringe'!D13 -> 0 | E18: ='b. Fringe'!G13 -> 0 | F18: ='b. Fringe'!J13 -> 0 | G18: ='b. Fringe'!M13 -> 0 | H18: ='b. Fringe'!P13 -> 0 | I18: =ROUND(SUM(D18:H18),0) -> 0
B19: c. Travel | D19: ='c. Travel'!L14 -> 0 | E19: ='c. Travel'!L22 -> 0 | F19: ='c. Travel'!L30 -> 0 | G19: ='c. Travel'!L38 -> 0 | H19: ='c. Travel'!L46 -> 0 | I19: =ROUND(SUM(D19:H19),0) -> 0
B20: d. Equipment | D20: ='d. Equipment'!E14 -> 0 | E20: ='d. Equipment'!E22 -> 0 | F20: ='d. Equipment'!E30 -> 0 | G20: ='d. Equipment'!E38 -> 0 | H20: ='d. Equipment'!E46 -> 0 | I20: =ROUND(SUM(D20:H20),0) -> 0
B21: e. Supplies | D21: ='e. Supplies'!E15 -> 0 | E21: ='e. Supplies'!E25 -> 0 | F21: ='e. Supplies'!E35 -> 0 | G21: ='e. Supplies'!E45 -> 0 | H21: ='e. Supplies'!E55 -> 0 | I21: =ROUND(SUM(D21:H21),0) -> 0
B22: f. Contractual | D22: ='f. Contractual'!D29 -> 0 | E22: ='f. Contractual'!E29 -> 0 | F22: ='f. Contractual'!F29 -> 0 | G22: ='f. Contractual'!G29 -> 0 | H22: ='f. Contractual'!H29 -> 0 | I22: =ROUND(SUM(D22:H22),0) -> 0
B23: g. Construction | D23: ='g. Construction'!C15 -> 0 | E23: ='g. Construction'!C22 -> 0 | F23: ='g. Construction'!C29 -> 0 | G23: ='g. Construction'!C36 -> 0 | H23: ='g. Construction'!C43 -> 0 | I23: =ROUND(SUM(D23:H23),0) -> 0
B24: h. Other | D24: ='h. Other'!C14 -> 0 | E24: ='h. Other'!C22 -> 0 | F24: ='h. Other'!C30 -> 0 | G24: ='h. Other'!C38 -> 0 | H24: ='h. Other'!C46 -> 0 | I24: =ROUND(SUM(D24:H24),0) -> 0
B25: i. Total Direct Charges (sum of 6a-6h) | D25: =SUM(D17:D24) -> 0 | E25: =SUM(E17:E24) -> 0 | F25: =SUM(F17:F24) -> 0 | G25: =SUM(G17:G24) -> 0 | H25: =SUM(H17:H24) -> 0 | I25: =ROUND(SUM(D25:H25),0) -> 0
B26: j. Indirect Charges | D26: ='i. Indirect'!B16 -> 0 | E26: ='i. Indirect'!C16 -> 0 | F26: ='i. Indirect'!D16 -> 0 | G26: ='i. Indirect'!E16 -> 0 | H26: ='i. Indirect'!F16 -> 0 | I26: =ROUND(SUM(D26:H26),0) -> 0
B27: k. Totals (sum of 6i-6j) | D27: =ROUND(SUM(D25:D26),0) -> 0 | E27: =ROUND(SUM(E25:E26),0) -> 0 | F27: =ROUND(SUM(F25:F26),0) -> 0 | G27: =ROUND(SUM(G25:G26),0) -> 0 | H27: =ROUND(SUM(H25:H26),0) -> 0 | I27: =ROUND(SUM(I25:I26),0) -> 0
A29: 7. | B29: Program Income | I29: =ROUND(SUM(D29:G29),0) -> 0
