Workbook
Name _YR1: #REF!
Name _YR2: #REF!
Name Country: #REF!
Name Location: #REF!
Name PHCC: [1]Facilities!$H$10
Name PHCU: [1]Facilities!$G$10
Name Technical_Sector: #REF!
Name Unit: 'Formula Sheet'!$A$4:$A$10
Name Year1: #REF!

Sheet Budget Summary
A1: USAID/Tunisia
A2: Activity Title: CSO Activity
A4: Prime Recipient Name:
A6: Cost Category | C6: Year 1 | D6: Year 2 | E6: Year 3 | F6: Year 4 | G6: Year 5 | H6: Total All Years
A7: a. | B7: Personnel | C7: =Detail!H41 -> 0 | D7: =Detail!L41 -> 0 | E7: =Detail!P41 -> 0 | F7: =Detail!T41 -> 0 | G7: =Detail!X41 -> 0 | H7: =C7+D7+E7+F7+G7 -> 0 | I7: =IF(SUM(C7:H7)/2=H7," ","ERROR") | J7: =IF(H7=Detail!Y41," ","Doesn't Tie to Detail Sheet")
A8: b. | B8: Fringe Benefits | C8: =Detail!H52 -> 0 | D8: =Detail!L52 -> 0 | E8: =Detail!P52 -> 0 | F8: =Detail!T52 -> 0 | G8: =Detail!X52 -> 0 | H8: =C8+D8+E8+F8+G8 -> 0 | I8: =IF(SUM(C8:H8)/2=H8," ","ERROR") | J8: =IF(H8=Detail!Y52," ","Doesn't Tie to Detail Sheet")
A9: c. | B9: Travel | C9: =Detail!H59 -> 0 | D9: =Detail!L59 -> 0 | E9: =Detail!P59 -> 0 | F9: =Detail!T59 -> 0 | G9: =Detail!X59 -> 0 | H9: =C9+D9+E9+F9+G9 -> 0 | I9: =IF(SUM(C9:H9)/2=H9," ","ERROR") | J9: =IF(H9=Detail!Y59," ","Doesn't Tie to Detail Sheet")
A10: d. | B10: Supplies | C10: =Detail!H76 -> 0 | D10: =Detail!L76 -> 0 | E10: =Detail!P76 -> 0 | F10: =Detail!T76 -> 0 | G10: =Detail!X76 -> 0 | H10: =C10+D10+E10+F10+G10 -> 0 | I10: =IF(SUM(C10:H10)/2=H10," ","ERROR") | J10: =IF(H10=Detail!Y76," ","Doesn't Tie to Detail Sheet")
A11: e. | B11: Contractual | C11: =Detail!H109 -> 0 | D11: =Detail!L109 -> 0 | E11: =Detail!P109 -> 0 | F11: =Detail!T109 -> 0 | G11: =Detail!X109 -> 0 | H11: =C11+D11+E11+F11+G11 -> 0 | I11: =IF(SUM(C11:H11)/2=H11," ","ERROR") | J11: =IF(H11=Detail!Y109," ","Doesn't Tie to Detail Sheet")
A12: f. | B12: Construction | C12: =Detail!H115 -> 0 | D12: =Detail!L115 -> 0 | E12: =Detail!P115 -> 0 | F12: =Detail!T115 -> 0 | G12: =Detail!X115 -> 0 | H12: =C12+D12+E12+F12+G12 -> 0 | I12: =IF(SUM(C12:H12)/2=H12," ","ERROR") | J12: =IF(H12=Detail!Y115," ","Doesn't Tie to Detail Sheet")
A13: g. | B13: Other Direct Costs | C13: =Detail!H144 -> 0 | D13: =Detail!L144 -> 0 | E13: =Detail!P144 -> 0 | F13: =Detail!T144 -> 0 | G13: =Detail!X144 -> 0 | H13: =C13+D13+E13+F13+G13 -> 0 | I13: =IF(SUM(C13:H13)/2=H13," ","ERROR") | J13: =IF(H13=Detail!Y144," ","Doesn't Tie to Detail Sheet")
A14: h. | B14: Total Direct Charges | C14: =SUM(C7:C13) -> 0 | D14: =SUM(D7:D13) -> 0 | E14: =SUM(E7:E13) -> 0 | F14: =SUM(F7:F13) -> 0 | G14: =SUM(G7:G13) -> 0 | H14: =SUM(H7:H13) -> 0 | I14: =IF(SUM(C14:H14)/2=H14," ","ERROR") | J14: =IF(H14=Detail!Y146," ","Doesn't Tie to Detail Sheet")
A15: i. | B15: Indirect Charges | C15: =Detail!H153 -> 0 | D15: =Detail!L153 -> 0 | E15: =Detail!P153 -> 0 | F15: =Detail!T153 -> 0 | G15: =Detail!X153 -> 0 | H15: =C15+D15+E15+F15+G15 -> 0 | I15: =IF(SUM(C15:H15)/2=H15," ","ERROR") | J15: =IF(H15=Detail!Y153," ","Doesn't Tie to Detail Sheet")
A16: j. | B16: TOTALS | C16: =SUM(C14:C15) -> 0 | D16: =SUM(D14:D15) -> 0 | E16: =SUM(E14:E15) -> 0 | F16: =SUM(F14:F15) -> 0 | G16: =SUM(G14:G15) -> 0 | H16: =SUM(H14:H15) -> 0 | I16: =IF(SUM(C16:H16)/2=H16," ","ERROR") | J16: =IF(H16=Detail!Y157," ","Doesn't Tie to Detail Sheet")

Sheet Detail
A1: USAID/Tunisia | J1: Inflation Factors
A2: Activity Title: CSO Activity | J2: Expatriate Salary Increase:
J3: National Salary Increase:
A4: Prime Recipient Name: | J4: Cost Inflation Factor:
E7: Year 1 | I7: Year 2 | M7: Year 3 | Q7: Year 4 | U7: Year 5
Y8: Total Estimate
A9: Description | C9: Obj. | D9: Out Come | E9: Unit | F9: No. of Units | G9: Unit Cost (USD) | H9: Year 1 Estimate | I9: Unit | J9: No. of Units | K9: Unit Cost (USD) | L9: Year 2 Estimate | M9: Unit | N9: No. of Units | O9: Unit Cost (USD) | P9: Year 3 Estimate | Q9: Unit | R9: No. of Units | S9: Unit Cost (USD) | T9: Year 4 Estimate | U9: Unit | V9: No. of Units | W9: Unit Cost (USD) | X9: Year 5 Estimate
A11: PERSONNEL
A13: INTERNATIONAL STAFF
A15: Expatriate Staff
E16: Year | F16: 1 | H16: =ROUND(F16*G16,0) -> 0 | I16: Year | J16: 1 | K16: =MROUND(G16*(100%+$M$2),100) -> 0 | L16: =ROUND(J16*K16,0) -> 0 | M16: Year | N16: 1 | O16: =MROUND(K16*(100%+$M$2),100) -> 0 | P16: =ROUND(N16*O16,0) -> 0 | Q16: Year | R16: 1 | S16: =MROUND(O16*(100%+$M$2),100) -> 0 | T16: =ROUND(R16*S16,0) -> 0 | U16: Year | V16: 1 | W16: =MROUND(S16*(100%+$M$2),100) -> 0 | X16: =MROUND(V16*W16,100) -> 0 | Y16: =H16+L16+P16+T16+X16 -> 0
A19: HQ Technical Staff
E20: Day | H20: =ROUND(F20*G20,0) -> 0 | I20: Day | K20: =ROUND(G20*(100%+$M$2),0) -> 0 | L20: =ROUND(J20*K20,0) -> 0 | M20: Day | O20: =ROUND(K20*(100%+$M$2),0) -> 0 | P20: =ROUND(N20*O20,0) -> 0 | Q20: Day | S20: =ROUND(O20*(100%+$M$2),0) -> 0 | T20: =MROUND(R20*S20,100) -> 0 | U20: Day | W20: =ROUND(S20*(100%+$M$2),0) -> 0 | X20: =MROUND(V20*W20,100) -> 0 | Y20: =H20+L20+P20+T20+X20 -> 0
A22: SUBTOTAL INTERNATIONAL STAFF | H22: =SUM(H12:H21) -> 0 | L22: =SUM(L12:L21) -> 0 | P22: =SUM(P12:P21) -> 0 | T22: =SUM(T12:T21) -> 0 | X22: =SUM(X12:X21) -> 0 | Y22: =SUM(Y12:Y21) -> 0 | Z22: =IF(SUM(H22,L22,P22,T22,X22)=Y22,"Ties", "Doesn't Foot") -> Ties
A24: LOCAL IN-COUNTRY STAFF
A26: TUNIS OFFICE
A27: =IF(A$26="<Field Office>", "Program Staff", CONCATENATE(A$26," Program Staff")) -> TUNIS OFFICE Program Staff
E28: Year | H28: =MROUND(F28*G28,100) -> 0 | I28: Year | J28: 1 | K28: =MROUND(G28*(100%+$M$3),100) -> 0 | L28: =ROUND(J28*K28,0) -> 0 | M28: Year | N28: 1 | O28: =MROUND(K28*(100%+$M$3),100) -> 0 | P28: =ROUND(N28*O28,0) -> 0 | Q28: Year | R28: 1 | S28: =MROUND(O28*(100%+$M$3),100) -> 0 | T28: =ROUND(R28*S28,0) -> 0 | U28: Year | V28: 1 | W28: =ROUND(S28*(100%+$M$3),0) -> 0 | X28: =ROUND(V28*W28,0) -> 0 | Y28: =H28+L28+P28+T28+X28 -> 0
A30: =IF(A$26="<Head Office>", "Operational Staff", CONCATENATE(A$26," Operational Staff")) -> TUNIS OFFICE Operational Staff
E31: Year | H31: =MROUND(F31*G31,100) -> 0 | I31: Year | J31: 1 | K31: =MROUND(G31*(100%+$M$3),100) -> 0 | L31: =ROUND(J31*K31,0) -> 0 | M31: Year | N31: 1 | O31: =MROUND(K31*(100%+$M$3),100) -> 0 | P31: =ROUND(N31*O31,0) -> 0 | Q31: Year | R31: 1 | S31: =MROUND(O31*(100%+$M$3),100) -> 0 | T31: =ROUND(R31*S31,0) -> 0 | U31: Year | V31: 1 | W31: =MROUND(S31*(100%+$M$3),100) -> 0 | X31: =ROUND(V31*W31,0) -> 0 | Y31: =H31+L31+P31+T31+X31 -> 0
A33: FIELD OFFICE
A34: =IF(A$33="<Field Office>", "Program Staff", CONCATENATE(A$33," Program Staff")) -> FIELD OFFICE Program Staff
E35: Year | H35: =MROUND(F35*G35,100) -> 0 | I35: Year | J35: 1 | K35: =MROUND(G35*(100%+$M$3),100) -> 0 | L35: =ROUND(J35*K35,0) -> 0 | M35: Year | N35: 1 | O35: =MROUND(K35*(100%+$M$3),100) -> 0 | P35: =ROUND(N35*O35,0) -> 0 | Q35: Year | R35: 1 | S35: =MROUND(O35*(100%+$M$3),100) -> 0 | T35: =ROUND(R35*S35,0) -> 0 | U35: Year | W35: =ROUND(S35*(100%+$M$3),0) -> 0 | X35: =MROUND(V35*W35,100) -> 0 | Y35: =H35+L35+P35+T35+X35 -> 0
A36: =IF(A$33="<Field Office>", "Operational Staff", CONCATENATE(A$33," Operational Staff")) -> FIELD OFFICE Operational Staff | N36: 1
E37: Year | H37: =ROUND(F37*G37,0) -> 0 | I37: Year | J37: 1 | K37: =MROUND(G37*(100%+$M$3),100) -> 0 | L37: =ROUND(J37*K37,0) -> 0 | M37: Year | N37: 1 | O37: =MROUND(K37*(100%+$M$3),100) -> 0 | P37: =ROUND(N37*O37,0) -> 0 | Q37: Year | R37: 1 | S37: =MROUND(O37*(100%+$M$3),100) -> 0 | T37: =ROUND(R37*S37,0) -> 0 | U37: Year | W37: =ROUND(S37*(100%+$M$3),0) -> 0 | X37: =MROUND(V37*W37,100) -> 0 | Y37: =H37+L37+P37+T37+X37 -> 0
A39: SUBTOTAL NATIONAL STAFF | H39: =SUM(H23:H38) -> 0 | L39: =SUM(L23:L38) -> 0 | P39: =SUM(P23:P38) -> 0 | T39: =SUM(T23:T38) -> 0 | X39: =SUM(X23:X38) -> 0 | Y39: =SUM(Y23:Y38) -> 0 | Z39: =IF(SUM(H39,L39,P39,T39,X39)=Y39,"Ties", "Doesn't Foot") -> Ties
A41: TOTAL PERSONNEL | H41: =H22+H39 -> 0 | L41: =L22+L39 -> 0 | P41: =P22+P39 -> 0 | T41: =T22+T39 -> 0 | X41: =X22+X39 -> 0 | Y41: =Y22+Y39 -> 0 | Z41: =IF(SUM(H41,L41,P41,T41,X41)=Y41,"Ties", "ERROR") -> Ties
A43: FRINGE BENEFITS
G45: =SUM(H23:H38) -> 0 | H45: =MROUND(F45*G45,100) -> 0 | I45: Percent | K45: =SUM(L23:L38) -> 0 | L45: =MROUND(J45*K45,100) -> 0 | M45: Percent | O45: =SUM(P23:P38) -> 0 | P45: =MROUND(N45*O45,100) -> 0 | Q45: Percent | S45: =SUM(T23:T38) -> 0 | T45: =MROUND(R45*S45,100) -> 0 | U45: Percent | W45: =SUM(X23:X38) -> 0 | X45: =MROUND(V45*W45,100) -> 0 | Y45: =H45+L45+P45+T45+X45 -> 0
G46: =H22 -> 0 | H46: =MROUND(F46*G46,100) -> 0 | I46: Percent | K46: =L22 -> 0 | L46: =MROUND(J46*K46,100) -> 0 | M46: Percent | O46: =P22 -> 0 | P46: =MROUND(N46*O46,100) -> 0 | Q46: Percent | S46: =T22 -> 0 | T46: =MROUND(R46*S46,100) -> 0 | U46: Percent | W46: =X22 -> 0 | X46: =MROUND(V46*W46,100) -> 0 | Y46: =H46+L46+P46+T46+X46 -> 0
A47: Expatriate Staff ALLOWANCES (Excluded in Overhead Calculation)
H48: =MROUND(F48*G48,100) -> 0 | L48: =MROUND(J48*K48,100) -> 0 | P48: =MROUND(N48*O48,100) -> 0 | T48: =MROUND(R48*S48,100) -> 0 | X48: =MROUND(V48*W48,100) -> 0 | Y48: =H48+L48+P48+T48+X48 -> 0
H49: =MROUND(F49*G49,100) -> 0 | L49: =MROUND(J49*K49,100) -> 0 | P49: =MROUND(N49*O49,100) -> 0 | T49: =MROUND(R49*S49,100) -> 0 | X49: =MROUND(V49*W49,100) -> 0 | Y49: =H49+L49+P49+T49+X49 -> 0
H50: =MROUND(F50*G50,100) -> 0 | L50: =MROUND(J50*K50,100) -> 0 | P50: =MROUND(N50*O50,100) -> 0 | T50: =MROUND(R50*S50,100) -> 0 | X50: =MROUND(V50*W50,100) -> 0 | Y50: =H50+L50+P50+T50+X50 -> 0
A52: TOTAL FRINGE BENEFITS | H52: =SUM(H44:H51) -> 0 | L52: =SUM(L44:L51) -> 0 | P52: =SUM(P44:P51) -> 0 | T52: =SUM(T44:T51) -> 0 | X52: =SUM(X44:X51) -> 0 | Y52: =SUM(Y44:Y51) -> 0 | Z52: =IF(SUM(H52,L52,P52,T52,X52)=Y52,"Ties", "ERROR") -> Ties
A54: TRAVEL (SEE TRAVEL TABLE FOR ADDITIONAL INFO)
B56: International Travel | E56: Total | F56: 1 | G56: ='Travel Table'!M20 -> 0 | H56: =ROUND(F56*G56,0) -> 0 | I56: Total | J56: 1 | K56: =ROUND('Travel Table'!M22*(100%+$M$4),0) -> 0 | L56: =ROUND(J56*K56,0) -> 0 | M56: Total | N56: 1 | O56: =ROUND('Travel Table'!M24*(100%+$M$4),0) -> 0 | P56: =ROUND(N56*O56,0) -> 0 | Q56: Total | R56: 1 | S56: =ROUND('Travel Table'!M26*(100%+$M$4),0) -> 0 | T56: =ROUND(R56*S56,0) -> 0 | U56: Total | V56: 1 | W56: =ROUND('Travel Table'!M30*(100%+$M$4),0) -> 0 | X56: =ROUND(V56*W56,0) -> 0 | Y56: =H56+L56+P56+T56+X56 -> 0
B57: Local & Domestic Travel | E57: Total | F57: 1 | G57: ='Travel Table'!M36 -> 0 | H57: =ROUND(F57*G57,0) -> 0 | I57: Total | J57: 1 | K57: =ROUND('Travel Table'!M38*(100%+$M$4),0) -> 0 | L57: =ROUND(J57*K57,0) -> 0 | M57: Total | N57: 1 | O57: =ROUND('Travel Table'!M40*(100%+$M$4),0) -> 0 | P57: =ROUND(N57*O57,0) -> 0 | Q57: Total | R57: 1 | S57: =ROUND('Travel Table'!M42*(100%+$M$4),0) -> 0 | T57: =ROUND(R57*S57,0) -> 0 | U57: Total | V57: 1 | W57: =ROUND('Travel Table'!M44*(100%+$M$4),0) -> 0 | X57: =ROUND(V57*W57,0) -> 0 | Y57: =H57+L57+P57+T57+X57 -> 0
A59: TOTAL TRAVEL | H59: =SUM(H54:H58) -> 0 | L59: =SUM(L54:L58) -> 0 | P59: =SUM(P54:P58) -> 0 | T59: =SUM(T54:T58) -> 0 | X59: =SUM(X54:X58) -> 0 | Y59: =SUM(Y54:Y58) -> 0 | Z59: =IF(SUM(H59,L59,P59,T59,X59)=Y59,"Ties", "ERROR") -> Ties
A61: EQUIPMENT
...

Sheet Travel Table
B1: PER DIEM
B2: International Per Diem | D2: (http://aoprals.state.gov/content.asp?content_id=184&menu_id=78)
B3: US Per Diem | D3: (http://www.gsa.gov/portal/content/104877)
B4: Country Name | C4: Location Name | D4: Lodging | E4: Meals & Incidentals | F4: TOTAL PER DIEM
F7: =E7+D7 -> 0
F8: =E8+D8 -> 0
F9: =E9+D9 -> 0
F10: =E10+D10 -> 0
F11: =E11+D11 -> 0
F12: =E12+D12 -> 0
F13: =E13+D13 -> 0
B15: INTERNATIONAL TRAVEL
B16: Year | C16: Origin | D16: Destination | E16: # of Trips | F16: # of Travelers per Trip | G16: Purpose | H16: Estimated Unit Cost - Airfare | I16: Total Cost - Airfare | J16: # of Days | K16: Per Diem Rate | L16: Total Cost - Per Diem | M16: Total Trip Cost (rounded)
I17: =H17*E17*F17 -> 0 | L17: =F17*J17*K17 -> 0 | M17: =MROUND(I17+L17, 100) -> 0
I18: =H18*E18*F18 -> 0 | L18: =F18*J18*K18 -> 0 | M18: =MROUND(I18+L18, 100) -> 0
B20: Year 1 Sub-Total | M20: =SUM(M17:M19) -> 0
M21: =MROUND(I21+L21, 100) -> 0
M22: =SUM(M21:M21) -> 0
I23: =H23*E23*F23 -> 0 | L23: =F23*J23*K23 -> 0 | M23: =MROUND(I23+L23, 100) -> 0
B24: Year 3 Sub-Total | M24: =SUM(M23:M23) -> 0
I25: =H25*E25*F25 -> 0 | L25: =F25*J25*K25 -> 0 | M25: =MROUND(I25+L25, 100) -> 0
B26: Year 4 Sub-Total | M26: =SUM(M25:M25) -> 0
I27: =H27*E27*F27 -> 0 | L27: =F27*J27*K27 -> 0 | M27: =MROUND(I27+L27, 100) -> 0
I28: =H28*E28*F28 -> 0 | L28: =F28*J28*K28 -> 0 | M28: =MROUND(I28+L28, 100) -> 0
I29: =H29*E29*F29 -> 0 | L29: =F29*J29*K29 -> 0 | M29: =MROUND(I29+L29, 100) -> 0
B30: Year 5 Sub-Total | M30: =SUM(M27:M29) -> 0
B31: TOTAL INTERNATIONAL TRAVEL | M31: =SUM(M20+M22+M24+M26+M30) -> 0
B33: DOMESTIC TRAVEL
B34: Year | C34: Origin | D34: Destination | E34: # of Trips | F34: # of Travelers per Trip | G34: Purpose | H34: Estimated Unit Cost - Airfare | I34: Total Cost - Airfare | J34: # of Days | K34: Per Diem Rate | L34: Total Cost - Per Diem | M34: Total Trip Cost
M35: =I35+L35 -> 0
M36: =SUM(M35:M35) -> 0
B37: 2 | I37: =H37*E37*F37 -> 0 | L37: =MROUND(F37*J37*K37, 100) -> 0 | M37: =I37+L37 -> 0
B38: Year 2 Sub-Total | M38: =SUM(M37:M37) -> 0
B39: 3 | I39: =H39*E39*F39 -> 0 | L39: =MROUND(F39*J39*K39, 100) -> 0 | M39: =I39+L39 -> 0
B40: Year 3 Sub-Total | M40: =SUM(M39:M39) -> 0
B41: 4 | I41: =H41*E41*F41 -> 0 | L41: =MROUND(F41*J41*K41, 100) -> 0 | M41: =I41+L41 -> 0
B42: Year 4 Sub-Total | M42: =SUM(M41:M41) -> 0
B43: 5 | I43: =H43*E43*F43 -> 0 | L43: =MROUND(F43*J43*K43, 100) -> 0 | M43: =I43+L43 -> 0
B44: Year 5 Sub-Total | M44: =SUM(M43:M43) -> 0
B45: TOTAL DOMESTIC TRAVEL | M45: =SUM(M36+M38+M40+M42+M44) -> 0

Sheet Fee Calculation
A1: DoD Weighted Guidelines for FEE Calculation (ONLY TO BE USED IN ACQUISITION)
A2: (http://www.acq.osd.mil/dpap/dars/dfars/html/r20061004/215_4.htm#215.404-70)
A4: PURPOSE: This program has been developed to assist in calculating profit/fee
B7: COST | C7: ENTER COST | G7: Instructions: This section will populate from the "Detail" Sheet. Please validate that the values.
A8: ITEM | B8: CATEGORY | C8: OBJECTIVE
A9: 13 | B9: Material | C9: 0
A10: 14 | B10: Subcontracts | C10: =ROUND(Detail!Y86,0) -> 0
A11: 15 | B11: Direct Labor & Fringe | C11: =Detail!Y41+Detail!Y52 -> 0 | D11: (All Direct Labor)
A12: 16 | B12: Indirect Expenses | C12: 0 | D12: (All Indirect Costs)
A13: 17 | B13: Other Direct Costs | C13: =ROUND(Detail!Y144+Detail!Y59+Detail!#REF!+Detail!Y76+Detail!Y115,0) -> #REF! | D13: (All Direct Costs not identified above)
A14: 18 | B14: Subtotal (13-17) | C14: =IF(SUM(C9:C13)>0,SUM(C9:C13)," ") -> #REF! | D14: (Total cost less G&A,IR&D/B&P,and FCCOM)
A15: 19 | B15: G & A + OH | C15: =ROUND(Detail!Y153,0) -> 0 | D15: (G&A Expense and all IR&D/B&P)
A16: 20 | B16: Total Costs (18-19) | C16: =IF(SUM(C14:C15)>0,SUM(C14:C15)," ") -> #REF! | D16: (Total cost less FCCOM)
G17: Instructions: Each Activity Manager must justify the assigned weightings for both Technical and Management/Cost Control and the assigned value as well. A discussion must be had with the CO to discuss how to appropriately justify the rating. Also, enter the Contract Risk Type value. This should reflect the overall risk the contractor faces by entering into this contract with USAID. Special attention should be paid in situations where security and location are a factor, as this may increase the Assigned Value. This discussion should be documented within the justification.
C18: ENTER | D18: ENTER
B19: CONTRACTOR | C19: ASSIGNED | D19: ASSIGNED | E19: BASE | F19: PROFIT
B20: RISK FACTORS | C20: WEIGHTINGS | D20: VALUE | E20: (Item 20) | F20: OBJECTIVE
A21: 21 | B21: Technical
A22: 22 | B22: Management/Cost Control
B23: Reserved
A24: 23 | B24: Performance Risk (Composite) | C24: =SUM(C21:C22) -> 0 | D24: =+(C21*D21)+(C22*D22) -> 0 | E24: =E26 -> #REF! | F24: =IF(SUM(D21:D23)>0,ROUND((D24/100)*E24,2)," ") | G24: Sample Justficiation: The assigned weighting for risk factors has been established at 60%; with an assigned value of 9%, for Technical and 40%; with an assigned value of 4% for Management/Cost Control, respectively. This was based on the discussions with the technical office on what proportion of the overall estimated cost revolved around technical approach vs. cost controls. In concurrence with the technical office, the CO was able to determine that management and cost control were of significant weight, but not directly as heavily weighted as the technical risk factor. The contract type risk for the offeror’s is very low as this is a cost reimbursement contract; whereby, the government assumes most of the risk. Additionally, no special concerns to security or unstable geo-political were taken into consideration. Using the structured fee approach, the government is able to set a pre-negotiation fee objective limit of 7.50% for realism against proposed fee by offerors. IAW U.S.C. 2306(d) and 41 U.S.C. 254 (b): (C) For other cost-plus-fixed-fee contracts, the fee shall not exceed 10 percent of the contract’s estimated cost, excluding fee. The pre-negotiation fee objective is within the established statute limitation.
A26: 24 | B26: CONTRACT TYPE RISK | E26: =IF(C16>0,C16," ") -> #REF! | F26: =IF(D26>0,ROUND(D26*E26,0)," ")
A28: 25 | B28: WORKING CAPITAL | D28: ENTER | E28: ENTER
C29: COSTS | D29: LENGTH | E29: INTEREST
B30: ENTER PROG PAY RATE | C30: FINANCED | D30: FACTOR | E30: RATE
B31: 0 | C31: =IF(B31>0,ROUND((1-B31)*C16,2)," ") | D31: 0 | E31: 0 | F31: =IF(D31>0,ROUND(C31*D31*E31,0)," ")
D33: ENTER | E33: ENTER
B34: CONTRACTOR | D34: ASSIGNED | E34: AMOUNT
B35: FACILITIES CAPITAL EMPLOYED | D35: VALUE | E35: EMPLOYED
A36: 26 | B36: Land | D36: 0 | E36: 0
A37: 27 | B37: Buildings | D37: 0 | E37: 0
A38: 28 | B38: Equipment | D38: 0 | E38: 0 | F38: =IF(E38>0,ROUND(D38*E38,0)," ")
A39: 29 | B39: Cost Efficiency | D39: 0 | E39: =IF(C16>0,C16," ") -> #REF! | F39: =D39*E39 -> #REF!
A40: 30 | D40: TOTAL PROFIT OBJECTIVE | F40: =IF(SUM(F24:F39)>0,SUM(F24:F39)," ") -> #REF!
C41: Negotiation Summary | G41: Instructions: This section will help the Activity Manager and CO establish a pre-negotiation fee objective. This will be particularly important during Cost Realism and Reasonableness analysis.
D42: Proposed | E42: Objective | F42: Negotiated
A43: 31 | B43: Total Costs | E43: =+C16 -> #REF!
A44: 32 | B44: Facilities Capital COM (DD Fm 1861) | E44: 0
A45: 33 | B45: Profit | E45: =F40 -> #REF!
A46: 34 | B46: Total Price (Line 31+32+33) | E46: =E45+E44+E43 -> #REF!
...

Sheet Formula Sheet
D1: CountryName
D2: Afghanistan
D3: Aland Islands
A4: Day | D4: Albania
A5: Month | D5: Algeria
A6: Year | D6: American Samoa
A7: Each | D7: Andorra
A8: Percent | D8: Angola
A9: Total | D9: Anguilla
A10: Indirect | D10: Antarctica
A11: Fee | D11: Antigua And Barbuda
A12: N/A | D12: Argentina
D13: Armenia
D14: Aruba
D15: Australia
D16: Austria
D17: Azerbaijan
D18: Bahamas
D19: Bahrain
D20: Bangladesh
D21: Barbados
D22: Belarus
D23: Belgium
D24: Belize
... D245: (Not Specified)
