Workbook

Sheet Summary page
A1: FY 2016 REFUGEE PROCESSING BUDGET WORKSHEET (SUMMARY)
D3: Agency and Location:
E5: FY-2016
E6: October-December 2015 | F6: January-March 2016 | G6: April-June 2016 | H6: July-September 2016 | I6: FY 2016 TOTAL
A7: PERSONNEL | E7: ='Detailed Budget'!F6 -> 0 | F7: ='Detailed Budget'!G6 -> 0 | G7: ='Detailed Budget'!H6 -> 0 | H7: ='Detailed Budget'!I6 -> 0 | I7: =SUM(E7:H7) -> 0
A8: FRINGE BENEFITS | E8: ='Detailed Budget'!F29 -> 0 | F8: ='Detailed Budget'!G29 -> 0 | G8: ='Detailed Budget'!H29 -> 0 | H8: ='Detailed Budget'!I29 -> 0 | I8: =SUM(E8:H8) -> 0
A9: TRAVEL | E9: ='Detailed Budget'!F33 -> 0 | F9: ='Detailed Budget'!G33 -> 0 | G9: ='Detailed Budget'!H33 -> 0 | H9: ='Detailed Budget'!I33 -> 0 | I9: =SUM(E9:H9) -> 0
A10: EQUIPMENT | E10: ='Detailed Budget'!F45 -> 0 | F10: ='Detailed Budget'!G45 -> 0 | G10: ='Detailed Budget'!H45 -> 0 | H10: ='Detailed Budget'!I45 -> 0 | I10: =SUM(E10:H10) -> 0
A11: SUPPLIES | E11: ='Detailed Budget'!F66 -> 0 | F11: ='Detailed Budget'!G66 -> 0 | G11: ='Detailed Budget'!H66 -> 0 | H11: ='Detailed Budget'!I66 -> 0 | I11: =SUM(E11:H11) -> 0
A12: CONTRACTUAL SERVICES | E12: ='Detailed Budget'!F76 -> 0 | F12: ='Detailed Budget'!G76 -> 0 | G12: ='Detailed Budget'!H76 -> 0 | H12: ='Detailed Budget'!I76 -> 0 | I12: =SUM(E12:H12) -> 0
A13: OTHER DIRECT EXPENSES | E13: ='Detailed Budget'!F84 -> 0 | F13: ='Detailed Budget'!G84 -> 0 | G13: ='Detailed Budget'!H84 -> 0 | H13: ='Detailed Budget'!I84 -> 0 | I13: =SUM(E13:H13) -> 0
A14: HEADQUARTERS EXPENSES | E14: ='Detailed Budget'!F108 -> 0 | F14: ='Detailed Budget'!G108 -> 0 | G14: ='Detailed Budget'!H108 -> 0 | H14: ='Detailed Budget'!I108 -> 0 | I14: =SUM(E14:H14) -> 0
A15: OTHER REFUGEE PROCESSING EXPENSES | E15: ='Detailed Budget'!F118 -> 0 | F15: ='Detailed Budget'!G118 -> 0 | G15: ='Detailed Budget'!H118 -> 0 | H15: ='Detailed Budget'!I118 -> 0 | I15: =SUM(E15:H15) -> 0
A17: TOTAL DIRECT COSTS | E17: =SUM(E7:E15) -> 0 | F17: =SUM(F7:F15) -> 0 | G17: =SUM(G7:G15) -> 0 | H17: =SUM(H7:H15) -> 0 | I17: =SUM(I7:I15) -> 0
A19: INDIRECT COSTS | C19: Rate: | E19: =E17*$D$19 -> 0 | F19: =F17*$D$19 -> 0 | G19: =G17*$D$19 -> 0 | H19: =H17*$D$19 -> 0 | I19: =I17*$D$19 -> 0
A21: TOTAL PROGRAM BUDGET | E21: =E17+E19 -> 0 | F21: =F17+F19 -> 0 | G21: =G17+G19 -> 0 | H21: =H17+H19 -> 0 | I21: =I17+I19 -> 0
A24: Refugees Pre-Screened | I24: =SUM(E24:H24) -> 0
A25: Refugees Presented to DHS | I25: =SUM(E25:H25) -> 0
A26: Refugees Departed for U.S. | I26: =SUM(E26:H26) -> 0
A27: Refugees Trained in C.O. programs | I27: =SUM(E27:H27) -> 0

Sheet Detailed Budget
B1: FY 2016 REFUGEE PROCESSING BUDGET WORKSHEET
D2: Agency and Location: | E2: ='Summary page'!E3:G3 -> 0
E4: FY-2016 | L4: Comments
F5: October-December 2015 | G5: January - March 2016 | H5: April - June 2016 | I5: July - September 2016 | J5: FY 2016 Total
A6: PERSONNEL | E6: FTE | F6: =SUM(F7:F28) -> 0 | G6: =SUM(G7:G28) -> 0 | H6: =SUM(H7:H28) -> 0 | I6: =SUM(I7:I28) -> 0 | J6: =SUM(J7:J28) -> 0
B7: International Hire | D7: Project Director | J7: =SUM(F7:I7) -> 0
D8: Deputy Director | J8: =SUM(F8:I8) -> 0
J9: =SUM(F9:I9) -> 0
A10: 0 | D10: Sup. Caseworkers | J10: =SUM(F10:I10) -> 0
D11: Consultants | J11: =SUM(F11:I11) -> 0
J12: =SUM(F12:I12) -> 0
D13: Cultural Orientation | J13: =SUM(F13:I13) -> 0
J14: =SUM(F14:I14) -> 0
J15: =SUM(F15:I15) -> 0
B16: Local Hire | D16: Caseworkers | J16: =SUM(F16:I16) -> 0
D17: Admin/Clerical | J17: =SUM(F17:I17) -> 0
D18: Driver | J18: =SUM(F18:I18) -> 0
J19: =SUM(F19:I19) -> 0
D20: Cultural Orientation | J20: =SUM(F20:I20) -> 0
J21: =SUM(F21:I21) -> 0
D22: FTE TOTAL: | J22: =SUM(F22:I22) -> 0
B23: Allowances | D23: Housing/Utilities | J23: =SUM(F23:I23) -> 0
D24: Education | J24: =SUM(F24:I24) -> 0
D25: Shipping | J25: =SUM(F25:I25) -> 0
J26: =SUM(F26:I26) -> 0
B27: Termination/Severance | J27: =SUM(F27:I27) -> 0
J28: =SUM(F28:I28) -> 0
A29: FRINGE BENEFITS | F29: =SUM(F30:F32) -> 0 | G29: =SUM(G30:G32) -> 0 | H29: =SUM(H30:H32) -> 0 | I29: =SUM(I30:I32) -> 0 | J29: =SUM(J30:J32) -> 0
B30: International Hire | J30: =SUM(F30:I30) -> 0
B31: Local Hire | J31: =SUM(F31:I31) -> 0
J32: =SUM(F32:I32) -> 0
A33: TRAVEL | F33: =SUM(F34:F44) -> 0 | G33: =SUM(G34:G44) -> 0 | H33: =SUM(H34:H44) -> 0 | I33: =SUM(I34:I44) -> 0 | J33: =SUM(J34:J44) -> 0
B34: Local Project | J34: =SUM(F34:I34) -> 0
C35: In-Country | J35: =SUM(F35:I35) -> 0
J36: =SUM(F36:I36) -> 0
C37: For Cultural Orientation | J37: =SUM(F37:I37) -> 0
J38: =SUM(F38:I38) -> 0
C39: International (list each trip) | J39: =SUM(F39:I39) -> 0
J40: =SUM(F40:I40) -> 0
C41: For Cultural Orientation | J41: =SUM(F41:I41) -> 0
J42: =SUM(F42:I42) -> 0
C43: Home Leave | J43: =SUM(F43:I43) -> 0
J44: =SUM(F44:I44) -> 0
A45: EQUIPMENT | F45: =SUM(F46:F65) -> 0 | G45: =SUM(G46:G65) -> 0 | H45: =SUM(H46:H65) -> 0 | I45: =SUM(I46:I65) -> 0 | J45: =SUM(J46:J65) -> 0
B46: Non-Expendable equipment (list items with | J46: =SUM(F46:I46) -> 0
B47: acquisition cost of $5,000 or more): | J47: =SUM(F47:I47) -> 0
J48: =SUM(F48:I48) -> 0
C49: For Cultural Orientation | J49: =SUM(F49:I49) -> 0
J50: =SUM(F50:I50) -> 0
B51: Expendable equipment (list items with acquisition | J51: =SUM(F51:I51) -> 0
B52: cost of $1,000-$5,000): | J52: =SUM(F52:I52) -> 0
J53: =SUM(F53:I53) -> 0
C54: For Cultural Orientation | J54: =SUM(F54:I54) -> 0
J55: =SUM(F55:I55) -> 0
B56: Other expendable equipment (consolidate like items): | J56: =SUM(F56:I56) -> 0
J57: =SUM(F57:I57) -> 0
C58: For Cultural Orientation | J58: =SUM(F58:I58) -> 0
J59: =SUM(F59:I59) -> 0
B60: Maintenance & repair | J60: =SUM(F60:I60) -> 0
J61: =SUM(F61:I61) -> 0
C62: For Cultural Orientation | J62: =SUM(F62:I62) -> 0
B63: Leased Equipment | J63: =SUM(F63:I63) -> 0
J64: =SUM(F64:I64) -> 0
C65: For Cultural Orientation | J65: =SUM(F65:I65) -> 0
A66: SUPPLIES | F66: =SUM(F67:F75) -> 0 | G66: =SUM(G67:G75) -> 0 | H66: =SUM(H67:H75) -> 0 | I66: =SUM(I67:I75) -> 0 | J66: =SUM(J67:J75) -> 0
B67: Office supplies | J67: =SUM(F67:I67) -> 0
C68: For Cultural Orientation | J68: =SUM(F68:I68) -> 0
B69: Computer software | J69: =SUM(F69:I69) -> 0
C70: For Cultural Orientation | J70: =SUM(F70:I70) -> 0
B71: Automotive Supplies | J71: =SUM(F71:I71) -> 0
C72: For Cultural Orientation | J72: =SUM(F72:I72) -> 0
J73: =SUM(F73:I73) -> 0
J74: =SUM(F74:I74) -> 0
J75: =SUM(F75:I75) -> 0
A76: CONTRACTUAL SERVICES | F76: =SUM(F77:F83) -> 0 | G76: =SUM(G77:G83) -> 0 | H76: =SUM(H77:H83) -> 0 | I76: =SUM(I77:I83) -> 0 | J76: =SUM(J77:J83) -> 0
B77: Custodial | J77: =SUM(F77:I77) -> 0
J78: =SUM(F78:I78) -> 0
J79: =SUM(F79:I79) -> 0
C80: For Cultural Orientation | J80: =SUM(F80:I80) -> 0
J81: =SUM(F81:I81) -> 0
J82: =SUM(F82:I82) -> 0
J83: =SUM(F83:I83) -> 0
A84: OTHER DIRECT EXPENSES | F84: =SUM(F85:F107) -> 0 | G84: =SUM(G85:G107) -> 0 | H84: =SUM(H85:H107) -> 0 | I84: =SUM(I85:I107) -> 0 | J84: =SUM(J85:J107) -> 0
B85: Utilities | J85: =SUM(F85:I85) -> 0
C86: For Cultural Orientation | J86: =SUM(F86:I86) -> 0
B87: Space Rental | J87: =SUM(F87:I87) -> 0
C88: For Cultural Orientation | J88: =SUM(F88:I88) -> 0
B89: Communications | D89: Telephone/Fax/Internet | J89: =SUM(F89:I89) -> 0
D90: Postage/Courier | J90: =SUM(F90:I90) -> 0
C91: For Cultural Orientation | J91: =SUM(F91:I91) -> 0
B92: Insurance | J92: =SUM(F92:I92) -> 0
C93: For Cultural Orientation | J93: =SUM(F93:I93) -> 0
B94: Printing/Duplicating | J94: =SUM(F94:I94) -> 0
C95: For Cultural Orientation | J95: =SUM(F95:I95) -> 0
B96: Audit | J96: =SUM(F96:I96) -> 0
C97: For Cultural Orientation | J97: =SUM(F97:I97) -> 0
B98: Other (explain in comments) | J98: =SUM(F98:I98) -> 0
J99: =SUM(F99:I99) -> 0
J100: =SUM(F100:I100) -> 0
J101: =SUM(F101:I101) -> 0
...
