Workbook
Name _msoanchor_1: #REF!

Sheet Home Page
A1: Instructions to Complete "Strengthening U.S. Public Health Infrastructure, Workforce, and Data Systems" Component A Work Plan
A2: Year 1
A3: Enter applicant agency name and the date this file is submitted.
A4: Applicant Name:
A5: Submission Date:
A7: Click the navigation bar below or a tab at the bottom of the workbook to jump to the corresponding worksheet.
A8: The following navigation bar outlining each strategy for Component A is available on the top of all worksheets:
A14: Instructions
A16: Use this template to prepare an initial work plan for Component A of this NOFO. Please refer to the website for more information: | D16: https://www.cdc.gov/workforce/resources/infrastructuregrant.html
A17: If you need technical support at any time, please send an email with a detailed description of your needs to the following address: | D17: PHInfrastructure@cdc.gov
A19: Notes on Data Entry
A21: You can type your responses directly into cells that do not contain drop-down menus or check boxes, or copy and paste responses from another document into the cells. Press ALT+Enter to type on a new line in the same Excel cell.
A23: Drop-down menus and check boxes are included on each tab. Drop-down menus are included for single-select responses and check boxes are included for multi-select responses.
A24: Please do not attempt to lock, unlock, or remove any of the tabs/worksheets. Please do not remove any data validation, change any data pre-populated in a cell, and please do not revise any of the formulas.
A27: Saving and Submitting Your Work
A28: Please save this file as "ApplicantName_PHIWorkplan_CompA_YYYYMMDD" and as an .xlsm version.
A29: To submit this document, upload it as part of your application package to www.grants.gov.
A31: Worksheet Content Instructions
A33: Hiring Summary Worksheet: Complete this section to project the number of staff that you plan to hire for each job classification and program area category under this grant. By the six month review, recipients will be required to quantify the number of employees they plan to hire per job title listed in the Workforce Positions Appendix. Please include all regular full-time, part-time, contractual, and seasonal employees in the current staff numbers as well as projected hires. If exact counts for the hiring summary are not accessible, please estimate.
A35: Strategy Worksheets: Complete the strategy worksheets for each strategy you propose implementing with the grant funds. You will be asked to identify TA needs, activities, milestones, parties responsible at your agency, key contracts/subawards/collaborations, milestone due dates, and measures of success that will support the achievement of the NOFO goals. If you are not proposing to implement a particular strategy, you can leave that worksheet blank. Strategies and activities should be based on local needs and priorities. See below for instructions on what to enter for each section.
A37: Strategy Description | B37: Corresponding strategy description from NOFO (provided for you)
A39: What are your immediate technical assistance needs from a national partner to support your work in this strategy?
A40: TA Needs (select all that apply) | B40: Please select checkboxes of all technical assistance needs that apply to your agency.
A42: In order to achieve the NOFO logic model outcome(s), you will implement one or more activities. Include each activity you plan to implement in the tables with the following information. Any activity titles/focuses that are pre-populated are necessary to complete in order to ensure adequate oversight and management, and efficient and effective implementation. All other activities are yours to propose based on the NOFO outcomes. The below table contains instructions containing information to include complete activity tables
A43: Activity 1 Title | B43: Enter a brief title for the activity.
A44: Activity Focus (select one) | B44: Select the focus area for your proposed activity from the drop-down.
A45: Other Activity Focus (if applicable) | B45: Enter other focus area for the activity if not captured in the provided drop-down.
A46: Milestone | D46: Party Responsible | F46: Key Contracts, Subawards, and Collaborations | H46: Due Date | I46: Measures of Success
A47: In order to achieve the NOFO outcomes, you will implement one or more activities that you will achieve by tracking activity milestones. Each milestone must include an action and an output. Please include at least three milestones for each activity. Enter each milestone on a separate line. | D47: Name party responsible at your agency for work in this milestone (e.g. "Workforce Development Coordinator") | F47: Please specify any anticipated key contracts and sub-awards, as well as name key collaborations (with CDC programs and CDC-funded organizations, and with organizations not funded by CDC) in support of this activity. | H47: Indicate the anticipated milestone end date. All dates must occur after the Notice of Award. Please use MM/DD/YYYY format. | I47: Indicate measures of success that can be used to evaluate milestone achievement. You may choose to align measures of success with the performance measures listed in the NOFO.

Sheet Hiring Summary
B5: Applicants must enter current staffing total estimate for their agency in cell D9. Please include all regular full-time, part-time, contractual, and seasonal employees in the current staff count as well as all projected hire counts.
B7: Strategy Description | C7: A1. Reinforce and expand the public health workforce by hiring, retaining, supporting, and training the workforce and by strengthening relevant workforce planning, systems, processes, and policies.
B8: Activity Description | C8: Recruit and Hire: Expand the public health workforce through recruiting and hiring diverse staff from the community and population served.
B9: 5-Year Goals | C9: Enter Current # of Workforce Positions Filled: | E9: Projected # of Staff Hired by Year 5: | F9: =E30 -> 0 | G9: Total Workforce by Year 5: | H9: =D9+F9 -> 0
B11: Please use Table 1 and Table 2 below to estimate one and five year staffing projections by job classification category and program area. If you do not anticipate hiring for a job or program, please enter 0. Ideally, the totals for each table should be equal. If you do not know how many people you plan on hiring for each category, please enter an estimate.
B12: Refer to the "Workforce Positions Appendix" reference tab to organize workforce expansion by job classification category and program areas. The breakdown of job classifications and program areas will be required by the six month progress review. Link to the right: | H12: Workforce Positions Appendix
B13: For column 2 of both tables, indicate if you plan to hire for this category by choosing "Yes" or "No". For column 3 and 4, please estimate how many people you plan on hiring by year 1 and by year 5 for each category. Totals are calculated for you.
B14: Table 1. Projected Workforce Expansion by Job Classification
B15: Job Classification Category | C15: Do you anticipate hiring for this category? (Y/N) | D15: # Staff Hired By Year 1 | E15: # Staff Hired by Year 5
B16: 1. Agency leadership and management
B17: 2. Business and financial operations staff
B18: 3. Office and administrative support staff
B19: 4. Information technology and data systems staff
B20: 5. Public information and public policy staff
B21: 6. Epidemiologists, statisticians, data scientists, other data analysts
B22: 7. Behavioral health and social services staff
B23: 8. Community health workers and health educators
B24: 9. Laboratory workers
B25: 10. Public health physician, nurse, other health care providers
B26: 11. Preparedness staff
B27: 12. Environmental health workers
... B29: 14. Other (not categorized)
C30: Totals | D30: =SUM(D16:D29) -> 0 | E30: =SUM(E16:E29) -> 0
B32: Please use this field to make any additional comments about Table 1, including descriptions of 'other' job classifications not categorized in this table, any areas that your agency is prioritizing staffing for, or anticipated obstacles.
B33: Additional Table 1 Comments
B35: Table 2. Projected Workforce Expansion by Program Area
B36: Program Area Category | C36: Do you anticipate hiring for this program area? (Y/N) | D36: # Staff Hired by Year 1 | E36: # Staff Hired by Year 5
B37: 1. All Hazards
B38: 2. Assessment
B39: 3. Chronic Disease & Injury
B40: 4. Communicable Disease
B41: 5. Communications
B42: 6. Environmental Health
B43: 7. Maternal and Child Health
B44: 8. Organizational Competencies
B45: 9. Other
B46: 10. Other Health Care
C47: Totals | D47: =SUM(D37:D46) -> 0 | E47: =SUM(E37:E46) -> 0
B49: Please use this field to make any additional comments on Table 2 including descriptions of 'other' job program areas not categorized in this table, any areas that your agency is prioritizing staffing for, or anticipated obstacles.
B50: Additional Table 2 Comments

Sheet A1. Workforce
B6: Strategy Description | D6: A1. Reinforce and expand the public health workforce by hiring, retaining, supporting, and training the workforce and by strengthening relevant workforce planning, systems, processes, and policies.
B8: (For States Only) Describe your funding strategy for subcontracting or allocating funds to all local health departments (LHD) in the State. Enter the percent of funds that will be allocated to LHDs in the cell below. At least 40% must be allocated to LHDs. Please also include any additional comments about local health department fund allocation in the cell below.
B9: % Allocation of strategy A1 funds to LHDs (select one)
B10: LHD Fund Allocation Additional Comments
B12: What are your immediate technical assistance needs from a national partner to support your work in this strategy?
B13: TA Needs (select all that apply)
B15: Activity 1 - Activity 3 are required and necessary to ensure adequate oversight and management and efficient and effective implementation. Please complete the activity tables for these required activities. Starting at Activity 4, please refer to Appendix 1_Sample Activities for Component A to propose additional activities and complete activity tables.
B16: Activity 1 Title | D16: Identify or hire a workforce development coordinator (See position description in Appendix 2).
B17: Activity Focus (select one) | D17: Strengthen support for grant implementation
B18: Other Activity Focus (if applicable)
B19: Milestone Descriptions | E19: Party Responsible | G19: Key Contracts, Subawards, and Collaborations | H19: Due Date | I19: Measures of Success
B31: Activity 2 Title | D31: Dedicate at least 1.0 FTE for program evaluation and performance measures for all work proposed under Strategies A1-A3.
B32: Activity Focus (select one) | D32: Strengthen support for grant implementation
B33: Other Activity Focus (if applicable)
B34: Milestone Descriptions | E34: Party Responsible | G34: Key Contracts, Subawards, and Collaborations | H34: Due Date | I34: Measures of Success
B46: Activity 3 Title | D46: Identify or hire a data modernization director and supporting staff (See position description in Appendix 2) (This is optional but recommended and should only be requested if applying for A3 Data Modernization)
B47: Activity Focus (select one) | D47: Strengthen support for grant implementation
B48: Other Activity Focus (if applicable)
B49: Milestone Descriptions | E49: Party Responsible | G49: Key Contracts, Subawards, and Collaborations | H49: Due Date | I49: Measures of Success
B61: Activity 4 Title
B62: Activity Focus (select one)
B63: Other Activity Focus (if applicable)
B64: Milestone Descriptions | E64: Party Responsible | G64: Key Contracts, Subawards, and Collaborations | H64: Due Date | I64: Measures of Success
B76: Activity 5 Title
B77: Activity Focus (select one)
B78: Other Activity Focus (if applicable)
B79: Milestone Descriptions | E79: Party Responsible | G79: Key Contracts, Subawards, and Collaborations | H79: Due Date | I79: Measures of Success
B91: Activity 6 Title
B92: Activity Focus (select one)
B93: Other Activity Focus (if applicable)
B94: Milestone Descriptions | E94: Party Responsible | G94: Key Contracts, Subawards, and Collaborations | H94: Due Date | I94: Measures of Success
B106: Activity 7 Title
B107: Activity Focus (select one)
B108: Other Activity Focus (if applicable)
B109: Milestone Descriptions | E109: Party Responsible | G109: Key Contracts, Subawards, and Collaborations | H109: Due Date | I109: Measures of Success
B121: Activity 8 Title
B122: Activity Focus (select one)
B123: Other Activity Focus (if applicable)
B124: Milestone Descriptions | E124: Party Responsible | G124: Key Contracts, Subawards, and Collaborations | H124: Due Date | I124: Measures of Success
B136: Activity 9 Title
B137: Activity Focus (select one)
B138: Other Activity Focus (if applicable)
B139: Milestone Descriptions | E139: Party Responsible | G139: Key Contracts, Subawards, and Collaborations | H139: Due Date | I139: Measures of Success
B151: Activity 10 Title
B152: Activity Focus (select one)
B153: Other Activity Focus (if applicable)
B154: Milestone Descriptions | E154: Party Responsible | G154: Key Contracts, Subawards, and Collaborations | H154: Due Date | I154: Measures of Success

Sheet A2. Foundational Capabilities
B6: Strategy Description | D6: A2. Strengthen recipients’ overall systems, processes, and policies to ensure a strong core infrastructure needed to protect health and provide fair opportunities for all.
B7: Accredidation Status | D7: Please select your agency's accredidation status from the drop-down:
B9: What are your immediate technical assistance needs from a national partner to support your work in this strategy?
B10: TA Needs (select all that apply)
B12: Please refer to the Foundational Capabilities Factsheet to the right for guidance on proposing activities and implementing this strategy: | G12: FPHS Factsheet
B13: Please also refer to Appendix 1_Sample Activities for Component A to propose activities and complete activity tables.
B14: Activity 1 Title
B15: Activity Focus (select one)
B16: Other Activity Focus (if applicable)
B17: Milestone Descriptions | E17: Party Responsible | G17: Key Contracts, Subawards, and Collaborations | H17: Due Date | I17: Measures of Success
B29: Activity 2 Title
B30: Activity Focus (select one)
B31: Other Activity Focus (if applicable)
B32: Milestone Descriptions | E32: Party Responsible | G32: Key Contracts, Subawards, and Collaborations | H32: Due Date | I32: Measures of Success
B44: Activity 3 Title
B45: Activity Focus (select one)
B46: Other Activity Focus (if applicable)
B47: Milestone Descriptions | E47: Party Responsible | G47: Key Contracts, Subawards, and Collaborations | H47: Due Date | I47: Measures of Success
B59: Activity 4 Title
B60: Activity Focus (select one)
B61: Other Activity Focus (if applicable)
B62: Milestone Descriptions | E62: Party Responsible | G62: Key Contracts, Subawards, and Collaborations | H62: Due Date | I62: Measures of Success
B74: Activity 5 Title
B75: Activity Focus (select one)
B76: Other Activity Focus (if applicable)
B77: Milestone Descriptions | E77: Party Responsible | G77: Key Contracts, Subawards, and Collaborations | H77: Due Date | I77: Measures of Success
B89: Activity 6 Title
B90: Activity Focus (select one)
B91: Other Activity Focus (if applicable)
B92: Milestone Descriptions | E92: Party Responsible | G92: Key Contracts, Subawards, and Collaborations | H92: Due Date | I92: Measures of Success
B104: Activity 7 Title
B105: Activity Focus (select one)
B106: Other Activity Focus (if applicable)
B107: Milestone Descriptions | E107: Party Responsible | G107: Key Contracts, Subawards, and Collaborations | H107: Due Date | I107: Measures of Success
B119: Activity 8 Title
B120: Activity Focus (select one)
B121: Other Activity Focus (if applicable)
B122: Milestone Descriptions | E122: Party Responsible | G122: Key Contracts, Subawards, and Collaborations | H122: Due Date | I122: Measures of Success
B134: Activity 9 Title
B135: Activity Focus (select one)
B136: Other Activity Focus (if applicable)
B137: Milestone Descriptions | E137: Party Responsible | G137: Key Contracts, Subawards, and Collaborations | H137: Due Date | I137: Measures of Success
B149: Activity 10 Title
B150: Activity Focus (select one)
B151: Other Activity Focus (if applicable)
B152: Milestone Descriptions | E152: Party Responsible | G152: Key Contracts, Subawards, and Collaborations | H152: Due Date | I152: Measures of Success

Sheet A3. Data Modernization
B6: Strategy Description | C6: A3. Support jurisdictions to develop and deploy scalable, flexible, and sustainable technologies, policies, and methods to implement world-class data and analytical capabilities to support the Essential Public Health Services.
B8: What are your immediate technical assistance needs from a national partner to support your work in this strategy?
B9: TA Needs (select all that apply)
B11: Activity 1 - Activity 4 are required for this strategy. Please complete the activity table for each. Starting at Activity 5, please refer to Appendix 1_Sample Activities for Component A to propose activities and complete activity tables.
B12: Activity 1 Title | C12: Assess and report the current capacity, gaps, and opportunities.
B13: Activity Focus | C13: Assess and report
B14: Other Activity Focus (if applicable)
B15: Milestone Descriptions | E15: Party Responsible | G15: Key Contracts, Subawards, and Collaborations | H15: Due Date | I15: Measures of Success
B27: Activity 2 Title | C27: Create implementation plan for modernization of public health data infrastructure.
B28: Activity Focus | C28: Create implementation plans
B29: Other Activity Focus (if applicable)
B30: Milestone Descriptions | E30: Party Responsible | G30: Key Contracts, Subawards, and Collaborations | H30: Due Date | I30: Measures of Success
B42: Activity 3 Title | C42: Create implenentation plan for workforce development.
B43: Activity Focus | C43: Create implementation plans
B44: Other Activity Focus (if applicable)
B45: Milestone Descriptions | E45: Party Responsible | G45: Key Contracts, Subawards, and Collaborations | H45: Due Date | I45: Measures of Success
B57: The first three milestones of Activity 4 are required. Please complete the rows for these milestones. Starting at milestone 4, applicants may create their own milestones for the activity. Please refer to Appendix 1 Sample Activities for more guidance.
B58: Activity 4 Title | C58: Participate in CDC-sponsored Data Modernization calls, workshops, and webinars related to training
B59: Activity Focus (select one) | C59: Implement
B60: Other Activity Focus (if applicable)
B61: Milestone Descriptions | E61: Party Responsible | G61: Key Contracts, Subawards, and Collaborations | H61: Due Date | I61: Measures of Success
B62: Attend annual Data Modernization Workshop
B63: Participate in CDC-sponsored Data Modernization learning community
B64: Participate in other established and relevant communities of practice as appropriate
B73: Activity 5 Title
B74: Activity Focus (select one)
B75: Other Activity Focus (if applicable)
B76: Milestone Descriptions | E76: Party Responsible | G76: Key Contracts, Subawards, and Collaborations | H76: Due Date | I76: Measures of Success
B89: Activity 6 Title
B90: Activity Focus (select one)
B91: Other Activity Focus (if applicable)
B92: Milestone Descriptions | E92: Party Responsible | G92: Key Contracts, Subawards, and Collaborations | H92: Due Date | I92: Measures of Success
B105: Activity 7 Title
B106: Activity Focus (select one)
B107: Other Activity Focus (if applicable)
B108: Milestone Descriptions | E108: Party Responsible | G108: Key Contracts, Subawards, and Collaborations | H108: Due Date | I108: Measures of Success
B121: Activity 8 Title
B122: Activity Focus (select one)
B123: Other Activity Focus (if applicable)
B124: Milestone Descriptions | E124: Party Responsible | G124: Key Contracts, Subawards, and Collaborations | H124: Due Date | I124: Measures of Success
B137: Activity 9 Title
B138: Activity Focus (select one)
B139: Other Activity Focus (if applicable)
B140: Milestone Descriptions | E140: Party Responsible | G140: Key Contracts, Subawards, and Collaborations | H140: Due Date | I140: Measures of Success
B153: Activity 10 Title
B154: Activity Focus (select one)
B155: Other Activity Focus (if applicable)
B156: Milestone Descriptions | E156: Party Responsible | G156: Key Contracts, Subawards, and Collaborations | H156: Due Date | I156: Measures of Success

Sheet Workforce Positions Appendix
B1: By Job Classification Category/Type:
B2: 1. Agency leadership and management
B3: a. | C3: Department/Bureau Director
B4: b. | C4: Deputy Director
B5: c. | C5: Public Health Agency Director
B6: d. | C6: Program Director
B7: e. | C7: Public Health Manager or Program Manager
B8: f. | C8: Training Developer/Manager
B9: 2. Business and financial operations staff
B10: a. | C10: Attorney or Legal Counsel
B11: b. | C11: Business Support - Accountant/Fiscal
B12: c. | C12: Business Support services - Administrator
B13: d. | C13: Business Support services - Coordinator
B14: e. | C14: Workforce development staff
B15: f. | C15: Grants or Contracts Specialist
B16: g. | C16: Other Business Support Services
B17: 3. Office and administrative support staff
B18: a. | C18: Clerical Personnel - Administrative Assistant
B19: b. | C19: Clerical Personnel - Secretary
B20: c. | C20: Customer Service/Support Professional
B21: d. | C21: Other Facilities or Operations Worker
B22: e. | C22: Implementation Specialist
B23: f. | C23: Medical/Vital Records Staff
B24: g. | C24: Custodian
B25: h. | C25: Health Officer
B26: i. | C26: Human Resources Personnel
B27: 4. Information technology and data systems staff
B28: a. | C28: Information Systems Manager/Information Technology Specialist
B29: b. | C29: IT Support Staff
B30: c. | C30: Public Health Informatics Specialist
B31: d. | C31: Informatics staff
B32: 5. Public information and public policy staff
B33: a. | C33: Public Information Specialist
B34: b. | C34: Policy Analyst
B35: c. | C35: Communications specialist / Web Developer
B36: 6. Laboratory workers
B37: a. | C37: Laboratory Technician
B38: b. | C38: Laboratory Quality Control Worker
B39: c. | C39: Laboratory Scientist/Medical Technologist
B40: d. | C40: Laboratory Aide or Assistant
B41: 7. Epidemiologists, statisticians, data scientists, other data analysts
B42: a. | C42: Epidemiologist
B43: b. | C43: Population Health Specialist
B44: c. | C44: Statistician
B45: d. | C45: Economist
B46: e. | C46: Data or research analyst
B47: f. | C47: Data Scientist
B48: g. | C48: Program Evaluator
B49: h. | C49: Quality Improvement Worker
B50: 8. Behavioral health and social services staff
B51: a. | C51: Behavioral Health Professional
B52: b. | C52: Disease Intervention Specialist/Contact Tracer
B53: c. | C53: Peer Counselor
B54: d. | C54: Health Navigator
B55: e. | C55: Social Worker/Social Services Professional
B56: f. | C56: Disability claims/benefits examiner or adjudicator
B57: 9. Community health workers and health educators
B58: a. | C58: Health Educator
B59: b. | C59: Community Health Worker
B60: 10. Public health physician, nurse, other health care providers
B61: a. | C61: Medical Examiner
B62: b. | C62: Nursing and Home Health Aide
B63: c. | C63: Nutritionist or Dietitian
B64: d. | C64: Other Oral Health Professional
B65: e. | C65: Other Nurse - Clinical Services
B66: f. | C66: Physician Assistant
B67: g. | C67: Public Health Dentist
B68: h. | C68: Public Health/Preventive Medicine Physician
B69: i. | C69: Registered Nurse - Public Health or Community Health Nurse
B70: j. | C70: Registered Nurse - Unspecified
B71: k. | C71: Pharmacist
B72: l. | C72: Licensed practical or vocational nurse
... B78: r. | C78: Public Health Veterinarian
B79: 11. Preparedness staff
B80: a. | C80: Emergency Preparedness/Management Worker
B81: 12. Environmental health workers
B82: a. | C82: Environmental Health Worker
B83: b. | C83: Environmental Health Technician
B84: c. | C84: Environmental Health Physicist
B85: d. | C85: Environmental Epidemiologist
B86: e. | C86: Environmental Health Scientist
B87: 13. Animal control and compliance/ inspection staff
B88: a. | C88: Licensure/Regulation/Enforcement Worker
B89: b. | C89: Sanitarian or Inspector
B90: c. | C90: Animal Control Worker
B91: 14. Other
B92: a. | C92: Engineer
B93: b. | C93: Student, Professional or Scientific
B94: c. | C94: Other (not categorized)
B96: By Program Area Category/Program Area:
B97: 1. All Hazards
B98: a. Emergency Preparedness
B99: 2. Assessment
B100: a. Community Health Assessment/Planning
B101: b. Disability services, including disability determinations
B102: c. Enforcement/Inspection/Licensing/Certification of Facilities
B103: d. Epidemiology Surveillance
B104: e. Informatics
B105: f. Medical Examiner
B106: g. Public Health Genetics
...

Sheet Hidden Flat File
A1: worksheet | B1: variable/field name | C1: record
A2: home_page | B2: recipient | C2: ='Home Page'!B4 -> 0
A3: a1_workforce | B3: a1_lhd_alloc_quant | C3: ='A1. Workforce'!D9 -> 0
A4: a1_workforce | B4: a1_fund_alloc_qual | C4: ='A1. Workforce'!D10 -> 0
A5: a1_workforce | B5: a1_taneed___1 | C5: FALSE
A6: a1_workforce | B6: a1_taneed___2 | C6: FALSE
A7: a1_workforce | B7: a1_taneed___3 | C7: FALSE
A8: a1_workforce | B8: a1_taneed___4 | C8: FALSE
A9: a1_workforce | B9: a1_taneed___5 | C9: FALSE
A10: a1_workforce | B10: a1_act4_titl | C10: ='A1. Workforce'!D61 -> 0
A11: a1_workforce | B11: a1_act4_focus | C11: =IF('A1. Workforce'!D62="Recruit and Hire Staff",1,IF('A1. Workforce'!D62="Retain Staff",2,IF('A1. Workforce'!D62="Sustain and Support Staff",3,IF('A1. Workforce'!D62="Train Staff",4,IF('A1. Workforce'!D62="Strengthen workforce-related systems, processes, and policies",5,IF('A1. Workforce'!D62="Strengthen support for implementation of this grant",6,IF('A1. Workforce'!D62="Other",7,))))))) -> 0
A12: a1_workforce | B12: a1_act4_oth_foc | C12: ='A1. Workforce'!D63 -> 0
A13: a1_workforce | B13: a1_act5_titl | C13: ='A1. Workforce'!D76 -> 0
A14: a1_workforce | B14: a1_act5_focus | C14: =IF('A1. Workforce'!D77="Recruit and Hire Staff",1,IF('A1. Workforce'!D77="Retain Staff",2,IF('A1. Workforce'!D77="Sustain and Support Staff",3,IF('A1. Workforce'!D77="Train Staff",4,IF('A1. Workforce'!D77="Strengthen workforce-related systems, processes, and policies",5,IF('A1. Workforce'!D77="Strengthen support for implementation of this grant",6,IF('A1. Workforce'!D77="Other",7,))))))) -> 0
A15: a1_workforce | B15: a1_act5_oth_foc | C15: ='A1. Workforce'!D78 -> 0
A16: a1_workforce | B16: a1_act6_titl | C16: ='A1. Workforce'!D91 -> 0
A17: a1_workforce | B17: a1_act6_focus | C17: =IF('A1. Workforce'!D92="Recruit and Hire Staff",1,IF('A1. Workforce'!D92="Retain Staff",2,IF('A1. Workforce'!D92="Sustain and Support Staff",3,IF('A1. Workforce'!D92="Train Staff",4,IF('A1. Workforce'!D92="Strengthen workforce-related systems, processes, and policies",5,IF('A1. Workforce'!D92="Strengthen support for implementation of this grant",6,IF('A1. Workforce'!D92="Other",7,))))))) -> 0
A18: a1_workforce | B18: a1_act6_oth_foc | C18: ='A1. Workforce'!D93 -> 0
A19: a1_workforce | B19: a1_act7_titl | C19: ='A1. Workforce'!D106 -> 0
A20: a1_workforce | B20: a1_act7_focus | C20: =IF('A1. Workforce'!D107="Recruit and Hire Staff",1,IF('A1. Workforce'!D107="Retain Staff",2,IF('A1. Workforce'!D107="Sustain and Support Staff",3,IF('A1. Workforce'!D107="Train Staff",4,IF('A1. Workforce'!D107="Strengthen workforce-related planning, systems, processes, and policies",5,IF('A1. Workforce'!D107="Strengthen support for implementation of this grant",6,IF('A1. Workforce'!D107="Other",7,))))))) -> 0
A21: a1_workforce | B21: a1_act7_oth_foc | C21: ='A1. Workforce'!D108 -> 0
A22: a1_workforce | B22: a1_act8_titl | C22: ='A1. Workforce'!D121 -> 0
A23: a1_workforce | B23: a1_act8_focus | C23: =IF('A1. Workforce'!D122="Recruit and Hire Staff",1,IF('A1. Workforce'!D122="Retain Staff",2,IF('A1. Workforce'!D122="Sustain and Support Staff",3,IF('A1. Workforce'!D122="Train Staff",4,IF('A1. Workforce'!D122="Strengthen workforce-related systems, processes, and policies",5,IF('A1. Workforce'!D122="Strengthen support for implementation of this grant",6,IF('A1. Workforce'!D122="Other",7,))))))) -> 0
A24: a1_workforce | B24: a1_act8_oth_foc | C24: ='A1. Workforce'!D123 -> 0
A25: a1_workforce | B25: a1_act9_titl | C25: ='A1. Workforce'!D136 -> 0
A26: a1_workforce | B26: a1_act9_focus | C26: =IF('A1. Workforce'!D137="Recruit and Hire Staff",1,IF('A1. Workforce'!D137="Retain Staff",2,IF('A1. Workforce'!D137="Sustain and Support Staff",3,IF('A1. Workforce'!D137="Train Staff",4,IF('A1. Workforce'!D137="Strengthen workforce-related systems, processes, and policies",5,IF('A1. Workforce'!D137="Strengthen support for implementation of this grant",6,IF('A1. Workforce'!D137="Other",7,))))))) -> 0
A27: a1_workforce | B27: a1_act9_oth_foc | C27: ='A1. Workforce'!D138 -> 0
A28: a1_workforce | B28: a1_act10_titl | C28: ='A1. Workforce'!D151 -> 0
A29: a1_workforce | B29: a1_act10_focus | C29: =IF('A1. Workforce'!D152="Recruit and Hire Staff",1,IF('A1. Workforce'!D152="Retain Staff",2,IF('A1. Workforce'!D152="Sustain and Support Staff",3,IF('A1. Workforce'!D152="Train Staff",4,IF('A1. Workforce'!D152="Strengthen workforce-related systems, processes, and policies",5,IF('A1. Workforce'!D152="Strengthen support for implementation of this grant",6,IF('A1. Workforce'!D152="Other",7,))))))) -> 0
A30: a1_workforce | B30: a1_act10_oth_foc | C30: ='A1. Workforce'!D153 -> 0
A31: a1_workforce | B31: a1_act1_mil1 | C31: ='A1. Workforce'!B20 -> 0
A32: a1_workforce | B32: a1_act1_party1 | C32: ='A1. Workforce'!E20 -> 0
A33: a1_workforce | B33: a1_act1_date1 | C33: ='A1. Workforce'!H20 -> 0
A34: a1_workforce | B34: a1_act1_ind1 | C34: ='A1. Workforce'!I20 -> 0
A35: a1_workforce | B35: a1_act1_mil2 | C35: ='A1. Workforce'!B21 -> 0
A36: a1_workforce | B36: a1_act1_party2 | C36: ='A1. Workforce'!E24 -> 0
A37: a1_workforce | B37: a1_act1_date2 | C37: ='A1. Workforce'!H21 -> 0
A38: a1_workforce | B38: a1_act1_ind2 | C38: ='A1. Workforce'!I24 -> 0
A39: a1_workforce | B39: a1_act1_mil3 | C39: ='A1. Workforce'!B22 -> 0
A40: a1_workforce | B40: a1_act1_party3 | C40: ='A1. Workforce'!E28 -> 0
A41: a1_workforce | B41: a1_act1_date3 | C41: ='A1. Workforce'!H22 -> 0
A42: a1_workforce | B42: a1_act1_ind3 | C42: ='A1. Workforce'!I28 -> 0
A43: a1_workforce | B43: a1_act1_mil4 | C43: ='A1. Workforce'!B23 -> 0
A44: a1_workforce | B44: a1_act1_party4 | C44: ='A1. Workforce'!E23 -> 0
A45: a1_workforce | B45: a1_act1_date4 | C45: ='A1. Workforce'!H23 -> 0
A46: a1_workforce | B46: a1_act1_ind4 | C46: ='A1. Workforce'!I23 -> 0
A47: a1_workforce | B47: a1_act1_mil5 | C47: ='A1. Workforce'!B24 -> 0
A48: a1_workforce | B48: a1_act1_party5 | C48: ='A1. Workforce'!E36 -> 0
A49: a1_workforce | B49: a1_act1_date5 | C49: ='A1. Workforce'!H24 -> 0
A50: a1_workforce | B50: a1_act1_ind5 | C50: ='A1. Workforce'!I36 -> 0
A51: a1_workforce | B51: a1_act1_mil6 | C51: ='A1. Workforce'!B25 -> 0
A52: a1_workforce | B52: a1_act1_party6 | C52: ='A1. Workforce'!E40 -> 0
A53: a1_workforce | B53: a1_act1_date6 | C53: ='A1. Workforce'!H25 -> 0
A54: a1_workforce | B54: a1_act1_ind6 | C54: ='A1. Workforce'!I40 -> 0
A55: a1_workforce | B55: a1_act1_mil7 | C55: ='A1. Workforce'!B26 -> 0
A56: a1_workforce | B56: a1_act1_party7 | C56: ='A1. Workforce'!E44 -> 0
A57: a1_workforce | B57: a1_act1_date7 | C57: ='A1. Workforce'!H26 -> 0
A58: a1_workforce | B58: a1_act1_ind7 | C58: ='A1. Workforce'!I44 -> 0
A59: a1_workforce | B59: a1_act1_mil8 | C59: ='A1. Workforce'!B27 -> 0
A60: a1_workforce | B60: a1_act1_party8 | C60: ='A1. Workforce'!E27 -> 0
A61: a1_workforce | B61: a1_act1_date8 | C61: ='A1. Workforce'!H27 -> 0
A62: a1_workforce | B62: a1_act1_ind8 | C62: ='A1. Workforce'!I27 -> 0
A63: a1_workforce | B63: a1_act1_mil9 | C63: ='A1. Workforce'!B28 -> 0
A64: a1_workforce | B64: a1_act1_party9 | C64: ='A1. Workforce'!E52 -> 0
A65: a1_workforce | B65: a1_act1_date9 | C65: ='A1. Workforce'!H28 -> 0
A66: a1_workforce | B66: a1_act1_ind9 | C66: ='A1. Workforce'!I52 -> 0
A67: a1_workforce | B67: a1_act1_mil10 | C67: ='A1. Workforce'!B29 -> 0
A68: a1_workforce | B68: a1_act1_party10 | C68: ='A1. Workforce'!E56 -> 0
A69: a1_workforce | B69: a1_act1_date10 | C69: ='A1. Workforce'!H29 -> 0
A70: a1_workforce | B70: a1_act1_ind10 | C70: ='A1. Workforce'!I56 -> 0
A71: a1_workforce | B71: a1_act1_cont1 | C71: ='A1. Workforce'!G20 -> 0
A72: a1_workforce | B72: a1_act1_cont2 | C72: ='A1. Workforce'!G21 -> 0
A73: a1_workforce | B73: a1_act1_cont3 | C73: ='A1. Workforce'!G22 -> 0
A74: a1_workforce | B74: a1_act1_cont4 | C74: ='A1. Workforce'!G23 -> 0
A75: a1_workforce | B75: a1_act1_cont5 | C75: ='A1. Workforce'!G24 -> 0
A76: a1_workforce | B76: a1_act1_cont6 | C76: ='A1. Workforce'!G25 -> 0
A77: a1_workforce | B77: a1_act1_cont7 | C77: ='A1. Workforce'!G26 -> 0
A78: a1_workforce | B78: a1_act1_cont8 | C78: ='A1. Workforce'!G27 -> 0
A79: a1_workforce | B79: a1_act1_cont9 | C79: ='A1. Workforce'!G28 -> 0
A80: a1_workforce | B80: a1_act1_cont10 | C80: ='A1. Workforce'!G29 -> 0
A81: a1_workforce | B81: a1_act2_mil1 | C81: ='A1. Workforce'!B35 -> 0
A82: a1_workforce | B82: a1_act2_mil2 | C82: ='A1. Workforce'!B36 -> 0
A83: a1_workforce | B83: a1_act2_mil3 | C83: ='A1. Workforce'!B37 -> 0
A84: a1_workforce | B84: a1_act2_mil4 | C84: ='A1. Workforce'!B38 -> 0
A85: a1_workforce | B85: a1_act2_mil5 | C85: ='A1. Workforce'!B39 -> 0
A86: a1_workforce | B86: a1_act2_mil6 | C86: ='A1. Workforce'!B40 -> 0
A87: a1_workforce | B87: a1_act2_mil7 | C87: ='A1. Workforce'!B41 -> 0
A88: a1_workforce | B88: a1_act2_mil8 | C88: ='A1. Workforce'!B42 -> 0
A89: a1_workforce | B89: a1_act2_mil9 | C89: ='A1. Workforce'!B43 -> 0
A90: a1_workforce | B90: a1_act2_mil10 | C90: ='A1. Workforce'!B44 -> 0
A91: a1_workforce | B91: a1_act2_party1 | C91: ='A1. Workforce'!E35 -> 0
A92: a1_workforce | B92: a1_act2_party2 | C92: ='A1. Workforce'!E36 -> 0
A93: a1_workforce | B93: a1_act2_party3 | C93: ='A1. Workforce'!E37 -> 0
A94: a1_workforce | B94: a1_act2_party4 | C94: ='A1. Workforce'!E38 -> 0
A95: a1_workforce | B95: a1_act2_party5 | C95: ='A1. Workforce'!E39 -> 0
A96: a1_workforce | B96: a1_act2_party6 | C96: ='A1. Workforce'!E40 -> 0
A97: a1_workforce | B97: a1_act2_party7 | C97: ='A1. Workforce'!E41 -> 0
A98: a1_workforce | B98: a1_act2_party8 | C98: ='A1. Workforce'!E42 -> 0
A99: a1_workforce | B99: a1_act2_party9 | C99: ='A1. Workforce'!E43 -> 0
A100: a1_workforce | B100: a1_act2_party10 | C100: ='A1. Workforce'!E44 -> 0
...

Sheet Response Options
A1: A1 Activity Focus | D1: A2 Activity Focus | J1: Yes
A2: Recruit and Hire Staff | D2: Accountability/Performance Management/Agency Accreditation | J2: No
A3: Retain Staff | D3: Organizational Administrative Competencies
A4: Sustain and Support Staff | D4: Communications
A5: Train Staff | D5: Policy Development/Legal Services/Analysis
A6: Strengthen workforce-related planning, systems, processes, and policies | D6: Community Partnership
A7: Strengthen support for implementation of this grant | D7: Equity in Organizational Competencies
A8: Other | D8: Plan implementation to transition from COVID-19 emergency response/other emergency response
D9: Other
A12: Accreditation Status
A13: Agency not accredited and have not started accreditation process
A14: Agency not accredited and have started accreditation process
A15: Accreditation decision from PHAB pending
A16: Accredited
A17: Agency in the process of reaccreditation
A19: A3 Activity Focus
A20: Assess and report
A21: Create implementation plans
A22: Implement
A23: Accelerate implementation
A24: Other
