Workbook

Sheet Home Page
A1: Instructions to Complete "Strengthening U.S. Public Health Infrastructure, Workforce, and Data Systems" Component B Work Plan
A2: Year 1
A3: Enter applicant organization name and the date this file is submitted.
A4: Applicant Name:
A5: Submission Date:
A7: Click the navigation bar below or a tab at the bottom of the workbook to jump to the corresponding worksheet.
A8: The following navigation bar outlining each Component B strategy is available on the top of all worksheets:
A15: Instructions
A16: Use this template to prepare an initial work plan for Component B of this NOFO. Please refer to the website for more information: | F16: https://www.cdc.gov/workforce/resources/infrastructuregrant.html
A17: If you need technical support at any time, please send an email with a detailed description of your needs to the following address: | F17: PHInfrastructure@cdc.gov
A19: Notes on Data Entry
A21: Type your responses directly into cells that do not contain drop-down menus or check boxes, or copy and paste responses from another document into the cells. Press ALT+Enter to type on a new line in the same Excel cell.
A23: Drop-down menus and check boxes are included in each of the Strategy tabs. Drop-down menus are included for single-select responses and check boxes are included for multi-select responses.
A24: Please do not attempt to lock, unlock, or remove any of the tabs/worksheets. Please do not remove any data validation, change any data pre-populated in a cell, and please do not revise any of the formulas.
A27: Saving and Submitting Your Work
A28: Please save this file as "ApplicantName_PHIWorkplan_CompB_YYYYMMDD" and as an .xlsm version.
A29: To submit this document, upload it as part of your application package to www.grants.gov.
A31: Worksheet Content Instructions
A33: Strategy Worksheets: Complete the worksheets for each strategy you propose implementing with the grant funds. You will be asked to identify activities, TA needs the activity addresses for Component A recipients, the Component A strategy the activity supports, parties at your organization responsible, key contracts/subawards/collabortions, milestone due dates, and measures of success that will support the achievement of the NOFO outcomes. If you are not proposing to implement a particular strategy, you can leave that worksheet blank. See below for instructions on what to enter for each section.
A35: Strategy Description | B35: Corresponding strategy description from NOFO (provided for you)
A36: In order to achieve the proposed NOFO outcomes(s), you will implement one or more activities. Include each activity you plan to implement in the tables with the following information. The below table contains instructions containing information to complete activity tables.
A37: Activity 1 Title | B37: Enter a brief title for the activity.
A38: TA Need Addressed (select one) | B38: Select the TA need your proposed activity addresses for Component A recipients (select one).
A39: Other TA Need Addressed (if applicable) | B39: Enter other TA need the activity addresses for Component A recipients if not captured in the provided drop down.
A40: Component A Strategy Supported (select all that apply) | B40: Select all Component A strategies that this activity will support (select all that apply).
A41: Milestone Description | D41: Party Responsible | F41: Key Contracts, Subawards, and Collaborations | H41: Due Date | I41: Measures of Success
A42: In order to achieve the NOFO outcomes, you will implement one or more activities that you will achieve by tracking activity milestones. Each milestone must include an action and an output. Please include at least three milestones for each activity. Enter each milestone on a separate line. | D42: Name party responsible at your organization for work in this milestone (e.g. Administration Manager) | F42: Please specify any anticipated key contracts and sub-awards, as well as name key collaborations (with CDC programs and CDC-funded organizations, and with organizations not funded by CDC) in support of this activity. | H42: Indicate the anticipated milestone end date. All dates must occur after the Notice of Award. Please use MM/DD/YYYY format. | I42: Indicate measures of success that can be used to evaluate milestone achievement. You may choose to align measures of success with the performance measures listed in the NOFO.

Sheet B1. Training & Tech Assistance
B7: Component Description | C7: B. Support Component A recipients to implement Strategies A1-A3 more efficiently and effectively.
B8: Strategy Description | C8: B1. Training and technical assistance to assist recipients of Component A more efficiently and effectively plan and implement their grant activities.
B10: Use the tables below to propose as many activites as you plan on implementing and complete the activity tables.
B11: Activity 1 Title
B12: TA Need Addressed (select one)
B13: Other TA Need addressed (if applicable)
B14: Component A Strategy Supported (select all that apply)
B15: Milestone Description | E15: Party Responsible | G15: Key Contracts, Subawards, and Collaborations | H15: Due Date | I15: Measures of Success
B27: Activity 2 Title
B28: TA Need Addressed (select one)
B29: Other TA Need addressed (if applicable)
B30: Component A Strategy Supported (select all that apply)
B31: Milestone Description | E31: Party Responsible | G31: Key Contracts, Subawards, and Collaborations | H31: Due Date | I31: Measures of Success
B43: Activity 3 Title
B44: TA Need Addressed (select one)
B45: Other TA Need addressed (if applicable)
B46: Component A Strategy Supported (select all that apply)
B47: Milestone Description | E47: Party Responsible | G47: Key Contracts, Subawards, and Collaborations | H47: Due Date | I47: Measures of Success
B59: Activity 4 Title
B60: TA Need Addressed (select one)
B61: Other TA Need addressed (if applicable)
B62: Component A Strategy Supported (select all that apply)
B63: Milestone Description | E63: Party Responsible | G63: Key Contracts, Subawards, and Collaborations | H63: Due Date | I63: Measures of Success
B75: Activity 5 Title
B76: TA Need Addressed (select one)
B77: Other TA Need addressed (if applicable)
B78: Component A Strategy Supported (select all that apply)
B79: Milestone Description | E79: Party Responsible | G79: Key Contracts, Subawards, and Collaborations | H79: Due Date | I79: Measures of Success
B91: Activity 6 Title
B92: TA Need Addressed (select one)
B93: Other TA Need addressed (if applicable)
B94: Component A Strategy Supported (select all that apply)
B95: Milestone Description | E95: Party Responsible | G95: Key Contracts, Subawards, and Collaborations | H95: Due Date | I95: Measures of Success
B107: Activity 7 Title
B108: TA Need Addressed (select one)
B109: Other TA Need addressed (if applicable)
B110: Component A Strategy Supported (select all that apply)
B111: Milestone Description | E111: Party Responsible | G111: Key Contracts, Subawards, and Collaborations | H111: Due Date | I111: Measures of Success
B123: Activity 8 Title
B124: TA Need Addressed (select one)
...

Sheet B2. Program Evaluation
B7: Component Description | C7: B. Support Component A recipients to implement Strategies A1-A3 more efficiently and effectively.
B8: Strategy Description | C8: B2. Evaluation of the grant
B10: Use the tables below to propose as many activites as you plan on implementing and complete the activity tables.
B11: Activity 1 Title
B12: TA Need Addressed (select one)
B13: Other TA Need addressed (if applicable)
B14: Component A Strategy Supported (select all that apply)
B15: Milestone Description | E15: Party Responsible | G15: Key Contracts, Subawards, and Collaborations | H15: Due Date | I15: Measures of Success
B27: Activity 2 Title
B28: TA Need Addressed (select one)
B29: Other TA Need addressed (if applicable)
B30: Component A Strategy Supported (select all that apply)
B31: Milestone Description | E31: Party Responsible | G31: Key Contracts, Subawards, and Collaborations | H31: Due Date | I31: Measures of Success
B43: Activity 3 Title
B44: TA Need Addressed (select one)
B45: Other TA Need addressed (if applicable)
B46: Component A Strategy Supported (select all that apply)
B47: Milestone Description | E47: Party Responsible | G47: Key Contracts, Subawards, and Collaborations | H47: Due Date | I47: Measures of Success
B59: Activity 4 Title
B60: TA Need Addressed (select one)
B61: Other TA Need addressed (if applicable)
B62: Component A Strategy Supported (select all that apply)
B63: Milestone Description | E63: Party Responsible | G63: Key Contracts, Subawards, and Collaborations | H63: Due Date | I63: Measures of Success
B75: Activity 5 Title
B76: TA Need Addressed (select one)
B77: Other TA Need addressed (if applicable)
B78: Component A Strategy Supported (select all that apply)
B79: Milestone Description | E79: Party Responsible | G79: Key Contracts, Subawards, and Collaborations | H79: Due Date | I79: Measures of Success
B91: Activity 6 Title
B92: TA Need Addressed (select one)
B93: Other TA Need addressed (if applicable)
B94: Component A Strategy Supported (select all that apply)
B95: Milestone Description | E95: Party Responsible | G95: Key Contracts, Subawards, and Collaborations | H95: Due Date | I95: Measures of Success
B107: Activity 7 Title
B108: TA Need Addressed (select one)
B109: Other TA Need addressed (if applicable)
B110: Component A Strategy Supported (select all that apply)
B111: Milestone Description | E111: Party Responsible | G111: Key Contracts, Subawards, and Collaborations | H111: Due Date | I111: Measures of Success
B123: Activity 8 Title
B124: TA Need Addressed (select one)
...

Sheet B3. Coordination and Comms
B7: Component Description | C7: B. Support Component A recipients to implement Strategies A1-A3 more efficiently and effectively.
B8: Strategy Description | C8: B3. Grant coordination and communication
B10: Use the tables below to propose as many activites as you plan on implementing and complete the activity tables.
B11: Activity 1 Title
B12: TA Need Addressed (select one)
B13: Other TA Need addressed (if applicable)
B14: Component A Strategy Supported (select all that apply)
B15: Milestone Description | E15: Party Responsible | G15: Key Contracts, Subawards, and Collaborations | H15: Due Date | I15: Measures of Success
B27: Activity 2 Title
B28: TA Need Addressed (select one)
B29: Other TA Need addressed (if applicable)
B30: Component A Strategy Supported (select all that apply)
B31: Milestone Description | E31: Party Responsible | G31: Key Contracts, Subawards, and Collaborations | H31: Due Date | I31: Measures of Success
B43: Activity 3 Title
B44: TA Need Addressed (select one)
B45: Other TA Need addressed (if applicable)
B46: Component A Strategy Supported (select all that apply)
B47: Milestone Description | E47: Party Responsible | G47: Key Contracts, Subawards, and Collaborations | H47: Due Date | I47: Measures of Success
B59: Activity 4 Title
B60: TA Need Addressed (select one)
B61: Other TA Need addressed (if applicable)
B62: Component A Strategy Supported (select all that apply)
B63: Milestone Description | E63: Party Responsible | G63: Key Contracts, Subawards, and Collaborations | H63: Due Date | I63: Measures of Success
B75: Activity 5 Title
B76: TA Need Addressed (select one)
B77: Other TA Need addressed (if applicable)
B78: Component A Strategy Supported (select all that apply)
B79: Milestone Description | E79: Party Responsible | G79: Key Contracts, Subawards, and Collaborations | H79: Due Date | I79: Measures of Success
B91: Activity 6 Title
B92: TA Need Addressed (select one)
B93: Other TA Need addressed (if applicable)
B94: Component A Strategy Supported (select all that apply)
B95: Milestone Description | E95: Party Responsible | G95: Key Contracts, Subawards, and Collaborations | H95: Due Date | I95: Measures of Success
B107: Activity 7 Title
B108: TA Need Addressed (select one)
B109: Other TA Need addressed (if applicable)
B110: Component A Strategy Supported (select all that apply)
B111: Milestone Description | E111: Party Responsible | G111: Key Contracts, Subawards, and Collaborations | H111: Due Date | I111: Measures of Success
B123: Activity 8 Title
B124: TA Need Addressed (select one)
...

Sheet Hidden Flat File
A1: worksheet | B1: Variable/ Field Name | C1: Record
A2: home_page | B2: recipient | C2: ='Home Page'!B4 -> 0
A3: b1_training | B3: b1_act1_titl | C3: ='B1. Training & Tech Assistance'!C11 -> 0
A4: b1_training | B4: b1_act1_focus | C4: =IF('B1. Training & Tech Assistance'!C12="Evidence-driven planning",1,IF('B1. Training & Tech Assistance'!C12="Evidence-driven implementation",2,IF('B1. Training & Tech Assistance'!C12="Assistance understanding jurisdiction's training needs",3,IF('B1. Training & Tech Assistance'!C12="Identifying vendor partners to deliver trainings",4,IF('B1. Training & Tech Assistance'!C12="Access to developed, standards-based trainings",5,IF('B1. Training & Tech Assistance'!C12="Accessing staffing solutions and contracts to facilitate implementation",6,IF('B1. Training & Tech Assistance'!C12="Other",7,))))))) -> 0
A5: b1_training | B5: b1_act1_oth_foc | C5: ='B1. Training & Tech Assistance'!C13 -> 0
A6: b1_training | B6: b1_act1_compa_supp___1 | C6: FALSE
A7: b1_training | B7: b1_act1_compa_supp___2 | C7: FALSE
A8: b1_training | B8: b1_act1_compa_supp___3 | C8: FALSE
A9: b1_training | B9: b1_act1_mil1 | C9: ='B1. Training & Tech Assistance'!B16 -> 0
A10: b1_training | B10: b1_act1_mil2 | C10: ='B1. Training & Tech Assistance'!B17 -> 0
A11: b1_training | B11: b1_act1_mil3 | C11: ='B1. Training & Tech Assistance'!B18 -> 0
A12: b1_training | B12: b1_act1_mil4 | C12: ='B1. Training & Tech Assistance'!B19 -> 0
A13: b1_training | B13: b1_act1_mil5 | C13: ='B1. Training & Tech Assistance'!B20 -> 0
A14: b1_training | B14: b1_act1_mil6 | C14: ='B1. Training & Tech Assistance'!B21 -> 0
A15: b1_training | B15: b1_act1_mil7 | C15: ='B1. Training & Tech Assistance'!B22 -> 0
A16: b1_training | B16: b1_act1_mil8 | C16: ='B1. Training & Tech Assistance'!B23 -> 0
A17: b1_training | B17: b1_act1_mil9 | C17: ='B1. Training & Tech Assistance'!B24 -> 0
A18: b1_training | B18: b1_act1_mil10 | C18: ='B1. Training & Tech Assistance'!B25 -> 0
A19: b1_training | B19: b1_act1_party1 | C19: ='B1. Training & Tech Assistance'!E16 -> 0
A20: b1_training | B20: b1_act1_party2 | C20: ='B1. Training & Tech Assistance'!E17 -> 0
A21: b1_training | B21: b1_act1_party3 | C21: ='B1. Training & Tech Assistance'!E18 -> 0
A22: b1_training | B22: b1_act1_party4 | C22: ='B1. Training & Tech Assistance'!E19 -> 0
A23: b1_training | B23: b1_act1_party5 | C23: ='B1. Training & Tech Assistance'!E20 -> 0
A24: b1_training | B24: b1_act1_party6 | C24: ='B1. Training & Tech Assistance'!E21 -> 0
A25: b1_training | B25: b1_act1_party7 | C25: ='B1. Training & Tech Assistance'!E22 -> 0
A26: b1_training | B26: b1_act1_party8 | C26: ='B1. Training & Tech Assistance'!E23 -> 0
A27: b1_training | B27: b1_act1_party9 | C27: ='B1. Training & Tech Assistance'!E24 -> 0
A28: b1_training | B28: b1_act1_party10 | C28: ='B1. Training & Tech Assistance'!E25 -> 0
A29: b1_training | B29: b1_act1_cont1 | C29: ='B1. Training & Tech Assistance'!G16 -> 0
A30: b1_training | B30: b1_act1_cont2 | C30: ='B1. Training & Tech Assistance'!G17 -> 0
A31: b1_training | B31: b1_act1_cont3 | C31: ='B1. Training & Tech Assistance'!G18 -> 0
A32: b1_training | B32: b1_act1_cont4 | C32: ='B1. Training & Tech Assistance'!G19 -> 0
A33: b1_training | B33: b1_act1_cont5 | C33: ='B1. Training & Tech Assistance'!G20 -> 0
A34: b1_training | B34: b1_act1_cont6 | C34: ='B1. Training & Tech Assistance'!G21 -> 0
A35: b1_training | B35: b1_act1_cont7 | C35: ='B1. Training & Tech Assistance'!G22 -> 0
A36: b1_training | B36: b1_act1_cont8 | C36: ='B1. Training & Tech Assistance'!G23 -> 0
A37: b1_training | B37: b1_act1_cont9 | C37: ='B1. Training & Tech Assistance'!G24 -> 0
A38: b1_training | B38: b1_act1_cont10 | C38: ='B1. Training & Tech Assistance'!G25 -> 0
A39: b1_training | B39: b1_act1_date1 | C39: ='B1. Training & Tech Assistance'!H16 -> 0
A40: b1_training | B40: b1_act1_date2 | C40: ='B1. Training & Tech Assistance'!H17 -> 0
...

Sheet Response Options
A1: B2 Activity Focuses (from Key Activites)
A2: Design an evaluation plan
A3: Implement an evaluation plan
A4: Synthesize evaluation results
A5: Interface with national initiatives related to the PH workforce and foundational capabilities
A6: Prepare briefs for recipients as well as other stakeholders
A7: Assist recipients with preparing and reporting performance measures to CDC
A8: Disseminate and promote use of evaluation results to key stakeholders
A9: Other
A11: B1 Activity Focuses (from Key Activities)
A12: Evidence-driven planning
A13: Evidence-driven implementation
... A29: Other
