Workbook
Name _Toc332139839: '1. Access Requirements'!$B$62
Name Country: #REF!
Name Country: #REF!
Name Country: #REF!
Name OLE_LINK1: '2. Applicant Organization'!#REF!
Name Sex: #REF!
Name Sex: #REF!
Name Sex: #REF!
Name ValidationRange1: #REF!
Name ValidationRange1: #REF!
Name ValidationRange1: #REF!

Sheet Printing
B1: Printing the Workbook | V1: Version 03-18-2021
B3: The proposal is formatted to be printer-friendly. In order to print a hardcopy for reference, open print options and select print entire workbook (pictured below). This will print every step of the proposal as one file.

Sheet Cover Sheet
B1: Version: April 9, 2021
C3: The English Access Microscholarship Program
G4: The English Access Microscholarship Program is sponsored by the U.S. Department of State with funding provided by the U.S. Government.
C6: TECHNICAL PROPOSAL INSTRUCTIONS
C8: Applicant Organization
C10: Step 1. | D10: Complete Access Requirements
C12: Step 2. | D12: Complete Applicant Organization Information
C14: Step 3. | D14: Complete Program Timeline
C16: Step 4. | D16: Complete Program Staff
C18: Step 5. | D18: Complete After School Instruction
C20: Step 6. | D20: Complete Enhancement Activities
C22: Step 7. | D22: Complete Intensive Sessions
C24: Step 8. | D24: Complete Summary Budget
C26: Step 9. | D26: Review the Checklist for Completion Status | H26: Status of the Applicant Organization's proposal is: | K26: ='Proposal Checklist'!J33 -> Incomplete
C28: U.S. Embassy/Consulate
C30: Step 10. | D30: An American Officer reviews the technical proposal and completes Step 1. and Step 2 on the U.S. Embassy-Consulate RELO tab.
C32: RELO
C34: Step 11. | D34: RELO reviews the technical proposal and completes Step 3. on the U.S. Embassy-Consulate RELO tab.

Sheet 1. Access Requirements
A1: Click Here to Return to Cover Sheet
K2: =IF(H2="true",1,0) -> 0
B3: THE ENGLISH ACCESS MICROSHOLARSHIP PROGRAM (ACCESS) REQUIREMENTS
B4: By completing and submitting this proposal, the Applicant understands and agrees to each of the mandatory requirements below. If selected, this proposal document will be incorporated in the Agreement. | S4: Yes
B5: Instructions: | F5: Read each mandatory requirement statement below and choose "Yes" or "No" from the drop down menu to signify that the Applicant organization understands and agrees to the terms below. Any statements answered as "No" require further explanation in the textbox below (cell B69). | S5: No
B7: Definition | S7: Checklist
B8: Access Goals Access students will 1) be given a foundation of English language skills, 2) gain an appreciation for U.S. culture and democratic values, 3) participate in Personal Development activities (e.g. self-confidence, critical thinking, etc.), and 4) take part in Community Service activities. | S8: Blank = 1 | T8: Not = 0
B10: Access Handbook Review
D11: The applicant organization has received and reviewed a copy of the Official Access Handbook. | S11: =IF(B11="",1,0) -> 1
B14: English Language Instruction
D15: Participants will receive the proposed hours (at least 360) of instruction over the course of the program. | S15: =IF(B15="",1,0) -> 1
B18: U.S. Culture and Values Enhancement Activities
D19: U.S. Culture and Values Enhancement Activities occur at least once a quarter throughout the program and include the following elements: | S19: =IF(B19="",1,0) -> 1
E21: Course topics relating to U.S. Culture and Values (Minimum of 3 required per group)
E23: Personal Development (Minimum of 2 required per group)
E25: Community Service (Minimum 2 required per group)
B27: Program Participants
D28: All students will be bright, economically-disadvantaged youth. | S28: =IF(B28="",1,0) -> 1
D30: Students will not be younger than 13 years old on the first day of class. | S30: =IF(B30="",1,0) -> 1
D32: Students will not be older than 25 years old on the first day of class. | S32: =IF(B32="",1,0) -> 1
D34: Students will be grouped age appropriately. The maximum age difference between students in one group will not exceed over two years. | S34: =IF(B34="",1,0) -> 1
D36: Successful participants will receive a Certificate of Completion. | S36: =IF(B36="",1,0) -> 1
B38: Class Size and Gender-Balance
D39: Groups will have between 12 and 25 students. | S39: =IF(B39="",1,0) -> 1
D41: Groups will be gender-balanced with 50% girls and 50% boys. | S41: =IF(B41="",1,0) -> 1
B43: Reporting
D44: The applicant organization will use Microsoft Excel 2010 or a more recent version for all reporting. (The cost of purchasing this software may be included in the administration section of the proposal budget, if needed). | S44: =IF(B44="",1,0) -> 1
D47: The applicant organization must officially report all of their expenses and will only be reimbursed for expenses incurred from the Agreement start date to the Agreement end date as indicated in the Agreement. | S47: =IF(B47="",1,0) -> 1
D50: The applicant organization will submit program and financial reports to the respective U.S. Embassy/Consulate as outlined in the reporting schedule in the Agreement. These reports will be sent by the U.S. Embassy/Consulate to the Office of English Language Programs in Washington D.C. When reports are not submitted according to the agreed upon schedule, payments will be delayed. | S50: =IF(B50="",1,0) -> 1
D53: The applicant organization will file completed Access Photo and Video Release forms for all students (pending parent/guardian approval) and teachers at the start of the program. | S53: =IF(B53="",1,0) -> 1
B56: Evaluation Overview
D57: In accordance with Access Program goals, the applicant organization will establish a system for monitoring and evaluating the progress of Access students. | S57: =IF(B57="",1,0) -> 1
D59: The students will be given the same language proficiency test that was used at the beginning of the program (initial test) at the end of the program (exit test) to accurately track student progress. Results will be shared with the U.S. Embassy/Consulate via program reports. | S59: =IF(B59="",1,0) -> 1
B62: Graduation Requirements
D63: Successful participants will receive a Certificate of Completion signed by U.S. Ambassador or other U.S. Embassy/Consulate Officer. | S63: =IF(B63="",1,0) -> 1
D65: The applicant organization will send up-to-date contact information of all successful participants to the U.S. Embassy/Consulate Officer. | S65: =IF(B65="",1,0) -> 1
D67: The applicant organization acknowledges that the minimum passing grade and minimum passing attendance for Access students is 70%. | S67: =IF(B67="",1,0) -> 1
S68: =IF(SUM(S11:S67)>0,"Not Complete","Complete") -> Not Complete | T68: Total blank
B69: Provide an explanation if any of the above mandatory quality control requirements were answered "No".
S72: # of "No's"
...

Sheet 2. Applicant Organization
A1: Click Here to Return to Cover Sheet
B3: APPLICANT ORGANIZATION CONTACT INFORMATION & CAPACITY | AL3: Drop down choices
AR4: Mr.
C5: CONTACT INFORMATION | AR5: Mrs.
AR6: Ms.
E7: Instructions: | F7: Enter the applicant organization's information in the cells highlighted in yellow below. | AL7: Past Access Provider (Provider's Access Programs are all closed.) | AR7: Miss | AT7: Checklist | AU7: Incomplete = 1 | AV7: Complete = 0
AL8: Current Access Provider (Provider currently has an Active Access Program.) | AR8: Dr.
E9: Applicant Organization's Legal (Registered Trade) Name: | L9: Applicant Organization's Access Program Status: | AJ9: Determines Last Question | AL9: New Access Provider (Provider has not had an Access Program before.) | AR9: Prof.
AJ10: =IF(COUNT(SEARCH({"Current","Past"},L10)),1,"") | AR10: Rev. | AT10: Name | AU10: =IF(E10="", 1,0) -> 1
E11: Note: All official paperwork signed for this program will be issued to this organization's name, listed above. The beneficiary name listed on the bank account for payments for this program should match the organization's Legal (Registered Trade) Name. | AL11: Yes | AR11: Sister | AT11: Status | AU11: =IF(L10="",1,0) -> 1
AL12: No
E13: Applicant Organization's In-Country Address (DO NOT include a PO Box or BP Address) | K13: Applicant Organization's Signatory Contact (Individual who will sign the Agreement for the Access Program) | AT13: In-Country Address | AU13: =IF(OR(F15="",F19="",F21=""),1,0) -> 1
E15: Address Line 1*: | K15: Salutation*: | N15: Job Title: | AT15: Provider Signatory | AU15: =IF(OR(L15="",L17="",O17="",O19=""),1,0) -> 1
E17: Address Line 2: | K17: First Name*: | N17: Last Name/Family Name*: | AT17: Program Director | AU17: =IF(L25="",1,IF(AND(L25="No",L27<>"",L29<>"",O29<>"",O31<>""),0,IF(L25="Yes",0,1))) -> 1
E19: City*: | H19: Province/State: | K19: Phone Number: | N19: Email*: | AT19: Finance Manager | AU19: =IF(OR(L35="",L37="",O37="",O39=""),1,0) -> 1
E21: Country*: | H21: Website: | AT21: Contact Info: | AU21: =IF(SUM(AU10:AU19)>0,"Not Complete","Complete") -> Not Complete
E23: Applicant Organization's Headquarter Address (if applicable) | K23: Applicant Organization's In-Country Program Director (Individual responsible for implementation of the Access Program)
E25: Address Line 1*: | K25: Same as Above* | N25: If "No", complete the In-Country Program Director's contact info.
E27: Address Line 2: | K27: Salutation*: | N27: Job Title:
E29: City*: | H29: Province/State: | K29: First Name*: | N29: Last Name/Family Name*:
E31: Country*: | H31: Website: | K31: Phone Number: | N31: Email*:
E33: Applicant Organization's Headquarter Contact (if applicable) | K33: Applicant Organization's Finance Manager/Accountant (Individual responsible for financial management of the Access Program)
E35: Salutation*: | H35: Job Title: | K35: Salutation*: | N35: Job Title:
E37: First Name*: | G37: Last Name/ Family Name*: | K37: First Name*: | N37: Last Name/Family Name*:
E39: Phone Number: | H39: Email*: | K39: Phone Number: | N39: Email*:
O41: *Required Contact Information
C44: ORGANIZATIONAL CAPACITY
E46: Instructions: | F46: In the cells highlighted in yellow, answer questions about the applicant organization's background, experience, and plans for program monitoring and reporting.
D48: Organization Background | AJ48: Drop down choices | AL48: Drop down choices | AT48: Checklist | AU48: Incomplete = 1 | AV48: Complete = 0
AT49: Q1 A | AU49: =IF(G51="",1,0) -> 1
E50: 1. Using the drop down menus below, choose the option that best describes the applicant organization. | AJ50: Government run Public School or University | AL50: Non-Governmental Organization | AT50: Q1 B | AU50: =IF(G53="",1,0) -> 1
F51: The organization is a … | AJ51: Public Boarding School | AL51: Governmental Organization | AT51: Q1 C | AU51: =IF(AND(G53="Other Type of Organization",G55=""),1,0) -> 0
AJ52: Private Educational Institution | AT52: Q1D | AU52: =IF(G57="",1,0) -> 1
F53: The organization is a/an … | AJ53: Teachers Association | AL53: Not For Profit Organization | AT53: Q2 A | AU53: =IF(K60="",1,0) -> 1
AJ54: National/Local NGO | AL54: For Profit Organization | AT54: Q2 B | AU54: =IF(AV54=0,AV54,AW54) -> 0 | AW54: =IF(AND(K60="Yes",G63<>"",G64<>"",G65<>""),0,1) -> 1
F55: Describe Other Type of Organization: | AJ55: International NGO | AT55: Q3 A | AU55: =IF(K67="",1,0) -> 1
AJ56: Other Type of Organization | AT56: Q3 C | AU56: =IF(AND(K67="Yes",E71=""),1,0) -> 0
F57: The organization is a … | AJ57: Public Boarding School | AT57: Q3 B | AU57: =IF(AND(K67="Yes",K69=""),1,0) -> 0
AJ58: Private Educational Institution
E60: 2. Is the applicant organization incorporated, registered, and licensed as a legal entity in the country where the proposed Access program will be implemented? If "Yes", complete the information below. | AT60: Q4 | AU60: =IF(E74="",1,0) -> 1
...

Sheet 3. Program Timeline
A1: Click Here to Return to Cover Sheet
B3: PROPOSED PROGRAM TIMELINE
C5: Proposed Access Sessions | T5: only Intensive Sessions
D7: Instructions: | F7: Use the drop down menu, in the cell highlighted in yellow, to clarify the type of proposed sessions.
C8: =IF('3. Program Timeline'!G17="","",'3. Program Timeline'!G17) -> 45200
D9: 1. The Proposed Access Program will include:
C12: Proposed Start and End Dates | U12: Checklist | V12: Incomplete = 1 | W12: Complete = 0
D14: Instructions: | F14: Enter the proposed Agreement and Instruction start and end dates in the cells highlighted in yellow. | U14: Agreement Start | V14: =IF(G17="",1,0) -> 0
U15: Instruction Start | V15: =IF(G19="",1,0) -> 1
I16: Notes on Program Dates | U16: Instruction End | V16: =IF(G22="",1,0) -> 1
D17: Proposed Agreement Start Date: | G17: 45200 | I17: Agreement Start Date is the first day any work on the program begins. The Agreement Start Date should be at least 45 days from today's date. There should also be sufficient time between the Agreement Start Date and the Instruction Start Date for pre-instruction activities such as, planning, advertising, student and teacher recruitment, etc. This usually takes between 2 to 3 months. Agreement End Date is the last day all work is completed, including but not limited to, closing ceremonies, wrap-up activities, etc. This usually takes approximately 1 month. Proposed Agreement dates are not final until a fully signed Agreement is issued. A Provider MAY NOT incur costs before the start date of a fully signed Agreement nor after the Agreement end date. Opening and Closing Ceremonies must occur within the Agreement Dates. | U17: Agreement End | V17: =IF(G24="",1,0) -> 1
U18: Proposed Dates | V18: =IF(SUM(V14:V17)>0,"Not Complete","Complete") -> Not Complete
E19: Estimated Start Date of Program Instruction:
E22: Estimated End Date of Program Instruction:
D24: Proposed Agreement End Date:
D26: *Total Agreement Duration: | F26: =IF(OR(G17="",G24=""),"",(DATEDIF(G17,G24,"Y")&" years, "&DATEDIF(G17,G24,"ym")&" months, "&G24-DATE(YEAR(G24),MONTH(G24),1)&" days"))
D28: *Total Instruction Duration: | F28: =IF(OR(G19="",G22=""),"",(DATEDIF(G19,G22,"Y")&" years, "&DATEDIF(G19,G22,"ym")&" months, "&G22-DATE(YEAR(G22),MONTH(G22),1)&" days"))
F29: *Auto calculated based on proposed dates.
C32: Proposed Program Timeline | U32: Checklist | V32: Incomplete = 1 | W32: Complete = 0
D34: Instructions: | F34: In the cells highlighted in yellow, provide an estimated timeline of implementation activities and proposed instruction schedule below. Note: Access activities should not interfere with students’ regular school classes, exams, or academic events. | U34: Start-up | V34: =IF(I39="",1,0) -> 1
U35: Opening Ceremony | V35: =IF(I40="",1,0) -> 1
D36: 1. In chronological order, enter an estimated timeline below with general dates of program implementation activities. | U36: Initial Test | V36: =IF(I41="",1,0) -> 1
D37: Implementation Activity | I37: Estimated Date(s) and/or Date Range(s) | U37: Intensive Sessions | V37: =IF(I43="",1,0) -> 1
D38: Agreement Start Date* (No program activities or expenses may occur before the Agreement Start Date.) | I38: =IF(G17="","",G17) -> 45200 | U38: Exit Test | V38: =IF(I45="",1,0) -> 1
D39: Program Start-up (Examples: Program planning, advertising, student/teacher recruitment, etc.) | U39: Closing Ceremony | V39: =IF(I46="",1,0) -> 1
D40: Opening Ceremony | S40: once a week. | U40: Close out activities | V40: =IF(I47="",1,0) -> 1
D41: Administer Initial Test | S41: twice a week. | U41: Q2 A | V41: =IF(K51="",1,0) -> 1
D42: Instruction Start Date* | I42: =IF(G19="","",G19) | U42: Q2 B | V42: =IF(AND(K51="Yes",D54=""),1,0) -> 0
D43: Intensive Session(s) (List dates for all sessions. If there are no proposed sessions, enter "not applicable".) | S43: three times a week. | U43: Timeline | V43: =IF(SUM(V34:V42)>0,"Not Complete","Complete") -> Not Complete
D44: Instruction End Date* | I44: =IF(G22="","",G22)
D45: Administer Exit Test | S45: four times a week
D46: Closing Ceremony | S46: five times a week.
D47: Activities in preparation for Program Close out (All program activities and expenses must occur before the Agreement End Date.) | S47: six times a week.
D48: Agreement End Date* | I48: =IF(G24="","",G24) | S48: everyday.
L49: *Dates auto populate based on "Proposed Start and End Dates".
D51: 2. Are there any planned breaks during the program when there will be no After School language instruction? | S51: Yes
S52: No
D53: If "Yes", please describe when (month and year) and why these breaks will occur.

Sheet 4. Program Staff
B3: PROPOSED ACCESS TEACHERS AND PROGRAM STAFF
C5: Instructions: | E5: In the cells highlighted in yellow, provide information on students, teachers, and other Access staff.
C8: Access Teachers and Instructional Staff | S8: Checklist | T8: Incomplete = 1 | U8: Complete = 0
D10: 1. Describe the process for selecting and recruiting teachers for the Access Program. How will the U.S. Embassy/Consulate be involved? | S10: Q1 | T10: =IF(D11="",1,0) -> 1
S11: Q2 | T11: =IF(D14="",1,0) -> 1
S12: Q3 | T12: =IF(D17="",1,0) -> 1
D13: 2. Describe the minimum required qualifications for teachers of the Access Program. Include: - Level English (reading, writing, and speaking) - Years of experience teaching English | S13: Q4 | T13: =IF(D20="",1,0) -> 1
V15: =IF(OR(G26="",J26=""),1,0) -> 1
D16: 3. Describe what procedures are in place to ensure that all teachers have adequate levels of English and pedagogical experience to teach in the proposed Access program. | V16: =IF(OR(G27="",J27=""),1,0) -> 1
S17: Access Teachers | T17: =IF(SUM(T10:T13)>0,"Not Complete","Complete") -> Not Complete
D19: 4. Describe the types of professional development that will be offered to the proposed Access Teachers.
C31: Administration Staff | P31: Drop down | S31: Checklist | T31: Incomplete = 1 | U31: Complete = 0
D33: 1. Will the Access Administrator(s) or Coordinator(s) have sufficient English skills to complete Access reporting documents? | K33: Total Number of Administration Staff Work Hours: | P33: Yes | S33: Q1 | T33: =IF(I33="",1,0) -> 1
P34: No
S35: Q2 | T35: =IF(I36="",1,0) -> 1
D36: 2. Enter the number of Administration Staff for all sites and complete the table below. | K36: =SUM(I39:I103) -> 0
T37: Job title | U37: "Other" Column | V37: number of work hours | W37: describe
D38: Job Title (use the drop down menu) | F38: Other Job Title | G38: Average Number of Hours of Administrative Work Per Staff, Per Week | H38: Estimated Number of Weeks of Administrative Work (Duration of the program) | I38: Total Number of Work Hours (All Administration Staff, All Sites) | J38: Briefly Describe Job Responsibilities | P38: Accountant | S38: Q2.1 | T38: =IF(AND($I$36>0,D39=""),1,0) -> 0 | U38: =IF(AND(D39="Other",F39=""),1,0) -> 0 | V38: =IF(AND($I$36>0,I39=0),1,0) -> 0 | W38: =IF(AND($I$36>0,J39=0),1,0) -> 0
C39: 1 | I39: =H39*G39 -> 0 | P39: Administrative Assistant | S39: Q2.2 | T39: =IF(AND($I$36>C39,D40=""),1,0) -> 0 | U39: =IF(AND(D40="Other",F40=""),1,0) -> 0 | V39: =IF(AND($I$36>C39,I40=0),1,0) -> 0 | W39: =IF(AND($I$36>C39,J40=0),1,0) -> 0
C40: 2 | I40: =H40*G40 -> 0 | P40: Finance Manager | S40: Q2.3 | T40: =IF(AND($I$36>C40,D41=""),1,0) -> 0 | U40: =IF(AND(D41="Other",F41=""),1,0) -> 0 | V40: =IF(AND($I$36>C40,I41=0),1,0) -> 0 | W40: =IF(AND($I$36>C40,J41=0),1,0) -> 0
C41: 3 | I41: =H41*G41 -> 0 | P41: Program Coordinator | S41: Q2.4 | T41: =IF(AND($I$36>C41,D42=""),1,0) -> 0 | U41: =IF(AND(D42="Other",F42=""),1,0) -> 0 | V41: =IF(AND($I$36>C41,I42=0),1,0) -> 0 | W41: =IF(AND($I$36>C41,J42=0),1,0) -> 0
C42: 4 | I42: =H42*G42 -> 0 | P42: Program Director | S42: Q2.5 | T42: =IF(AND($I$36>C42,D43=""),1,0) -> 0 | U42: =IF(AND(D43="Other",F43=""),1,0) -> 0 | V42: =IF(AND($I$36>C42,I43=0),1,0) -> 0 | W42: =IF(AND($I$36>C42,J43=0),1,0) -> 0
C43: 5 | I43: =H43*G43 -> 0 | P43: Office Manager | S43: Q2.6 | T43: =IF(AND($I$36>C43,D44=""),1,0) -> 0 | U43: =IF(AND(D44="Other",F44=""),1,0) -> 0 | V43: =IF(AND($I$36>C43,I44=0),1,0) -> 0 | W43: =IF(AND($I$36>C43,J44=0),1,0) -> 0
C44: 6 | I44: =H44*G44 -> 0 | P44: Other | S44: Q2.7 | T44: =IF(AND($I$36>C44,D45=""),1,0) -> 0 | U44: =IF(AND(D45="Other",F45=""),1,0) -> 0 | V44: =IF(AND($I$36>C44,I45=0),1,0) -> 0 | W44: =IF(AND($I$36>C44,J45=0),1,0) -> 0
C45: 7 | I45: =H45*G45 -> 0 | S45: Q2.8 | T45: =IF(AND($I$36>C45,D46=""),1,0) -> 0 | U45: =IF(AND(D46="Other",F46=""),1,0) -> 0 | V45: =IF(AND($I$36>C45,I46=0),1,0) -> 0 | W45: =IF(AND($I$36>C45,J46=0),1,0) -> 0
C46: 8 | I46: =H46*G46 -> 0 | S46: Q2.9 | T46: =IF(AND($I$36>C46,D47=""),1,0) -> 0 | U46: =IF(AND(D47="Other",F47=""),1,0) -> 0 | V46: =IF(AND($I$36>C46,I47=0),1,0) -> 0 | W46: =IF(AND($I$36>C46,J47=0),1,0) -> 0
C47: 9 | I47: =H47*G47 -> 0 | S47: Q2.10 | T47: =IF(AND($I$36>C47,D48=""),1,0) -> 0 | U47: =IF(AND(D48="Other",F48=""),1,0) -> 0 | V47: =IF(AND($I$36>C47,I48=0),1,0) -> 0 | W47: =IF(AND($I$36>C47,J48=0),1,0) -> 0
C48: 10 | I48: =H48*G48 -> 0 | S48: Q2.11 | T48: =IF(AND($I$36>C48,D49=""),1,0) -> 0 | U48: =IF(AND(D49="Other",F49=""),1,0) -> 0 | V48: =IF(AND($I$36>C48,I49=0),1,0) -> 0 | W48: =IF(AND($I$36>C48,J49=0),1,0) -> 0
C49: 11 | I49: =H49*G49 -> 0 | S49: Q2.12 | T49: =IF(AND($I$36>C49,D50=""),1,0) -> 0 | U49: =IF(AND(D50="Other",F50=""),1,0) -> 0 | V49: =IF(AND($I$36>C49,I50=0),1,0) -> 0 | W49: =IF(AND($I$36>C49,J50=0),1,0) -> 0
C50: 12 | I50: =H50*G50 -> 0 | S50: Q2.13 | T50: =IF(AND($I$36>C50,D51=""),1,0) -> 0 | U50: =IF(AND(D51="Other",F51=""),1,0) -> 0 | V50: =IF(AND($I$36>C50,I51=0),1,0) -> 0 | W50: =IF(AND($I$36>C50,J51=0),1,0) -> 0
C51: 13 | I51: =H51*G51 -> 0 | S51: Q2.14 | T51: =IF(AND($I$36>C51,D52=""),1,0) -> 0 | U51: =IF(AND(D52="Other",F52=""),1,0) -> 0 | V51: =IF(AND($I$36>C51,I52=0),1,0) -> 0 | W51: =IF(AND($I$36>C51,J52=0),1,0) -> 0
C52: 14 | I52: =H52*G52 -> 0 | S52: Q2.15 | T52: =IF(AND($I$36>C52,D53=""),1,0) -> 0 | U52: =IF(AND(D53="Other",F53=""),1,0) -> 0 | V52: =IF(AND($I$36>C52,I53=0),1,0) -> 0 | W52: =IF(AND($I$36>C52,J53=0),1,0) -> 0
C53: 15 | I53: =H53*G53 -> 0 | S53: Q2.16 | T53: =IF(AND($I$36>C53,D54=""),1,0) -> 0 | U53: =IF(AND(D54="Other",F54=""),1,0) -> 0 | V53: =IF(AND($I$36>C53,I54=0),1,0) -> 0 | W53: =IF(AND($I$36>C53,J54=0),1,0) -> 0
C54: 16 | I54: =H54*G54 -> 0 | S54: Q2.17 | T54: =IF(AND($I$36>C54,D55=""),1,0) -> 0 | U54: =IF(AND(D55="Other",F55=""),1,0) -> 0 | V54: =IF(AND($I$36>C54,I55=0),1,0) -> 0 | W54: =IF(AND($I$36>C54,J55=0),1,0) -> 0
C55: 17 | I55: =H55*G55 -> 0 | S55: Q2.18 | T55: =IF(AND($I$36>C55,D56=""),1,0) -> 0 | U55: =IF(AND(D56="Other",F56=""),1,0) -> 0 | V55: =IF(AND($I$36>C55,I56=0),1,0) -> 0 | W55: =IF(AND($I$36>C55,J56=0),1,0) -> 0
C56: 18 | I56: =H56*G56 -> 0 | S56: Q2.19 | T56: =IF(AND($I$36>C56,D57=""),1,0) -> 0 | U56: =IF(AND(D57="Other",F57=""),1,0) -> 0 | V56: =IF(AND($I$36>C56,I57=0),1,0) -> 0 | W56: =IF(AND($I$36>C56,J57=0),1,0) -> 0
... C102: 64 | I102: =H102*G102 -> 0 | S102: Q2.25 | T102: =IF(AND($I$36>C102,D103=""),1,0) -> 0 | U102: =IF(AND(D103="Other",F103=""),1,0) -> 0 | V102: =IF(AND($I$36>C102,I103=0),1,0) -> 0 | W102: =IF(AND($I$36>C102,J103=0),1,0) -> 0
C103: 65 | I103: =H103*G103 -> 0 | S103: Proposed Access Program Staff | T103: =IF(SUM(T33:T35,T38:T102,U38:U102,V38:V102,W38:W102)>0,"Not Complete","Complete") -> Not Complete

Sheet 5. After School Instruction
A1: Click Here to Return to Cover Sheet
C3: AFTER SCHOOL PROGRAM DETAILS AND SITE INFORMATION
C5: Instructions: | F5: In the cells highlighted in yellow, provide details about After School Instruction.
C7: After School Instruction | W7: Checklist | X7: Incomplete = 1 | Y7: Complete = 0
D9: Definition | W9: Q1 | X9: =IF(I12="",1,0) -> 1
D10: After School Program After School Instruction can occur before school, after school, or on weekends and generally takes place 1 to 5 days a week with each session typically lasting 1-3 hours per day. | R10: once a week. | W10: Q2 | X10: =IF(I14="",1,0) -> 1
R11: twice a week. | W11: Q3 | X11: =IF(D17="",1,0) -> 1
D12: 1. For the duration of the program, how many total After School language instruction hours will each student receive? (Do not include hours for Enhancement Activities or Intensive Sessions.) | R12: three times a week. | W12: Q4 | X12: =IF(D20="",1,0) -> 1
R13: four times a week | W13: Q5 | X13: =IF(D23="",1,0) -> 1
D14: 2. For the duration of the program, how many weeks of After School language instruction will students receive? | R14: everyday. | W14: Q6 | X14: =IF(D26="",1,0) -> 1
W15: Q7 | X15: =IF(D32="",1,0) -> 1
D16: 3. Describe a typical After School Program schedule. - Include what days After School Instruction will take place and the estimated time [e.g. 2:00 to 4:00pm] of instruction per day.) | W16: Q8 | X16: =IF(D35="",1,0) -> 1
R17: once a week. | W17: After School Instruction | X17: =IF(SUM(X9:X16)>0,"Not Complete","Complete") -> Not Complete
R18: twice a week.
D19: 4. Describe the pedagogical approach that will be used to teach Access students.
R20: once a week.
R21: twice a week.
D22: 5. Describe, in detail, the process for selecting and recruiting students. - Include plans for involving the U.S. Embassy/Consulate in the process, in order to ensure students are appropriate Access candidates. - Explain how replacement students will be quickly and efficiently added to the program.
R23: once a week.
D25: 6. Describe how students of different ages and language levels will be organized in the program.
R26: once a week.
D28: 7. Describe how students will be motivated and encouraged to attend all Access sessions. (Examples may include developing new social relationships, cultivating a sense of accomplishment from improving their English, potentially having access to technology resources for learning, etc.)
R29: once a week.
D31: 8. Describe how parents/community will be informed and involved in the Access program.
R32: once a week.
D34: 9. Describe how Access classes will be monitored and observed for quality assurance. - Include how often classes will be observed, the pedagogical and TESOL qualifications of the observers, and how feedback will be shared with teachers and instructional staff.
R35: once a week.
C39: After School Instruction Materials | W39: Checklist | X39: Incomplete = 1 | Y39: Complete = 0
D41: 1. Complete the sentence below using the drop down menu in the cell highlighted in yellow. | W41: Q1 | X41: =IF(G43="",1,0) -> 1
D43: The proposed program curriculum… | R43: is developed specifically for the Access Program. | W43: Q2.1 | X43: =IF(AND(E47="",H47=""),1,0) -> 1
R44: was previously designed for non-Access students. | W44: Q2.2 | X44: =IF(E48="",0,IF(AND(E48<>"",H48=""),1,0)) -> 0
D45: 2. Enter the title and edition of the American English textbook(s) that will be used during the proposed Access Program. | W45: Q2.3 | X45: =IF(E49="",0,IF(AND(E49<>"",H49=""),1,0)) -> 0
D46: # | E46: Textbook Title and Edition (just the title and edition only) | H46: Explain why this textbook was chosen. | W46: Q2.4 | X46: =IF(E50="",0,IF(AND(E50<>"",H50=""),1,0)) -> 0
D47: 1* | W47: Q2.5 | X47: =IF(E51="",0,IF(AND(E51<>"",H51=""),1,0)) -> 0
D48: 2 | W48: Q3 | X48: =IF(D55="",1,0) -> 1
D49: 3 | W49: Q4 A | X49: =IF(J57="",1,0) -> 1
D50: 4 | W50: Q4 B | X50: =IF(AND(J57="Yes",D60=""),1,0) -> 0
D51: 5 | W51: Instruction Materials | X51: =IF(SUM(X41:X50)>0,"Not Complete","Complete") -> Not Complete
K52: *At least one textbook title is required.
D54: 3. Where will the textbooks be purchased? Confirm that all proposed textbooks will be original curriculum or purchased from a vendor and will not be distributed to students as photocopied editions of textbooks. (Photocopied textbooks are not allowed in Access Programs.)
...

Sheet 6. Enhancement Activities
A1: Click Here to Return to Cover Sheet
B3: PROPOSED ENHANCEMENT ACTIVITIES
C5: Instructions: | D5: In the cells highlighted in yellow, describe the proposed Enhancement Activities.
B7: Enhancement Activities
C9: Definitions
C10: Enhancement Activities Enhancement Activities are in addition to regular After School classroom instruction. These activities are opportunities for students to practice their English and learn new skills. Enhancement Activities include Opening and Closing Ceremonies, Computer or Technology instruction, experiential learning activities that focus on U.S. Culture and Values, Professional Development, or Community Service. | O10: Checklist | P10: Incomplete = 1 | Q10: Complete = 0
C12: 1. For the duration of the program, how many total hours of Enhancement Activities will each student receive? | O12: Q1 | P12: =IF(H12="",1,0) -> 1
C14: 2. For Opening and Closing Ceremonies, does the applicant organization plan to coordinate the events with the U.S. Embassy/Consulate? | M14: Yes | O14: Q2.1 | P14: =IF(H14="",1,0) -> 1
M15: No
C17: If "No", please describe how the Opening and Closing Ceremonies will be organized. | O17: Q2.2 | P17: =IF(H14="",0,IF(AND(H14="No",C18=""),1,0)) -> 0
O18: Q3 | P18: =IF(C21="",1,0) -> 1
C20: 3. Describe who will be invited to the Opening and Closing Ceremonies, besides American representatives from the U.S. Embassy/Consulate. If any government officials will be in attendance, please confirm that no compensation will be issued to these individuals. | O20: Q4 | P20: =IF(C24="",1,0) -> 1
O21: Q5.1 | P21: =IF(D28="",1,0) -> 1
O22: Q5.2 | P22: =IF(D30="",1,0) -> 1
C23: 4. Access Programs should invite Americans to come and speak with Access students. Describe the plan for including American speakers into the proposed Access Program. Include: - The type of Americans who will be invited. (Example: U.S. Embassy/Consulate representatives, English Language Fellows, Peace Corps Volunteers, etc.) - The frequency of visits to the program by an American. | O23: Q5.3 | P23: =IF(D32="",1,0) -> 1
O24: Q5.4 | P24: =IF(D34="",1,0) -> 1
O25: Q6 | P25: =IF(E37="",1,0) -> 1
C26: 5. Describe the proposed learning topics, skills, and types of activities per category and how the proposed activities contribute to Access Goals, as defined in the Access Requirements tab. | O26: Q7 | P26: =IF($E$37="",0,IF(AND($E$37="Yes",E40=""),1,0)) -> 0
C28: Computer/Technology Instruction | O28: Q8 | P28: =IF($E$37="",0,IF(AND($E$37="Yes",E43=""),1,0)) -> 0
C30: U.S. Culture & Values | O30: Q9 | P30: =IF($E$43="",0,IF(AND($E$43>0,C47=""),1,0)) -> 0
C32: Personal Development | O32: Q10.1 | P32: =IF($E$37="",0,IF(AND($E$37="Yes",E50=""),1,0)) -> 0
C34: Service-Learning (Community Service) | O34: Q10.2 | P34: =IF(E50="",0,IF(AND(E50="Yes",C54=""),1,0)) -> 0
O35: Q11 | P35: =IF($E$37="",0,IF(AND($E$37="Yes",C57=""),1,0)) -> 0
C37: 6. Will any of the proposed activities be field trips that require travel away from the After School Site location? | O37: Q12 | P37: =IF($E$37="",0,IF(AND($E$37="Yes",C60=""),1,0)) -> 0
C38: If "Yes", please answer the questions below. | O38: Enhancement Activities | P38: =IF(SUM(P12:P37)>0,"Not Complete","Complete") -> Not Complete
C40: 7. Enter the estimated number of field trips for all students.
C43: 8. Enter the estimated number of field trips for all students that will require an overnight stay?
C46: 9. If there are field trips that require an overnight stay, please describe the type of accommodation that will be provided for the students and teachers.
C50: 10. Will any of the field trips be outside of the city or town where the regular After School Instruction program is located?
C53: If "Yes", describe the travel/medical insurance plans for all field trips/excursions outside of the city or town where the regular After School site is located. Coverage may include national insurance, Provider-held insurance that covers student travel, or insurance policies to be purchased for specific trips.
C56: 11. Describe how the applicant organization will address travel and medical emergencies. NOTE: ECA's priority is the safety and security of participants. It is recommended to have a basic plan for addressing travel and medical emergencies for any off-site or overnight trips. This could include a nearby hospital, a chaperone trained in first aid or emergency medical treatment, services provided by camp or other accommodation venue, etc.
C59: 12. Describe the adults who will accompany each group of students. Include: - The type of adult(s). (Example: Teacher, Parent/Guardian, etc.) - The number of adult(s) who will accompany each group of students. NOTE: ECA requires a minimum of 1 adult per 10 students.

Sheet 7. Intensive Sessions
A1: Click Here to Return to Cover Sheet
B3: PROPOSED INTENSIVE SESSION PROGRAM INFORMATION
C5: Instructions: | F5: In the cells highlighted in yellow, complete the table below with information about the proposed Intensive Session(s).
C7: Intensive Sessions
E9: Definition
E10: Intensive Session
E11: Intensive Sessions should be held at times when students are not normally in school, such as a winter or summer break, and are often 1-4 week long events. In Intensive Sessions, students attend the program between 3 to 8 hours per day, for multiple consecutive days. Additionally, Intensive Sessions may be held in the same location as the After School program, in a different location other than the After School program, or a combination of both locations. | T11: Checklist | U11: Incomplete = 1 | V11: Complete = 0
S12: Yes | T12: Q1 | U12: =IF(H13="",1,0) -> 1
E13: 1. Does the proposed Access Program include planned Intensive Sessions? | S13: No | T13: Q2 | U13: =IF($H$13="",0,IF(AND($H$13="Yes",J16=""),1,0)) -> 0
E14: If "Yes", please answer the questions and table listed below. | T14: Q3 | U14: =IF($H$13="",0,IF(AND($H$13="Yes",E19=""),1,0)) -> 0
T15: Q4 | U15: =IF($H$13="",0,IF(AND($H$13="Yes",E22=""),1,0)) -> 0
E16: 2. For the duration of the program, how many total hours of Intensive Session Instruction will each student receive? | T16: Q5 | U16: =IF($H$13="",0,IF(AND($H$13="Yes",E25=""),1,0)) -> 0
E18: 3. Describe the intensive session(s) that will be conducted during the program. - Include information about the language goals, how you will prepare students linguistically for the activity, and what are the follow-up activities to cement new knowledge. | T18: Q6 | U18: =IF($H$13="",0,IF(AND($H$13="Yes",G27=""),1,0)) -> 0
T19: Q7 | U19: =IF($G$27="",0,IF(AND($G$27="Yes",I30=""),1,0)) -> 0
E21: 4. Explain how these Intensive Sessions will contribute to Access Goals, as defined on the Access Requirements tab (Cell B8). | T21: Q8 | U21: =IF($G$27="",0,IF(AND($G$27="Yes",I32=""),1,0)) -> 0
T22: Q9 | U22: =IF($G$27="",0,IF(AND($G$27="Yes",E35=""),1,0)) -> 0
E24: 5. Describe the adults who will accompany each group of students for the proposed Intensive Sessions. Include: -The type of adult(s). (Example: Teacher, Parent/Guardian, etc.) -The number of adult(s) who will accompany each group of students. NOTE: ECA requires a minimum of 1 adult per 10 students. | T24: Q10.1 | U24: =IF($G$27="",0,IF(AND($G$27="Yes",H37=""),1,0)) -> 0
T25: Q10.2 | U25: =IF(H37="",0,IF(AND(H37="Yes",E40=""),1,0)) -> 0
T26: Q11 | U26: =IF($G$27="",0,IF(AND($G$27="Yes",E43=""),1,0)) -> 0
E27: 6. Will any of the proposed Intensive Sessions require travel? | T27: Intensive Session Questions | U27: =IF(OR(H13="",H13="No"),"Not Applicable",IF(SUM(U12:U26)>0,"Not Complete","Complete")) -> Not Applicable
E28: If "Yes", please answer the questions below.
E30: 7. Enter the estimated number of Intensive Sessions that will require travel?
E32: 8. Enter the estimated number of Intensive Sessions that will require an overnight stay?
E34: 9. Please describe the type of accommodation that will be provided for the students and teachers.
E37: 10. Will any of the travel for the Intensives Sessions be outside of the city or town where the regular After School Instruction program is located?
E39: If "Yes", describe the travel/medical insurance plans for all travel/excursions outside of the city or town where the regular After School site is located. Coverage may include national insurance, Provider-held insurance that covers student travel, or insurance policies to be purchased for specific trips.
E42: 11. Describe how the applicant organization will address travel and medical emergencies. ECA's priority is the safety and security of participants. It is recommended to have a basic plan for addressing travel and medical emergencies for any off-site or overnight trips. This could include a nearby hospital, a chaperone trained in first aid or emergency medical treatment, services provided by camp or other accommodation venue, etc.
C46: Intensive Sessions Table
G48: SUMMARY TABLE
G49: Number of Intensive Sessions: | J49: =40-(COUNTBLANK('7. Intensive Sessions'!$E$57:$E$96)) -> 0
G50: Number of Days of Intensive Sessions: | J50: =SUM($L$57:$L$96) -> 0
G51: Total Intensive Session Hours: (Sum of Total Intensive Instruction Per Session) | J51: =SUM($N$57:$N96) -> 0
G52: The Summary Table will update based on information entered below.
E54: Intensive Session Dates (include month and year) | F54: Which After School Site will participate in this Intensive Session | G54: Location | L54: Number of Days of Session | M54: Number of Hours per Day (Max: 8 hours) | N54: Total Intensive Instruction Per Session
G55: What is the primary or base location of the Intensive Session (Choose from the drop down menu) | I55: City/Town | K55: Facility, Institution, Recreation Center
D56: e.g. | E56: May 2020 - June 2020 | F56: After School Site 1 | G56: Held at an After School Site | I56: Miami | K56: Clear Lake Center | L56: 2 | M56: 8 | N56: =M56*L56 -> 16 | T56: Held at an After School Site | U56: Checklist | V56: Incomplete = 1 | W56: Complete = 0
D57: 1 | N57: =IF(AND(L57="",M57=""),"",L57*M57) | T57: Held at a different location | U57: Q1 | V57: =IF(OR(H13="",H13="No"),0,IF(AND(H13="Yes",E57=""),1,IF(AND(F57<>"",G57<>"",I57<>"",K57<>"",L57<>"",M57<>""),0,1))) -> 0
D58: =D57+1 -> 2 | N58: =IF(AND(L58="",M58=""),"",L58*M58) | T58: Held at both an After School Site and a differ | U58: Q2 | V58: =IF(E58="",0,IF(AND(E58<>"",F58<>"",G58<>"",I58<>"",K58<>"",L58<>"",M58<>""),0,1)) -> 0
D59: =D58+1 -> 3 | N59: =IF(AND(L59="",M59=""),"",L59*M59) | U59: Q3 | V59: =IF(E59="",0,IF(AND(E59<>"",F59<>"",G59<>"",I59<>"",K59<>"",L59<>"",M59<>""),0,1)) -> 0
D60: =D59+1 -> 4 | N60: =IF(AND(L60="",M60=""),"",L60*M60) | U60: Q4 | V60: =IF(E60="",0,IF(AND(E60<>"",F60<>"",G60<>"",I60<>"",K60<>"",L60<>"",M60<>""),0,1)) -> 0
...

Sheet 8. Summary
A1: Click Here to Return to Cover Sheet
B3: ACCESS PROGRAM PROPOSAL NARRATIVE SUMMARY Program information will populate automatically with the information entered throughout the proposal application.
C5: Applicant Organization: | D5: =IF('2. Applicant Organization'!$E$10="","",'2. Applicant Organization'!$E$10)
C6: Country: | D6: =IF('2. Applicant Organization'!$F$21="","",'2. Applicant Organization'!$F$21)
N7: Summary | O7: =IF(E8="","Not Complete","Complete") -> Not Complete
C8: Enter the total award amount, as shown in the Cost Proposal Budget: | G8: USD
C10: Cost per Student: | D10: =IFERROR((E8/$E$20),"") | F10: USD
B12: Program Dates | G12: Total Hours Per Student
C13: Agreement Start Date: | D13: =IF('3. Program Timeline'!$G$17="","",'3. Program Timeline'!$G$17) -> 45200 | H13: After School Instruction Hours: | I13: =+'5. After School Instruction'!$I$12 -> 0
C14: Instruction Start Date: | D14: =IF('3. Program Timeline'!$G$19="","",'3. Program Timeline'!$G$19) | H14: Enhancement Activities Hours: | I14: =+'6. Enhancement Activities'!$H$12 -> 0
C15: Instruction End Date: | D15: =IF('3. Program Timeline'!$G$22="","",'3. Program Timeline'!$G$22) | H15: Intensive Session Hours: | I15: =+'7. Intensive Sessions'!$J$16 -> 0
C16: Agreement End Date: | D16: =IF('3. Program Timeline'!$G$24="","",'3. Program Timeline'!$G$24) | H16: Total Hours to be Received per Student: | I16: =SUM(I13:I15) -> 0
C17: Agreement Duration: | D17: =IF('3. Program Timeline'!$F$26="","",'3. Program Timeline'!$F$26)
B19: Program Totals | G19: Total Program Hours to be Delivered (Hours Per Student x Total Number of After School Groups)
C20: Number of Approved Students: | E20: ='5. After School Instruction'!$F$85 -> 0 | H20: After School Instruction Hours: | I20: =I13*$E$22 -> 0
C21: Number of After School Sites: | E21: ='5. After School Instruction'!$H$85 -> 0 | H21: Enhancement Activities Hours: | I21: =I14*$E$22 -> 0
C22: Number of After School Groups: | E22: =+'5. After School Instruction'!$K$85 -> 0 | H22: Intensive Session Hours: | I22: =I15*$E$22 -> 0
C23: Number of Intensive Sessions: | E23: ='7. Intensive Sessions'!$J$49 -> 0 | H23: Total Program Hours to be Delivered: | I23: =SUM(I20:I22) -> 0

Sheet U.S. Embassy_Consulate & RELO
A1: Click Here to Return to Cover Sheet
B3: FOR U.S. EMBASSY/CONSULATE AND REGIONAL ENGLISH LANGUAGE OFFICER (RELO)
D5: INSTRUCTIONS: | F5: U.S. Embassy/Consulate: Complete the questions designated for Post and the Proposal Authorization before submitting the document to the designated RELO. RELO: Review the proposal document and complete the Proposal Authorization before submitting the document to FHI 360 and ECA.
B7: Step 1: Questions for U.S. Embassy/Consulate Only | U7: Checklist | V7: Incomplete = 1 | W7: Complete = 0
U8: Q1 | V8: =IF(K11="",1,0) -> 1
C9: Selection Process | U9: Q2 | V9: =IF(L13="",1,0) -> 1
U10: Q3 | V10: =IF(L16="",1,0) -> 1
D11: 1. Using the drop down menu, describe how Post selected this Provider for an Access Program. | T11: Full and Open Competition (announced publicly through a call for proposals and selected by a panel) | U11: Q4 | V11: =IF(OR(H21<>"",H23<>"",H25<>"",H27<>"",H29<>"",H31<>"",H33<>"",H35<>"",M21<>"",M23<>"",M25<>"",M27<>"",M29<>"",M31<>"",M33<>""),0,1) -> 1
T12: Limited Competition (with number of Post-identified providers submitted proposals and selected by panel) | U12: Q4 Other | V12: =IF(H35="",0,IF(AND(H35="X",H37=""),1,0)) -> 0
D13: 2. Was the current Public Affairs Officer/Cultural Affairs Officer actively involved in the selection of this applicant organization? | T13: Sole-sourced (specific Access providers selected by Post) | U13: Questions for Post Only | V13: =IF(SUM(V8:V12)>0,"Not Complete","Complete") -> Not Complete
D16: 3. Did Post consult with the RELO before they selected this applicant organization for an Access Program?
T17: Yes
C18: U.S. Embassy/Consulate Goals | T18: No
D19: 4. What are Post's primary goals for this Access Program? Mark "X" to all that apply.
G21: Reach Key Populations | L21: Youth Empowerment/Youth Leadership | T21: X
G23: Reach Key Regions | L23: Female Empowerment
G25: Foster Positive U.S. Relations | L25: Socio-Economic Development
G27: Link to U.S. Exchange Opportunities | L27: Teacher Development
G29: Promote U.S. Culture and Values | L29: Economic Development
G31: Promote Democratic Values | L31: Workforce Development
G33: Promote Racial and/or Religions Tolerance | L33: Counter Violent Extremism
G35: Other
G37: If "Other", list goal.
B40: Proposal Authorizations from U.S. Embassy/Consulate and RELO | U40: Checklist | V40: Incomplete = 1 | W40: Complete = 0
U41: Post Approval | V41: =IF(OR(D62="",D68="",F70="",F74="",F76=""),1,0) -> 1 | W41: =IF(SUM(V41:V42)>0,"Not Complete","Complete") -> Not Complete
C42: Step 2: U.S. Embassy/Consulate's Proposal Authorization | J42: Step 3: RELO's Proposal Authorization | U42: Post Approval "Other" | V42: =IF(F70="","N/A",IF(AND(F70="Other",F72=""),1,0)) -> N/A
U43: RELO Approval | V43: =IF(OR(K62="",K68="",L76="",L74=""),"Not Complete","Complete") -> Not Complete
D44: Mandatory Requirements for Post | K44: RELO Comments (Optional)
D45: 1. Collect, review, and approve proposals, reports, and alumni data for all Access programming for this provider.
D47: 2. Approve the selection of participants for this program.
D49: 3. Ensure Post participation in at least one enhancement activity.
D51: 4. Monitor and oversee this local Access Program.
D53: 5. Conduct at least one site visit to this program each year and submit completed site visit checklist or other evaluation documents to RELO and ECA.
D55: 6. Provide certificates signed by the U.S. Ambassador or other U.S. Embassy/Consulate Officer to the students at the beginning and end of the Access Program.
D58: I confirm that the U.S. Embassy/Consulate listed below commits to fulfill the Mandatory Requirements for Post. | K58: I confirm that this proposal is complete and the outlined program has been reviewed and approved.
D61: U.S. Embassy/Consulate | K61: RELO Region
D64: "Other" U.S. Embassy/Consulate
D67: Post Representative Authorized to Approve this Proposal (American Officer's Name) | K67: Name of RELO Approving this Proposal
D70: Job Title: | K70: Job Title: | M70: Regional English Langue Officer
D72: "Other" Job Title: | S72: Approved
...

Sheet Proposal Checklist
C1: Click Here to Return to Cover Sheet
B3: NARRATIVE PROPOSAL CHECKLIST
C5: Proposal Section | D5: Section Completed? | E5: Link to Proposal Section
C6: 1. Access Requirements
C7: Quality Control Questions | D7: =+'1. Access Requirements'!S68 -> Not Complete | E7: Click here to complete. | H7: Yes | J7: =IF(D7="Complete",0,1) -> 1
C8: Explanation for Exceptions | D8: =+'1. Access Requirements'!S74 -> Not Applicable | E8: Click here to complete. | H8: No | J8: =IF(D8<>"Not Complete",0,1) -> 0
C9: 2. Applicant Organization Contact Information & Capacity
C10: Contact Information | D10: =+'2. Applicant Organization'!AU21 -> Not Complete | E10: Click here to complete. | J10: =IF(D10="Complete",0,1) -> 1
C11: Background | D11: =+'2. Applicant Organization'!AU70 -> Not Complete | E11: Click here to complete. | J11: =IF(D11="Complete",0,1) -> 1
C12: Financial Management | D12: =+'2. Applicant Organization'!AU105 -> Not Complete | E12: Click here to complete. | J12: =IF(D12="Complete",0,1) -> 1
C13: Alumni Question | D13: =+'2. Applicant Organization'!AU119 -> Not Applicable | E13: Click here to complete. | J13: =IF(D13<>"Not Complete",0,1) -> 0
C14: 3. Program Timeline
C15: Proposed Start and End Dates | D15: =+'3. Program Timeline'!V18 -> Not Complete | E15: Click here to complete. | J15: =IF(D15="Complete",0,1) -> 1
C16: Proposed Program Timeline | D16: =+'3. Program Timeline'!V43 -> Not Complete | E16: Click here to complete. | J16: =IF(D16="Complete",0,1) -> 1
C17: 4. Proposed Program Staff
C18: Access Teachers | D18: =+'4. Program Staff'!T17 -> Not Complete | E18: Click here to complete. | J18: =IF(D18="Complete",0,1) -> 1
C19: Administration Staff | D19: =+'4. Program Staff'!T103 -> Not Complete | E19: Click here to complete. | J19: =IF(D19="Complete",0,1) -> 1
C20: 5. After School Program Information
C21: After School Instruction | D21: =+'5. After School Instruction'!X17 -> Not Complete | E21: Click here to complete. | J21: =IF(D21="Complete",0,1) -> 1
C22: After School Instruction Materials | D22: =+'5. After School Instruction'!X51 -> Not Complete | E22: Click here to complete. | J22: =IF(D22="Complete",0,1) -> 1
C23: Assessment Tools | D23: =+'5. After School Instruction'!X69 -> Not Complete | E23: Click here to complete. | J23: =IF(D23="Complete",0,1) -> 1
C24: After School Site Location Table | D24: =+'5. After School Instruction'!X130 -> Not Complete | E24: Click here to complete. | J24: =IF(D24="Complete",0,1) -> 1
C25: 6. Proposed Enhancement Activities
C26: Enhancement Activities | D26: =+'6. Enhancement Activities'!P38 -> Not Complete | E26: Click here to complete. | J26: =IF(D26="Complete",0,1) -> 1
C27: 7. Proposed Intensive Session Program Information
C28: Intensive Sessions | D28: =+'7. Intensive Sessions'!U27 -> Not Applicable | E28: Click here to complete. | J28: =IF(D28<>"Not Complete",0,1) -> 0
C29: Intensive Sessions Table | D29: =+'7. Intensive Sessions'!U97 -> Not Applicable | E29: Click here to complete. | J29: =IF(D29<>"Not Complete",0,1) -> 0
C30: 8. Summary
C31: Total Award Amount | D31: =+'8. Summary'!O7 -> Not Complete | E31: Click here to complete. | J31: =IF(D31="Complete",0,1) -> 1
C32: For U.S. Embassy/Consulate and RELO | I32: Total applicant | J32: =SUM(J7:J31) -> 14
C33: Questions for Post Only | D33: =+'U.S. Embassy_Consulate & RELO'!V13 -> Not Complete | E33: Click here to complete. | J33: =IF(J32>0,"Incomplete","Complete") -> Incomplete
C34: Post Approval | D34: =+'U.S. Embassy_Consulate & RELO'!W41 -> Not Complete | E34: Click here to complete.
C35: RELO Approval | D35: =+'U.S. Embassy_Consulate & RELO'!V43 -> Not Complete | E35: Click here to complete.
