Workbook

Sheet Budget Justification Summary
A1: APPLICANT NARRATIVE BUDGET JUSTIFICATION FORM
A2: Predictive Science Academic Alliance Program (PSAAP IV)
A3: _________________________________________________________________________________
A4: APPLICANT NARRATIVE BUDGET JUSTIFICATION FORM
A6: Name of Applicant:
A7: Principal Investigator:
A8: Project Title:
A10: Total Project | C10: Year 1 | D10: Year 2 | E10: Year 3 | F10: Year 4 | G10: Year 5 | H10: Total
C11: =C18+C23+C28+C33+C38+C43+C92 -> 0 | D11: =D18+D23+D28+D33+D38+D43+D92 -> 0 | E11: =E18+E23+E28+E33+E38+E43+E92 -> 0 | F11: =F18+F23+F28+F33+F38+F43+F92 -> 0 | G11: =G18+G23+G28+G33+G38+G43+G92 -> 0 | H11: =SUM(C11:G11) -> 0
A13: R&R Budget Section Subsection | C13: R&R Cost Category | I13: Narrative Budget Justification Instructions
A14: Section | B14: Subsection
L15: Tab Hyperlink
A16: A. B. | C16: Senior Key and Other Personnel | I16: Instructions: Fill out the A - SeniorKey Personnel Tab and B - Other Personnel Tab. The Yearly totals to the left will automatically calculate. NOTE: Select Tab Hyperlink to the right to access the A - Senior Key and B - Other Personnel Tabs. | L16: A - SeniorKey Personnel
C17: Year 1 | D17: Year 2 | E17: Year 3 | F17: Year 4 | G17: Year 5 | H17: Total | L17: B - Other Personnel
C18: ='A - SeniorKey Personnel'!J85+'B - Other Personnel'!J109 -> 0 | D18: ='A - SeniorKey Personnel'!J86+'B - Other Personnel'!J110 -> 0 | E18: ='A - SeniorKey Personnel'!J87+'B - Other Personnel'!J111 -> 0 | F18: ='A - SeniorKey Personnel'!J88+'B - Other Personnel'!J112 -> 0 | G18: ='A - SeniorKey Personnel'!J89+'B - Other Personnel'!J113 -> 0 | H18: =SUM(C18:G18) -> 0
A19: Narrative:
A21: A. B. | C21: Fringe Benefits | I21: Instructions: Fill out the Fringe Benefits Tab. The Yearly totals to the left will automatically calculate. NOTE: Select Tab Hyperlink to the right to access the Fringe Benefit Tab. | L21: Fringe Benefits
C22: Year 1 | D22: Year 2 | E22: Year 3 | F22: Year 4 | G22: Year 5 | H22: Total
C23: ='Fringe Benefits'!D156 -> 0 | D23: ='Fringe Benefits'!E156 -> 0 | E23: ='Fringe Benefits'!F156 -> 0 | F23: ='Fringe Benefits'!G156 -> 0 | G23: ='Fringe Benefits'!H156 -> 0 | H23: =SUM(C23:G23) -> 0
A24: Narrative:
A26: C. | C26: Equipment Items (>$5,000) | I26: Instructions: Please complete Attachment D - Equipment Summary Form. Enter totals to the left for each year from Attachment D - Equipment Summary Form. Give brief description below why equipment is needed. | L26: N/A - Fill out Attachment D
C27: Year 1 | D27: Year 2 | E27: Year 3 | F27: Year 4 | G27: Year 5 | H27: Total
C28: 0 | D28: 0 | E28: 0 | F28: 0 | G28: 0 | H28: =SUM(C28:G28) -> 0
A29: Narrative: Please fill out Equipment Estimate Summary Form (Attachment F)
A31: D. | C31: Travel | I31: Instructions: • Please complete Attachment E - Travel Summary Form. • Enter totals to the left for each year from Attachment E - Travel Summary. • Provide a copy or internet location of your institutions travel policy. | L31: N/A - Fill out Attachment E
C32: Year 1 | D32: Year 2 | E32: Year 3 | F32: Year 4 | G32: Year 5 | H32: Total
C33: 0 | D33: 0 | E33: 0 | F33: 0 | G33: 0 | H33: =SUM(C33:G33) -> 0
A34: Narrative: Please fill out Travel Estimate Summary Form (Attachment G)
A36: E. | C36: Participant/Trainee Support | I36: Instructions: Fill out the E - Participant Support Tab. The Yearly totals to the left will automatically calculate. Provide supporting documentation. (Do not add tuition for individuals identified under Other Personnel in this category--that tuition should be identified under Other Direct Costs) NOTE: Select Tab Hyperlink to the right to access the E - Participant Support Tab. -----------------------> | L36: E - Participant Support
C37: Year 1 | D37: Year 2 | E37: Year 3 | F37: Year 4 | G37: Year 5 | H37: Total
C38: ='E - Participant Support'!G80 -> 0 | D38: ='E - Participant Support'!H80 -> 0 | E38: ='E - Participant Support'!I80 -> 0 | F38: ='E - Participant Support'!J80 -> 0 | G38: ='E - Participant Support'!K80 -> 0 | H38: =SUM(C38:G38) -> 0
A39: Narrative:
A41: F. | C41: Other Direct Costs Total | I41: Instructions: The Yearly totals to the left will automatically calculate. Provide information requested below in subsections F.1 through F.10 as applicable
C42: Year 1 | D42: Year 2 | E42: Year 3 | F42: Year 4 | G42: Year 5 | H42: Total
C43: =C47+C52+C56+C61+C66+C71+C75+C79+C84+C88 -> 0 | D43: =D47+D52+D56+D61+D66+D71+D75+D79+D84+D88 -> 0 | E43: =E47+E52+E56+E61+E66+E71+E75+E79+E84+E88 -> 0 | F43: =F47+F52+F56+F61+F66+F71+F75+F79+F84+F88 -> 0 | G43: =G47+G52+G56+G61+G66+G71+G75+G79+G84+G88 -> 0 | H43: =SUM(C43:G43) -> 0
B45: F.1 | C45: Materials and Supplies | I45: Instructions: • Please complete Attachment F - Materials and Supplies Summary. • Enter totals to the left for each year from Attachment F - Materials and Supplies | L45: N/A - Fill out Attachment F
C46: Year 1 | D46: Year 2 | E46: Year 3 | F46: Year 4 | G46: Year 5 | H46: Aggregate Total
C47: 0 | D47: 0 | E47: 0 | F47: 0 | G47: 0 | H47: =SUM(C47:G47) -> 0
B48: Narrative: Please fill out Materials and Supplies Summary Form (Attachment H)
B50: F.2 | C50: Publication Costs | I50: Instructions: Fill out the F2 - Publication Costs Tab. The Yearly totals to the left will automatically calculate. For Publication Costs with an Aggregate Total (the grand total of all Publications for the entire project period of performance) exceeding $3,000, source documents (vendor quote, quote from internet market research) must be provided. NOTE: Select Tab Hyperlink to the right to access the F2 - Publication Costs Tab. | L50: F2 - Publication Costs
...

Sheet A - SeniorKey Personnel
A2: A. Senior/Key Personnel Labor
A3: Provide in the table below each of the Senior/Key Personnel position to be supported under the proposed award by name; project role; title; base salary; monthly salary; the amount of effort (person months) to be expended by each position; and annual compensation for each position. Add any additional explanation required that supports total $ proposed for project in terms of how compensation is provided and calculated for this person.
A4: Return to | B4: Budget Justification Summary
A5: Senior/Key Personnel Name | B5: Project Role | C5: Job Title | D5: Budget Year | E5: Base Salary | F5: Monthly Salary | G5: Person Months | J5: Annual Compensation
G6: Cal | H6: Acad | I6: Sum
D7: Year 1 | J7: =(F7*G7)+(F7*H7)+(F7*I7) -> 0
D8: Year 2 | J8: =(F8*G8)+(F8*H8)+(F8*I8) -> 0
D9: Year 3 | J9: =(F9*G9)+(F9*H9)+(F9*I9) -> 0
D10: Year 4 | J10: =(F10*G10)+(F10*H10)+(F10*I10) -> 0
D11: Year 5 | J11: =(F11*G11)+(F11*H11)+(F11*I11) -> 0
A12: Total Compensation for Position | J12: =SUM(J7:J11) -> 0
D13: Year 1 | J13: =(F13*G13)+(F13*H13)+(F13*I13) -> 0
D14: Year 2 | J14: =(F14*G14)+(F14*H14)+(F14*I14) -> 0
D15: Year 3 | J15: =(F15*G15)+(F15*H15)+(F15*I15) -> 0
D16: Year 4 | J16: =(F16*G16)+(F16*H16)+(F16*I16) -> 0
D17: Year 5 | J17: =(F17*G17)+(F17*H17)+(F17*I17) -> 0
A18: Total Compensation for Position | J18: =SUM(J13:J17) -> 0
D19: Year 1 | J19: =(F19*G19)+(F19*H19)+(F19*I19) -> 0
D20: Year 2 | J20: =(F20*G20)+(F20*H20)+(F20*I20) -> 0
D21: Year 3 | J21: =(F21*G21)+(F21*H21)+(F21*I21) -> 0
D22: Year 4 | J22: =(F22*G22)+(F22*H22)+(F22*I22) -> 0
D23: Year 5 | J23: =(F23*G23)+(F23*H23)+(F23*I23) -> 0
A24: Total Compensation for Position | J24: =SUM(J19:J23) -> 0
D25: Year 1 | J25: =(F25*G25)+(F25*H25)+(F25*I25) -> 0
D26: Year 2 | J26: =(F26*G26)+(F26*H26)+(F26*I26) -> 0
D27: Year 3 | J27: =(F27*G27)+(F27*H27)+(F27*I27) -> 0
D28: Year 4 | J28: =(F28*G28)+(F28*H28)+(F28*I28) -> 0
D29: Year 5 | J29: =(F29*G29)+(F29*H29)+(F29*I29) -> 0
A30: Total Compensation for Position | J30: =SUM(J25:J29) -> 0
D31: Year 1 | J31: =(F31*G31)+(F31*H31)+(F31*I31) -> 0
D32: Year 2 | J32: =(F32*G32)+(F32*H32)+(F32*I32) -> 0
D33: Year 3 | J33: =(F33*G33)+(F33*H33)+(F33*I33) -> 0
D34: Year 4 | J34: =(F34*G34)+(F34*H34)+(F34*I34) -> 0
D35: Year 5 | J35: =(F35*G35)+(F35*H35)+(F35*I35) -> 0
A36: Total Compensation for Position | J36: =SUM(J31:J35) -> 0
D37: Year 1 | J37: =(F37*G37)+(F37*H37)+(F37*I37) -> 0
D38: Year 2 | J38: =(F38*G38)+(F38*H38)+(F38*I38) -> 0
D39: Year 3 | J39: =(F39*G39)+(F39*H39)+(F39*I39) -> 0
D40: Year 4 | J40: =(F40*G40)+(F40*H40)+(F40*I40) -> 0
D41: Year 5 | J41: =(F41*G41)+(F41*H41)+(F41*I41) -> 0
...

Sheet B - Other Personnel
A2: B. Other Personnel Labor
A3: List each Other Personnel position to be supported under the proposed award by name (if known); project role, job title (if applicable); base salary; monthly salary; the amount of effort (person months) to be expended by each position; and annual compensation (automatically calculated) for each position. Add any additional explanation required that supports total $ proposed for project in terms of how compensation is provided and calculated for this person.
A4: Return to | B4: Budget Justification Summary
A5: Other Personnel Name | B5: Project Role | C5: Job Title | D5: Budget Year | E5: Base Salary | F5: Monthly Salary | G5: Person Months | J5: Annual Compensation
G6: Cal | H6: Acad | I6: Sum
D7: Year 1 | J7: =(F7*G7)+(F7*H7)+(F7*I7) -> 0
D8: Year 2 | J8: =(F8*G8)+(F8*H8)+(F8*I8) -> 0
D9: Year 3 | J9: =(F9*G9)+(F9*H9)+(F9*I9) -> 0
D10: Year 4 | J10: =(F10*G10)+(F10*H10)+(F10*I10) -> 0
D11: Year 5 | J11: =(F11*G11)+(F11*H11)+(F11*I11) -> 0
A12: Total Compensation for Position | J12: =SUM(J7:J11) -> 0
D13: Year 1 | J13: =(F13*G13)+(F13*H13)+(F13*I13) -> 0
D14: Year 2 | J14: =(F14*G14)+(F14*H14)+(F14*I14) -> 0
D15: Year 3 | J15: =(F15*G15)+(F15*H15)+(F15*I15) -> 0
D16: Year 4 | J16: =(F16*G16)+(F16*H16)+(F16*I16) -> 0
D17: Year 5 | J17: =(F17*G17)+(F17*H17)+(F17*I17) -> 0
A18: Total Compensation for Position | J18: =SUM(J13:J17) -> 0
D19: Year 1 | J19: =(F19*G19)+(F19*H19)+(F19*I19) -> 0
D20: Year 2 | J20: =(F20*G20)+(F20*H20)+(F20*I20) -> 0
D21: Year 3 | J21: =(F21*G21)+(F21*H21)+(F21*I21) -> 0
D22: Year 4 | J22: =(F22*G22)+(F22*H22)+(F22*I22) -> 0
D23: Year 5 | J23: =(F23*G23)+(F23*H23)+(F23*I23) -> 0
A24: Total Compensation for Position | J24: =SUM(J19:J23) -> 0
D25: Year 1 | J25: =(F25*G25)+(F25*H25)+(F25*I25) -> 0
D26: Year 2 | J26: =(F26*G26)+(F26*H26)+(F26*I26) -> 0
D27: Year 3 | J27: =(F27*G27)+(F27*H27)+(F27*I27) -> 0
D28: Year 4 | J28: =(F28*G28)+(F28*H28)+(F28*I28) -> 0
D29: Year 5 | J29: =(F29*G29)+(F29*H29)+(F29*I29) -> 0
A30: Total Compensation for Position | J30: =SUM(J25:J29) -> 0
D31: Year 1 | J31: =(F31*G31)+(F31*H31)+(F31*I31) -> 0
D32: Year 2 | J32: =(F32*G32)+(F32*H32)+(F32*I32) -> 0
D33: Year 3 | J33: =(F33*G33)+(F33*H33)+(F33*I33) -> 0
D34: Year 4 | J34: =(F34*G34)+(F34*H34)+(F34*I34) -> 0
D35: Year 5 | J35: =(F35*G35)+(F35*H35)+(F35*I35) -> 0
A36: Total Compensation for Position | J36: =SUM(J31:J35) -> 0
D37: Year 1 | J37: =(F37*G37)+(F37*H37)+(F37*I37) -> 0
D38: Year 2 | J38: =(F38*G38)+(F38*H38)+(F38*I38) -> 0
D39: Year 3 | J39: =(F39*G39)+(F39*H39)+(F39*I39) -> 0
D40: Year 4 | J40: =(F40*G40)+(F40*H40)+(F40*I40) -> 0
D41: Year 5 | J41: =(F41*G41)+(F41*H41)+(F41*I41) -> 0
...

Sheet Fringe Benefits
A1: Fringe Benefits (for Senior/Key Personnel and Other Personnel)
A2: Provide fringe benefit rate totals for each year for each Key and Other Personnel position proposed and identify the applicable Fringe Benefit rate (if there is more than one rate, please provide the rate and explain how rates are applied). Also, state whether the rates are approved by a government agency, or in accordance with institution policy. Provide internet location where rates can be verified under the explanation or other documentation to support the rate.
B4: Return to | C4: Budget Justification Summary
A5: Name/Project Role | D5: Year 1 | E5: Year 2 | F5: Year 3 | G5: Year 4 | H5: Year 5 | I5: Total | J5: Explanation
C6: Requested Salary 1
C7: Requested Salary 2
C8: Fringe Rate % 1
C9: Fringe Rate % 2
C10: Fringe Benefits Position Total | D10: =(D6*D8)+(D7*D9) -> 0 | E10: =(E6*E8)+(E7*E9) -> 0 | F10: =(F6*F8)+(F7*F9) -> 0 | G10: =(G6*G8)+(G7*G9) -> 0 | H10: =(H6*H8)+(H7*H9) -> 0 | I10: =SUM(D10:H10) -> 0
C11: Requested Salary 1
C12: Requested Salary 2
C13: Fringe Rate % 1
C14: Fringe Rate % 2
C15: Fringe Benefits Position Total | D15: =(D11*D13)+(D12*D14) -> 0 | E15: =(E11*E13)+(E12*E14) -> 0 | F15: =(F11*F13)+(F12*F14) -> 0 | G15: =(G11*G13)+(G12*G14) -> 0 | H15: =(H11*H13)+(H12*H14) -> 0 | I15: =SUM(D15:H15) -> 0
C16: Requested Salary 1
C17: Requested Salary 2
C18: Fringe Rate % 1
C19: Fringe Rate % 2
C20: Fringe Benefits Position Total | D20: =(D16*D18)+(D17*D19) -> 0 | E20: =(E16*E18)+(E17*E19) -> 0 | F20: =(F16*F18)+(F17*F19) -> 0 | G20: =(G16*G18)+(G17*G19) -> 0 | H20: =(H16*H18)+(H17*H19) -> 0 | I20: =SUM(D20:H20) -> 0
C21: Requested Salary 1
C22: Requested Salary 2
C23: Fringe Rate % 1
C24: Fringe Rate % 2
C25: Fringe Benefits Position Total | D25: =(D21*D23)+(D22*D24) -> 0 | E25: =(E21*E23)+(E22*E24) -> 0 | F25: =(F21*F23)+(F22*F24) -> 0 | G25: =(G21*G23)+(G22*G24) -> 0 | H25: =(H21*H23)+(H22*H24) -> 0 | I25: =SUM(D25:H25) -> 0
C26: Requested Salary 1
C27: Requested Salary 2
C28: Fringe Rate % 1
C29: Fringe Rate % 2
C30: Fringe Benefits Position Total | D30: =(D26*D28)+(D27*D29) -> 0 | E30: =(E26*E28)+(E27*E29) -> 0 | F30: =(F26*F28)+(F27*F29) -> 0 | G30: =(G26*G28)+(G27*G29) -> 0 | H30: =(H26*H28)+(H27*H29) -> 0 | I30: =SUM(D30:H30) -> 0
C31: Requested Salary 1
C32: Requested Salary 2
C33: Fringe Rate % 1
C34: Fringe Rate % 2
C35: Fringe Benefits Position Total | D35: =(D31*D33)+(D32*D34) -> 0 | E35: =(E31*E33)+(E32*E34) -> 0 | F35: =(F31*F33)+(F32*F34) -> 0 | G35: =(G31*G33)+(G32*G34) -> 0 | H35: =(H31*H33)+(H32*H34) -> 0 | I35: =SUM(D35:H35) -> 0
C36: Requested Salary 1
C37: Requested Salary 2
C38: Fringe Rate % 1
C39: Fringe Rate % 2
C40: Fringe Benefits Position Total | D40: =(D36*D38)+(D37*D39) -> 0 | E40: =(E36*E38)+(E37*E39) -> 0 | F40: =(F36*F38)+(F37*F39) -> 0 | G40: =(G36*G38)+(G37*G39) -> 0 | H40: =(H36*H38)+(H37*H39) -> 0 | I40: =SUM(D40:H40) -> 0
C41: Requested Salary 1
...

Sheet E - Participant Support
A1: E. Participant/Trainee Support Costs | E1: Return to | F1: Budget Justification Summary
A3: Trainee costs listed are those intended to support trainees in educational projects. Costs may include stipends, tuition & fees, travel and related training expenses. Participant costs listed are those costs associated with conferences, workshops or symposia. Justification should include the number of participants, cost for each participant, purpose of conference/workshop /symposia, dates and places of meetings and any related administrative expenses
A5: 1. Tuition/Fees/Health Insurance: Tuition and Fees for students participating on this project. Identify if student tuition and fees are for in-state or out-of-state students and what those tuition and fees are per student and how they are calculated (the table below may be used to depict these costs and calculations). Note: Tuition & fees reimbursement for individuals listed in Section B. Other Personnel should not be included in this section. Such costs should be listed in Section F Other Direct Costs.
B7: Type of Student | C7: Type of Cost (Tuition/Fees/ Health Insurance) | E7: # of Participants | F7: Base $ | G7: Year 1 | H7: Year 2 | I7: Year 3 | J7: Year 4 | K7: Year 5 | L7: Project Total
L8: =SUM(G8:K8) -> 0
L9: =SUM(G9:K9) -> 0
L10: =SUM(G10:K10) -> 0
L11: =SUM(G11:K11) -> 0
L12: =SUM(G12:K12) -> 0
L13: =SUM(G13:K13) -> 0
L14: =SUM(G14:K14) -> 0
L15: =SUM(G15:K15) -> 0
L16: =SUM(G16:K16) -> 0
L17: =SUM(G17:K17) -> 0
B18: Totals: | G18: =SUM(G8:G17) -> 0 | H18: =SUM(H8:H17) -> 0 | I18: =SUM(I8:I17) -> 0 | J18: =SUM(J8:J17) -> 0 | K18: =SUM(K8:K17) -> 0 | L18: =SUM(G18:K18) -> 0
A20: 2. Stipends: Identify any stipends and provide the basis for these costs.
B22: Type of Student | C22: Basis for Calculation | E22: # of Participants | F22: Stipend Base $ | G22: Year 1 | H22: Year 2 | I22: Year 3 | J22: Year 4 | K22: Year 5 | L22: Project Total
L23: =SUM(G23:K23) -> 0
L24: =SUM(G24:K24) -> 0
L25: =SUM(G25:K25) -> 0
L26: =SUM(G26:K26) -> 0
L27: =SUM(G27:K27) -> 0
L28: =SUM(G28:K28) -> 0
L29: =SUM(G29:K29) -> 0
L30: =SUM(G30:K30) -> 0
L31: =SUM(G31:K31) -> 0
L32: =SUM(G32:K32) -> 0
B33: Totals: | G33: =SUM(G23:G32) -> 0 | H33: =SUM(H23:H32) -> 0 | I33: =SUM(I23:I32) -> 0 | J33: =SUM(J23:J32) -> 0 | K33: =SUM(K23:K32) -> 0 | L33: =SUM(G33:K33) -> 0
A35: 3. Travel: Provide the travel information and totals for participant travel below.
B37: Type of Student | C37: Purpose (including location) | E37: # of Participants | F37: Cost per Student | G37: Year 1 | H37: Year 2 | I37: Year 3 | J37: Year 4 | K37: Year 5 | L37: Project Total
L38: =SUM(G38:K38) -> 0
L39: =SUM(G39:K39) -> 0
L40: =SUM(G40:K40) -> 0
L41: =SUM(G41:K41) -> 0
L42: =SUM(G42:K42) -> 0
L43: =SUM(G43:K43) -> 0
L44: =SUM(G44:K44) -> 0
L45: =SUM(G45:K45) -> 0
L46: =SUM(G46:K46) -> 0
L47: =SUM(G47:K47) -> 0
...

Sheet F2 - Publication Costs
A1: F2. Publication Costs
B2: Provide publication funds requested for costs of documenting, preparing, publishing or otherwise making available to others the findings and products of the work conducted under the award for each year. For total purchases of Publication Costs where the aggregate total is $3,000 or more, source documentation such as quotations must be provided. Also, provide an explanation of the proposed costs below and a website where the costs can be verified.
B4: Name/Type of Publication | C4: Explanation | D4: Unit Cost | E4: Number of Publications | F4: Publication Cost Year 1 Year 1 | G4: Publication Cost Year 2 | H4: Publication Cost Year 3 | I4: Publication Cost Year 4 | J4: Publication Cost Year 5 | K4: Aggregate Total
K5: =SUM(F5:J5) -> 0
K6: =SUM(F6:J6) -> 0
K7: =SUM(F7:J7) -> 0
K8: =SUM(F8:J8) -> 0
K9: =SUM(F9:J9) -> 0
K10: =SUM(F10:J10) -> 0
K11: =SUM(F11:J11) -> 0
K12: =SUM(F12:J12) -> 0
K13: =SUM(F13:J13) -> 0
K14: =SUM(F14:J14) -> 0
B15: Totals: | F15: =SUM(F5:F14) -> 0 | G15: =SUM(G5:G14) -> 0 | H15: =SUM(H5:H14) -> 0 | I15: =SUM(I5:I14) -> 0 | J15: =SUM(J5:J14) -> 0 | K15: =SUM(F15:J15) -> 0
B17: Return to | C17: Budget Justification Summary

Sheet F3 - Consultant Costs
A1: F3 - Consultant costs
B2: List all consultants supplying commercial supplies or services used to support the project. The support to justify vendor costs (in any amount) should provide the purpose for the products or services and a basis of the estimated costs that is considered sufficient for DOE evaluation.
B4: Vendor Name/Organization | C4: Product or Service, Purpose/Need and Basis of Cost (Provide additional support at bottom of page as needed) | D4: Year 1 Total | E4: Year 2 Total | F4: Year 3 Total | G4: Year 4 Total | H4: Year 5 Total | I4: Project Total
B5: EXAMPLE ONLY!!! ABC Corp. | C5: Vendor for developing custom robotics to perform lens inspection, alignment, and placement (Task 4 ). Required for expanding CPV module mfg. capacity. Cost is from competitive quotes. | D5: 32900 | E5: 86500 | F5: 40000 | G5: 50000 | H5: 20000 | I5: =SUM(D5:H5) -> 229400
I6: =SUM(D6:H6) -> 0
I7: =SUM(D7:H7) -> 0
I8: =SUM(D8:H8) -> 0
I9: =SUM(D9:H9) -> 0
I10: =SUM(D10:H10) -> 0
I11: =SUM(D11:H11) -> 0
I12: =SUM(D12:H12) -> 0
C13: Sub-total | D13: =SUM(D6:D12) -> 0 | E13: =SUM(E6:E12) -> 0 | F13: =SUM(F6:F12) -> 0 | G13: =SUM(G6:G12) -> 0 | H13: =SUM(H6:H12) -> 0 | I13: =SUM(I6:I12) -> 0
B15: Return to | C15: Budget Justification Summary

Sheet F4 - ADP-Computer Serv Costs
A1: F4. ADP/Computer Services Costs
B2: Provide the type of proposed ADP/Computer services, an explanation of the proposed costs, and costs per year below. Also provide a copy of maintenance or lease agreements if applicable or a website where the ADP/Computer Services costs can be verified.
B4: Type of ADP/Computer Services | C4: Explanation | D4: Year 1 Total | E4: Year 2 Total | F4: Year 3 Total | G4: Year 4 Total | H4: Year 5 Total | I4: Project Total
I5: =SUM(D5:H5) -> 0
I6: =SUM(D6:H6) -> 0
I7: =SUM(D7:H7) -> 0
I8: =SUM(D8:H8) -> 0
I9: =SUM(D9:H9) -> 0
I10: =SUM(D10:H10) -> 0
I11: =SUM(D11:H11) -> 0
I12: =SUM(D12:H12) -> 0
I13: =SUM(D13:H13) -> 0
I14: =SUM(D14:H14) -> 0
B15: Totals: | D15: =SUM(D5:D14) -> 0 | E15: =SUM(E5:E14) -> 0 | F15: =SUM(F5:F14) -> 0 | G15: =SUM(G5:G14) -> 0 | H15: =SUM(H5:H14) -> 0 | I15: =SUM(D15:H15) -> 0
B17: Return to | C17: Budget Justification Summary

Sheet F5 - Subaward Consortium Costs
A1: F5. Subaward/Consortium Costs
B2: For each sub-recipient with total project costs of $100,000 or more, a separate budget form and justification must be submitted. The budget totals on the sub-recipient's forms must match the sub-recipient entries below.
B4: Consortium Member/Subawardee | C4: Point of Contact (PI Name) | D4: Year 1 Total | E4: Year 2 Total | F4: Year 3 Total | G4: Year 4 Total | H4: Year 5 Total | I4: Project Total
I5: =SUM(D5:H5) -> 0
I6: =SUM(D6:H6) -> 0
I7: =SUM(D7:H7) -> 0
I8: =SUM(D8:H8) -> 0
I9: =SUM(D9:H9) -> 0
I10: =SUM(D10:H10) -> 0
I11: =SUM(D11:H11) -> 0
I12: =SUM(D12:H12) -> 0
I13: =SUM(D13:H13) -> 0
I14: =SUM(D14:H14) -> 0
I15: =SUM(D15:H15) -> 0
I16: =SUM(D16:H16) -> 0
... I24: =SUM(D24:H24) -> 0
B25: Totals: | D25: =SUM(D5:D24) -> 0 | E25: =SUM(E5:E24) -> 0 | F25: =SUM(F5:F24) -> 0 | G25: =SUM(G5:G24) -> 0 | H25: =SUM(H5:H24) -> 0 | I25: =SUM(D25:H25) -> 0
B27: Return to | C27: Budget Justification Summary

Sheet F6 - Equip or Fac Rent-User Fee
A1: F6. Equipment or Facility Rental User Fees Costs
B2: Provide the type of proposed Equipment or Facility Rental/User Fees, an explanation of the proposed costs, and costs by year below. Also, provide a copy of rental/user fee agreements if applicable or a website where the Equipment or Facility Rental/User Fees costs can be verified.
B4: Type of Equipment or Facility | C4: Explanation | D4: Year 1 | E4: Year 2 | F4: Year 3 | G4: Year 4 | H4: Year 5 | I4: Project Total
I5: =SUM(D5:H5) -> 0
I6: =SUM(D6:H6) -> 0
I7: =SUM(D7:H7) -> 0
I8: =SUM(D8:H8) -> 0
I9: =SUM(D9:H9) -> 0
I10: =SUM(D10:H10) -> 0
I11: =SUM(D11:H11) -> 0
I12: =SUM(D12:H12) -> 0
I13: =SUM(D13:H13) -> 0
I14: =SUM(D14:H14) -> 0
B15: Totals: | D15: =SUM(D5:D14) -> 0 | E15: =SUM(E5:E14) -> 0 | F15: =SUM(F5:F14) -> 0 | G15: =SUM(G5:G14) -> 0 | H15: =SUM(H5:H14) -> 0 | I15: =SUM(D15:H15) -> 0
B17: Return to | C17: Budget Justification Summary

Sheet F7 - Alterations & Renovations
A1: F7. Alteration and Renovation Costs
B2: Provide a description of the alterations and renovation costs by year and explain how they will benefit the project. Provide supporting documentation and quotes.
B4: Alteration/Renovation Description | C4: Explanation | D4: Year 1 | E4: Year 2 | F4: Year 3 | G4: Year 4 | H4: Year 5 | I4: Project Total
I5: =SUM(D5:H5) -> 0
I6: =SUM(D6:H6) -> 0
I7: =SUM(D7:H7) -> 0
I8: =SUM(D8:H8) -> 0
I9: =SUM(D9:H9) -> 0
I10: =SUM(D10:H10) -> 0
I11: =SUM(D11:H11) -> 0
I12: =SUM(D12:H12) -> 0
I13: =SUM(D13:H13) -> 0
I14: =SUM(D14:H14) -> 0
B15: Totals: | D15: =SUM(D5:D14) -> 0 | E15: =SUM(E5:E14) -> 0 | F15: =SUM(F5:F14) -> 0 | G15: =SUM(G5:G14) -> 0 | H15: =SUM(H5:H14) -> 0 | I15: =SUM(D15:H15) -> 0
B17: Return to | C17: Budget Justification Summary

Sheet F8 - Tuition & Fees Remission
A1: F8. Tuition Fees & Remission Costs
B3: Name/Project Role | C3: Tuition Fees & Remission Description | E3: Tuition Year 1 | F3: Tuition Year 2 | G3: Tuition Year 3 | H3: Tuition Year 4 | I3: Tuition Year 5 | J3: Project Total
J4: =SUM(E4:I4) -> 0
J5: =SUM(E5:I5) -> 0
J6: =SUM(E6:I6) -> 0
J7: =SUM(E7:I7) -> 0
J8: =SUM(E8:I8) -> 0
J9: =SUM(E9:I9) -> 0
J10: =SUM(E10:I10) -> 0
J11: =SUM(E11:I11) -> 0
J12: =SUM(E12:I12) -> 0
J13: =SUM(E13:I13) -> 0
B14: Totals: | E14: =SUM(E4:E13) -> 0 | F14: =SUM(F4:F13) -> 0 | G14: =SUM(G4:G13) -> 0 | H14: =SUM(H4:H13) -> 0 | I14: =SUM(I4:I13) -> 0 | J14: =SUM(E14:I14) -> 0
B16: Return to | C16: Budget Justification Summary

Sheet F9 - Other
A1: F9. Other Costs
B2: Provide a description of Other costs by year and explain how they will benefit the project. Provide supporting documentation and quotes.
B4: Description | C4: Explanation | D4: Year 1 | E4: Year 2 | F4: Year 3 | G4: Year 4 | H4: Year 5 | I4: Project Total
I5: =SUM(D5:H5) -> 0
I6: =SUM(D6:H6) -> 0
I7: =SUM(D7:H7) -> 0
I8: =SUM(D8:H8) -> 0
I9: =SUM(D9:H9) -> 0
I10: =SUM(D10:H10) -> 0
I11: =SUM(D11:H11) -> 0
I12: =SUM(D12:H12) -> 0
I13: =SUM(D13:H13) -> 0
I14: =SUM(D14:H14) -> 0
B15: Totals: | D15: =SUM(D5:D14) -> 0 | E15: =SUM(E5:E14) -> 0 | F15: =SUM(F5:F14) -> 0 | G15: =SUM(G5:G14) -> 0 | H15: =SUM(H5:H14) -> 0 | I15: =SUM(D15:H15) -> 0
B17: Return to | C17: Budget Justification Summary

Sheet F10 - Other
A1: F10. Other Costs
B2: Provide a description of Other costs by year and explain how they will benefit the project. Provide supporting documentation and quotes.
B4: Description | C4: Explanation | D4: Year 1 | E4: Year 2 | F4: Year 3 | G4: Year 4 | H4: Year 5 | I4: Project Total
I5: =SUM(D5:H5) -> 0
I6: =SUM(D6:H6) -> 0
I7: =SUM(D7:H7) -> 0
I8: =SUM(D8:H8) -> 0
I9: =SUM(D9:H9) -> 0
I10: =SUM(D10:H10) -> 0
I11: =SUM(D11:H11) -> 0
I12: =SUM(D12:H12) -> 0
I13: =SUM(D13:H13) -> 0
I14: =SUM(D14:H14) -> 0
B15: Totals: | D15: =SUM(D5:D14) -> 0 | E15: =SUM(E5:E14) -> 0 | F15: =SUM(F5:F14) -> 0 | G15: =SUM(G5:G14) -> 0 | H15: =SUM(H5:H14) -> 0 | I15: =SUM(D15:H15) -> 0
B17: Return to | C17: Budget Justification Summary
