Workbook
Name YesNo: [1]Sheet2!$A$1:$A$2

Sheet Instructions
B1: INSTRUCTIONS
B2: Applicants may complete and submit this template, including all fillable fields within each spreadsheet (tab), in response to section IV.B.1.a of HUD's Notice of Funding Availability (NOFA) for its FY 2018 and FY 2019 Community Compass Technical Assistance and Capacity Building (Community Compass) Program. The following instructions are outlined by spreadsheet (tab). These instructions are provided, in addition to the direction in the NOFA.
B3: The completed template must be submitted timely and with the application in grants.gov, unless the applicant has received a written waiver (see IV.A. of the NOFA). The completed template does not count towards the 50-page limit for an applicant’s response to Rating Factors 1-3 of the NOFA.
B5: Summary
B6: To complete the Summary spreadsheet (tab), use the following instructions:
B8: Applicant Organization Name: Enter the legal name of the organization that is applying for funding via the FY 2019 Community Compass NOFA. This name must match the applicant's legal name on the Standard Form (SF) 424 submitted with the application.
B10: Organization Description: Provide a brief description of the applicant organization in 350 words or less. Include in the description: organizational history, purpose and mission, years of service, housing-related technical assistance services provided, and agency web address for additional information. This description may appear in the press release issued by HUD announcing the awards in the event the applicant is funded through this NOFA.
B12: Amount of Funding Requested: Enter the total federal funding requested from box 18.a on the SF-424 submitted with the application. Enter the amount in whole dollars (e.g., $800,000). The amount entered in this field must sum the amounts entered for the FY 2018 Funding Request and for the FY 2019 Funding Request.
B13: FY 2018 Funding Request: Enter the total federal funding requested for FY 2018, as per the NOFA submitted with the application. Enter the amount in whole dollars (e.g., $800,000).
B14: FY 2019 Funding Request: Enter the total federal funding requested for FY 2019, as per the NOFA submitted with the application. Enter the amount in whole dollars (e.g., $800,000).
B16: Funding Source Requested by Fiscal Year: For each funding source, indicate “Yes” or “No” to note if the applicant is requesting funding for FY 2018 or FY 2019 or both years. The applicant must consider the funding sources and eligible activities that may or may not be available in FY2019, as per the direction in the NOFA.
B18: Applicant Designation: Select “Yes” or “No” to the following designations related to the applicant: Disadvataged Business, Small Business, and Faith-Based.
... B59: Within each HUD Office, indicate the number of years of experience relevant to each program/topic. Include only whole numbers; do not include text or decimals. For this chart, one year means “10 months or more.” For instance, if a staff member has nine months of experience, that staff person would be considered to have zero years of experience; a contractor with 5 years 11 months of experience would be considered to have six years of experience; and a consultant with 3 years 4 months experience would be considered to have 3 years of experience.

Sheet Summary
B1: OVERVIEW
B2: These elements are collected as per section IV.B.1.a of the Community Compass NOFA. | C2: Enter requested information below.
B4: Applicant Organization Legal Name (same as on SF-424)
B6: Applicant Pre-award risk determination
B8: Description of Applicant Organization
B10: Total Funding Request Amount ($) (same as on SF-424)
B11: FY 2018 Funding Request
B12: FY 2019 Funding Request
B14: Funding Source Requested by Fiscal Year | C14: 2018, 2019, Both or N/A?
B15: Departmental
B16: CDBG-Disaster Recovery
B17: McKinney-Vento
B18: National Homeless Data Analysis Program
B19: Youth Homelessness
B20: Public Housing Administrative Receivership and Recovery
B21: Native American Housing and Community Development
B22: National Fair Housing Training Academy
B24: Applicant Designation | C24: Yes or No?
B25: Disadvantaged business (e.g., 8(a) business)
B26: Small business as defined by the U.S. Small Business Administration
B27: Faith-based organization
B29: New Applicant (Yes/No)
B31: Select HUD Office Associated with Rating Factor 2 (select an Office below, then select a program in the adjacent cell) | C31: Select Program/Cross-Cutting Topic (depends on HUD Office selected)
B37: Indirect Cost Rate (%)
B39: Eligible Activities | C39: Number Completed in the 5 Years Prior to NOFA Publication
B40: Needs Assessment
B41: Direct TA and Capacity Building Engagements
B42: Develop and Maintain Tools and Products
B43: Self-Directed and Group Learning
B44: Knowledge Management
B45: Data Analysis, Reporting, and Performance Management
B46: NAHASDA Allocation Formula Administration and Negotiated Rulemaking and Consultation Support

Sheet Capacity and Interest
B1: CAPACITY AND INTEREST CHART
B2: Enter capacity and interest by programs and topics listed below. When identifying interest and capacity, "0" is no capacity or interest and "5" is high capacity or interest.
B4: =Summary!C4 -> 0 | C4: =Summary!#REF! -> #REF! | D4: =Summary!#REF! -> #REF! | E4: =Summary!C4 -> 0 | F4: =Summary!C4 -> 0
B6: OFFICE OF COMMUNITY PLANNING AND DEVELOPMENT | C6: Capacity 0-5 | D6: Interest 0-5 | E6: Capacity 0-5 | F6: Interest 0-5
B7: Community Development Block Grant (CDBG) Entitlement and Non-Entitlement Programs
B8: Section 108 Loan Guarantee Program
B9: CDBG-Disaster Recovery grants, including CDBG-NDR grants (TA for grantees with eligible disasters before 2017)
B10: HOME Investment Partnerships (HOME)
B11: Housing Opportunities for Persons With AIDS (HOPWA)
B12: Housing Trust Fund (HTF)
B13: Rural Housing Assistance Programs
B14: CDBG-Disaster Recovery grants with qualifying disasters that occurred in 2017 or later, as well as awards for mitigation and energy from Public Law 115-123
B15: CDBG-National Disaster Recovery grants for which dedicated funding for TA becomes available after the publication of this NOFA
B16: McKinney-Vento Homeless Assistance Act
B17: Continuum of Care (CoC) Program
B18: Emergency Solutions Grant Program (ESG)
... B20: Youth Homelessness
B21: OFFICE OF PUBLIC AND INDIAN HOUSING | E21: Capacity 0-5 | F21: Interest 0-5
B22: Public Housing Capital Fund
B23: Public Housing Operating Fund
B24: Rental Assistance Demonstration (RAD)
B25: Resident Opportunities and Self Sufficiency (ROSS)
B26: Moving to Work Demonstration (MTW)
B27: Choice Neighborhoods
B28: Project-Based Vouchers
B29: Housing Choice Vouchers/Section 8
B30: ConnectHome
B31: Family Self-Sufficiency (FSS)
B32: Jobs Plus
B33: PHA Receivership and Recovery
... B39: Native Hawaiian Housing Block Grant
B40: OFFICE OF HOUSING | E40: Capacity 0-5 | F40: Interest 0-5
B41: Supportive Housing for the Elderly (Section 202)
B42: Supportive Housing for Persons with Disabilities (Section 811)
B43: Other Multifamily Housing Programs
B44: Housing Counseling
B45: Multifamily Housing Preservation, including Rental Assistance Demonstration (RAD)
B46: Multifamily Housing Production Initiatives
B47: OFFICE OF POLICY DEVELOPMENT AND RESEARCH | E47: Capacity 0-5 | F47: Interest 0-5
B48: Low-Income Housing Tax Credit (LIHTC) data collection and quality for LIHTC tenants and projects
...

Sheet Experience
A1: EXPERIENCE OF STAFF, CONTRACTORS, AND CONSULTANTS
A2: Enter the name, organization, and qualifications for each staff person, contractor, and consultant. Then, expand each HUD Office and enter each person's years of experience by program/topc. Enter the years in whole numbers.
L3: - to close | AN3: - to close | BJ3: - to close | BS3: - to close | BU3: - to close | BZ3: - to close | CM3: - to close
A4: Applicant Name | D4: =Summary!C4 -> 0 | L4: + to expand | AN4: + to expand | BJ4: + to expand | BS4: + to expand | BU4: + to expand | BZ4: + to expand | CM4: + to expand
A6: Staff, consultant, and contractor persons and qualifications | L6: EXPERIENCE | AN6: EXPERIENCE | BJ6: EXPERIENCE | BS6: EXPERIENCE | BU6: EXPERIENCE | BZ6: EXPERIENCE | CM6: EXPERIENCE
A7: # | B7: Applicant | C7: Person's First Name | D7: Person's Last Name | E7: Organization Name | F7: Role | G7: Organization City | H7: Organization State Abbrev | I7: Organization Zip | J7: Organization DUNS # | K7: Qualifications Narrative | L7: OFFICE OF COMMUNITY PLANNING AND DEVELOPMENT | M7: CDBG Entitlement and Non-Entitlement Programs | N7: Section 108 Loan Guarantee Program | O7: CDBG-Disaster Recovery legacy (pre-2017) | P7: CDBG-Disaster Recovery program | Q7: CDBG-National Disaster Resilience program | R7: CDBG-Disaster Recovery Mitigation Initiatives | S7: Administering CDBG Program | T7: Administering CDBG-DR Program | U7: Administering Section 108 Loan Guarantee Program | V7: TA on CDBG/CDBG-DR or Section 108 Programs | X7: HOME Investment Partnerships (HOME) | Y7: Administering a HOME program | Z7: Direct TA Experience on the 2013 HOME regulations | AB7: Housing Opportunities for Persons With AIDS (HOPWA) | AC7: Administering a HOPWA program | AD7: Direct TA Experience on HOPWA regulations and program design | AF7: Housing Trust Fund (HTF) | AG7: Rural Housing Assistance Programs | AI7: McKinney Vento Homeless Assistance Act | AJ7: Continuum of Care (CoC) Program | AK7: Emergency Solutions Grant Program (ESG) | AL7: National Homeless Data Analysis Project | AM7: Youth Homelessness | AN7: PUBLIC AND INDIAN HOUSING | AO7: Public Housing operations, voucher programs, property management operations, and capital investment programs | AP7: Completed Administration and Rental Housing Compliance Certification courses | AQ7: Public Housing Capital Fund | AR7: Public Housing Operating Fund | AS7: Rental Assistance Demonstration (RAD) | AT7: Resident Opportunities and Self Sufficiency (ROSS) | AU7: Moving to Work Demonstration (MTW) | AV7: Choice Neighborhoods | AW7: Project-based Vouchers | AX7: Housing Choice Vouchers/Section 8 | AY7: ConnectHome | AZ7: Family Self-Sufficiency | BA7: Jobs Plus | BB7: PHA Receivership and Recovery | BD7: Indian Housing Block Grant | BE7: Title VI Loan Leveraging | BF7: Section 184 Home Loan Guarantee | BG7: Tribal HUD Veterans Affairs Supportive Housing (VASH) | BH7: Native Hawaiian Housing Block Grant | BI7: Indian Community Development Block Grant | BJ7: OFFICE OF HOUSING | BK7: Supportive Housing for the Elderly (Section 202) | BL7: Supportive Housing for Persons with Disabilities (Section 811) | BM7: Project-Based Section 8 | BN7: Other Multifamily Housing Programs | BO7: Housing Counseling | BP7: Multifamily Housing Preservation, including Rental Assistance Demonstration (RAD) | BQ7: Multifamily Housing Production Initiaives | BR7: RAD conversion, finance and underwriting experience | BS7: OFFICE OF POLICY DEVELOPMENT AND RESEARCH | BT7: LIHTC (data collection and quality for LIHTC tenants and projects) | BU7: OFFICE OF FAIR HOUSING AND EQUAL OPPORTUNITY | BV7: Experience conducting investigations, litigation, or education and outreach under the Fair Housing Act or laws equivalent to the Fair Housing Act | BW7: Experience with Section 3 of the HUD Act of 1968 working with contractors, recipient agencies, eligible residents, and eligible businesses to achieve compliance with the numerical goals and other requirements | BX7: Affirmatively Furthering Fair Housing | BY7: Fair Housing Act (Title VIII) | BZ7: CROSS-OFFICE: ENERGY, ENVIRONMENT, RELOCATION, REAL ESTATE, AND OTHER CROSS-OFFICE REQUIREMENTS | CA7: Lead Hazard Control and Healthy Homes | CB7: Smoke-Free Housing | CC7: Knowledge management, including HUD Exchange | CD7: Energy efficiency and high-performance building retrofits for assisted housing properties | CE7: Community engagement and economic opportunity programs (i.e., Opportunity Zones and Promise Zones) | CF7: EnVision Center Demonstration | CG7: Benchmarking and utility data analysis | CH7: Environmental Reviews for the National Environmental Policy Act (NEPA) and related federal environmental laws and authorities | CI7: Uniform Relocation Act (URA) and Section 104(d) requirements | CJ7: Violence Against Women Act (VAWA) | CK7: Economic Opportunities for Low and Very-Low Income Persons (Section 3) | CL7: Davis Bacon | CM7: ADDITIONAL | CN7: Bilingual | CO7: Promise Zones related to evaluation capacity-building, developing peer-to-peer learning, and implementation assessments | CP7: Experience coordinatingwith public, private, and philanthropic sectors on community driven projects.
A8: 1 | B8: =D4 -> 0 | L8: =SUMPRODUCT(--(M8:AM8))>0 -> FALSE | AN8: =SUMPRODUCT(--(AO8:BI8))>0 -> FALSE | BJ8: =SUMPRODUCT(--(BK8:BR8))>0 -> FALSE | BS8: =SUMPRODUCT(--(BT8:BT8))>0 -> FALSE | BU8: =SUMPRODUCT(--(BV8:BY8))>0 -> FALSE | BZ8: =SUMPRODUCT(--(CA8:CI8))>0 -> FALSE | CM8: =SUMPRODUCT(--(CN8:CP8))>0 -> FALSE
A9: 2 | B9: =D4 -> 0 | L9: =SUMPRODUCT(--(M9:AM9))>0 -> FALSE | AN9: =SUMPRODUCT(--(AO9:BI9))>0 -> FALSE | BJ9: =SUMPRODUCT(--(BK9:BR9))>0 -> FALSE | BS9: =SUMPRODUCT(--(BT9:BT9))>0 -> FALSE | BU9: =SUMPRODUCT(--(BV9:BY9))>0 -> FALSE | BZ9: =SUMPRODUCT(--(CA9:CI9))>0 -> FALSE | CM9: =SUMPRODUCT(--(CN9:CP9))>0 -> FALSE
A10: 3 | B10: =D4 -> 0 | L10: =SUMPRODUCT(--(M10:AM10))>0 -> FALSE | AN10: =SUMPRODUCT(--(AO10:BI10))>0 -> FALSE | BJ10: =SUMPRODUCT(--(BK10:BR10))>0 -> FALSE | BS10: =SUMPRODUCT(--(BT10:BT10))>0 -> FALSE | BU10: =SUMPRODUCT(--(BV10:BY10))>0 -> FALSE | BZ10: =SUMPRODUCT(--(CA10:CI10))>0 -> FALSE | CM10: =SUMPRODUCT(--(CN10:CP10))>0 -> FALSE
A11: 4 | B11: =D4 -> 0 | L11: =SUMPRODUCT(--(M11:AM11))>0 -> FALSE | AN11: =SUMPRODUCT(--(AO11:BI11))>0 -> FALSE | BJ11: =SUMPRODUCT(--(BK11:BR11))>0 -> FALSE | BS11: =SUMPRODUCT(--(BT11:BT11))>0 -> FALSE | BU11: =SUMPRODUCT(--(BV11:BY11))>0 -> FALSE | BZ11: =SUMPRODUCT(--(CA11:CI11))>0 -> FALSE | CM11: =SUMPRODUCT(--(CN11:CP11))>0 -> FALSE
A12: 5 | B12: =D4 -> 0 | L12: =SUMPRODUCT(--(M12:AM12))>0 -> FALSE | AN12: =SUMPRODUCT(--(AO12:BI12))>0 -> FALSE | BJ12: =SUMPRODUCT(--(BK12:BR12))>0 -> FALSE | BS12: =SUMPRODUCT(--(BT12:BT12))>0 -> FALSE | BU12: =SUMPRODUCT(--(BV12:BY12))>0 -> FALSE | BZ12: =SUMPRODUCT(--(CA12:CI12))>0 -> FALSE | CM12: =SUMPRODUCT(--(CN12:CP12))>0 -> FALSE
A13: 6 | B13: =D4 -> 0 | L13: =SUMPRODUCT(--(M13:AM13))>0 -> FALSE | AN13: =SUMPRODUCT(--(AO13:BI13))>0 -> FALSE | BJ13: =SUMPRODUCT(--(BK13:BR13))>0 -> FALSE | BS13: =SUMPRODUCT(--(BT13:BT13))>0 -> FALSE | BU13: =SUMPRODUCT(--(BV13:BY13))>0 -> FALSE | BZ13: =SUMPRODUCT(--(CA13:CI13))>0 -> FALSE | CM13: =SUMPRODUCT(--(CN13:CP13))>0 -> FALSE
A14: 7 | B14: =D4 -> 0 | L14: =SUMPRODUCT(--(M14:AM14))>0 -> FALSE | AN14: =SUMPRODUCT(--(AO14:BI14))>0 -> FALSE | BJ14: =SUMPRODUCT(--(BK14:BR14))>0 -> FALSE | BS14: =SUMPRODUCT(--(BT14:BT14))>0 -> FALSE | BU14: =SUMPRODUCT(--(BV14:BY14))>0 -> FALSE | BZ14: =SUMPRODUCT(--(CA14:CI14))>0 -> FALSE | CM14: =SUMPRODUCT(--(CN14:CP14))>0 -> FALSE
A15: 8 | B15: =D4 -> 0 | L15: =SUMPRODUCT(--(M15:AM15))>0 -> FALSE | AN15: =SUMPRODUCT(--(AO15:BI15))>0 -> FALSE | BJ15: =SUMPRODUCT(--(BK15:BR15))>0 -> FALSE | BS15: =SUMPRODUCT(--(BT15:BT15))>0 -> FALSE | BU15: =SUMPRODUCT(--(BV15:BY15))>0 -> FALSE | BZ15: =SUMPRODUCT(--(CA15:CI15))>0 -> FALSE | CM15: =SUMPRODUCT(--(CN15:CP15))>0 -> FALSE
A16: 9 | B16: =D4 -> 0 | L16: =SUMPRODUCT(--(M16:AM16))>0 -> FALSE | AN16: =SUMPRODUCT(--(AO16:BI16))>0 -> FALSE | BJ16: =SUMPRODUCT(--(BK16:BR16))>0 -> FALSE | BS16: =SUMPRODUCT(--(BT16:BT16))>0 -> FALSE | BU16: =SUMPRODUCT(--(BV16:BY16))>0 -> FALSE | BZ16: =SUMPRODUCT(--(CA16:CI16))>0 -> FALSE | CM16: =SUMPRODUCT(--(CN16:CP16))>0 -> FALSE
A17: 10 | B17: =D4 -> 0 | L17: =SUMPRODUCT(--(M17:AM17))>0 -> FALSE | AN17: =SUMPRODUCT(--(AO17:BI17))>0 -> FALSE | BJ17: =SUMPRODUCT(--(BK17:BR17))>0 -> FALSE | BS17: =SUMPRODUCT(--(BT17:BT17))>0 -> FALSE | BU17: =SUMPRODUCT(--(BV17:BY17))>0 -> FALSE | BZ17: =SUMPRODUCT(--(CA17:CI17))>0 -> FALSE | CM17: =SUMPRODUCT(--(CN17:CP17))>0 -> FALSE
A18: 11 | B18: =D4 -> 0 | L18: =SUMPRODUCT(--(M18:AM18))>0 -> FALSE | AN18: =SUMPRODUCT(--(AO18:BI18))>0 -> FALSE | BJ18: =SUMPRODUCT(--(BK18:BR18))>0 -> FALSE | BS18: =SUMPRODUCT(--(BT18:BT18))>0 -> FALSE | BU18: =SUMPRODUCT(--(BV18:BY18))>0 -> FALSE | BZ18: =SUMPRODUCT(--(CA18:CI18))>0 -> FALSE | CM18: =SUMPRODUCT(--(CN18:CP18))>0 -> FALSE
A19: 12 | B19: =D4 -> 0 | L19: =SUMPRODUCT(--(M19:AM19))>0 -> FALSE | AN19: =SUMPRODUCT(--(AO19:BI19))>0 -> FALSE | BJ19: =SUMPRODUCT(--(BK19:BR19))>0 -> FALSE | BS19: =SUMPRODUCT(--(BT19:BT19))>0 -> FALSE | BU19: =SUMPRODUCT(--(BV19:BY19))>0 -> FALSE | BZ19: =SUMPRODUCT(--(CA19:CI19))>0 -> FALSE | CM19: =SUMPRODUCT(--(CN19:CP19))>0 -> FALSE
A20: 13 | B20: =D4 -> 0 | L20: =SUMPRODUCT(--(M20:AM20))>0 -> FALSE | AN20: =SUMPRODUCT(--(AO20:BI20))>0 -> FALSE | BJ20: =SUMPRODUCT(--(BK20:BR20))>0 -> FALSE | BS20: =SUMPRODUCT(--(BT20:BT20))>0 -> FALSE | BU20: =SUMPRODUCT(--(BV20:BY20))>0 -> FALSE | BZ20: =SUMPRODUCT(--(CA20:CI20))>0 -> FALSE | CM20: =SUMPRODUCT(--(CN20:CP20))>0 -> FALSE
A21: 14 | B21: =D4 -> 0 | L21: =SUMPRODUCT(--(M21:AM21))>0 -> FALSE | AN21: =SUMPRODUCT(--(AO21:BI21))>0 -> FALSE | BJ21: =SUMPRODUCT(--(BK21:BR21))>0 -> FALSE | BS21: =SUMPRODUCT(--(BT21:BT21))>0 -> FALSE | BU21: =SUMPRODUCT(--(BV21:BY21))>0 -> FALSE | BZ21: =SUMPRODUCT(--(CA21:CI21))>0 -> FALSE | CM21: =SUMPRODUCT(--(CN21:CP21))>0 -> FALSE
A22: 15 | B22: =D4 -> 0 | L22: =SUMPRODUCT(--(M22:AM22))>0 -> FALSE | AN22: =SUMPRODUCT(--(AO22:BI22))>0 -> FALSE | BJ22: =SUMPRODUCT(--(BK22:BR22))>0 -> FALSE | BS22: =SUMPRODUCT(--(BT22:BT22))>0 -> FALSE | BU22: =SUMPRODUCT(--(BV22:BY22))>0 -> FALSE | BZ22: =SUMPRODUCT(--(CA22:CI22))>0 -> FALSE | CM22: =SUMPRODUCT(--(CN22:CP22))>0 -> FALSE
A23: 16 | B23: =D4 -> 0 | L23: =SUMPRODUCT(--(M23:AM23))>0 -> FALSE | AN23: =SUMPRODUCT(--(AO23:BI23))>0 -> FALSE | BJ23: =SUMPRODUCT(--(BK23:BR23))>0 -> FALSE | BS23: =SUMPRODUCT(--(BT23:BT23))>0 -> FALSE | BU23: =SUMPRODUCT(--(BV23:BY23))>0 -> FALSE | BZ23: =SUMPRODUCT(--(CA23:CI23))>0 -> FALSE | CM23: =SUMPRODUCT(--(CN23:CP23))>0 -> FALSE
A24: 17 | B24: =D4 -> 0 | L24: =SUMPRODUCT(--(M24:AM24))>0 -> FALSE | AN24: =SUMPRODUCT(--(AO24:BI24))>0 -> FALSE | BJ24: =SUMPRODUCT(--(BK24:BR24))>0 -> FALSE | BS24: =SUMPRODUCT(--(BT24:BT24))>0 -> FALSE | BU24: =SUMPRODUCT(--(BV24:BY24))>0 -> FALSE | BZ24: =SUMPRODUCT(--(CA24:CI24))>0 -> FALSE | CM24: =SUMPRODUCT(--(CN24:CP24))>0 -> FALSE
A25: 18 | B25: =D4 -> 0 | L25: =SUMPRODUCT(--(M25:AM25))>0 -> FALSE | AN25: =SUMPRODUCT(--(AO25:BI25))>0 -> FALSE | BJ25: =SUMPRODUCT(--(BK25:BR25))>0 -> FALSE | BS25: =SUMPRODUCT(--(BT25:BT25))>0 -> FALSE | BU25: =SUMPRODUCT(--(BV25:BY25))>0 -> FALSE | BZ25: =SUMPRODUCT(--(CA25:CI25))>0 -> FALSE | CM25: =SUMPRODUCT(--(CN25:CP25))>0 -> FALSE
A26: 19 | B26: =D4 -> 0 | L26: =SUMPRODUCT(--(M26:AM26))>0 -> FALSE | AN26: =SUMPRODUCT(--(AO26:BI26))>0 -> FALSE | BJ26: =SUMPRODUCT(--(BK26:BR26))>0 -> FALSE | BS26: =SUMPRODUCT(--(BT26:BT26))>0 -> FALSE | BU26: =SUMPRODUCT(--(BV26:BY26))>0 -> FALSE | BZ26: =SUMPRODUCT(--(CA26:CI26))>0 -> FALSE | CM26: =SUMPRODUCT(--(CN26:CP26))>0 -> FALSE
A27: 20 | B27: =D4 -> 0 | L27: =SUMPRODUCT(--(M27:AM27))>0 -> FALSE | AN27: =SUMPRODUCT(--(AO27:BI27))>0 -> FALSE | BJ27: =SUMPRODUCT(--(BK27:BR27))>0 -> FALSE | BS27: =SUMPRODUCT(--(BT27:BT27))>0 -> FALSE | BU27: =SUMPRODUCT(--(BV27:BY27))>0 -> FALSE | BZ27: =SUMPRODUCT(--(CA27:CI27))>0 -> FALSE | CM27: =SUMPRODUCT(--(CN27:CP27))>0 -> FALSE
A28: 21 | B28: =D4 -> 0 | L28: =SUMPRODUCT(--(M28:AM28))>0 -> FALSE | AN28: =SUMPRODUCT(--(AO28:BI28))>0 -> FALSE | BJ28: =SUMPRODUCT(--(BK28:BR28))>0 -> FALSE | BS28: =SUMPRODUCT(--(BT28:BT28))>0 -> FALSE | BU28: =SUMPRODUCT(--(BV28:BY28))>0 -> FALSE | BZ28: =SUMPRODUCT(--(CA28:CI28))>0 -> FALSE | CM28: =SUMPRODUCT(--(CN28:CP28))>0 -> FALSE
A29: 22 | B29: =D4 -> 0 | L29: =SUMPRODUCT(--(M29:AM29))>0 -> FALSE | AN29: =SUMPRODUCT(--(AO29:BI29))>0 -> FALSE | BJ29: =SUMPRODUCT(--(BK29:BR29))>0 -> FALSE | BS29: =SUMPRODUCT(--(BT29:BT29))>0 -> FALSE | BU29: =SUMPRODUCT(--(BV29:BY29))>0 -> FALSE | BZ29: =SUMPRODUCT(--(CA29:CI29))>0 -> FALSE | CM29: =SUMPRODUCT(--(CN29:CP29))>0 -> FALSE
A30: 23 | B30: =D4 -> 0 | L30: =SUMPRODUCT(--(M30:AM30))>0 -> FALSE | AN30: =SUMPRODUCT(--(AO30:BI30))>0 -> FALSE | BJ30: =SUMPRODUCT(--(BK30:BR30))>0 -> FALSE | BS30: =SUMPRODUCT(--(BT30:BT30))>0 -> FALSE | BU30: =SUMPRODUCT(--(BV30:BY30))>0 -> FALSE | BZ30: =SUMPRODUCT(--(CA30:CI30))>0 -> FALSE | CM30: =SUMPRODUCT(--(CN30:CP30))>0 -> FALSE
A31: 24 | B31: =D4 -> 0 | L31: =SUMPRODUCT(--(M31:AM31))>0 -> FALSE | AN31: =SUMPRODUCT(--(AO31:BI31))>0 -> FALSE | BJ31: =SUMPRODUCT(--(BK31:BR31))>0 -> FALSE | BS31: =SUMPRODUCT(--(BT31:BT31))>0 -> FALSE | BU31: =SUMPRODUCT(--(BV31:BY31))>0 -> FALSE | BZ31: =SUMPRODUCT(--(CA31:CI31))>0 -> FALSE | CM31: =SUMPRODUCT(--(CN31:CP31))>0 -> FALSE
A32: 25 | B32: =D4 -> 0 | L32: =SUMPRODUCT(--(M32:AM32))>0 -> FALSE | AN32: =SUMPRODUCT(--(AO32:BI32))>0 -> FALSE | BJ32: =SUMPRODUCT(--(BK32:BR32))>0 -> FALSE | BS32: =SUMPRODUCT(--(BT32:BT32))>0 -> FALSE | BU32: =SUMPRODUCT(--(BV32:BY32))>0 -> FALSE | BZ32: =SUMPRODUCT(--(CA32:CI32))>0 -> FALSE | CM32: =SUMPRODUCT(--(CN32:CP32))>0 -> FALSE
A33: 26 | B33: =D4 -> 0 | L33: =SUMPRODUCT(--(M33:AM33))>0 -> FALSE | AN33: =SUMPRODUCT(--(AO33:BI33))>0 -> FALSE | BJ33: =SUMPRODUCT(--(BK33:BR33))>0 -> FALSE | BS33: =SUMPRODUCT(--(BT33:BT33))>0 -> FALSE | BU33: =SUMPRODUCT(--(BV33:BY33))>0 -> FALSE | BZ33: =SUMPRODUCT(--(CA33:CI33))>0 -> FALSE | CM33: =SUMPRODUCT(--(CN33:CP33))>0 -> FALSE
A34: 27 | B34: =D4 -> 0 | L34: =SUMPRODUCT(--(M34:AM34))>0 -> FALSE | AN34: =SUMPRODUCT(--(AO34:BI34))>0 -> FALSE | BJ34: =SUMPRODUCT(--(BK34:BR34))>0 -> FALSE | BS34: =SUMPRODUCT(--(BT34:BT34))>0 -> FALSE | BU34: =SUMPRODUCT(--(BV34:BY34))>0 -> FALSE | BZ34: =SUMPRODUCT(--(CA34:CI34))>0 -> FALSE | CM34: =SUMPRODUCT(--(CN34:CP34))>0 -> FALSE
A35: 28 | B35: =D4 -> 0 | L35: =SUMPRODUCT(--(M35:AM35))>0 -> FALSE | AN35: =SUMPRODUCT(--(AO35:BI35))>0 -> FALSE | BJ35: =SUMPRODUCT(--(BK35:BR35))>0 -> FALSE | BS35: =SUMPRODUCT(--(BT35:BT35))>0 -> FALSE | BU35: =SUMPRODUCT(--(BV35:BY35))>0 -> FALSE | BZ35: =SUMPRODUCT(--(CA35:CI35))>0 -> FALSE | CM35: =SUMPRODUCT(--(CN35:CP35))>0 -> FALSE
A36: 29 | B36: =D4 -> 0 | L36: =SUMPRODUCT(--(M36:AM36))>0 -> FALSE | AN36: =SUMPRODUCT(--(AO36:BI36))>0 -> FALSE | BJ36: =SUMPRODUCT(--(BK36:BR36))>0 -> FALSE | BS36: =SUMPRODUCT(--(BT36:BT36))>0 -> FALSE | BU36: =SUMPRODUCT(--(BV36:BY36))>0 -> FALSE | BZ36: =SUMPRODUCT(--(CA36:CI36))>0 -> FALSE | CM36: =SUMPRODUCT(--(CN36:CP36))>0 -> FALSE
A37: 30 | B37: =D4 -> 0 | L37: =SUMPRODUCT(--(M37:AM37))>0 -> FALSE | AN37: =SUMPRODUCT(--(AO37:BI37))>0 -> FALSE | BJ37: =SUMPRODUCT(--(BK37:BR37))>0 -> FALSE | BS37: =SUMPRODUCT(--(BT37:BT37))>0 -> FALSE | BU37: =SUMPRODUCT(--(BV37:BY37))>0 -> FALSE | BZ37: =SUMPRODUCT(--(CA37:CI37))>0 -> FALSE | CM37: =SUMPRODUCT(--(CN37:CP37))>0 -> FALSE
A38: 31 | B38: =D4 -> 0 | L38: =SUMPRODUCT(--(M38:AM38))>0 -> FALSE | AN38: =SUMPRODUCT(--(AO38:BI38))>0 -> FALSE | BJ38: =SUMPRODUCT(--(BK38:BR38))>0 -> FALSE | BS38: =SUMPRODUCT(--(BT38:BT38))>0 -> FALSE | BU38: =SUMPRODUCT(--(BV38:BY38))>0 -> FALSE | BZ38: =SUMPRODUCT(--(CA38:CI38))>0 -> FALSE | CM38: =SUMPRODUCT(--(CN38:CP38))>0 -> FALSE
A39: 32 | B39: =D4 -> 0 | L39: =SUMPRODUCT(--(M39:AM39))>0 -> FALSE | AN39: =SUMPRODUCT(--(AO39:BI39))>0 -> FALSE | BJ39: =SUMPRODUCT(--(BK39:BR39))>0 -> FALSE | BS39: =SUMPRODUCT(--(BT39:BT39))>0 -> FALSE | BU39: =SUMPRODUCT(--(BV39:BY39))>0 -> FALSE | BZ39: =SUMPRODUCT(--(CA39:CI39))>0 -> FALSE | CM39: =SUMPRODUCT(--(CN39:CP39))>0 -> FALSE
A40: 33 | B40: =D4 -> 0 | L40: =SUMPRODUCT(--(M40:AM40))>0 -> FALSE | AN40: =SUMPRODUCT(--(AO40:BI40))>0 -> FALSE | BJ40: =SUMPRODUCT(--(BK40:BR40))>0 -> FALSE | BS40: =SUMPRODUCT(--(BT40:BT40))>0 -> FALSE | BU40: =SUMPRODUCT(--(BV40:BY40))>0 -> FALSE | BZ40: =SUMPRODUCT(--(CA40:CI40))>0 -> FALSE | CM40: =SUMPRODUCT(--(CN40:CP40))>0 -> FALSE
A41: 34 | B41: =D4 -> 0 | L41: =SUMPRODUCT(--(M41:AM41))>0 -> FALSE | AN41: =SUMPRODUCT(--(AO41:BI41))>0 -> FALSE | BJ41: =SUMPRODUCT(--(BK41:BR41))>0 -> FALSE | BS41: =SUMPRODUCT(--(BT41:BT41))>0 -> FALSE | BU41: =SUMPRODUCT(--(BV41:BY41))>0 -> FALSE | BZ41: =SUMPRODUCT(--(CA41:CI41))>0 -> FALSE | CM41: =SUMPRODUCT(--(CN41:CP41))>0 -> FALSE
...

Sheet Certifications
A1: CERTIFICATIONS
B3: =Summary!C4 -> 0
B5: The following certifications and assurances are agreed to by completing the Application for Federal Assistance, SF-424 line 21 which states: “By signing this application, I certify (1) to the statements contained in the list of certifications and (2) that the statements herein are true, complete and accurate to the best of my knowledge. I also provide the required assurances and agree to comply with any resulting terms if I accept an award. I am aware that any false, fictitious, or fraudulent statements or claims may subject me to criminal, civil, or administrative penalties. (U.S. Code, Title 218, Section 1001).”
B7: Contractor/Consultant
B8: I hereby certify to HUD that the Applicant Organization named herein ("Applicant") has active contractual agreements in place with all contractors and consultants included with the application submission that accompanies this certification. If the application is selected for funding, I certify that the identified consultant(s)/contractor(s) are or will be available for work either at time of cooperative agreement execution or when HUD issues a technical assistance assignment or demand.
B10: Staff/Contractor/Consultant
B11: I hereby certify to HUD that the Rating Factor 1 responses included with this application submission only include staff, contractors, and consultants who are available for the full period of performance for each funding year requested with the application.
B13: Failure to agree to the certifications and assurances using this template does not exempt the Authorized Officials or Applicant from making the appropriate certifications and assurance listed above.

Sheet Sheet1
A1: Office of Community Planning and Development
A2: CDBG Entitlement and Non-Entitlement Programs
A3: Section 108 Loan Guarantee Program
A4: CDBG-Disaster Recovery grants, including CDBG-NDR grants (pre-2017)
A5: McKinney Vento Homeless Assistance Act
A6: HOME Investment Partnerships (HOME)
A7: Housing Opportunities for Persons With AIDS (HOPWA)
A8: Housing Trust Fund (HTF)
A9: Rural Housing Assistance Programs
A10: CDBG-Disaster Recovery and/or mitigation initiatives (2017 or later)
A11: CDBG-Disaster Recovery grants (post NOFA publication)
A12: McKinney Vento Homeless Assistance Act
... A71: Fair Housing: At least [#] years of demonstrated experience conducting investigations, litigation, and/or education and outreach under the Fair Housing Act and/or state or local laws that HUD has determined to be substantially equivalent to the Fair Housing Act

Sheet Sheet6
A1: 0 | B1: Staff | C1: FY 2018 | F1: Years | G1: Office of Community Planning and Development | H1: Office of Public and Indian Housing | I1: Office of Housing | J1: Office of Policy Development and Research | K1: Office of Fair Housing and Equal Opportunity | L1: Cross-Office: Energy and Environment, Relocation and Realesate, and Other, Cross-Cutting Requirements
A2: 1 | B2: Contractor | C2: FY 2019 | D2: X | F2: 1
A3: 2 | B3: Consultant | C3: Both | F3: 2 | G3: Community Development Block Grant (CDBG) Entitlement and Non-Entitlement Programs | H3: Public Housing Capital Fund | I3: Supportive Housing for the Elderly (Section 202) | J3: Low-Income Housing Tax Credit (LIHTC) data collection and quality for LIHTC tenants and projects | K3: Affirmatively Furthering Fair Housing (AFFH) | L3: Lead Hazard Control and Healthy Homes
A4: 3 | C4: N/A | F4: 3 | G4: Section 108 Loan Guarantee Program | H4: Public Housing Operating Fund | I4: Supportive Housing for Persons with Disabilities (Section 811) | K4: Fair Housing Act (Title VIII) | L4: Smoke-Free Housing
A5: 4 | F5: 4 | G5: CDBG-Disaster Recovery grants, including CDBG-NDR grants (TA for grantees with eligible disasters before 2017) | H5: Rental Assistance Demonstration (RAD) | I5: Other Multifamily Housing Programs | L5: Knowledge management including HUD Exchange
A6: 5 | F6: 5 | G6: HOME Investment Partnerships (HOME) | H6: Resident Opportunities and Self Sufficiency (ROSS) | I6: Housing Counseling | L6: Energy efficiency and high-performance building retrofits for assisted housing properties
F7: 6 | G7: Housing Opportunities for Persons With AIDS (HOPWA) | H7: Moving to Work Demonstration (MTW) | I7: Multifamily Housing Preservation, including Rental Assistance Demonstration (RAD) | L7: Community engagement and economic opportunity programs (i.e., Opportunity Zones and Promise Zones)
A8: Yes | F8: 7 | G8: Housing Trust Fund (HTF) | H8: Choice Neighborhoods | I8: Multifamily Housing Production Initiatives | L8: EnVision Center Demonstration
A9: No | F9: 8 | G9: Rural Housing Assistance Programs | H9: Project-Based Vouchers | L9: Benchmarking and utility data analysis
F10: 9 | G10: CDBG-Disaster Recovery grants with qualifying disasters that occurred in 2017 or later, as well as awards for mitigation and energy from Public Law 115-123 | H10: Housing Choice Vouchers/Section 8 | L10: Environmental Reviews for the National Environmental Policy Act (NEPA) and related federal environmental laws and authorities
F11: 10 | G11: CDBG-National Disaster Recovery grants for which dedicated funding for TA becomes available after the publication of this NOFA | H11: ConnectHome | L11: Uniform Relocation Act (URA) and Section 104(d) requirements
F12: 11 | G12: McKinney-Vento Homeless Assistance Act | H12: Family Self-Sufficiency (FSS) | L12: Violence Against Women Act (VAWA)
F13: 12 | G13: Continuum of Care (CoC) Program | H13: Jobs Plus | L13: Economic Opportunities for Low and Very-Low Income Persons (Section 3)
F14: 13 | G14: Emergency Solutions Grant Program (ESG) | H14: PHA Receivership and Recovery | L14: Davis Bacon
F15: 14 | G15: National Homeless Data Analysis Project | H15: Indian Housing Block Grant
F16: 15 | G16: Youth Homelessness | H16: Title VI Loan Guarantee Program
F17: 16 | H17: Section 184 Home Loan Guarantee
F18: 17 | H18: Tribal HUD Veterans Affairs Supportive Housing (VASH)
F19: 18 | H19: Indian Community Development Block Grant
F20: 19 | H20: Native Hawaiian Housing Block Grant
F21: 20
F22: 21
F23: 22
F24: 23
F25: 24
F26: 25+
